{"text_format":"1","workbook":"xlsx","n_sheets":28,"sheets":["使用方法","会社情報","源泉徴収票","退職所得","報酬支払先情報","報酬支払額","報酬区分","不動産支払先情報","不動産支払額","不動産区分","源泉徴収票計算過程(非)","源泉徴収票各種マスタ(非)","源泉徴収票(非)","給与支払報告書(非)","源泉徴収票計算(非)","退職(非)","報酬(非)","報酬交付用(非)","不動産(非)","不動産交付用(非)","法定調書(非)","法定調書控(非)","法定調書計算(非)","給与調書集計(非)","退職所得集計(非)","報酬調書集計(非)","不動産調書集計(非)","不動産調書集計支払額(非)"],"not_rendered":{"charts":0,"images":2,"macros":1,"external_links":0,"defined_names":54,"comments":4,"pivot_tables":0},"unopened":[],"bounds":{"document_bytes":16777216,"sheet_cells":100000,"rows_first":2000,"rows_last":500,"rows_between":2000,"halvings":0,"cell_chars":16384,"cell_head_chars":4096},"cells_cut":0,"cells_raw":0,"read":"whole","date_system":"1900"}

{"sheet":"使用方法","index":0,"n_rows":63,"n_cols":7,"rows_kept":63,"cut":false,"hidden":false,"merged":[]}
["このエクセルシートの使用方法"]
[]
[]
["1.","全体的な情報の入力"]
[null,"会社情報シートに必要な情報を入力します"]
[]
[]
[]
[]
["2.","年末調整計算、源泉徴収票・給与支払報告書作成"]
[null,"源泉徴収票シートに、給料・扶養控除申告書・保険料控除申告書などの情報を入力します。"]
[null,"－","年末調整時の要調整額の計算"]
[null,"－","源泉徴収票・給与支払報告書の作成"]
[null,"ができます。"]
[]
[null,null,null,null,null,null,"※未成年・外国人・死亡退職・災害者、未払給与の内書には未対応です。"]
[]
[]
[]
["3.","退職者の源泉徴収票・特別徴収票作成"]
[null,"退職所得シートに、退職金を支払った人の情報を入力します。"]
[null,"「退職所得の源泉徴収票・特別徴収票」を作成できます。"]
[]
[null,null,null,null,null,null,"※入社日・退社日と勤続年数が一致しないもの等イレギュラーなものには未対応です。"]
[]
[]
[]
["4.","報酬・料金の支払調書作成"]
[null,"報酬支払先情報入力シート、報酬支払情報シートに報酬・料金（≒外注費）についての情報を入力します。"]
[null,"「報酬・料金の支払調書」を作成できます。"]
[]
[null,null,null,null,null,null,"※未払報酬の内書には未対応です。"]
[]
[]
[]
["5.","不動産の支払調書作成"]
[null,"不動産支払先情報入力シート、不動産支払情報シートに不動産賃借料と仲介手数料についての情報を入力します。"]
[null,"「不動産の使用料等の支払調書」を作成できます。"]
[]
[null,null,null,null,null,null,"※未払報酬の内書には未対応です。"]
[]
[]
[]
["6.","法定調書合計表の作成"]
[null,"２～５で入力した情報から法定調書合計表を作成します。"]
[]
[]
[]
[]
[]
["注意事項"]
[]
["7.","マイナンバーについて"]
[null,"従業員交付用の源泉徴収票や、支払先交付用の支払調書にはマイナンバー関連の情報を表示させないようにしています。"]
[null,"　税務署提出用を誤って従業員に交付しないようご注意ください。"]
[]
[null,"また、このエクセルシートに入力したマイナンバーの漏洩を防ぐため、"]
[null,"読み込みパスワードを設定することを強くおすすめします。"]
[]
[]
["8.","免責事項"]
[null,"このシートを使って生じたいかなる損害も補償できません。"]
[null,"あくまで、自己責任でお使いください。"]

{"sheet":"会社情報","index":1,"n_rows":31,"n_cols":4,"rows_kept":31,"cut":false,"hidden":false,"merged":[]}
["説明表示の設定"]
["各種書類作成時の説明表示",null,"表示する"]
[]
[]
["会社情報"]
[]
["作成年度",null,2021,"年"]
["支払者","住所","東京都千代田区１－２－３"]
[null,"氏名又は名称","ABC商事株式会社"]
[null,"氏名又は名称（フリガナ）","エービーシーショウジカブシキガイシャ"]
[null,"電話番号","03-1234-5678","※市外局番から、半角文字・ハイフン区切りで入力してください"]
[null,"個人番号または法人番号","1234567890122"]
[]
[]
["源泉徴収票に出力する情報"]
["※源泉徴収票を作成しない場合には、下記の入力は不要です"]
["支払種別",null,"給料・賞与"]
[]
[]
["法定調書合計表に出力する情報"]
["※法定調書を作成しない場合には、下記の入力は不要です"]
[]
[null,"管轄税務署","麹町","税務署"]
[null,"署番号","01101"]
[null,"整理番号","12345678"]
[null,"事業種目","コンサルティング業"]
[null,"代表者氏名","神田隆文"]
[null,"代表者氏名フリガナ","カンダタカフミ"]
[null,"作成担当者氏名","吉野未来"]
[null,"作成担当者氏名フリガナ","ヨシノミライ"]
[null,"提出日","2021-01-31"]

{"sheet":"源泉徴収票","index":2,"n_rows":27,"n_cols":134,"rows_kept":27,"cut":false,"hidden":false,"merged":[[1,0,1,1],[1,2,1,6]]}
[null,{"$f":"IF($A1=\"\",\"\",INDEX(B$8:B$999,MATCH($A1,$A$8:$A$999,0),1)&\"\")","v":""},{"$f":"IF($A1=\"\",\"\",INDEX(C$8:C$999,MATCH($A1,$A$8:$A$999,0),1)&\"\")","v":""},{"$f":"IF($A1=\"\",\"\",INDEX(D$8:D$999,MATCH($A1,$A$8:$A$999,0),1)&\"\")","v":""},{"$f":"IF($A1=\"\",\"\",INDEX(E$8:E$999,MATCH($A1,$A$8:$A$999,0),1)&\"\")","v":""},{"$f":"IF($A1=\"\",0,INDEX(F$8:F$999,MATCH($A1,$A$8:$A$999,0),1))","v":"00:00:00"},{"$f":"IF($A1=\"\",0,INDEX(G$8:G$999,MATCH($A1,$A$8:$A$999,0),1))","v":"00:00:00"},{"$f":"IF($A1=\"\",\"\",INDEX(H$8:H$999,MATCH($A1,$A$8:$A$999,0),1)&\"\")","v":""},"","","","","","",{"$f":"IF($A1=\"\",0,INDEX(O$8:O$999,MATCH($A1,$A$8:$A$999,0),1))","v":0},0,0,0,0,0,0,0,0,{"$f":"IF($A1=\"\",\"\",INDEX(X$8:X$999,MATCH($A1,$A$8:$A$999,0),1)&\"\")","v":""},{"$f":"IF($A1=\"\",\"\",INDEX(Y$8:Y$999,MATCH($A1,$A$8:$A$999,0),1)&\"\")","v":""},{"$f":"IF($A1=\"\",0,INDEX(Z$8:Z$999,MATCH($A1,$A$8:$A$999,0),1))","v":"00:00:00"},{"$f":"IF($A1=\"\",\"\",INDEX(AA$8:AA$999,MATCH($A1,$A$8:$A$999,0),1)&\"\")","v":""},{"$f":"IF($A1=\"\",0,INDEX(AB$8:AB$999,MATCH($A1,$A$8:$A$999,0),1))","v":"00:00:00"},{"$f":"IF($A1=\"\",\"\",INDEX(AC$8:AC$999,MATCH($A1,$A$8:$A$999,0),1)&\"\")","v":""},{"$f":"IF($A1=\"\",\"\",INDEX(AD$8:AD$999,MATCH($A1,$A$8:$A$999,0),1)&\"\")","v":""},{"$f":"IF($A1=\"\",\"\",INDEX(AE$8:AE$999,MATCH($A1,$A$8:$A$999,0),1)&\"\")","v":""},{"$f":"IF($A1=\"\",\"\",INDEX(AF$8:AF$999,MATCH($A1,$A$8:$A$999,0),1)&\"\")","v":""},{"$f":"IF($A1=\"\",\"\",INDEX(AG$8:AG$999,MATCH($A1,$A$8:$A$999,0),1)&\"\")","v":""},{"$f":"IF($A1=\"\",0,INDEX(AH$8:AH$999,MATCH($A1,$A$8:$A$999,0),1))","v":"00:00:00"},{"$f":"IF($A1=\"\",0,INDEX(AI$8:AI$999,MATCH($A1,$A$8:$A$999,0),1))","v":0},{"$f":"IF($A1=\"\",\"\",INDEX(AJ$8:AJ$999,MATCH($A1,$A$8:$A$999,0),1)&\"\")","v":""},{"$f":"IF($A1=\"\",\"\",INDEX(AK$8:AK$999,MATCH($A1,$A$8:$A$999,0),1)&\"\")","v":""},{"$f":"IF($A1=\"\",\"\",INDEX(AL$8:AL$999,MATCH($A1,$A$8:$A$999,0),1)&\"\")","v":""},{"$f":"IF($A1=\"\",\"\",INDEX(AM$8:AM$999,MATCH($A1,$A$8:$A$999,0),1)&\"\")","v":""},{"$f":"IF($A1=\"\",0,INDEX(AN$8:AN$999,MATCH($A1,$A$8:$A$999,0),1))","v":"00:00:00"},{"$f":"IF($A1=\"\",\"\",INDEX(AO$8:AO$999,MATCH($A1,$A$8:$A$999,0),1)&\"\")","v":""},{"$f":"IF($A1=\"\",\"\",INDEX(AP$8:AP$999,MATCH($A1,$A$8:$A$999,0),1)&\"\")","v":""},{"$f":"IF($A1=\"\",\"\",INDEX(AQ$8:AQ$999,MATCH($A1,$A$8:$A$999,0),1)&\"\")","v":""},{"$f":"IF($A1=\"\",\"\",INDEX(AR$8:AR$999,MATCH($A1,$A$8:$A$999,0),1)&\"\")","v":""},{"$f":"IF($A1=\"\",\"\",INDEX(AS$8:AS$999,MATCH($A1,$A$8:$A$999,0),1)&\"\")","v":""},{"$f":"IF($A1=\"\",0,INDEX(AT$8:AT$999,MATCH($A1,$A$8:$A$999,0),1))","v":"00:00:00"},{"$f":"IF($A1=\"\",\"\",INDEX(AU$8:AU$999,MATCH($A1,$A$8:$A$999,0),1)&\"\")","v":""},{"$f":"IF($A1=\"\",\"\",INDEX(AV$8:AV$999,MATCH($A1,$A$8:$A$999,0),1)&\"\")","v":""},{"$f":"IF($A1=\"\",\"\",INDEX(AW$8:AW$999,MATCH($A1,$A$8:$A$999,0),1)&\"\")","v":""},{"$f":"IF($A1=\"\",\"\",INDEX(AX$8:AX$999,MATCH($A1,$A$8:$A$999,0),1)&\"\")","v":""},{"$f":"IF($A1=\"\",\"\",INDEX(AY$8:AY$999,MATCH($A1,$A$8:$A$999,0),1)&\"\")","v":""},{"$f":"IF($A1=\"\",0,INDEX(AZ$8:AZ$999,MATCH($A1,$A$8:$A$999,0),1))","v":"00:00:00"},{"$f":"IF($A1=\"\",\"\",INDEX(BA$8:BA$999,MATCH($A1,$A$8:$A$999,0),1)&\"\")","v":""},{"$f":"IF($A1=\"\",\"\",INDEX(BB$8:BB$999,MATCH($A1,$A$8:$A$999,0),1)&\"\")","v":""},{"$f":"IF($A1=\"\",\"\",INDEX(BC$8:BC$999,MATCH($A1,$A$8:$A$999,0),1)&\"\")","v":""},{"$f":"IF($A1=\"\",\"\",INDEX(BD$8:BD$999,MATCH($A1,$A$8:$A$999,0),1)&\"\")","v":""},{"$f":"IF($A1=\"\",\"\",INDEX(BE$8:BE$999,MATCH($A1,$A$8:$A$999,0),1)&\"\")","v":""},{"$f":"IF($A1=\"\",0,INDEX(BF$8:BF$999,MATCH($A1,$A$8:$A$999,0),1))","v":"00:00:00"},{"$f":"IF($A1=\"\",\"\",INDEX(BG$8:BG$999,MATCH($A1,$A$8:$A$999,0),1)&\"\")","v":""},{"$f":"IF($A1=\"\",\"\",INDEX(BH$8:BH$999,MATCH($A1,$A$8:$A$999,0),1)&\"\")","v":""},{"$f":"IF($A1=\"\",\"\",INDEX(BI$8:BI$999,MATCH($A1,$A$8:$A$999,0),1)&\"\")","v":""},{"$f":"IF($A1=\"\",\"\",INDEX(BJ$8:BJ$999,MATCH($A1,$A$8:$A$999,0),1)&\"\")","v":""},{"$f":"IF($A1=\"\",\"\",INDEX(BK$8:BK$999,MATCH($A1,$A$8:$A$999,0),1)&\"\")","v":""},{"$f":"IF($A1=\"\",0,INDEX(BL$8:BL$999,MATCH($A1,$A$8:$A$999,0),1))","v":"00:00:00"},{"$f":"IF($A1=\"\",\"\",INDEX(BM$8:BM$999,MATCH($A1,$A$8:$A$999,0),1)&\"\")","v":""},{"$f":"IF($A1=\"\",\"\",INDEX(BN$8:BN$999,MATCH($A1,$A$8:$A$999,0),1)&\"\")","v":""},{"$f":"IF($A1=\"\",\"\",INDEX(BO$8:BO$999,MATCH($A1,$A$8:$A$999,0),1)&\"\")","v":""},{"$f":"IF($A1=\"\",\"\",INDEX(BP$8:BP$999,MATCH($A1,$A$8:$A$999,0),1)&\"\")","v":""},{"$f":"IF($A1=\"\",0,INDEX(BQ$8:BQ$999,MATCH($A1,$A$8:$A$999,0),1))","v":0},{"$f":"IF($A1=\"\",0,INDEX(BR$8:BR$999,MATCH($A1,$A$8:$A$999,0),1))","v":0},{"$f":"IF($A1=\"\",0,INDEX(BS$8:BS$999,MATCH($A1,$A$8:$A$999,0),1))","v":0},{"$f":"IF($A1=\"\",\"\",INDEX(BT$8:BT$999,MATCH($A1,$A$8:$A$999,0),1)&\"\")","v":""},{"$f":"IF($A1=\"\",0,INDEX(BU$8:BU$999,MATCH($A1,$A$8:$A$999,0),1))","v":0},0,0,0,0,0,0,{"$f":"IF($A1=\"\",0,INDEX(CB$8:CB$999,MATCH($A1,$A$8:$A$999,0),1))","v":0},{"$f":"IF($A1=\"\",0,INDEX(CC$8:CC$999,MATCH($A1,$A$8:$A$999,0),1))","v":0},{"$f":"IF($A1=\"\",0,INDEX(CD$8:CD$999,MATCH($A1,$A$8:$A$999,0),1))","v":0},{"$f":"IF($A1=\"\",0,INDEX(CE$8:CE$999,MATCH($A1,$A$8:$A$999,0),1))","v":0},0,0,0,0,0,{"$f":"IF($A1=\"\",\"\",INDEX(CK$8:CK$999,MATCH($A1,$A$8:$A$999,0),1)&\"\")","v":""},"","",0,0,{"$f":"IF($A1=\"\",\"\",INDEX(CP$8:CP$999,MATCH($A1,$A$8:$A$999,0),1)&\"\")","v":""},"","","",{"$f":"IF($A1=\"\",\"\",INDEX(CT$8:CT$999,MATCH($A1,$A$8:$A$999,0),1)&\"\")","v":""},{"$f":"IF($A1=\"\",\"\",INDEX(CU$8:CU$999,MATCH($A1,$A$8:$A$999,0),1)&\"\")","v":""},{"$f":"IF($A1=\"\",\"\",INDEX(CV$8:CV$999,MATCH($A1,$A$8:$A$999,0),1)&\"\")","v":""},{"$f":"IF($A1=\"\",0,INDEX(CW$8:CW$999,MATCH($A1,$A$8:$A$999,0),1))","v":"00:00:00"},"","",{"$f":"IF($A1=\"\",0,INDEX(CZ$8:CZ$999,MATCH($A1,$A$8:$A$999,0),1))","v":0},{"$f":"IF($A1=\"\",0,INDEX(DA$8:DA$999,MATCH($A1,$A$8:$A$999,0),1))","v":"00:00:00"},{"$f":"IF($A1=\"\",\"\",INDEX(DB$8:DB$999,MATCH($A1,$A$8:$A$999,0),1)&\"\")","v":""},{"$f":"IF($A1=\"\",0,INDEX(DC$8:DC$999,MATCH($A1,$A$8:$A$999,0),1))","v":0},{"$f":"IF($A1=\"\",0,INDEX(DD$8:DD$999,MATCH($A1,$A$8:$A$999,0),1))","v":"00:00:00"},{"$f":"IF($A1=\"\",\"\",INDEX(DE$8:DE$999,MATCH($A1,$A$8:$A$999,0),1)&\"\")","v":""},{"$f":"IF($A1=\"\",0,INDEX(DF$8:DF$999,MATCH($A1,$A$8:$A$999,0),1))","v":0},0,0,0,0,0,0,0,0,0,0,0,0,0,0,0,0,0,0,0,0,0,0,0,0]
["年末調整・源泉徴収票関連情報入力",null,"→CN列まで入力項目があります\n　 入力後に、源泉徴収票などを作成してください。",null,null,null,null,null,null,null,null,null,null,null,"→源泉徴収簿を見て入力してください",null,null,null,null,null,null,null,null,null,null,null,"→扶養控除申告書を見て入力してください",null,null,null,null,null,null,null,null,null,"→扶養控除申告書（控除対象扶養親族、16歳未満の扶養親族）",null,null,null,null,null,null,null,null,null,null,null,null,null,null,null,null,null,null,null,null,null,null,null,null,null,null,null,null,null,"→扶養控除申告書（障害者、寡婦控除）",null,null,null,null,null,"→保険料控除申告書を見て入力してください",null,null,null,null,null,null,null,null,null,null,null,null,null,null,null,null,null,null,null,null,null,null,null,null,null,null,null,null,null,null,"→住宅借入金等特別控除申告書を見て入力してください",null,null,null,null,null,null,null,"→年末調整の計算結果です（セルを選択できますが、数式を壊さないようにご注意ください）"]
[]
[null,"一般情報",null,null,null,null,null,null,null,null,null,null,null,null,"源泉徴収簿",null,null,null,null,null,null,null,null,null,null,null,"扶養控除申告書",null,null,null,null,null,null,null,null,null,null,null,null,null,null,null,null,null,null,null,null,null,null,null,null,null,null,null,null,null,null,null,null,null,null,null,null,null,null,null,null,null,null,null,null,null,"保険料控除申告書　※ここより右は2020年度Ver1_00で入力欄のレイアウトに修正あり",null,null,null,null,null,null,null,null,null,null,null,"給与所得者の基礎控除申告書 兼 給与所得者の配偶者控除等申告書 兼 所得金額調整控除申告書",null,null,null,null,null,null,null,null,null,null,null,null,null,null,null,null,null,null,"住宅借入金等特別控除申告書など",null,null,null,null,null,null,null,"源泉徴収簿（計算結果）　※年末調整をしない場合、薄赤セルは無条件に０（あるいは天引税額をそのまま転記）している"]
[null,null,null,null,null,"今年中の入退社",null,"源泉徴収","年調実施",null,null,null,null,null,"給料（前職分の給料・賞与除く）",null,null,"賞与（前職分の給料・賞与除く）",null,null,"前職についての情報",null,null,null,null,null,"本人の情報",null,null,null,"源泉控除対象配偶者",null,null,null,null,null,"扶養親族１",null,null,null,null,null,"扶養親族２",null,null,null,null,null,"扶養親族３",null,null,null,null,null,"扶養親族４",null,null,null,null,null,"扶養親族５",null,null,null,null,null,"障害者",null,"扶養家族障害者人数",null,null,"寡婦","生命保険料控除",null,null,null,null,"地震保険料控除",null,"社会保険料控除",null,"小規模",null,null,"基礎控除",null,null,null,"配偶者控除・配偶者特別控除",null,null,null,null,null,null,null,"所得金額調整控除申告書",null,null,null,null,null,null,"住宅借入金等","１回目",null,null,"2回目",null,null,null,"給与等計","税額計","給与所得控除後の","所得金額調整","給与所得控除後の給与","所得控除",null,null,null,null,null,null,null,null,null,null,null,"差引課税","算出","住宅借入金等","年調","年調","差引超過額"]
["No","氏名","氏名フリガナ","役員","役職名","入社日","退社日","区分","有無","死亡退職","外国人","災害者","住民税徴収方法","普通徴収理由","総支給金額","社会保険料","算出税額","総支給金額","社会保険料","算出税額","給与等の金額","社会保険料等","税額","住所","名称","退職年月日","個人番号","生年月日","住所","給与支払報告書提出先自治体","氏名","フリガナ","個人番号","生年月日","所得見積額","非居住者","氏名","フリガナ","個人番号","生年月日","同居","非居住者","氏名","フリガナ","個人番号","生年月日","同居","非居住者","氏名","フリガナ","個人番号","生年月日","同居","非居住者","氏名","フリガナ","個人番号","生年月日","同居","非居住者","氏名","フリガナ","個人番号","生年月日","同居","非居住者","本人","同一生計配偶者","一般","特別","同居特別","勤労学生","一般新","一般旧","介護医療","年金新","年金旧","地震","旧長期損害","合計（控除額）","（うち国民年金支払額）","企業共済",null,null,"合計所得金額",null,null,null,"配偶者氏名","フリガナ","個人番号","生年月日","所得見積額","非居住者",null,null,"要件",null,null,null,null,null,null,"特別控除額","居住開始年月日","控除区分","住宅借入金等年末残高","居住開始年月日","控除区分","住宅借入金等年末残高",null,null,null,"給与等の金額","控除額","等の金額（調整控除後）","社会保険料等",null,null,"生命保険料","地震保険料","配偶者特別","配偶者","扶養","障害者","寡婦等","基礎","控除額計","給与所得金額","所得税額","特別控除額","所得税額","年税額","または不足額"]
[null,null,null,null,null,null,null,null,null,null,null,null,null,null,"①","②","③","④","⑤","⑥",null,null,null,null,null,null,null,null,null,null,null,null,null,null,null,null,null,null,null,null,null,null,null,null,null,null,null,null,null,null,null,null,null,null,null,null,null,null,null,null,null,null,null,null,null,null,null,null,null,null,null,null,"A","B","C","D","E","B","C",null,null,null,null,null,null,null,null,null,null,null,null,null,"(*)欄",null,null,null,null,null,null,null,null,null,null,null,null,null,null,null,null,null,null,"⑦","⑧","⑨","⑩","⑪","⑫","⑬","⑭","⑮","⑯","⑰",null,"⑱",null,null,"⑲",20,21,22,23,24,25,26]
[1,"神原有紀","カンバラユウキ","役員","代表取締役","2021-04-01",null,"甲欄","有",null,null,null,null,null,3000000,454130,70300,1570000,237157,51369,2265000,342000,26150,"神奈川県横浜市中区１－２－３","武蔵株式会社","2016-03-31","234567890121","1970-01-25","渋谷区代々木１－２－３",null,"神原悠人","カンバラユウト","135792468015","1967-11-01",170000,null,"神原美希","カンバラミキ","345678901234","1996-02-04",null,null,"神原智史","カンバラサトシ","456789012346","2001-03-30",null,null,"神原裕利","カンバラユウリ","567890123457","1939-05-08","同居老親等",null,null,null,null,null,null,null,null,null,null,null,null,null,null,null,1,null,null,null,24000,36000,48000,null,72000,30000,19600,null,null,null,null,null,null,null,null,null,"神原悠人","カンバラユウト","135792468015","1967-11-01",170000,null,null,null,null,null,null,null,null,null,null,null,null,null,null,null,null,null,null,{"$f":"'源泉徴収票計算過程(非)'!AJ8","v":6835000},{"$f":"'源泉徴収票計算過程(非)'!AK8","v":147819},{"$f":"'源泉徴収票計算過程(非)'!AL8","v":5051500},{"$f":"'源泉徴収票計算過程(非)'!AM8","v":0},{"$f":"'源泉徴収票計算過程(非)'!AN8","v":5051500},{"$f":"'源泉徴収票計算過程(非)'!AO8","v":1033287},{"$f":"'源泉徴収票計算過程(非)'!AP8","v":0},{"$f":"'源泉徴収票計算過程(非)'!AQ8","v":0},{"$f":"'源泉徴収票計算過程(非)'!AR8","v":115000},{"$f":"'源泉徴収票計算過程(非)'!AS8","v":44800},{"$f":"'源泉徴収票計算過程(非)'!AT8","v":0},{"$f":"'源泉徴収票計算過程(非)'!AU8","v":380000},{"$f":"'源泉徴収票計算過程(非)'!AV8","v":1590000},{"$f":"'源泉徴収票計算過程(非)'!AW8","v":270000},{"$f":"'源泉徴収票計算過程(非)'!AX8","v":0},{"$f":"'源泉徴収票計算過程(非)'!AY8","v":480000},{"$f":"'源泉徴収票計算過程(非)'!AZ8","v":3913087},{"$f":"'源泉徴収票計算過程(非)'!BA8","v":1138000},{"$f":"'源泉徴収票計算過程(非)'!BB8","v":56900},{"$f":"'源泉徴収票計算過程(非)'!BC8","v":0},{"$f":"'源泉徴収票計算過程(非)'!BD8","v":56900},{"$f":"'源泉徴収票計算過程(非)'!BE8","v":58000},{"$f":"'源泉徴収票計算過程(非)'!BF8","v":-89819}]
[2,"山田太郎","ヤマダタロウ",null,null,null,"2021-12-31","甲欄","有",null,null,null,null,null,4800000,null,192500,null,null,null,null,null,null,null,null,null,"987654321018","1975-02-03","品川区品川２－４－６",null,"山田花子","ヤマダハナコ","246801357924","1965-11-01",580000,null,"山田百合子","ヤマダユリコ","293875987868","2009-01-02",null,null,"山田雄太","ヤマダユウタ","298759834673","2010-02-04",null,null,"山田洋介","ヤマダヨウスケ","928765098370","2012-04-06",null,null,"山田美優","ヤマダミユ","908327464037","2014-06-02",null,null,"山田美香","ヤマダミカ","938460980222","2016-06-02",null,null,null,null,null,null,null,null,null,null,null,null,null,null,null,431000,123000,840000,null,null,null,null,null,null,"山田花子","ヤマダハナコ","246801357924","1965-11-01",1060000,null,null,null,null,null,null,null,null,null,null,100000,"2013-08-05","住",10043269,null,null,null,null,{"$f":"'源泉徴収票計算過程(非)'!AJ9","v":4800000},{"$f":"'源泉徴収票計算過程(非)'!AK9","v":192500},{"$f":"'源泉徴収票計算過程(非)'!AL9","v":3400000},{"$f":"'源泉徴収票計算過程(非)'!AM9","v":0},{"$f":"'源泉徴収票計算過程(非)'!AN9","v":3400000},{"$f":"'源泉徴収票計算過程(非)'!AO9","v":0},{"$f":"'源泉徴収票計算過程(非)'!AP9","v":431000},{"$f":"'源泉徴収票計算過程(非)'!AQ9","v":840000},{"$f":"'源泉徴収票計算過程(非)'!AR9","v":0},{"$f":"'源泉徴収票計算過程(非)'!AS9","v":0},{"$f":"'源泉徴収票計算過程(非)'!AT9","v":260000},{"$f":"'源泉徴収票計算過程(非)'!AU9","v":0},{"$f":"'源泉徴収票計算過程(非)'!AV9","v":0},{"$f":"'源泉徴収票計算過程(非)'!AW9","v":0},{"$f":"'源泉徴収票計算過程(非)'!AX9","v":0},{"$f":"'源泉徴収票計算過程(非)'!AY9","v":480000},{"$f":"'源泉徴収票計算過程(非)'!AZ9","v":2011000},{"$f":"'源泉徴収票計算過程(非)'!BA9","v":1389000},{"$f":"'源泉徴収票計算過程(非)'!BB9","v":69450},{"$f":"'源泉徴収票計算過程(非)'!BC9","v":100000},{"$f":"'源泉徴収票計算過程(非)'!BD9","v":0},{"$f":"'源泉徴収票計算過程(非)'!BE9","v":0},{"$f":"'源泉徴収票計算過程(非)'!BF9","v":-192500}]
[3,"笠原花子","カサハラハナコ",null,null,null,null,"乙欄","無",null,null,null,null,null,864200,86000,3450,null,null,null,null,null,null,null,null,null,"209348760912","1985-09-02","新宿区新宿３－６－４",null,null,null,null,null,null,null,null,null,null,null,null,null,null,null,null,null,null,null,null,null,null,null,null,null,null,null,null,null,null,null,null,null,null,null,null,null,null,null,null,null,null,null,null,null,null,null,null,null,null,null,null,null,null,null,null,null,null,null,null,null,null,null,null,null,null,null,null,null,null,null,null,null,null,null,null,null,null,null,null,null,null,{"$f":"'源泉徴収票計算過程(非)'!AJ10","v":864200},{"$f":"'源泉徴収票計算過程(非)'!AK10","v":3450},{"$f":"'源泉徴収票計算過程(非)'!AL10","v":0},{"$f":"'源泉徴収票計算過程(非)'!AM10","v":0},{"$f":"'源泉徴収票計算過程(非)'!AN10","v":0},{"$f":"'源泉徴収票計算過程(非)'!AO10","v":86000},{"$f":"'源泉徴収票計算過程(非)'!AP10","v":0},{"$f":"'源泉徴収票計算過程(非)'!AQ10","v":0},{"$f":"'源泉徴収票計算過程(非)'!AR10","v":0},{"$f":"'源泉徴収票計算過程(非)'!AS10","v":0},{"$f":"'源泉徴収票計算過程(非)'!AT10","v":0},{"$f":"'源泉徴収票計算過程(非)'!AU10","v":0},{"$f":"'源泉徴収票計算過程(非)'!AV10","v":0},{"$f":"'源泉徴収票計算過程(非)'!AW10","v":0},{"$f":"'源泉徴収票計算過程(非)'!AX10","v":0},{"$f":"'源泉徴収票計算過程(非)'!AY10","v":0},{"$f":"'源泉徴収票計算過程(非)'!AZ10","v":0},{"$f":"'源泉徴収票計算過程(非)'!BA10","v":0},{"$f":"'源泉徴収票計算過程(非)'!BB10","v":3450},{"$f":"'源泉徴収票計算過程(非)'!BC10","v":0},{"$f":"'源泉徴収票計算過程(非)'!BD10","v":3450},{"$f":"'源泉徴収票計算過程(非)'!BE10","v":3450},{"$f":"'源泉徴収票計算過程(非)'!BF10","v":0}]
[4,"平松隆司","ヒラマツタカシ","役員","代表取締役",null,null,"甲欄","有",null,null,null,null,null,18000000,1644860,3066948,null,null,null,null,null,null,null,null,null,"123456789012","1965-04-02","世田谷区世田谷１－１－１",null,null,null,null,null,null,null,"平松健司","ヒラマツケンジ","123457890123","2009-05-03",null,null,null,null,null,null,null,null,null,null,null,null,null,null,null,null,null,null,null,null,null,null,null,null,null,null,null,null,null,null,null,null,null,null,null,null,null,null,null,null,null,null,null,null,null,null,null,null,null,null,null,null,null,null,null,null,"扶養親族が年齢23歳未満",null,null,null,null,null,null,null,null,null,null,null,null,null,null,{"$f":"'源泉徴収票計算過程(非)'!AJ11","v":18000000},{"$f":"'源泉徴収票計算過程(非)'!AK11","v":3066948},{"$f":"'源泉徴収票計算過程(非)'!AL11","v":16050000},{"$f":"'源泉徴収票計算過程(非)'!AM11","v":150000},{"$f":"'源泉徴収票計算過程(非)'!AN11","v":15900000},{"$f":"'源泉徴収票計算過程(非)'!AO11","v":1644860},{"$f":"'源泉徴収票計算過程(非)'!AP11","v":0},{"$f":"'源泉徴収票計算過程(非)'!AQ11","v":0},{"$f":"'源泉徴収票計算過程(非)'!AR11","v":0},{"$f":"'源泉徴収票計算過程(非)'!AS11","v":0},{"$f":"'源泉徴収票計算過程(非)'!AT11","v":0},{"$f":"'源泉徴収票計算過程(非)'!AU11","v":0},{"$f":"'源泉徴収票計算過程(非)'!AV11","v":0},{"$f":"'源泉徴収票計算過程(非)'!AW11","v":0},{"$f":"'源泉徴収票計算過程(非)'!AX11","v":0},{"$f":"'源泉徴収票計算過程(非)'!AY11","v":480000},{"$f":"'源泉徴収票計算過程(非)'!AZ11","v":2124860},{"$f":"'源泉徴収票計算過程(非)'!BA11","v":13775000},{"$f":"'源泉徴収票計算過程(非)'!BB11","v":3009750},{"$f":"'源泉徴収票計算過程(非)'!BC11","v":0},{"$f":"'源泉徴収票計算過程(非)'!BD11","v":3009750},{"$f":"'源泉徴収票計算過程(非)'!BE11","v":3072900},{"$f":"'源泉徴収票計算過程(非)'!BF11","v":5952}]
[5,"木村宏","キムラヒロシ",null,null,null,"2021-08-01","甲欄","無",null,null,null,null,null,4000000,null,142000,null,null,null,null,null,null,null,null,null,"340648689567","1993-01-02","調布市調布９－７－６",null,"木村明美","キムラアケミ","357924680135","1993-09-02",400000,null,null,null,null,null,null,null,null,null,null,null,null,null,null,null,null,null,null,null,null,null,null,null,null,null,null,null,null,null,null,null,null,null,null,null,null,null,null,null,null,null,null,null,null,null,null,null,null,null,null,null,null,null,null,null,null,null,null,null,null,null,null,null,null,null,null,null,null,null,null,null,null,null,null,null,null,{"$f":"'源泉徴収票計算過程(非)'!AJ12","v":4000000},{"$f":"'源泉徴収票計算過程(非)'!AK12","v":142000},{"$f":"'源泉徴収票計算過程(非)'!AL12","v":0},{"$f":"'源泉徴収票計算過程(非)'!AM12","v":0},{"$f":"'源泉徴収票計算過程(非)'!AN12","v":0},{"$f":"'源泉徴収票計算過程(非)'!AO12","v":0},{"$f":"'源泉徴収票計算過程(非)'!AP12","v":0},{"$f":"'源泉徴収票計算過程(非)'!AQ12","v":0},{"$f":"'源泉徴収票計算過程(非)'!AR12","v":0},{"$f":"'源泉徴収票計算過程(非)'!AS12","v":0},{"$f":"'源泉徴収票計算過程(非)'!AT12","v":0},{"$f":"'源泉徴収票計算過程(非)'!AU12","v":0},{"$f":"'源泉徴収票計算過程(非)'!AV12","v":0},{"$f":"'源泉徴収票計算過程(非)'!AW12","v":0},{"$f":"'源泉徴収票計算過程(非)'!AX12","v":0},{"$f":"'源泉徴収票計算過程(非)'!AY12","v":0},{"$f":"'源泉徴収票計算過程(非)'!AZ12","v":0},{"$f":"'源泉徴収票計算過程(非)'!BA12","v":0},{"$f":"'源泉徴収票計算過程(非)'!BB12","v":142000},{"$f":"'源泉徴収票計算過程(非)'!BC12","v":0},{"$f":"'源泉徴収票計算過程(非)'!BD12","v":142000},{"$f":"'源泉徴収票計算過程(非)'!BE12","v":142000},{"$f":"'源泉徴収票計算過程(非)'!BF12","v":0}]
[6,null,null,null,null,null,null,null,null,null,null,null,null,null,null,null,null,null,null,null,null,null,null,null,null,null,null,null,null,null,null,null,null,null,null,null,null,null,null,null,null,null,null,null,null,null,null,null,null,null,null,null,null,null,null,null,null,null,null,null,null,null,null,null,null,null,null,null,null,null,null,null,null,null,null,null,null,null,null,null,null,null,null,null,null,null,null,null,null,null,null,null,null,null,null,null,null,null,null,null,null,null,null,null,null,null,null,null,null,null,null,{"$f":"'源泉徴収票計算過程(非)'!AJ13","v":0},{"$f":"'源泉徴収票計算過程(非)'!AK13","v":0},{"$f":"'源泉徴収票計算過程(非)'!AL13","v":0},{"$f":"'源泉徴収票計算過程(非)'!AM13","v":0},{"$f":"'源泉徴収票計算過程(非)'!AN13","v":0},{"$f":"'源泉徴収票計算過程(非)'!AO13","v":0},{"$f":"'源泉徴収票計算過程(非)'!AP13","v":0},{"$f":"'源泉徴収票計算過程(非)'!AQ13","v":0},{"$f":"'源泉徴収票計算過程(非)'!AR13","v":0},{"$f":"'源泉徴収票計算過程(非)'!AS13","v":0},{"$f":"'源泉徴収票計算過程(非)'!AT13","v":0},{"$f":"'源泉徴収票計算過程(非)'!AU13","v":0},{"$f":"'源泉徴収票計算過程(非)'!AV13","v":0},{"$f":"'源泉徴収票計算過程(非)'!AW13","v":0},{"$f":"'源泉徴収票計算過程(非)'!AX13","v":0},{"$f":"'源泉徴収票計算過程(非)'!AY13","v":480000},{"$f":"'源泉徴収票計算過程(非)'!AZ13","v":480000},{"$f":"'源泉徴収票計算過程(非)'!BA13","v":0},{"$f":"'源泉徴収票計算過程(非)'!BB13","v":0},{"$f":"'源泉徴収票計算過程(非)'!BC13","v":0},{"$f":"'源泉徴収票計算過程(非)'!BD13","v":0},{"$f":"'源泉徴収票計算過程(非)'!BE13","v":0},{"$f":"'源泉徴収票計算過程(非)'!BF13","v":0}]
[7,null,null,null,null,null,null,null,null,null,null,null,null,null,null,null,null,null,null,null,null,null,null,null,null,null,null,null,null,null,null,null,null,null,null,null,null,null,null,null,null,null,null,null,null,null,null,null,null,null,null,null,null,null,null,null,null,null,null,null,null,null,null,null,null,null,null,null,null,null,null,null,null,null,null,null,null,null,null,null,null,null,null,null,null,null,null,null,null,null,null,null,null,null,null,null,null,null,null,null,null,null,null,null,null,null,null,null,null,null,null,{"$f":"'源泉徴収票計算過程(非)'!AJ14","v":0},{"$f":"'源泉徴収票計算過程(非)'!AK14","v":0},{"$f":"'源泉徴収票計算過程(非)'!AL14","v":0},{"$f":"'源泉徴収票計算過程(非)'!AM14","v":0},{"$f":"'源泉徴収票計算過程(非)'!AN14","v":0},{"$f":"'源泉徴収票計算過程(非)'!AO14","v":0},{"$f":"'源泉徴収票計算過程(非)'!AP14","v":0},{"$f":"'源泉徴収票計算過程(非)'!AQ14","v":0},{"$f":"'源泉徴収票計算過程(非)'!AR14","v":0},{"$f":"'源泉徴収票計算過程(非)'!AS14","v":0},{"$f":"'源泉徴収票計算過程(非)'!AT14","v":0},{"$f":"'源泉徴収票計算過程(非)'!AU14","v":0},{"$f":"'源泉徴収票計算過程(非)'!AV14","v":0},{"$f":"'源泉徴収票計算過程(非)'!AW14","v":0},{"$f":"'源泉徴収票計算過程(非)'!AX14","v":0},{"$f":"'源泉徴収票計算過程(非)'!AY14","v":480000},{"$f":"'源泉徴収票計算過程(非)'!AZ14","v":480000},{"$f":"'源泉徴収票計算過程(非)'!BA14","v":0},{"$f":"'源泉徴収票計算過程(非)'!BB14","v":0},{"$f":"'源泉徴収票計算過程(非)'!BC14","v":0},{"$f":"'源泉徴収票計算過程(非)'!BD14","v":0},{"$f":"'源泉徴収票計算過程(非)'!BE14","v":0},{"$f":"'源泉徴収票計算過程(非)'!BF14","v":0}]
[8,null,null,null,null,null,null,null,null,null,null,null,null,null,null,null,null,null,null,null,null,null,null,null,null,null,null,null,null,null,null,null,null,null,null,null,null,null,null,null,null,null,null,null,null,null,null,null,null,null,null,null,null,null,null,null,null,null,null,null,null,null,null,null,null,null,null,null,null,null,null,null,null,null,null,null,null,null,null,null,null,null,null,null,null,null,null,null,null,null,null,null,null,null,null,null,null,null,null,null,null,null,null,null,null,null,null,null,null,null,null,{"$f":"'源泉徴収票計算過程(非)'!AJ15","v":0},{"$f":"'源泉徴収票計算過程(非)'!AK15","v":0},{"$f":"'源泉徴収票計算過程(非)'!AL15","v":0},{"$f":"'源泉徴収票計算過程(非)'!AM15","v":0},{"$f":"'源泉徴収票計算過程(非)'!AN15","v":0},{"$f":"'源泉徴収票計算過程(非)'!AO15","v":0},{"$f":"'源泉徴収票計算過程(非)'!AP15","v":0},{"$f":"'源泉徴収票計算過程(非)'!AQ15","v":0},{"$f":"'源泉徴収票計算過程(非)'!AR15","v":0},{"$f":"'源泉徴収票計算過程(非)'!AS15","v":0},{"$f":"'源泉徴収票計算過程(非)'!AT15","v":0},{"$f":"'源泉徴収票計算過程(非)'!AU15","v":0},{"$f":"'源泉徴収票計算過程(非)'!AV15","v":0},{"$f":"'源泉徴収票計算過程(非)'!AW15","v":0},{"$f":"'源泉徴収票計算過程(非)'!AX15","v":0},{"$f":"'源泉徴収票計算過程(非)'!AY15","v":480000},{"$f":"'源泉徴収票計算過程(非)'!AZ15","v":480000},{"$f":"'源泉徴収票計算過程(非)'!BA15","v":0},{"$f":"'源泉徴収票計算過程(非)'!BB15","v":0},{"$f":"'源泉徴収票計算過程(非)'!BC15","v":0},{"$f":"'源泉徴収票計算過程(非)'!BD15","v":0},{"$f":"'源泉徴収票計算過程(非)'!BE15","v":0},{"$f":"'源泉徴収票計算過程(非)'!BF15","v":0}]
[9,null,null,null,null,null,null,null,null,null,null,null,null,null,null,null,null,null,null,null,null,null,null,null,null,null,null,null,null,null,null,null,null,null,null,null,null,null,null,null,null,null,null,null,null,null,null,null,null,null,null,null,null,null,null,null,null,null,null,null,null,null,null,null,null,null,null,null,null,null,null,null,null,null,null,null,null,null,null,null,null,null,null,null,null,null,null,null,null,null,null,null,null,null,null,null,null,null,null,null,null,null,null,null,null,null,null,null,null,null,null,{"$f":"'源泉徴収票計算過程(非)'!AJ16","v":0},{"$f":"'源泉徴収票計算過程(非)'!AK16","v":0},{"$f":"'源泉徴収票計算過程(非)'!AL16","v":0},{"$f":"'源泉徴収票計算過程(非)'!AM16","v":0},{"$f":"'源泉徴収票計算過程(非)'!AN16","v":0},{"$f":"'源泉徴収票計算過程(非)'!AO16","v":0},{"$f":"'源泉徴収票計算過程(非)'!AP16","v":0},{"$f":"'源泉徴収票計算過程(非)'!AQ16","v":0},{"$f":"'源泉徴収票計算過程(非)'!AR16","v":0},{"$f":"'源泉徴収票計算過程(非)'!AS16","v":0},{"$f":"'源泉徴収票計算過程(非)'!AT16","v":0},{"$f":"'源泉徴収票計算過程(非)'!AU16","v":0},{"$f":"'源泉徴収票計算過程(非)'!AV16","v":0},{"$f":"'源泉徴収票計算過程(非)'!AW16","v":0},{"$f":"'源泉徴収票計算過程(非)'!AX16","v":0},{"$f":"'源泉徴収票計算過程(非)'!AY16","v":480000},{"$f":"'源泉徴収票計算過程(非)'!AZ16","v":480000},{"$f":"'源泉徴収票計算過程(非)'!BA16","v":0},{"$f":"'源泉徴収票計算過程(非)'!BB16","v":0},{"$f":"'源泉徴収票計算過程(非)'!BC16","v":0},{"$f":"'源泉徴収票計算過程(非)'!BD16","v":0},{"$f":"'源泉徴収票計算過程(非)'!BE16","v":0},{"$f":"'源泉徴収票計算過程(非)'!BF16","v":0}]
[10,null,null,null,null,null,null,null,null,null,null,null,null,null,null,null,null,null,null,null,null,null,null,null,null,null,null,null,null,null,null,null,null,null,null,null,null,null,null,null,null,null,null,null,null,null,null,null,null,null,null,null,null,null,null,null,null,null,null,null,null,null,null,null,null,null,null,null,null,null,null,null,null,null,null,null,null,null,null,null,null,null,null,null,null,null,null,null,null,null,null,null,null,null,null,null,null,null,null,null,null,null,null,null,null,null,null,null,null,null,null,{"$f":"'源泉徴収票計算過程(非)'!AJ17","v":0},{"$f":"'源泉徴収票計算過程(非)'!AK17","v":0},{"$f":"'源泉徴収票計算過程(非)'!AL17","v":0},{"$f":"'源泉徴収票計算過程(非)'!AM17","v":0},{"$f":"'源泉徴収票計算過程(非)'!AN17","v":0},{"$f":"'源泉徴収票計算過程(非)'!AO17","v":0},{"$f":"'源泉徴収票計算過程(非)'!AP17","v":0},{"$f":"'源泉徴収票計算過程(非)'!AQ17","v":0},{"$f":"'源泉徴収票計算過程(非)'!AR17","v":0},{"$f":"'源泉徴収票計算過程(非)'!AS17","v":0},{"$f":"'源泉徴収票計算過程(非)'!AT17","v":0},{"$f":"'源泉徴収票計算過程(非)'!AU17","v":0},{"$f":"'源泉徴収票計算過程(非)'!AV17","v":0},{"$f":"'源泉徴収票計算過程(非)'!AW17","v":0},{"$f":"'源泉徴収票計算過程(非)'!AX17","v":0},{"$f":"'源泉徴収票計算過程(非)'!AY17","v":480000},{"$f":"'源泉徴収票計算過程(非)'!AZ17","v":480000},{"$f":"'源泉徴収票計算過程(非)'!BA17","v":0},{"$f":"'源泉徴収票計算過程(非)'!BB17","v":0},{"$f":"'源泉徴収票計算過程(非)'!BC17","v":0},{"$f":"'源泉徴収票計算過程(非)'!BD17","v":0},{"$f":"'源泉徴収票計算過程(非)'!BE17","v":0},{"$f":"'源泉徴収票計算過程(非)'!BF17","v":0}]
[11,null,null,null,null,null,null,null,null,null,null,null,null,null,null,null,null,null,null,null,null,null,null,null,null,null,null,null,null,null,null,null,null,null,null,null,null,null,null,null,null,null,null,null,null,null,null,null,null,null,null,null,null,null,null,null,null,null,null,null,null,null,null,null,null,null,null,null,null,null,null,null,null,null,null,null,null,null,null,null,null,null,null,null,null,null,null,null,null,null,null,null,null,null,null,null,null,null,null,null,null,null,null,null,null,null,null,null,null,null,null,{"$f":"'源泉徴収票計算過程(非)'!AJ18","v":0},{"$f":"'源泉徴収票計算過程(非)'!AK18","v":0},{"$f":"'源泉徴収票計算過程(非)'!AL18","v":0},{"$f":"'源泉徴収票計算過程(非)'!AM18","v":0},{"$f":"'源泉徴収票計算過程(非)'!AN18","v":0},{"$f":"'源泉徴収票計算過程(非)'!AO18","v":0},{"$f":"'源泉徴収票計算過程(非)'!AP18","v":0},{"$f":"'源泉徴収票計算過程(非)'!AQ18","v":0},{"$f":"'源泉徴収票計算過程(非)'!AR18","v":0},{"$f":"'源泉徴収票計算過程(非)'!AS18","v":0},{"$f":"'源泉徴収票計算過程(非)'!AT18","v":0},{"$f":"'源泉徴収票計算過程(非)'!AU18","v":0},{"$f":"'源泉徴収票計算過程(非)'!AV18","v":0},{"$f":"'源泉徴収票計算過程(非)'!AW18","v":0},{"$f":"'源泉徴収票計算過程(非)'!AX18","v":0},{"$f":"'源泉徴収票計算過程(非)'!AY18","v":480000},{"$f":"'源泉徴収票計算過程(非)'!AZ18","v":480000},{"$f":"'源泉徴収票計算過程(非)'!BA18","v":0},{"$f":"'源泉徴収票計算過程(非)'!BB18","v":0},{"$f":"'源泉徴収票計算過程(非)'!BC18","v":0},{"$f":"'源泉徴収票計算過程(非)'!BD18","v":0},{"$f":"'源泉徴収票計算過程(非)'!BE18","v":0},{"$f":"'源泉徴収票計算過程(非)'!BF18","v":0}]
[12,null,null,null,null,null,null,null,null,null,null,null,null,null,null,null,null,null,null,null,null,null,null,null,null,null,null,null,null,null,null,null,null,null,null,null,null,null,null,null,null,null,null,null,null,null,null,null,null,null,null,null,null,null,null,null,null,null,null,null,null,null,null,null,null,null,null,null,null,null,null,null,null,null,null,null,null,null,null,null,null,null,null,null,null,null,null,null,null,null,null,null,null,null,null,null,null,null,null,null,null,null,null,null,null,null,null,null,null,null,null,{"$f":"'源泉徴収票計算過程(非)'!AJ19","v":0},{"$f":"'源泉徴収票計算過程(非)'!AK19","v":0},{"$f":"'源泉徴収票計算過程(非)'!AL19","v":0},{"$f":"'源泉徴収票計算過程(非)'!AM19","v":0},{"$f":"'源泉徴収票計算過程(非)'!AN19","v":0},{"$f":"'源泉徴収票計算過程(非)'!AO19","v":0},{"$f":"'源泉徴収票計算過程(非)'!AP19","v":0},{"$f":"'源泉徴収票計算過程(非)'!AQ19","v":0},{"$f":"'源泉徴収票計算過程(非)'!AR19","v":0},{"$f":"'源泉徴収票計算過程(非)'!AS19","v":0},{"$f":"'源泉徴収票計算過程(非)'!AT19","v":0},{"$f":"'源泉徴収票計算過程(非)'!AU19","v":0},{"$f":"'源泉徴収票計算過程(非)'!AV19","v":0},{"$f":"'源泉徴収票計算過程(非)'!AW19","v":0},{"$f":"'源泉徴収票計算過程(非)'!AX19","v":0},{"$f":"'源泉徴収票計算過程(非)'!AY19","v":480000},{"$f":"'源泉徴収票計算過程(非)'!AZ19","v":480000},{"$f":"'源泉徴収票計算過程(非)'!BA19","v":0},{"$f":"'源泉徴収票計算過程(非)'!BB19","v":0},{"$f":"'源泉徴収票計算過程(非)'!BC19","v":0},{"$f":"'源泉徴収票計算過程(非)'!BD19","v":0},{"$f":"'源泉徴収票計算過程(非)'!BE19","v":0},{"$f":"'源泉徴収票計算過程(非)'!BF19","v":0}]
[13,null,null,null,null,null,null,null,null,null,null,null,null,null,null,null,null,null,null,null,null,null,null,null,null,null,null,null,null,null,null,null,null,null,null,null,null,null,null,null,null,null,null,null,null,null,null,null,null,null,null,null,null,null,null,null,null,null,null,null,null,null,null,null,null,null,null,null,null,null,null,null,null,null,null,null,null,null,null,null,null,null,null,null,null,null,null,null,null,null,null,null,null,null,null,null,null,null,null,null,null,null,null,null,null,null,null,null,null,null,null,{"$f":"'源泉徴収票計算過程(非)'!AJ20","v":0},{"$f":"'源泉徴収票計算過程(非)'!AK20","v":0},{"$f":"'源泉徴収票計算過程(非)'!AL20","v":0},{"$f":"'源泉徴収票計算過程(非)'!AM20","v":0},{"$f":"'源泉徴収票計算過程(非)'!AN20","v":0},{"$f":"'源泉徴収票計算過程(非)'!AO20","v":0},{"$f":"'源泉徴収票計算過程(非)'!AP20","v":0},{"$f":"'源泉徴収票計算過程(非)'!AQ20","v":0},{"$f":"'源泉徴収票計算過程(非)'!AR20","v":0},{"$f":"'源泉徴収票計算過程(非)'!AS20","v":0},{"$f":"'源泉徴収票計算過程(非)'!AT20","v":0},{"$f":"'源泉徴収票計算過程(非)'!AU20","v":0},{"$f":"'源泉徴収票計算過程(非)'!AV20","v":0},{"$f":"'源泉徴収票計算過程(非)'!AW20","v":0},{"$f":"'源泉徴収票計算過程(非)'!AX20","v":0},{"$f":"'源泉徴収票計算過程(非)'!AY20","v":480000},{"$f":"'源泉徴収票計算過程(非)'!AZ20","v":480000},{"$f":"'源泉徴収票計算過程(非)'!BA20","v":0},{"$f":"'源泉徴収票計算過程(非)'!BB20","v":0},{"$f":"'源泉徴収票計算過程(非)'!BC20","v":0},{"$f":"'源泉徴収票計算過程(非)'!BD20","v":0},{"$f":"'源泉徴収票計算過程(非)'!BE20","v":0},{"$f":"'源泉徴収票計算過程(非)'!BF20","v":0}]
[14,null,null,null,null,null,null,null,null,null,null,null,null,null,null,null,null,null,null,null,null,null,null,null,null,null,null,null,null,null,null,null,null,null,null,null,null,null,null,null,null,null,null,null,null,null,null,null,null,null,null,null,null,null,null,null,null,null,null,null,null,null,null,null,null,null,null,null,null,null,null,null,null,null,null,null,null,null,null,null,null,null,null,null,null,null,null,null,null,null,null,null,null,null,null,null,null,null,null,null,null,null,null,null,null,null,null,null,null,null,null,{"$f":"'源泉徴収票計算過程(非)'!AJ21","v":0},{"$f":"'源泉徴収票計算過程(非)'!AK21","v":0},{"$f":"'源泉徴収票計算過程(非)'!AL21","v":0},{"$f":"'源泉徴収票計算過程(非)'!AM21","v":0},{"$f":"'源泉徴収票計算過程(非)'!AN21","v":0},{"$f":"'源泉徴収票計算過程(非)'!AO21","v":0},{"$f":"'源泉徴収票計算過程(非)'!AP21","v":0},{"$f":"'源泉徴収票計算過程(非)'!AQ21","v":0},{"$f":"'源泉徴収票計算過程(非)'!AR21","v":0},{"$f":"'源泉徴収票計算過程(非)'!AS21","v":0},{"$f":"'源泉徴収票計算過程(非)'!AT21","v":0},{"$f":"'源泉徴収票計算過程(非)'!AU21","v":0},{"$f":"'源泉徴収票計算過程(非)'!AV21","v":0},{"$f":"'源泉徴収票計算過程(非)'!AW21","v":0},{"$f":"'源泉徴収票計算過程(非)'!AX21","v":0},{"$f":"'源泉徴収票計算過程(非)'!AY21","v":480000},{"$f":"'源泉徴収票計算過程(非)'!AZ21","v":480000},{"$f":"'源泉徴収票計算過程(非)'!BA21","v":0},{"$f":"'源泉徴収票計算過程(非)'!BB21","v":0},{"$f":"'源泉徴収票計算過程(非)'!BC21","v":0},{"$f":"'源泉徴収票計算過程(非)'!BD21","v":0},{"$f":"'源泉徴収票計算過程(非)'!BE21","v":0},{"$f":"'源泉徴収票計算過程(非)'!BF21","v":0}]
[15,null,null,null,null,null,null,null,null,null,null,null,null,null,null,null,null,null,null,null,null,null,null,null,null,null,null,null,null,null,null,null,null,null,null,null,null,null,null,null,null,null,null,null,null,null,null,null,null,null,null,null,null,null,null,null,null,null,null,null,null,null,null,null,null,null,null,null,null,null,null,null,null,null,null,null,null,null,null,null,null,null,null,null,null,null,null,null,null,null,null,null,null,null,null,null,null,null,null,null,null,null,null,null,null,null,null,null,null,null,null,{"$f":"'源泉徴収票計算過程(非)'!AJ22","v":0},{"$f":"'源泉徴収票計算過程(非)'!AK22","v":0},{"$f":"'源泉徴収票計算過程(非)'!AL22","v":0},{"$f":"'源泉徴収票計算過程(非)'!AM22","v":0},{"$f":"'源泉徴収票計算過程(非)'!AN22","v":0},{"$f":"'源泉徴収票計算過程(非)'!AO22","v":0},{"$f":"'源泉徴収票計算過程(非)'!AP22","v":0},{"$f":"'源泉徴収票計算過程(非)'!AQ22","v":0},{"$f":"'源泉徴収票計算過程(非)'!AR22","v":0},{"$f":"'源泉徴収票計算過程(非)'!AS22","v":0},{"$f":"'源泉徴収票計算過程(非)'!AT22","v":0},{"$f":"'源泉徴収票計算過程(非)'!AU22","v":0},{"$f":"'源泉徴収票計算過程(非)'!AV22","v":0},{"$f":"'源泉徴収票計算過程(非)'!AW22","v":0},{"$f":"'源泉徴収票計算過程(非)'!AX22","v":0},{"$f":"'源泉徴収票計算過程(非)'!AY22","v":480000},{"$f":"'源泉徴収票計算過程(非)'!AZ22","v":480000},{"$f":"'源泉徴収票計算過程(非)'!BA22","v":0},{"$f":"'源泉徴収票計算過程(非)'!BB22","v":0},{"$f":"'源泉徴収票計算過程(非)'!BC22","v":0},{"$f":"'源泉徴収票計算過程(非)'!BD22","v":0},{"$f":"'源泉徴収票計算過程(非)'!BE22","v":0},{"$f":"'源泉徴収票計算過程(非)'!BF22","v":0}]
[16,null,null,null,null,null,null,null,null,null,null,null,null,null,null,null,null,null,null,null,null,null,null,null,null,null,null,null,null,null,null,null,null,null,null,null,null,null,null,null,null,null,null,null,null,null,null,null,null,null,null,null,null,null,null,null,null,null,null,null,null,null,null,null,null,null,null,null,null,null,null,null,null,null,null,null,null,null,null,null,null,null,null,null,null,null,null,null,null,null,null,null,null,null,null,null,null,null,null,null,null,null,null,null,null,null,null,null,null,null,null,{"$f":"'源泉徴収票計算過程(非)'!AJ23","v":0},{"$f":"'源泉徴収票計算過程(非)'!AK23","v":0},{"$f":"'源泉徴収票計算過程(非)'!AL23","v":0},{"$f":"'源泉徴収票計算過程(非)'!AM23","v":0},{"$f":"'源泉徴収票計算過程(非)'!AN23","v":0},{"$f":"'源泉徴収票計算過程(非)'!AO23","v":0},{"$f":"'源泉徴収票計算過程(非)'!AP23","v":0},{"$f":"'源泉徴収票計算過程(非)'!AQ23","v":0},{"$f":"'源泉徴収票計算過程(非)'!AR23","v":0},{"$f":"'源泉徴収票計算過程(非)'!AS23","v":0},{"$f":"'源泉徴収票計算過程(非)'!AT23","v":0},{"$f":"'源泉徴収票計算過程(非)'!AU23","v":0},{"$f":"'源泉徴収票計算過程(非)'!AV23","v":0},{"$f":"'源泉徴収票計算過程(非)'!AW23","v":0},{"$f":"'源泉徴収票計算過程(非)'!AX23","v":0},{"$f":"'源泉徴収票計算過程(非)'!AY23","v":480000},{"$f":"'源泉徴収票計算過程(非)'!AZ23","v":480000},{"$f":"'源泉徴収票計算過程(非)'!BA23","v":0},{"$f":"'源泉徴収票計算過程(非)'!BB23","v":0},{"$f":"'源泉徴収票計算過程(非)'!BC23","v":0},{"$f":"'源泉徴収票計算過程(非)'!BD23","v":0},{"$f":"'源泉徴収票計算過程(非)'!BE23","v":0},{"$f":"'源泉徴収票計算過程(非)'!BF23","v":0}]
[17,null,null,null,null,null,null,null,null,null,null,null,null,null,null,null,null,null,null,null,null,null,null,null,null,null,null,null,null,null,null,null,null,null,null,null,null,null,null,null,null,null,null,null,null,null,null,null,null,null,null,null,null,null,null,null,null,null,null,null,null,null,null,null,null,null,null,null,null,null,null,null,null,null,null,null,null,null,null,null,null,null,null,null,null,null,null,null,null,null,null,null,null,null,null,null,null,null,null,null,null,null,null,null,null,null,null,null,null,null,null,{"$f":"'源泉徴収票計算過程(非)'!AJ24","v":0},{"$f":"'源泉徴収票計算過程(非)'!AK24","v":0},{"$f":"'源泉徴収票計算過程(非)'!AL24","v":0},{"$f":"'源泉徴収票計算過程(非)'!AM24","v":0},{"$f":"'源泉徴収票計算過程(非)'!AN24","v":0},{"$f":"'源泉徴収票計算過程(非)'!AO24","v":0},{"$f":"'源泉徴収票計算過程(非)'!AP24","v":0},{"$f":"'源泉徴収票計算過程(非)'!AQ24","v":0},{"$f":"'源泉徴収票計算過程(非)'!AR24","v":0},{"$f":"'源泉徴収票計算過程(非)'!AS24","v":0},{"$f":"'源泉徴収票計算過程(非)'!AT24","v":0},{"$f":"'源泉徴収票計算過程(非)'!AU24","v":0},{"$f":"'源泉徴収票計算過程(非)'!AV24","v":0},{"$f":"'源泉徴収票計算過程(非)'!AW24","v":0},{"$f":"'源泉徴収票計算過程(非)'!AX24","v":0},{"$f":"'源泉徴収票計算過程(非)'!AY24","v":480000},{"$f":"'源泉徴収票計算過程(非)'!AZ24","v":480000},{"$f":"'源泉徴収票計算過程(非)'!BA24","v":0},{"$f":"'源泉徴収票計算過程(非)'!BB24","v":0},{"$f":"'源泉徴収票計算過程(非)'!BC24","v":0},{"$f":"'源泉徴収票計算過程(非)'!BD24","v":0},{"$f":"'源泉徴収票計算過程(非)'!BE24","v":0},{"$f":"'源泉徴収票計算過程(非)'!BF24","v":0}]
[18,null,null,null,null,null,null,null,null,null,null,null,null,null,null,null,null,null,null,null,null,null,null,null,null,null,null,null,null,null,null,null,null,null,null,null,null,null,null,null,null,null,null,null,null,null,null,null,null,null,null,null,null,null,null,null,null,null,null,null,null,null,null,null,null,null,null,null,null,null,null,null,null,null,null,null,null,null,null,null,null,null,null,null,null,null,null,null,null,null,null,null,null,null,null,null,null,null,null,null,null,null,null,null,null,null,null,null,null,null,null,{"$f":"'源泉徴収票計算過程(非)'!AJ25","v":0},{"$f":"'源泉徴収票計算過程(非)'!AK25","v":0},{"$f":"'源泉徴収票計算過程(非)'!AL25","v":0},{"$f":"'源泉徴収票計算過程(非)'!AM25","v":0},{"$f":"'源泉徴収票計算過程(非)'!AN25","v":0},{"$f":"'源泉徴収票計算過程(非)'!AO25","v":0},{"$f":"'源泉徴収票計算過程(非)'!AP25","v":0},{"$f":"'源泉徴収票計算過程(非)'!AQ25","v":0},{"$f":"'源泉徴収票計算過程(非)'!AR25","v":0},{"$f":"'源泉徴収票計算過程(非)'!AS25","v":0},{"$f":"'源泉徴収票計算過程(非)'!AT25","v":0},{"$f":"'源泉徴収票計算過程(非)'!AU25","v":0},{"$f":"'源泉徴収票計算過程(非)'!AV25","v":0},{"$f":"'源泉徴収票計算過程(非)'!AW25","v":0},{"$f":"'源泉徴収票計算過程(非)'!AX25","v":0},{"$f":"'源泉徴収票計算過程(非)'!AY25","v":480000},{"$f":"'源泉徴収票計算過程(非)'!AZ25","v":480000},{"$f":"'源泉徴収票計算過程(非)'!BA25","v":0},{"$f":"'源泉徴収票計算過程(非)'!BB25","v":0},{"$f":"'源泉徴収票計算過程(非)'!BC25","v":0},{"$f":"'源泉徴収票計算過程(非)'!BD25","v":0},{"$f":"'源泉徴収票計算過程(非)'!BE25","v":0},{"$f":"'源泉徴収票計算過程(非)'!BF25","v":0}]
[19,null,null,null,null,null,null,null,null,null,null,null,null,null,null,null,null,null,null,null,null,null,null,null,null,null,null,null,null,null,null,null,null,null,null,null,null,null,null,null,null,null,null,null,null,null,null,null,null,null,null,null,null,null,null,null,null,null,null,null,null,null,null,null,null,null,null,null,null,null,null,null,null,null,null,null,null,null,null,null,null,null,null,null,null,null,null,null,null,null,null,null,null,null,null,null,null,null,null,null,null,null,null,null,null,null,null,null,null,null,null,{"$f":"'源泉徴収票計算過程(非)'!AJ26","v":0},{"$f":"'源泉徴収票計算過程(非)'!AK26","v":0},{"$f":"'源泉徴収票計算過程(非)'!AL26","v":0},{"$f":"'源泉徴収票計算過程(非)'!AM26","v":0},{"$f":"'源泉徴収票計算過程(非)'!AN26","v":0},{"$f":"'源泉徴収票計算過程(非)'!AO26","v":0},{"$f":"'源泉徴収票計算過程(非)'!AP26","v":0},{"$f":"'源泉徴収票計算過程(非)'!AQ26","v":0},{"$f":"'源泉徴収票計算過程(非)'!AR26","v":0},{"$f":"'源泉徴収票計算過程(非)'!AS26","v":0},{"$f":"'源泉徴収票計算過程(非)'!AT26","v":0},{"$f":"'源泉徴収票計算過程(非)'!AU26","v":0},{"$f":"'源泉徴収票計算過程(非)'!AV26","v":0},{"$f":"'源泉徴収票計算過程(非)'!AW26","v":0},{"$f":"'源泉徴収票計算過程(非)'!AX26","v":0},{"$f":"'源泉徴収票計算過程(非)'!AY26","v":480000},{"$f":"'源泉徴収票計算過程(非)'!AZ26","v":480000},{"$f":"'源泉徴収票計算過程(非)'!BA26","v":0},{"$f":"'源泉徴収票計算過程(非)'!BB26","v":0},{"$f":"'源泉徴収票計算過程(非)'!BC26","v":0},{"$f":"'源泉徴収票計算過程(非)'!BD26","v":0},{"$f":"'源泉徴収票計算過程(非)'!BE26","v":0},{"$f":"'源泉徴収票計算過程(非)'!BF26","v":0}]
[20,null,null,null,null,null,null,null,null,null,null,null,null,null,null,null,null,null,null,null,null,null,null,null,null,null,null,null,null,null,null,null,null,null,null,null,null,null,null,null,null,null,null,null,null,null,null,null,null,null,null,null,null,null,null,null,null,null,null,null,null,null,null,null,null,null,null,null,null,null,null,null,null,null,null,null,null,null,null,null,null,null,null,null,null,null,null,null,null,null,null,null,null,null,null,null,null,null,null,null,null,null,null,null,null,null,null,null,null,null,null,{"$f":"'源泉徴収票計算過程(非)'!AJ27","v":0},{"$f":"'源泉徴収票計算過程(非)'!AK27","v":0},{"$f":"'源泉徴収票計算過程(非)'!AL27","v":0},{"$f":"'源泉徴収票計算過程(非)'!AM27","v":0},{"$f":"'源泉徴収票計算過程(非)'!AN27","v":0},{"$f":"'源泉徴収票計算過程(非)'!AO27","v":0},{"$f":"'源泉徴収票計算過程(非)'!AP27","v":0},{"$f":"'源泉徴収票計算過程(非)'!AQ27","v":0},{"$f":"'源泉徴収票計算過程(非)'!AR27","v":0},{"$f":"'源泉徴収票計算過程(非)'!AS27","v":0},{"$f":"'源泉徴収票計算過程(非)'!AT27","v":0},{"$f":"'源泉徴収票計算過程(非)'!AU27","v":0},{"$f":"'源泉徴収票計算過程(非)'!AV27","v":0},{"$f":"'源泉徴収票計算過程(非)'!AW27","v":0},{"$f":"'源泉徴収票計算過程(非)'!AX27","v":0},{"$f":"'源泉徴収票計算過程(非)'!AY27","v":480000},{"$f":"'源泉徴収票計算過程(非)'!AZ27","v":480000},{"$f":"'源泉徴収票計算過程(非)'!BA27","v":0},{"$f":"'源泉徴収票計算過程(非)'!BB27","v":0},{"$f":"'源泉徴収票計算過程(非)'!BC27","v":0},{"$f":"'源泉徴収票計算過程(非)'!BD27","v":0},{"$f":"'源泉徴収票計算過程(非)'!BE27","v":0},{"$f":"'源泉徴収票計算過程(非)'!BF27","v":0}]

{"sheet":"退職所得","index":3,"n_rows":27,"n_cols":16,"rows_kept":27,"cut":false,"hidden":false,"merged":[]}
[null,{"$f":"IF($A1=\"\",\"\",INDEX(B$8:B$999,MATCH($A1,$A$8:$A$999,0),1)&\"\")","v":""},"","","","","",{"$f":"IF($A1=\"\",0,INDEX(H$8:H$999,MATCH($A1,$A$8:$A$999,0),1))","v":"00:00:00"},{"$f":"IF($A1=\"\",0,INDEX(I$8:I$999,MATCH($A1,$A$8:$A$999,0),1))","v":"00:00:00"},{"$f":"IF($A1=\"\",\"\",INDEX(J$8:J$999,MATCH($A1,$A$8:$A$999,0),1)&\"\")","v":""},{"$f":"IF($A1=\"\",0,INDEX(K$8:K$999,MATCH($A1,$A$8:$A$999,0),1))","v":0},{"$f":"IF($A1=\"\",0,INDEX(L$8:L$999,MATCH($A1,$A$8:$A$999,0),1))","v":0},{"$f":"IF($A1=\"\",0,INDEX(M$8:M$999,MATCH($A1,$A$8:$A$999,0),1))","v":0},{"$f":"IF($A1=\"\",0,INDEX(N$8:N$999,MATCH($A1,$A$8:$A$999,0),1))","v":0},{"$f":"IF($A1=\"\",\"\",INDEX(O$8:O$999,MATCH($A1,$A$8:$A$999,0),1)&\"\")","v":""}]
["退職金の情報"]
[]
[]
[]
[]
["No","住所",{"$f":"\"令和\"&TEXT(DATE(会社情報!C7,12,31),\"ee\")&\"年\"&CHAR(13)&\"1月1日の住所\"","v":"令和03年\r1月1日の住所"},"氏名","役員","役職","個人番号","就職年月日","退職年月日","退職所得の受給\nに関する申告書","支払金額","源泉徴収税額","市町村民税","道府県民税","摘要","提出義務"]
[1,"品川区品川２－４－６","世田谷区代田２－４－６","山田太郎",null,null,"987654321018","2011-04-01","2017-12-31","入手済",3000000,200000,80000,20000,null,{"$f":"IF(E8<>\"\",\"あり\",\"なし\")","v":"なし"}]
[2,"テスト住所","テスト住所１","テスト太郎","役員",null,"321095009827","1990-12-01","2017-05-28","未入手",8000000,600000,150000,50000,null,{"$f":"IF(E9<>\"\",\"あり\",\"なし\")","v":"あり"}]
[3,null,null,null,null,null,null,null,null,null,null,null,null,null,null,"なし"]
[4,null,null,null,null,null,null,null,null,null,null,null,null,null,null,"なし"]
[5,null,null,null,null,null,null,null,null,null,null,null,null,null,null,"なし"]
[6,null,null,null,null,null,null,null,null,null,null,null,null,null,null,"なし"]
[7,null,null,null,null,null,null,null,null,null,null,null,null,null,null,"なし"]
[8,null,null,null,null,null,null,null,null,null,null,null,null,null,null,"なし"]
[9,null,null,null,null,null,null,null,null,null,null,null,null,null,null,"なし"]
[10,null,null,null,null,null,null,null,null,null,null,null,null,null,null,"なし"]
[11,null,null,null,null,null,null,null,null,null,null,null,null,null,null,"なし"]
[12,null,null,null,null,null,null,null,null,null,null,null,null,null,null,"なし"]
[13,null,null,null,null,null,null,null,null,null,null,null,null,null,null,"なし"]
[14,null,null,null,null,null,null,null,null,null,null,null,null,null,null,"なし"]
[15,null,null,null,null,null,null,null,null,null,null,null,null,null,null,"なし"]
[16,null,null,null,null,null,null,null,null,null,null,null,null,null,null,"なし"]
[17,null,null,null,null,null,null,null,null,null,null,null,null,null,null,"なし"]
[18,null,null,null,null,null,null,null,null,null,null,null,null,null,null,"なし"]
[19,null,null,null,null,null,null,null,null,null,null,null,null,null,null,"なし"]
[20,null,null,null,null,null,null,null,null,null,null,null,null,null,null,"なし"]

{"sheet":"報酬支払先情報","index":4,"n_rows":27,"n_cols":8,"rows_kept":27,"cut":false,"hidden":false,"merged":[]}
[null,{"$f":"IF($A1=\"\",\"\",INDEX(B$8:B$999,MATCH($A1,$A$8:$A$999,0),1)&\"\")","v":""},"","","","",""]
["報酬の支払先情報入力"]
[]
[]
[]
[]
["No","個人・法人","住所","氏名・名称","個人番号・法人番号","摘要１","摘要２","提出義務"]
[1,"個人","東京都渋谷区渋谷４－５－６","渋谷太郎","456789012345","消費税抜",null,{"$f":"IF(D8<>\"\",IF('報酬調書集計(非)'!AO8>0,\"あり\",\"なし\"),\"\")","v":"あり"}]
[2,"個人","東京都港区南青山１－１－１","青山良子","123456789012","消費税抜",null,{"$f":"IF(D9<>\"\",IF('報酬調書集計(非)'!AO9>0,\"あり\",\"なし\"),\"\")","v":"あり"}]
[3,"個人","東京都品川区品川２－２－２","品川次郎","298357698743","消費税抜",null,{"$f":"IF(D10<>\"\",IF('報酬調書集計(非)'!AO10>0,\"あり\",\"なし\"),\"\")","v":"なし"}]
[4,"個人","東京都新宿区新宿４－５－６","新宿美奈子","943287598172","消費税抜","摘要テスト",{"$f":"IF(D11<>\"\",IF('報酬調書集計(非)'!AO11>0,\"あり\",\"なし\"),\"\")","v":"あり"}]
[5,"法人","神奈川県川崎市宮前区鷺沼１丁目２−３","川崎商事株式会社","2498754904912","消費税抜",null,{"$f":"IF(D12<>\"\",IF('報酬調書集計(非)'!AO12>0,\"あり\",\"なし\"),\"\")","v":"あり"}]
[6,null,null,null,null,null,null,{"$f":"IF(D13<>\"\",IF('報酬調書集計(非)'!AO13>0,\"あり\",\"なし\"),\"\")","v":""}]
[7,null,null,null,null,null,null,{"$f":"IF(D14<>\"\",IF('報酬調書集計(非)'!AO14>0,\"あり\",\"なし\"),\"\")","v":""}]
[8,null,null,null,null,null,null,{"$f":"IF(D15<>\"\",IF('報酬調書集計(非)'!AO15>0,\"あり\",\"なし\"),\"\")","v":""}]
[9,null,null,null,null,null,null,{"$f":"IF(D16<>\"\",IF('報酬調書集計(非)'!AO16>0,\"あり\",\"なし\"),\"\")","v":""}]
[10,null,null,null,null,null,null,{"$f":"IF(D17<>\"\",IF('報酬調書集計(非)'!AO17>0,\"あり\",\"なし\"),\"\")","v":""}]
[11,null,null,null,null,null,null,{"$f":"IF(D18<>\"\",IF('報酬調書集計(非)'!AO18>0,\"あり\",\"なし\"),\"\")","v":""}]
[12,null,null,null,null,null,null,{"$f":"IF(D19<>\"\",IF('報酬調書集計(非)'!AO19>0,\"あり\",\"なし\"),\"\")","v":""}]
[13,null,null,null,null,null,null,{"$f":"IF(D20<>\"\",IF('報酬調書集計(非)'!AO20>0,\"あり\",\"なし\"),\"\")","v":""}]
[14,null,null,null,null,null,null,{"$f":"IF(D21<>\"\",IF('報酬調書集計(非)'!AO21>0,\"あり\",\"なし\"),\"\")","v":""}]
[15,null,null,null,null,null,null,{"$f":"IF(D22<>\"\",IF('報酬調書集計(非)'!AO22>0,\"あり\",\"なし\"),\"\")","v":""}]
[16,null,null,null,null,null,null,{"$f":"IF(D23<>\"\",IF('報酬調書集計(非)'!AO23>0,\"あり\",\"なし\"),\"\")","v":""}]
[17,null,null,null,null,null,null,{"$f":"IF(D24<>\"\",IF('報酬調書集計(非)'!AO24>0,\"あり\",\"なし\"),\"\")","v":""}]
[18,null,null,null,null,null,null,{"$f":"IF(D25<>\"\",IF('報酬調書集計(非)'!AO25>0,\"あり\",\"なし\"),\"\")","v":""}]
[19,null,null,null,null,null,null,{"$f":"IF(D26<>\"\",IF('報酬調書集計(非)'!AO26>0,\"あり\",\"なし\"),\"\")","v":""}]
[20,null,null,null,null,null,null,{"$f":"IF(D27<>\"\",IF('報酬調書集計(非)'!AO27>0,\"あり\",\"なし\"),\"\")","v":""}]

{"sheet":"報酬支払額","index":5,"n_rows":50,"n_cols":9,"rows_kept":50,"cut":false,"hidden":false,"merged":[]}
[{"$f":"D1&\"|\"&E1&\"|\"&F1","v":"||"},null,null,null,null,null,{"$f":"SUMIF($A$10:$A$999,$A1,G$10:G$999)","v":0},0]
["||",null,null,null,null,null,0,0]
["||",null,null,null,null,null,0,0]
["||",null,null,null,null,null,0,0]
["||",null,null,null,null,null,0,0]
["||",null,null,null,null,null,0,0]
[null,null,"報酬の支払情報を入力","報酬の支払情報入力"]
[]
["計算用","号数","支払先名","No","区分","細目","支払金額","源泉徴収税額","（参考）支払日"]
[{"$f":"D10&\"|\"&E10&\"|\"&F10","v":"1|原稿料|"},{"$f":"D10&\"|\"&IF(ISERROR(VLOOKUP(E10,報酬区分!$A$8:$B$999,2,FALSE)),\"\",VLOOKUP(E10,報酬区分!$A$8:$B$999,2,FALSE))","v":"1|1"},{"$f":"IF(D10=\"\",\"\",VLOOKUP(D10,報酬支払先情報!$A$8:$G$999,4,FALSE)&\"\")","v":"渋谷太郎"},1,"原稿料",null,300000,30630.000000000004]
[{"$f":"D11&\"|\"&E11&\"|\"&F11","v":"1|さし絵料|サルでもわかるエクセル"},{"$f":"D11&\"|\"&IF(ISERROR(VLOOKUP(E11,報酬区分!$A$8:$B$999,2,FALSE)),\"\",VLOOKUP(E11,報酬区分!$A$8:$B$999,2,FALSE))","v":"1|1"},{"$f":"IF(D11=\"\",\"\",VLOOKUP(D11,報酬支払先情報!$A$8:$G$999,4,FALSE)&\"\")","v":"渋谷太郎"},1,"さし絵料","サルでもわかるエクセル",215000,21951]
["2|弁護士報酬|",{"$f":"D12&\"|\"&IF(ISERROR(VLOOKUP(E12,報酬区分!$A$8:$B$999,2,FALSE)),\"\",VLOOKUP(E12,報酬区分!$A$8:$B$999,2,FALSE))","v":"2|2"},{"$f":"IF(D12=\"\",\"\",VLOOKUP(D12,報酬支払先情報!$A$8:$G$999,4,FALSE)&\"\")","v":"青山良子"},2,"弁護士報酬",null,200000,20420]
["2|弁護士報酬|",{"$f":"D13&\"|\"&IF(ISERROR(VLOOKUP(E13,報酬区分!$A$8:$B$999,2,FALSE)),\"\",VLOOKUP(E13,報酬区分!$A$8:$B$999,2,FALSE))","v":"2|2"},{"$f":"IF(D13=\"\",\"\",VLOOKUP(D13,報酬支払先情報!$A$8:$G$999,4,FALSE)&\"\")","v":"青山良子"},2,"弁護士報酬",null,300000,30630]
["3|司法書士報酬|",{"$f":"D14&\"|\"&IF(ISERROR(VLOOKUP(E14,報酬区分!$A$8:$B$999,2,FALSE)),\"\",VLOOKUP(E14,報酬区分!$A$8:$B$999,2,FALSE))","v":"3|2"},{"$f":"IF(D14=\"\",\"\",VLOOKUP(D14,報酬支払先情報!$A$8:$G$999,4,FALSE)&\"\")","v":"品川次郎"},3,"司法書士報酬",null,30000,2042]
["4|印税|",{"$f":"D15&\"|\"&IF(ISERROR(VLOOKUP(E15,報酬区分!$A$8:$B$999,2,FALSE)),\"\",VLOOKUP(E15,報酬区分!$A$8:$B$999,2,FALSE))","v":"4|1"},{"$f":"IF(D15=\"\",\"\",VLOOKUP(D15,報酬支払先情報!$A$8:$G$999,4,FALSE)&\"\")","v":"新宿美奈子"},4,"印税",null,436938,44611]
["5|翻訳料|",{"$f":"D16&\"|\"&IF(ISERROR(VLOOKUP(E16,報酬区分!$A$8:$B$999,2,FALSE)),\"\",VLOOKUP(E16,報酬区分!$A$8:$B$999,2,FALSE))","v":"5|1"},{"$f":"IF(D16=\"\",\"\",VLOOKUP(D16,報酬支払先情報!$A$8:$G$999,4,FALSE)&\"\")","v":"川崎商事株式会社"},5,"翻訳料",null,150000,0]
["||",{"$f":"D17&\"|\"&IF(ISERROR(VLOOKUP(E17,報酬区分!$A$8:$B$999,2,FALSE)),\"\",VLOOKUP(E17,報酬区分!$A$8:$B$999,2,FALSE))","v":"|"},{"$f":"IF(D17=\"\",\"\",VLOOKUP(D17,報酬支払先情報!$A$8:$G$999,4,FALSE)&\"\")","v":""}]
["||",{"$f":"D18&\"|\"&IF(ISERROR(VLOOKUP(E18,報酬区分!$A$8:$B$999,2,FALSE)),\"\",VLOOKUP(E18,報酬区分!$A$8:$B$999,2,FALSE))","v":"|"},{"$f":"IF(D18=\"\",\"\",VLOOKUP(D18,報酬支払先情報!$A$8:$G$999,4,FALSE)&\"\")","v":""}]
["||",{"$f":"D19&\"|\"&IF(ISERROR(VLOOKUP(E19,報酬区分!$A$8:$B$999,2,FALSE)),\"\",VLOOKUP(E19,報酬区分!$A$8:$B$999,2,FALSE))","v":"|"},{"$f":"IF(D19=\"\",\"\",VLOOKUP(D19,報酬支払先情報!$A$8:$G$999,4,FALSE)&\"\")","v":""}]
["||",{"$f":"D20&\"|\"&IF(ISERROR(VLOOKUP(E20,報酬区分!$A$8:$B$999,2,FALSE)),\"\",VLOOKUP(E20,報酬区分!$A$8:$B$999,2,FALSE))","v":"|"},{"$f":"IF(D20=\"\",\"\",VLOOKUP(D20,報酬支払先情報!$A$8:$G$999,4,FALSE)&\"\")","v":""}]
["||",{"$f":"D21&\"|\"&IF(ISERROR(VLOOKUP(E21,報酬区分!$A$8:$B$999,2,FALSE)),\"\",VLOOKUP(E21,報酬区分!$A$8:$B$999,2,FALSE))","v":"|"},{"$f":"IF(D21=\"\",\"\",VLOOKUP(D21,報酬支払先情報!$A$8:$G$999,4,FALSE)&\"\")","v":""}]
["||",{"$f":"D22&\"|\"&IF(ISERROR(VLOOKUP(E22,報酬区分!$A$8:$B$999,2,FALSE)),\"\",VLOOKUP(E22,報酬区分!$A$8:$B$999,2,FALSE))","v":"|"},{"$f":"IF(D22=\"\",\"\",VLOOKUP(D22,報酬支払先情報!$A$8:$G$999,4,FALSE)&\"\")","v":""}]
["||",{"$f":"D23&\"|\"&IF(ISERROR(VLOOKUP(E23,報酬区分!$A$8:$B$999,2,FALSE)),\"\",VLOOKUP(E23,報酬区分!$A$8:$B$999,2,FALSE))","v":"|"},{"$f":"IF(D23=\"\",\"\",VLOOKUP(D23,報酬支払先情報!$A$8:$G$999,4,FALSE)&\"\")","v":""}]
["||",{"$f":"D24&\"|\"&IF(ISERROR(VLOOKUP(E24,報酬区分!$A$8:$B$999,2,FALSE)),\"\",VLOOKUP(E24,報酬区分!$A$8:$B$999,2,FALSE))","v":"|"},{"$f":"IF(D24=\"\",\"\",VLOOKUP(D24,報酬支払先情報!$A$8:$G$999,4,FALSE)&\"\")","v":""}]
["||",{"$f":"D25&\"|\"&IF(ISERROR(VLOOKUP(E25,報酬区分!$A$8:$B$999,2,FALSE)),\"\",VLOOKUP(E25,報酬区分!$A$8:$B$999,2,FALSE))","v":"|"},{"$f":"IF(D25=\"\",\"\",VLOOKUP(D25,報酬支払先情報!$A$8:$G$999,4,FALSE)&\"\")","v":""}]
["||",{"$f":"D26&\"|\"&IF(ISERROR(VLOOKUP(E26,報酬区分!$A$8:$B$999,2,FALSE)),\"\",VLOOKUP(E26,報酬区分!$A$8:$B$999,2,FALSE))","v":"|"},{"$f":"IF(D26=\"\",\"\",VLOOKUP(D26,報酬支払先情報!$A$8:$G$999,4,FALSE)&\"\")","v":""}]
["||",{"$f":"D27&\"|\"&IF(ISERROR(VLOOKUP(E27,報酬区分!$A$8:$B$999,2,FALSE)),\"\",VLOOKUP(E27,報酬区分!$A$8:$B$999,2,FALSE))","v":"|"},{"$f":"IF(D27=\"\",\"\",VLOOKUP(D27,報酬支払先情報!$A$8:$G$999,4,FALSE)&\"\")","v":""}]
["||",{"$f":"D28&\"|\"&IF(ISERROR(VLOOKUP(E28,報酬区分!$A$8:$B$999,2,FALSE)),\"\",VLOOKUP(E28,報酬区分!$A$8:$B$999,2,FALSE))","v":"|"},{"$f":"IF(D28=\"\",\"\",VLOOKUP(D28,報酬支払先情報!$A$8:$G$999,4,FALSE)&\"\")","v":""}]
["||",{"$f":"D29&\"|\"&IF(ISERROR(VLOOKUP(E29,報酬区分!$A$8:$B$999,2,FALSE)),\"\",VLOOKUP(E29,報酬区分!$A$8:$B$999,2,FALSE))","v":"|"},{"$f":"IF(D29=\"\",\"\",VLOOKUP(D29,報酬支払先情報!$A$8:$G$999,4,FALSE)&\"\")","v":""}]
["||",{"$f":"D30&\"|\"&IF(ISERROR(VLOOKUP(E30,報酬区分!$A$8:$B$999,2,FALSE)),\"\",VLOOKUP(E30,報酬区分!$A$8:$B$999,2,FALSE))","v":"|"},{"$f":"IF(D30=\"\",\"\",VLOOKUP(D30,報酬支払先情報!$A$8:$G$999,4,FALSE)&\"\")","v":""}]
["||",{"$f":"D31&\"|\"&IF(ISERROR(VLOOKUP(E31,報酬区分!$A$8:$B$999,2,FALSE)),\"\",VLOOKUP(E31,報酬区分!$A$8:$B$999,2,FALSE))","v":"|"},{"$f":"IF(D31=\"\",\"\",VLOOKUP(D31,報酬支払先情報!$A$8:$G$999,4,FALSE)&\"\")","v":""}]
["||",{"$f":"D32&\"|\"&IF(ISERROR(VLOOKUP(E32,報酬区分!$A$8:$B$999,2,FALSE)),\"\",VLOOKUP(E32,報酬区分!$A$8:$B$999,2,FALSE))","v":"|"},{"$f":"IF(D32=\"\",\"\",VLOOKUP(D32,報酬支払先情報!$A$8:$G$999,4,FALSE)&\"\")","v":""}]
["||",{"$f":"D33&\"|\"&IF(ISERROR(VLOOKUP(E33,報酬区分!$A$8:$B$999,2,FALSE)),\"\",VLOOKUP(E33,報酬区分!$A$8:$B$999,2,FALSE))","v":"|"},{"$f":"IF(D33=\"\",\"\",VLOOKUP(D33,報酬支払先情報!$A$8:$G$999,4,FALSE)&\"\")","v":""}]
["||",{"$f":"D34&\"|\"&IF(ISERROR(VLOOKUP(E34,報酬区分!$A$8:$B$999,2,FALSE)),\"\",VLOOKUP(E34,報酬区分!$A$8:$B$999,2,FALSE))","v":"|"},{"$f":"IF(D34=\"\",\"\",VLOOKUP(D34,報酬支払先情報!$A$8:$G$999,4,FALSE)&\"\")","v":""}]
["||",{"$f":"D35&\"|\"&IF(ISERROR(VLOOKUP(E35,報酬区分!$A$8:$B$999,2,FALSE)),\"\",VLOOKUP(E35,報酬区分!$A$8:$B$999,2,FALSE))","v":"|"},{"$f":"IF(D35=\"\",\"\",VLOOKUP(D35,報酬支払先情報!$A$8:$G$999,4,FALSE)&\"\")","v":""}]
["||",{"$f":"D36&\"|\"&IF(ISERROR(VLOOKUP(E36,報酬区分!$A$8:$B$999,2,FALSE)),\"\",VLOOKUP(E36,報酬区分!$A$8:$B$999,2,FALSE))","v":"|"},{"$f":"IF(D36=\"\",\"\",VLOOKUP(D36,報酬支払先情報!$A$8:$G$999,4,FALSE)&\"\")","v":""}]
["||",{"$f":"D37&\"|\"&IF(ISERROR(VLOOKUP(E37,報酬区分!$A$8:$B$999,2,FALSE)),\"\",VLOOKUP(E37,報酬区分!$A$8:$B$999,2,FALSE))","v":"|"},{"$f":"IF(D37=\"\",\"\",VLOOKUP(D37,報酬支払先情報!$A$8:$G$999,4,FALSE)&\"\")","v":""}]
["||",{"$f":"D38&\"|\"&IF(ISERROR(VLOOKUP(E38,報酬区分!$A$8:$B$999,2,FALSE)),\"\",VLOOKUP(E38,報酬区分!$A$8:$B$999,2,FALSE))","v":"|"},{"$f":"IF(D38=\"\",\"\",VLOOKUP(D38,報酬支払先情報!$A$8:$G$999,4,FALSE)&\"\")","v":""}]
["||",{"$f":"D39&\"|\"&IF(ISERROR(VLOOKUP(E39,報酬区分!$A$8:$B$999,2,FALSE)),\"\",VLOOKUP(E39,報酬区分!$A$8:$B$999,2,FALSE))","v":"|"},{"$f":"IF(D39=\"\",\"\",VLOOKUP(D39,報酬支払先情報!$A$8:$G$999,4,FALSE)&\"\")","v":""}]
["||",{"$f":"D40&\"|\"&IF(ISERROR(VLOOKUP(E40,報酬区分!$A$8:$B$999,2,FALSE)),\"\",VLOOKUP(E40,報酬区分!$A$8:$B$999,2,FALSE))","v":"|"},{"$f":"IF(D40=\"\",\"\",VLOOKUP(D40,報酬支払先情報!$A$8:$G$999,4,FALSE)&\"\")","v":""}]
["||",{"$f":"D41&\"|\"&IF(ISERROR(VLOOKUP(E41,報酬区分!$A$8:$B$999,2,FALSE)),\"\",VLOOKUP(E41,報酬区分!$A$8:$B$999,2,FALSE))","v":"|"},{"$f":"IF(D41=\"\",\"\",VLOOKUP(D41,報酬支払先情報!$A$8:$G$999,4,FALSE)&\"\")","v":""}]
["||",{"$f":"D42&\"|\"&IF(ISERROR(VLOOKUP(E42,報酬区分!$A$8:$B$999,2,FALSE)),\"\",VLOOKUP(E42,報酬区分!$A$8:$B$999,2,FALSE))","v":"|"},{"$f":"IF(D42=\"\",\"\",VLOOKUP(D42,報酬支払先情報!$A$8:$G$999,4,FALSE)&\"\")","v":""}]
["||",{"$f":"D43&\"|\"&IF(ISERROR(VLOOKUP(E43,報酬区分!$A$8:$B$999,2,FALSE)),\"\",VLOOKUP(E43,報酬区分!$A$8:$B$999,2,FALSE))","v":"|"},{"$f":"IF(D43=\"\",\"\",VLOOKUP(D43,報酬支払先情報!$A$8:$G$999,4,FALSE)&\"\")","v":""}]
["||",{"$f":"D44&\"|\"&IF(ISERROR(VLOOKUP(E44,報酬区分!$A$8:$B$999,2,FALSE)),\"\",VLOOKUP(E44,報酬区分!$A$8:$B$999,2,FALSE))","v":"|"},{"$f":"IF(D44=\"\",\"\",VLOOKUP(D44,報酬支払先情報!$A$8:$G$999,4,FALSE)&\"\")","v":""}]
["||",{"$f":"D45&\"|\"&IF(ISERROR(VLOOKUP(E45,報酬区分!$A$8:$B$999,2,FALSE)),\"\",VLOOKUP(E45,報酬区分!$A$8:$B$999,2,FALSE))","v":"|"},{"$f":"IF(D45=\"\",\"\",VLOOKUP(D45,報酬支払先情報!$A$8:$G$999,4,FALSE)&\"\")","v":""}]
["||",{"$f":"D46&\"|\"&IF(ISERROR(VLOOKUP(E46,報酬区分!$A$8:$B$999,2,FALSE)),\"\",VLOOKUP(E46,報酬区分!$A$8:$B$999,2,FALSE))","v":"|"},{"$f":"IF(D46=\"\",\"\",VLOOKUP(D46,報酬支払先情報!$A$8:$G$999,4,FALSE)&\"\")","v":""}]
["||",{"$f":"D47&\"|\"&IF(ISERROR(VLOOKUP(E47,報酬区分!$A$8:$B$999,2,FALSE)),\"\",VLOOKUP(E47,報酬区分!$A$8:$B$999,2,FALSE))","v":"|"},{"$f":"IF(D47=\"\",\"\",VLOOKUP(D47,報酬支払先情報!$A$8:$G$999,4,FALSE)&\"\")","v":""}]
["||",{"$f":"D48&\"|\"&IF(ISERROR(VLOOKUP(E48,報酬区分!$A$8:$B$999,2,FALSE)),\"\",VLOOKUP(E48,報酬区分!$A$8:$B$999,2,FALSE))","v":"|"},{"$f":"IF(D48=\"\",\"\",VLOOKUP(D48,報酬支払先情報!$A$8:$G$999,4,FALSE)&\"\")","v":""}]
["||",{"$f":"D49&\"|\"&IF(ISERROR(VLOOKUP(E49,報酬区分!$A$8:$B$999,2,FALSE)),\"\",VLOOKUP(E49,報酬区分!$A$8:$B$999,2,FALSE))","v":"|"},{"$f":"IF(D49=\"\",\"\",VLOOKUP(D49,報酬支払先情報!$A$8:$G$999,4,FALSE)&\"\")","v":""}]
["||",{"$f":"D50&\"|\"&IF(ISERROR(VLOOKUP(E50,報酬区分!$A$8:$B$999,2,FALSE)),\"\",VLOOKUP(E50,報酬区分!$A$8:$B$999,2,FALSE))","v":"|"},{"$f":"IF(D50=\"\",\"\",VLOOKUP(D50,報酬支払先情報!$A$8:$G$999,4,FALSE)&\"\")","v":""}]

{"sheet":"報酬区分","index":6,"n_rows":32,"n_cols":2,"rows_kept":32,"cut":false,"hidden":false,"merged":[]}
["報酬区分の入力"]
[]
[]
[]
[]
[]
["区分一覧","法定調書作成時の「何号」に該当するものとして集計するか？"]
["弁護士報酬",2]
["税理士報酬",2]
["社会保険労務士報酬",2]
["司法書士報酬",2]
["弁理士報酬",2]
["."]
["."]
["印税",1]
["原稿料",1]
["さし絵料",1]
["作曲料",1]
["翻訳料",1]
["通訳料",1]
["脚本料",1]
["著作権",1]
["工業所有権の使用料",1]
["放送謝金",1]
["講演料",1]
["教授料",1]
["映画及び演劇の俳優",5]
["外交員",4]
["ホステス等の報酬又は料金",6]
["診療報酬",3]
["契約金",7]
["広告宣伝のための賞金",8]

{"sheet":"不動産支払先情報","index":7,"n_rows":27,"n_cols":14,"rows_kept":27,"cut":false,"hidden":false,"merged":[]}
[null,{"$f":"IF($A1=\"\",\"\",INDEX(B$8:B$999,MATCH($A1,$A$8:$A$999,0),1)&\"\")","v":""},{"$f":"IF($A1=\"\",\"\",INDEX(C$8:C$999,MATCH($A1,$A$8:$A$999,0),1)&\"\")","v":""},{"$f":"IF($A1=\"\",\"\",INDEX(D$8:D$999,MATCH($A1,$A$8:$A$999,0),1)&\"\")","v":""},{"$f":"IF($A1=\"\",\"\",INDEX(E$8:E$999,MATCH($A1,$A$8:$A$999,0),1)&\"\")","v":""},{"$f":"IF($A1=\"\",\"\",INDEX(F$8:F$999,MATCH($A1,$A$8:$A$999,0),1)&\"\")","v":""},null,{"$f":"IF($A1=\"\",\"\",INDEX(H$8:H$999,MATCH($A1,$A$8:$A$999,0),1)&\"\")","v":""},{"$f":"IF($A1=\"\",\"\",INDEX(I$8:I$999,MATCH($A1,$A$8:$A$999,0),1)&\"\")","v":""},{"$f":"IF($A1=\"\",\"\",INDEX(J$8:J$999,MATCH($A1,$A$8:$A$999,0),1)&\"\")","v":""},{"$f":"IF($A1=\"\",0,INDEX(K$8:K$999,MATCH($A1,$A$8:$A$999,0),1))","v":"00:00:00"},{"$f":"IF($A1=\"\",0,INDEX(L$8:L$999,MATCH($A1,$A$8:$A$999,0),1))","v":0}]
["不動産賃借料の支払先情報と、仲介手数料の情報を入力"]
[]
[]
[]
[null,"支払を受ける者（＝賃貸人）についての情報",null,null,null,null,null,"あっせんをした者（＝仲介業者）についての情報と、支払年月日・支払額を入力"]
["No","個人・法人","住所","氏名・名称","個人番号又は\n法人番号","摘要",null,"住所","氏名・名称","個人番号又は\n法人番号","支払確定\n年月日","あっせん\n手数料",null,"法定調書提出義務"]
[1,"個人","東京都渋谷区渋谷１－１－１","大屋太郎","109857075392",null,null,"東京都千代田区丸の内１－１－１","武田地所株式会社","1357924680135","2017-01-05",200000,null,{"$f":"IF(D8<>\"\",IF('不動産調書集計(非)'!D8>0,\"あり\",\"なし\"),\"\")","v":"あり"}]
[2,"個人","東京都江戸川区江戸川１－２－３","江戸川花子","209834609809",null,null,null,null,null,null,null,null,{"$f":"IF(D9<>\"\",IF('不動産調書集計(非)'!D9>0,\"あり\",\"なし\"),\"\")","v":"あり"}]
[3,null,null,null,null,null,null,null,null,null,null,null,null,{"$f":"IF(D10<>\"\",IF('不動産調書集計(非)'!D10>0,\"あり\",\"なし\"),\"\")","v":""}]
[4,null,null,null,null,null,null,null,null,null,null,null,null,{"$f":"IF(D11<>\"\",IF('不動産調書集計(非)'!D11>0,\"あり\",\"なし\"),\"\")","v":""}]
[5,null,null,null,null,null,null,null,null,null,null,null,null,{"$f":"IF(D12<>\"\",IF('不動産調書集計(非)'!D12>0,\"あり\",\"なし\"),\"\")","v":""}]
[6,null,null,null,null,null,null,null,null,null,null,null,null,{"$f":"IF(D13<>\"\",IF('不動産調書集計(非)'!D13>0,\"あり\",\"なし\"),\"\")","v":""}]
[7,null,null,null,null,null,null,null,null,null,null,null,null,{"$f":"IF(D14<>\"\",IF('不動産調書集計(非)'!D14>0,\"あり\",\"なし\"),\"\")","v":""}]
[8,null,null,null,null,null,null,null,null,null,null,null,null,{"$f":"IF(D15<>\"\",IF('不動産調書集計(非)'!D15>0,\"あり\",\"なし\"),\"\")","v":""}]
[9,null,null,null,null,null,null,null,null,null,null,null,null,{"$f":"IF(D16<>\"\",IF('不動産調書集計(非)'!D16>0,\"あり\",\"なし\"),\"\")","v":""}]
[10,null,null,null,null,null,null,null,null,null,null,null,null,{"$f":"IF(D17<>\"\",IF('不動産調書集計(非)'!D17>0,\"あり\",\"なし\"),\"\")","v":""}]
[11,null,null,null,null,null,null,null,null,null,null,null,null,{"$f":"IF(D18<>\"\",IF('不動産調書集計(非)'!D18>0,\"あり\",\"なし\"),\"\")","v":""}]
[12,null,null,null,null,null,null,null,null,null,null,null,null,{"$f":"IF(D19<>\"\",IF('不動産調書集計(非)'!D19>0,\"あり\",\"なし\"),\"\")","v":""}]
[13,null,null,null,null,null,null,null,null,null,null,null,null,{"$f":"IF(D20<>\"\",IF('不動産調書集計(非)'!D20>0,\"あり\",\"なし\"),\"\")","v":""}]
[14,null,null,null,null,null,null,null,null,null,null,null,null,{"$f":"IF(D21<>\"\",IF('不動産調書集計(非)'!D21>0,\"あり\",\"なし\"),\"\")","v":""}]
[15,null,null,null,null,null,null,null,null,null,null,null,null,{"$f":"IF(D22<>\"\",IF('不動産調書集計(非)'!D22>0,\"あり\",\"なし\"),\"\")","v":""}]
[16,null,null,null,null,null,null,null,null,null,null,null,null,{"$f":"IF(D23<>\"\",IF('不動産調書集計(非)'!D23>0,\"あり\",\"なし\"),\"\")","v":""}]
[17,null,null,null,null,null,null,null,null,null,null,null,null,{"$f":"IF(D24<>\"\",IF('不動産調書集計(非)'!D24>0,\"あり\",\"なし\"),\"\")","v":""}]
[18,null,null,null,null,null,null,null,null,null,null,null,null,{"$f":"IF(D25<>\"\",IF('不動産調書集計(非)'!D25>0,\"あり\",\"なし\"),\"\")","v":""}]
[19,null,null,null,null,null,null,null,null,null,null,null,null,{"$f":"IF(D26<>\"\",IF('不動産調書集計(非)'!D26>0,\"あり\",\"なし\"),\"\")","v":""}]
[20,null,null,null,null,null,null,null,null,null,null,null,null,{"$f":"IF(D27<>\"\",IF('不動産調書集計(非)'!D27>0,\"あり\",\"なし\"),\"\")","v":""}]

{"sheet":"不動産支払額","index":8,"n_rows":50,"n_cols":9,"rows_kept":50,"cut":false,"hidden":false,"merged":[]}
[{"$f":"C1&\"|\"&D1&\"|\"&E1&\"|\"&F1&\"|\"&G1","v":"||||"},null,null,null,null,null,null,{"$f":"SUMIF($A$10:$A$999,$A1,H$10:H$999)","v":0}]
[{"$f":"C2&\"|\"&D2&\"|\"&E2&\"|\"&F2&\"|\"&G2","v":"||||"},null,null,null,null,null,null,{"$f":"SUMIF($A$10:$A$999,$A2,H$10:H$999)","v":0}]
["||||",null,null,null,null,null,null,0]
["||||",null,null,null,null,null,null,0]
["||||",null,null,null,null,null,null,0]
["||||",null,null,null,null,null,null,0]
[null,"不動産賃借料の支払情報を入力"]
[]
["計算用","支払先名","No","区分","物件の所在地","細目","計算の基礎","支払金額","（参考）支払日"]
[{"$f":"C10&\"|\"&D10&\"|\"&E10&\"|\"&F10&\"|\"&G10","v":"1|家賃|東京都新宿区西新宿１－２－３|社宅|30m2 3～12月　月200,000"},{"$f":"IF(C10=\"\",\"\",VLOOKUP(C10,不動産支払先情報!$A$8:$H$999,4,FALSE)&\"\")","v":"大屋太郎"},1,"家賃","東京都新宿区西新宿１－２－３","社宅","30m2 3～12月　月200,000",2000000]
[{"$f":"C11&\"|\"&D11&\"|\"&E11&\"|\"&F11&\"|\"&G11","v":"1|礼金|東京都新宿区西新宿１－２－３|社宅|"},{"$f":"IF(C11=\"\",\"\",VLOOKUP(C11,不動産支払先情報!$A$8:$H$999,4,FALSE)&\"\")","v":"大屋太郎"},1,"礼金","東京都新宿区西新宿１－２－３","社宅",null,150000]
["2|家賃|東京都足立区竹の塚２－４－６|倉庫|50m2 1～12月　月108,000",{"$f":"IF(C12=\"\",\"\",VLOOKUP(C12,不動産支払先情報!$A$8:$H$999,4,FALSE)&\"\")","v":"江戸川花子"},2,"家賃","東京都足立区竹の塚２－４－６","倉庫","50m2 1～12月　月108,000",108000,"2017-01-31"]
["2|家賃|東京都足立区竹の塚２－４－６|倉庫|50m2 1～12月　月108,000",{"$f":"IF(C13=\"\",\"\",VLOOKUP(C13,不動産支払先情報!$A$8:$H$999,4,FALSE)&\"\")","v":"江戸川花子"},2,"家賃","東京都足立区竹の塚２－４－６","倉庫","50m2 1～12月　月108,000",108000,"2017-02-28"]
["2|家賃|東京都足立区竹の塚２－４－６|倉庫|50m2 1～12月　月108,000",{"$f":"IF(C14=\"\",\"\",VLOOKUP(C14,不動産支払先情報!$A$8:$H$999,4,FALSE)&\"\")","v":"江戸川花子"},2,"家賃","東京都足立区竹の塚２－４－６","倉庫","50m2 1～12月　月108,000",108000,"2017-03-31"]
["2|家賃|東京都足立区竹の塚２－４－６|倉庫|50m2 1～12月　月108,000",{"$f":"IF(C15=\"\",\"\",VLOOKUP(C15,不動産支払先情報!$A$8:$H$999,4,FALSE)&\"\")","v":"江戸川花子"},2,"家賃","東京都足立区竹の塚２－４－６","倉庫","50m2 1～12月　月108,000",108000,"2017-04-30"]
["2|家賃|東京都足立区竹の塚２－４－６|倉庫|50m2 1～12月　月108,000",{"$f":"IF(C16=\"\",\"\",VLOOKUP(C16,不動産支払先情報!$A$8:$H$999,4,FALSE)&\"\")","v":"江戸川花子"},2,"家賃","東京都足立区竹の塚２－４－６","倉庫","50m2 1～12月　月108,000",108000,"2017-05-31"]
["2|家賃|東京都足立区竹の塚２－４－６|倉庫|50m2 1～12月　月108,000",{"$f":"IF(C17=\"\",\"\",VLOOKUP(C17,不動産支払先情報!$A$8:$H$999,4,FALSE)&\"\")","v":"江戸川花子"},2,"家賃","東京都足立区竹の塚２－４－６","倉庫","50m2 1～12月　月108,000",108000,"2017-06-30"]
["2|家賃|東京都足立区竹の塚２－４－６|倉庫|50m2 1～12月　月108,000",{"$f":"IF(C18=\"\",\"\",VLOOKUP(C18,不動産支払先情報!$A$8:$H$999,4,FALSE)&\"\")","v":"江戸川花子"},2,"家賃","東京都足立区竹の塚２－４－６","倉庫","50m2 1～12月　月108,000",108000,"2017-07-31"]
["2|家賃|東京都足立区竹の塚２－４－６|倉庫|50m2 1～12月　月108,000",{"$f":"IF(C19=\"\",\"\",VLOOKUP(C19,不動産支払先情報!$A$8:$H$999,4,FALSE)&\"\")","v":"江戸川花子"},2,"家賃","東京都足立区竹の塚２－４－６","倉庫","50m2 1～12月　月108,000",108000,"2017-08-31"]
["2|家賃|東京都足立区竹の塚２－４－６|倉庫|50m2 1～12月　月108,000",{"$f":"IF(C20=\"\",\"\",VLOOKUP(C20,不動産支払先情報!$A$8:$H$999,4,FALSE)&\"\")","v":"江戸川花子"},2,"家賃","東京都足立区竹の塚２－４－６","倉庫","50m2 1～12月　月108,000",108000,"2017-09-30"]
["2|家賃|東京都足立区竹の塚２－４－６|倉庫|50m2 1～12月　月108,000",{"$f":"IF(C21=\"\",\"\",VLOOKUP(C21,不動産支払先情報!$A$8:$H$999,4,FALSE)&\"\")","v":"江戸川花子"},2,"家賃","東京都足立区竹の塚２－４－６","倉庫","50m2 1～12月　月108,000",108000,"2017-10-31"]
["2|家賃|東京都足立区竹の塚２－４－６|倉庫|50m2 1～12月　月108,000",{"$f":"IF(C22=\"\",\"\",VLOOKUP(C22,不動産支払先情報!$A$8:$H$999,4,FALSE)&\"\")","v":"江戸川花子"},2,"家賃","東京都足立区竹の塚２－４－６","倉庫","50m2 1～12月　月108,000",108000,"2017-11-30"]
["2|家賃|東京都足立区竹の塚２－４－６|倉庫|50m2 1～12月　月108,000",{"$f":"IF(C23=\"\",\"\",VLOOKUP(C23,不動産支払先情報!$A$8:$H$999,4,FALSE)&\"\")","v":"江戸川花子"},2,"家賃","東京都足立区竹の塚２－４－６","倉庫","50m2 1～12月　月108,000",108000,"2017-12-31"]
["||||",{"$f":"IF(C24=\"\",\"\",VLOOKUP(C24,不動産支払先情報!$A$8:$H$999,4,FALSE)&\"\")","v":""}]
["||||",{"$f":"IF(C25=\"\",\"\",VLOOKUP(C25,不動産支払先情報!$A$8:$H$999,4,FALSE)&\"\")","v":""}]
["||||",{"$f":"IF(C26=\"\",\"\",VLOOKUP(C26,不動産支払先情報!$A$8:$H$999,4,FALSE)&\"\")","v":""}]
["||||",{"$f":"IF(C27=\"\",\"\",VLOOKUP(C27,不動産支払先情報!$A$8:$H$999,4,FALSE)&\"\")","v":""}]
["||||",{"$f":"IF(C28=\"\",\"\",VLOOKUP(C28,不動産支払先情報!$A$8:$H$999,4,FALSE)&\"\")","v":""}]
["||||",{"$f":"IF(C29=\"\",\"\",VLOOKUP(C29,不動産支払先情報!$A$8:$H$999,4,FALSE)&\"\")","v":""}]
["||||",{"$f":"IF(C30=\"\",\"\",VLOOKUP(C30,不動産支払先情報!$A$8:$H$999,4,FALSE)&\"\")","v":""}]
["||||",{"$f":"IF(C31=\"\",\"\",VLOOKUP(C31,不動産支払先情報!$A$8:$H$999,4,FALSE)&\"\")","v":""}]
["||||",{"$f":"IF(C32=\"\",\"\",VLOOKUP(C32,不動産支払先情報!$A$8:$H$999,4,FALSE)&\"\")","v":""}]
["||||",{"$f":"IF(C33=\"\",\"\",VLOOKUP(C33,不動産支払先情報!$A$8:$H$999,4,FALSE)&\"\")","v":""}]
["||||",{"$f":"IF(C34=\"\",\"\",VLOOKUP(C34,不動産支払先情報!$A$8:$H$999,4,FALSE)&\"\")","v":""}]
["||||",{"$f":"IF(C35=\"\",\"\",VLOOKUP(C35,不動産支払先情報!$A$8:$H$999,4,FALSE)&\"\")","v":""}]
["||||",{"$f":"IF(C36=\"\",\"\",VLOOKUP(C36,不動産支払先情報!$A$8:$H$999,4,FALSE)&\"\")","v":""}]
["||||",{"$f":"IF(C37=\"\",\"\",VLOOKUP(C37,不動産支払先情報!$A$8:$H$999,4,FALSE)&\"\")","v":""}]
["||||",{"$f":"IF(C38=\"\",\"\",VLOOKUP(C38,不動産支払先情報!$A$8:$H$999,4,FALSE)&\"\")","v":""}]
["||||",{"$f":"IF(C39=\"\",\"\",VLOOKUP(C39,不動産支払先情報!$A$8:$H$999,4,FALSE)&\"\")","v":""}]
["||||",{"$f":"IF(C40=\"\",\"\",VLOOKUP(C40,不動産支払先情報!$A$8:$H$999,4,FALSE)&\"\")","v":""}]
["||||",{"$f":"IF(C41=\"\",\"\",VLOOKUP(C41,不動産支払先情報!$A$8:$H$999,4,FALSE)&\"\")","v":""}]
["||||",{"$f":"IF(C42=\"\",\"\",VLOOKUP(C42,不動産支払先情報!$A$8:$H$999,4,FALSE)&\"\")","v":""}]
["||||",{"$f":"IF(C43=\"\",\"\",VLOOKUP(C43,不動産支払先情報!$A$8:$H$999,4,FALSE)&\"\")","v":""}]
["||||",{"$f":"IF(C44=\"\",\"\",VLOOKUP(C44,不動産支払先情報!$A$8:$H$999,4,FALSE)&\"\")","v":""}]
["||||",{"$f":"IF(C45=\"\",\"\",VLOOKUP(C45,不動産支払先情報!$A$8:$H$999,4,FALSE)&\"\")","v":""}]
["||||",{"$f":"IF(C46=\"\",\"\",VLOOKUP(C46,不動産支払先情報!$A$8:$H$999,4,FALSE)&\"\")","v":""}]
["||||",{"$f":"IF(C47=\"\",\"\",VLOOKUP(C47,不動産支払先情報!$A$8:$H$999,4,FALSE)&\"\")","v":""}]
["||||",{"$f":"IF(C48=\"\",\"\",VLOOKUP(C48,不動産支払先情報!$A$8:$H$999,4,FALSE)&\"\")","v":""}]
["||||",{"$f":"IF(C49=\"\",\"\",VLOOKUP(C49,不動産支払先情報!$A$8:$H$999,4,FALSE)&\"\")","v":""}]
["||||",{"$f":"IF(C50=\"\",\"\",VLOOKUP(C50,不動産支払先情報!$A$8:$H$999,4,FALSE)&\"\")","v":""}]

{"sheet":"不動産区分","index":9,"n_rows":14,"n_cols":2,"rows_kept":14,"cut":false,"hidden":false,"merged":[]}
["支払情報入力時の区分を設定"]
[]
[]
[]
[]
[]
["区分一覧","権利金、更新料等"]
["地代"]
["家賃"]
["礼金","該当"]
["敷引","該当"]
["更新料","該当"]
["借地権設定対価","該当"]
["船舶の使用料"]

{"sheet":"源泉徴収票計算過程(非)","index":10,"n_rows":107,"n_cols":58,"rows_kept":107,"cut":false,"hidden":true,"merged":[]}
[{"$f":"IF(源泉徴収票!$A1=\"\",\"\",INDEX(A$8:A$999,MATCH(源泉徴収票!$A$1,源泉徴収票!$A$8:$A$999,0),1))","v":""},{"$f":"IF(源泉徴収票!$A1=\"\",\"\",INDEX(B$8:B$999,MATCH(源泉徴収票!$A$1,源泉徴収票!$A$8:$A$999,0),1))","v":""},{"$f":"IF(源泉徴収票!$A1=\"\",\"\",INDEX(C$8:C$999,MATCH(源泉徴収票!$A$1,源泉徴収票!$A$8:$A$999,0),1))","v":""},{"$f":"IF(源泉徴収票!$A1=\"\",\"\",INDEX(D$8:D$999,MATCH(源泉徴収票!$A$1,源泉徴収票!$A$8:$A$999,0),1))","v":""},{"$f":"IF(源泉徴収票!$A1=\"\",\"\",INDEX(E$8:E$999,MATCH(源泉徴収票!$A$1,源泉徴収票!$A$8:$A$999,0),1))","v":""},{"$f":"IF(源泉徴収票!$A1=\"\",\"\",INDEX(F$8:F$999,MATCH(源泉徴収票!$A$1,源泉徴収票!$A$8:$A$999,0),1))","v":""},{"$f":"IF(源泉徴収票!$A1=\"\",\"\",INDEX(G$8:G$999,MATCH(源泉徴収票!$A$1,源泉徴収票!$A$8:$A$999,0),1))","v":""},{"$f":"IF(源泉徴収票!$A1=\"\",\"\",INDEX(H$8:H$999,MATCH(源泉徴収票!$A$1,源泉徴収票!$A$8:$A$999,0),1))","v":""},{"$f":"IF(源泉徴収票!$A1=\"\",\"\",INDEX(I$8:I$999,MATCH(源泉徴収票!$A$1,源泉徴収票!$A$8:$A$999,0),1))","v":""},{"$f":"IF(源泉徴収票!$A1=\"\",\"\",INDEX(J$8:J$999,MATCH(源泉徴収票!$A$1,源泉徴収票!$A$8:$A$999,0),1))","v":""},{"$f":"IF(源泉徴収票!$A1=\"\",\"\",INDEX(K$8:K$999,MATCH(源泉徴収票!$A$1,源泉徴収票!$A$8:$A$999,0),1))","v":""},{"$f":"IF(源泉徴収票!$A1=\"\",\"\",INDEX(L$8:L$999,MATCH(源泉徴収票!$A$1,源泉徴収票!$A$8:$A$999,0),1))","v":""},{"$f":"IF(源泉徴収票!$A1=\"\",\"\",INDEX(M$8:M$999,MATCH(源泉徴収票!$A$1,源泉徴収票!$A$8:$A$999,0),1))","v":""},{"$f":"IF(源泉徴収票!$A1=\"\",\"\",INDEX(N$8:N$999,MATCH(源泉徴収票!$A$1,源泉徴収票!$A$8:$A$999,0),1))","v":""},{"$f":"IF(源泉徴収票!$A1=\"\",\"\",INDEX(O$8:O$999,MATCH(源泉徴収票!$A$1,源泉徴収票!$A$8:$A$999,0),1))","v":""},{"$f":"IF(源泉徴収票!$A1=\"\",\"\",INDEX(P$8:P$999,MATCH(源泉徴収票!$A$1,源泉徴収票!$A$8:$A$999,0),1))","v":""},{"$f":"IF(源泉徴収票!$A1=\"\",\"\",INDEX(Q$8:Q$999,MATCH(源泉徴収票!$A$1,源泉徴収票!$A$8:$A$999,0),1))","v":""},{"$f":"IF(源泉徴収票!$A1=\"\",\"\",INDEX(R$8:R$999,MATCH(源泉徴収票!$A$1,源泉徴収票!$A$8:$A$999,0),1))","v":""},{"$f":"IF(源泉徴収票!$A1=\"\",\"\",INDEX(S$8:S$999,MATCH(源泉徴収票!$A$1,源泉徴収票!$A$8:$A$999,0),1))","v":""},{"$f":"IF(源泉徴収票!$A1=\"\",\"\",INDEX(T$8:T$999,MATCH(源泉徴収票!$A$1,源泉徴収票!$A$8:$A$999,0),1))","v":""},{"$f":"IF(源泉徴収票!$A1=\"\",\"\",INDEX(U$8:U$999,MATCH(源泉徴収票!$A$1,源泉徴収票!$A$8:$A$999,0),1))","v":""},{"$f":"IF(源泉徴収票!$A1=\"\",\"\",INDEX(V$8:V$999,MATCH(源泉徴収票!$A$1,源泉徴収票!$A$8:$A$999,0),1))","v":""},{"$f":"IF(源泉徴収票!$A1=\"\",\"\",INDEX(W$8:W$999,MATCH(源泉徴収票!$A$1,源泉徴収票!$A$8:$A$999,0),1))","v":""},{"$f":"IF(源泉徴収票!$A1=\"\",\"\",INDEX(X$8:X$999,MATCH(源泉徴収票!$A$1,源泉徴収票!$A$8:$A$999,0),1))","v":""},{"$f":"IF(源泉徴収票!$A1=\"\",\"\",INDEX(Y$8:Y$999,MATCH(源泉徴収票!$A$1,源泉徴収票!$A$8:$A$999,0),1))","v":""},{"$f":"IF(源泉徴収票!$A1=\"\",\"\",INDEX(Z$8:Z$999,MATCH(源泉徴収票!$A$1,源泉徴収票!$A$8:$A$999,0),1))","v":""},{"$f":"IF(源泉徴収票!$A1=\"\",\"\",INDEX(AA$8:AA$999,MATCH(源泉徴収票!$A$1,源泉徴収票!$A$8:$A$999,0),1))","v":""},{"$f":"IF(源泉徴収票!$A1=\"\",\"\",INDEX(AB$8:AB$999,MATCH(源泉徴収票!$A$1,源泉徴収票!$A$8:$A$999,0),1))","v":""},{"$f":"IF(源泉徴収票!$A1=\"\",\"\",INDEX(AC$8:AC$999,MATCH(源泉徴収票!$A$1,源泉徴収票!$A$8:$A$999,0),1))","v":""},{"$f":"IF(源泉徴収票!$A1=\"\",\"\",INDEX(AD$8:AD$999,MATCH(源泉徴収票!$A$1,源泉徴収票!$A$8:$A$999,0),1))","v":""},{"$f":"IF(源泉徴収票!$A1=\"\",\"\",INDEX(AE$8:AE$999,MATCH(源泉徴収票!$A$1,源泉徴収票!$A$8:$A$999,0),1))","v":""},{"$f":"IF(源泉徴収票!$A1=\"\",\"\",INDEX(AF$8:AF$999,MATCH(源泉徴収票!$A$1,源泉徴収票!$A$8:$A$999,0),1))","v":""},{"$f":"IF(源泉徴収票!$A1=\"\",\"\",INDEX(AG$8:AG$999,MATCH(源泉徴収票!$A$1,源泉徴収票!$A$8:$A$999,0),1))","v":""},{"$f":"IF(源泉徴収票!$A1=\"\",\"\",INDEX(AH$8:AH$999,MATCH(源泉徴収票!$A$1,源泉徴収票!$A$8:$A$999,0),1))","v":""}]
[]
[]
["年調給与","源泉控除対象配偶者","配偶者控除",null,"配偶者特別控除","配偶者・配偶者控除の該当欄",null,"扶養控除",null,null,null,null,null,null,null,null,null,null,null,null,null,null,null,null,null,null,null,null,null,null,null,null,null,null,null,"源泉徴収簿（計算結果）"]
[null,"※年末調整対象外のみ","適用有無","老人控除対象","適用有無","配偶者所得区分","本人所得区分","年齢",null,null,null,null,"適用",null,null,null,null,"記入欄",null,null,null,null,"生命保険料控除計算",null,null,null,null,null,null,null,null,"地震保険料控除計算",null,"所得金額控除",null,"給与等計","税額計","給与所得控除後の","所得金額調整","給与所得控除後の給与","所得控除",null,null,null,null,null,null,null,null,null,null,null,"差引課税","算出","住宅借入金等","年調","年調","差引超過額"]
[null,null,null,null,null,null,null,1,2,3,4,5,1,2,3,4,5,1,2,3,4,5,null,null,null,null,null,null,null,null,null,"地震保険","旧長期損害",null,null,null,null,"給与等の金額","控除額","等の金額（調整控除後）","社会保険料等",null,null,"生命保険料","地震保険料","配偶者特別","配偶者","扶養","障害者","寡婦等","基礎","控除額計","給与所得金額","所得税額","特別控除額","所得税額","年税額","または不足額"]
[null,null,null,null,null,null,null,null,null,null,null,null,null,null,null,null,null,null,null,null,null,null,"①","②","③","イ","ロ","④","⑤","⑥","ハ",null,null,null,null,"⑦","⑧","⑨","⑩","⑪","⑫","⑬","⑭","⑮","⑯","⑰",null,"⑱",null,null,"⑲",20,21,22,23,24,25,26]
[{"$f":"FLOOR(AJ8,VLOOKUP(AJ8,年調給与計算,3,TRUE))","v":6835000},{"$f":"IF(AND(源泉徴収票!I8=\"無\",源泉徴収票!AE8<>\"\"),\"○\",\"×\")","v":"×"},{"$f":"IF(AND(源泉徴収票!CO8<>\"\",源泉徴収票!CO8<=480000,AN8<=10000000),\"○\",\"×\")","v":"○"},{"$f":"IF(AND(C8=\"○\",源泉徴収票!CN8<>\"\",会社情報!$C$7-YEAR(MAX(源泉徴収票!CN8-1,0))>=70),\"○\",\"×\")","v":"×"},{"$f":"IF(AND(源泉徴収票!CO8<>\"\",源泉徴収票!CO8>480000,源泉徴収票!CO8<=1330000,AN8<=10000000),\"○\",\"×\")","v":"×"},{"$f":"MATCH(源泉徴収票!CO8,H30配偶者控除・特別控除マスタ_配偶者所得,1)","v":1},{"$f":"MATCH('源泉徴収票計算過程(非)'!AN8,H30配偶者控除・特別控除マスタ_所得者合計所得,1)","v":1},{"$f":"IF(源泉徴収票!AN8=\"\",-1,会社情報!$C$7-YEAR(源泉徴収票!AN8-1))","v":25},{"$f":"IF(源泉徴収票!AT8=\"\",-1,会社情報!$C$7-YEAR(源泉徴収票!AT8-1))","v":20},{"$f":"IF(源泉徴収票!AZ8=\"\",-1,会社情報!$C$7-YEAR(源泉徴収票!AZ8-1))","v":82},{"$f":"IF(源泉徴収票!BF8=\"\",-1,会社情報!$C$7-YEAR(源泉徴収票!BF8-1))","v":-1},{"$f":"IF(源泉徴収票!BL8=\"\",-1,会社情報!$C$7-YEAR(源泉徴収票!BL8-1))","v":-1},{"$f":"IF(H8>=16,IF(AND(H8>=19,H8<23),\"特\",IF(H8>=70,IF(源泉徴収票!AO8=\"同居老親等\",\"同\",\"老\"),\"一\")),IF(H8>=0,\"未\",\"×\"))","v":"一"},{"$f":"IF(I8>=16,IF(AND(I8>=19,I8<23),\"特\",IF(I8>=70,IF(源泉徴収票!AU8=\"同居老親等\",\"同\",\"老\"),\"一\")),IF(I8>=0,\"未\",\"×\"))","v":"特"},{"$f":"IF(J8>=16,IF(AND(J8>=19,J8<23),\"特\",IF(J8>=70,IF(源泉徴収票!BA8=\"同居老親等\",\"同\",\"老\"),\"一\")),IF(J8>=0,\"未\",\"×\"))","v":"同"},{"$f":"IF(K8>=16,IF(AND(K8>=19,K8<23),\"特\",IF(K8>=70,IF(源泉徴収票!BG8=\"同居老親等\",\"同\",\"老\"),\"一\")),IF(K8>=0,\"未\",\"×\"))","v":"×"},{"$f":"IF(L8>=16,IF(AND(L8>=19,L8<23),\"特\",IF(L8>=70,IF(源泉徴収票!BM8=\"同居老親等\",\"同\",\"老\"),\"一\")),IF(L8>=0,\"未\",\"×\"))","v":"×"},{"$f":"IF(M8=\"未\",\"未\",IF(M8<>\"×\",\"一\",\"\"))","v":"一"},{"$f":"IF(N8=\"未\",\"未\",IF(N8<>\"×\",\"一\",\"\"))","v":"一"},{"$f":"IF(O8=\"未\",\"未\",IF(O8<>\"×\",\"一\",\"\"))","v":"一"},{"$f":"IF(P8=\"未\",\"未\",IF(P8<>\"×\",\"一\",\"\"))","v":""},{"$f":"IF(Q8=\"未\",\"未\",IF(Q8<>\"×\",\"一\",\"\"))","v":""},{"$f":"IF(源泉徴収票!BU8<=20000, 源泉徴収票!BU8,\n  IF(源泉徴収票!BU8<=40000, 源泉徴収票!BU8*1/2+10000,\n   IF(源泉徴収票!BU8<=80000, 源泉徴収票!BU8*1/4+20000,\n                 40000)))","v":22000},{"$f":"IF(源泉徴収票!BV8<=25000,源泉徴収票!BV8,\n  IF(源泉徴収票!BV8<=50000,源泉徴収票!BV8*1/2+12500,\n   IF(源泉徴収票!BV8<=100000,源泉徴収票!BV8*1/4+25000,\n                 50000)))","v":30500},{"$f":"MIN(W8+X8,40000)","v":40000},{"$f":"MAX(X8,Y8)","v":40000},{"$f":"IF(源泉徴収票!BW8<=20000, 源泉徴収票!BW8,\n  IF(源泉徴収票!BW8<=40000, 源泉徴収票!BW8*1/2+10000,\n   IF(源泉徴収票!BW8<=80000, 源泉徴収票!BW8*1/4+20000,\n                 40000)))","v":32000},{"$f":"IF(源泉徴収票!BX8<=20000, 源泉徴収票!BX8,\n  IF(源泉徴収票!BX8<=40000, 源泉徴収票!BX8*1/2+10000,\n   IF(源泉徴収票!BX8<=80000, 源泉徴収票!BX8*1/4+20000,\n                 40000)))","v":0},{"$f":"IF(源泉徴収票!BY8<=25000,源泉徴収票!BY8,\n  IF(源泉徴収票!BY8<=50000,源泉徴収票!BY8*1/2+12500,\n   IF(源泉徴収票!BY8<=100000,源泉徴収票!BY8*1/4+25000,\n                 50000)))","v":43000},{"$f":"MIN(AB8+AC8,40000)","v":40000},{"$f":"MAX(AC8,AD8)","v":43000},{"$f":"IF(源泉徴収票!BZ8<>\"\",MIN(源泉徴収票!BZ8,50000),0)","v":30000},{"$f":"IF(源泉徴収票!CA8>=20000,15000,IF(源泉徴収票!CA8>=10000,源泉徴収票!CA8/2+5000,源泉徴収票!CA8))","v":14800},{"$f":"IF(源泉徴収票!CS8<>\"\",\"〇\",\"×\")","v":"×"},null,{"$f":"源泉徴収票!O8+源泉徴収票!R8+源泉徴収票!U8","v":6835000},{"$f":"源泉徴収票!Q8+源泉徴収票!T8+源泉徴収票!W8","v":147819},{"$f":"IF(源泉徴収票!I8=\"無\",0,INT(A8*VLOOKUP(A8, 給与所得計算, 3, TRUE)\n        +  VLOOKUP(A8, 給与所得計算, 4, TRUE) ))","v":5051500},{"$f":"IF(AH8=\"〇\",MIN(150000,MAX(AJ8-8500000,0)*10%),0)","v":0},{"$f":"AL8-AM8","v":5051500},{"$f":"源泉徴収票!P8+源泉徴収票!S8+源泉徴収票!V8","v":1033287},{"$f":"IF(源泉徴収票!I8=\"無\",0,源泉徴収票!CB8)","v":0},{"$f":"IF(源泉徴収票!I8=\"無\",0,源泉徴収票!CD8)","v":0},{"$f":"IF(源泉徴収票!I8=\"無\",0,MIN(120000,Z8+AA8+AE8))","v":115000},{"$f":"IF(源泉徴収票!I8=\"無\",0,MIN(AF8+AG8,50000))","v":44800},{"$f":"IF(源泉徴収票!I8=\"無\",0,IF(E8=\"○\",INDEX(H30配偶者控除・特別控除マスタ,F8,G8),0))","v":0},{"$f":"IF(源泉徴収票!I8=\"無\",0,IF(C8=\"○\",INDEX(H30配偶者控除・特別控除マスタ,F8,G8),0)+IF(D8=\"○\",INDEX(H30老人控除対象配偶者上乗せ,1,G8),0))","v":380000},{"$f":"IF(源泉徴収票!I8=\"無\",0,COUNTIF(M8:Q8,\"一\")*380000+COUNTIF(M8:Q8,\"特\")*630000+COUNTIF(M8:Q8,\"老\")*480000+COUNTIF(M8:Q8,\"同\")*580000)","v":1590000},{"$f":"IF(源泉徴収票!I8=\"無\",0,(COUNTIF(源泉徴収票!BO8:BP8,\"一般\")+源泉徴収票!BQ8)*270000+(COUNTIF(源泉徴収票!BO8:BP8,\"特別\")+源泉徴収票!BR8)*400000+(COUNTIF(源泉徴収票!BP8,\"同居特別\")+源泉徴収票!BS8)*750000)","v":270000},{"$f":"IF(源泉徴収票!I8=\"無\",0,IF(源泉徴収票!BT8<>\"\",IF(OR(源泉徴収票!BT8=\"特別の寡婦\",源泉徴収票!BT8=\"ひとり親\"),350000,270000),0))","v":0},{"$f":"IF(源泉徴収票!I8=\"無\",0,480000)","v":480000},{"$f":"IF(源泉徴収票!I8=\"無\",0,SUM(AO8:AY8))","v":3913087},{"$f":"IF(源泉徴収票!I8=\"無\",AN8,FLOOR(MAX(AN8-AZ8,0),1000))","v":1138000},{"$f":"IF(源泉徴収票!I8=\"無\",AK8,BA8*VLOOKUP(BA8,所得税額計算,3,TRUE)+VLOOKUP(BA8,所得税額計算,4,TRUE))","v":56900},{"$f":"IF(源泉徴収票!I8=\"無\",0,源泉徴収票!CZ8)","v":0},{"$f":"MAX(BB8-BC8,0)","v":56900},{"$f":"IF(源泉徴収票!I8=\"無\",BD8,FLOOR(BD8*102.1%,100))","v":58000},{"$f":"BE8-AK8","v":-89819}]
[4800000,{"$f":"IF(AND(源泉徴収票!I9=\"無\",源泉徴収票!AE9<>\"\"),\"○\",\"×\")","v":"×"},{"$f":"IF(AND(源泉徴収票!CO9<>\"\",源泉徴収票!CO9<=480000,AN9<=10000000),\"○\",\"×\")","v":"×"},{"$f":"IF(AND(C9=\"○\",源泉徴収票!CN9<>\"\",会社情報!$C$7-YEAR(MAX(源泉徴収票!CN9-1,0))>=70),\"○\",\"×\")","v":"×"},{"$f":"IF(AND(源泉徴収票!CO9<>\"\",源泉徴収票!CO9>480000,源泉徴収票!CO9<=1330000,AN9<=10000000),\"○\",\"×\")","v":"○"},{"$f":"MATCH(源泉徴収票!CO9,H30配偶者控除・特別控除マスタ_配偶者所得,1)","v":5},{"$f":"MATCH('源泉徴収票計算過程(非)'!AN9,H30配偶者控除・特別控除マスタ_所得者合計所得,1)","v":1},{"$f":"IF(源泉徴収票!AN9=\"\",-1,会社情報!$C$7-YEAR(源泉徴収票!AN9-1))","v":12},{"$f":"IF(源泉徴収票!AT9=\"\",-1,会社情報!$C$7-YEAR(源泉徴収票!AT9-1))","v":11},{"$f":"IF(源泉徴収票!AZ9=\"\",-1,会社情報!$C$7-YEAR(源泉徴収票!AZ9-1))","v":9},{"$f":"IF(源泉徴収票!BF9=\"\",-1,会社情報!$C$7-YEAR(源泉徴収票!BF9-1))","v":7},{"$f":"IF(源泉徴収票!BL9=\"\",-1,会社情報!$C$7-YEAR(源泉徴収票!BL9-1))","v":5},{"$f":"IF(H9>=16,IF(AND(H9>=19,H9<23),\"特\",IF(H9>=70,IF(源泉徴収票!AO9=\"同居老親等\",\"同\",\"老\"),\"一\")),IF(H9>=0,\"未\",\"×\"))","v":"未"},{"$f":"IF(I9>=16,IF(AND(I9>=19,I9<23),\"特\",IF(I9>=70,IF(源泉徴収票!AU9=\"同居老親等\",\"同\",\"老\"),\"一\")),IF(I9>=0,\"未\",\"×\"))","v":"未"},{"$f":"IF(J9>=16,IF(AND(J9>=19,J9<23),\"特\",IF(J9>=70,IF(源泉徴収票!BA9=\"同居老親等\",\"同\",\"老\"),\"一\")),IF(J9>=0,\"未\",\"×\"))","v":"未"},{"$f":"IF(K9>=16,IF(AND(K9>=19,K9<23),\"特\",IF(K9>=70,IF(源泉徴収票!BG9=\"同居老親等\",\"同\",\"老\"),\"一\")),IF(K9>=0,\"未\",\"×\"))","v":"未"},{"$f":"IF(L9>=16,IF(AND(L9>=19,L9<23),\"特\",IF(L9>=70,IF(源泉徴収票!BM9=\"同居老親等\",\"同\",\"老\"),\"一\")),IF(L9>=0,\"未\",\"×\"))","v":"未"},"未","未","未","未","未",{"$f":"IF(源泉徴収票!BU9<=20000, 源泉徴収票!BU9,\n  IF(源泉徴収票!BU9<=40000, 源泉徴収票!BU9*1/2+10000,\n   IF(源泉徴収票!BU9<=80000, 源泉徴収票!BU9*1/4+20000,\n                 40000)))","v":0},{"$f":"IF(源泉徴収票!BV9<=25000,源泉徴収票!BV9,\n  IF(源泉徴収票!BV9<=50000,源泉徴収票!BV9*1/2+12500,\n   IF(源泉徴収票!BV9<=100000,源泉徴収票!BV9*1/4+25000,\n                 50000)))","v":0},0,0,{"$f":"IF(源泉徴収票!BW9<=20000, 源泉徴収票!BW9,\n  IF(源泉徴収票!BW9<=40000, 源泉徴収票!BW9*1/2+10000,\n   IF(源泉徴収票!BW9<=80000, 源泉徴収票!BW9*1/4+20000,\n                 40000)))","v":0},{"$f":"IF(源泉徴収票!BX9<=20000, 源泉徴収票!BX9,\n  IF(源泉徴収票!BX9<=40000, 源泉徴収票!BX9*1/2+10000,\n   IF(源泉徴収票!BX9<=80000, 源泉徴収票!BX9*1/4+20000,\n                 40000)))","v":0},{"$f":"IF(源泉徴収票!BY9<=25000,源泉徴収票!BY9,\n  IF(源泉徴収票!BY9<=50000,源泉徴収票!BY9*1/2+12500,\n   IF(源泉徴収票!BY9<=100000,源泉徴収票!BY9*1/4+25000,\n                 50000)))","v":0},0,0,{"$f":"IF(源泉徴収票!BZ9<>\"\",MIN(源泉徴収票!BZ9,50000),0)","v":0},{"$f":"IF(源泉徴収票!CA9>=20000,15000,IF(源泉徴収票!CA9>=10000,源泉徴収票!CA9/2+5000,源泉徴収票!CA9))","v":0},{"$f":"IF(源泉徴収票!CS9<>\"\",\"〇\",\"×\")","v":"×"},null,{"$f":"源泉徴収票!O9+源泉徴収票!R9+源泉徴収票!U9","v":4800000},{"$f":"源泉徴収票!Q9+源泉徴収票!T9+源泉徴収票!W9","v":192500},{"$f":"IF(源泉徴収票!I9=\"無\",0,INT(A9*VLOOKUP(A9, 給与所得計算, 3, TRUE)\n        +  VLOOKUP(A9, 給与所得計算, 4, TRUE) ))","v":3400000},{"$f":"IF(AH9=\"〇\",MIN(150000,MAX(AJ9-8500000,0)*10%),0)","v":0},{"$f":"AL9-AM9","v":3400000},{"$f":"源泉徴収票!P9+源泉徴収票!S9+源泉徴収票!V9","v":0},{"$f":"IF(源泉徴収票!I9=\"無\",0,源泉徴収票!CB9)","v":431000},{"$f":"IF(源泉徴収票!I9=\"無\",0,源泉徴収票!CD9)","v":840000},{"$f":"IF(源泉徴収票!I9=\"無\",0,MIN(120000,Z9+AA9+AE9))","v":0},{"$f":"IF(源泉徴収票!I9=\"無\",0,MIN(AF9+AG9,50000))","v":0},{"$f":"IF(源泉徴収票!I9=\"無\",0,IF(E9=\"○\",INDEX(H30配偶者控除・特別控除マスタ,F9,G9),0))","v":260000},{"$f":"IF(源泉徴収票!I9=\"無\",0,IF(C9=\"○\",INDEX(H30配偶者控除・特別控除マスタ,F9,G9),0)+IF(D9=\"○\",INDEX(H30老人控除対象配偶者上乗せ,1,G9),0))","v":0},{"$f":"IF(源泉徴収票!I9=\"無\",0,COUNTIF(M9:Q9,\"一\")*380000+COUNTIF(M9:Q9,\"特\")*630000+COUNTIF(M9:Q9,\"老\")*480000+COUNTIF(M9:Q9,\"同\")*580000)","v":0},{"$f":"IF(源泉徴収票!I9=\"無\",0,(COUNTIF(源泉徴収票!BO9:BP9,\"一般\")+源泉徴収票!BQ9)*270000+(COUNTIF(源泉徴収票!BO9:BP9,\"特別\")+源泉徴収票!BR9)*400000+(COUNTIF(源泉徴収票!BP9,\"同居特別\")+源泉徴収票!BS9)*750000)","v":0},{"$f":"IF(源泉徴収票!I9=\"無\",0,IF(源泉徴収票!BT9<>\"\",IF(OR(源泉徴収票!BT9=\"特別の寡婦\",源泉徴収票!BT9=\"ひとり親\"),350000,270000),0))","v":0},{"$f":"IF(源泉徴収票!I9=\"無\",0,480000)","v":480000},{"$f":"IF(源泉徴収票!I9=\"無\",0,SUM(AO9:AY9))","v":2011000},{"$f":"IF(源泉徴収票!I9=\"無\",AN9,FLOOR(MAX(AN9-AZ9,0),1000))","v":1389000},{"$f":"IF(源泉徴収票!I9=\"無\",AK9,BA9*VLOOKUP(BA9,所得税額計算,3,TRUE)+VLOOKUP(BA9,所得税額計算,4,TRUE))","v":69450},{"$f":"IF(源泉徴収票!I9=\"無\",0,源泉徴収票!CZ9)","v":100000},0,{"$f":"IF(源泉徴収票!I9=\"無\",BD9,FLOOR(BD9*102.1%,100))","v":0},-192500]
[864200,{"$f":"IF(AND(源泉徴収票!I10=\"無\",源泉徴収票!AE10<>\"\"),\"○\",\"×\")","v":"×"},{"$f":"IF(AND(源泉徴収票!CO10<>\"\",源泉徴収票!CO10<=480000,AN10<=10000000),\"○\",\"×\")","v":"×"},{"$f":"IF(AND(C10=\"○\",源泉徴収票!CN10<>\"\",会社情報!$C$7-YEAR(MAX(源泉徴収票!CN10-1,0))>=70),\"○\",\"×\")","v":"×"},{"$f":"IF(AND(源泉徴収票!CO10<>\"\",源泉徴収票!CO10>480000,源泉徴収票!CO10<=1330000,AN10<=10000000),\"○\",\"×\")","v":"×"},{"$f":"MATCH(源泉徴収票!CO10,H30配偶者控除・特別控除マスタ_配偶者所得,1)","v":1},{"$f":"MATCH('源泉徴収票計算過程(非)'!AN10,H30配偶者控除・特別控除マスタ_所得者合計所得,1)","v":1},{"$f":"IF(源泉徴収票!AN10=\"\",-1,会社情報!$C$7-YEAR(源泉徴収票!AN10-1))","v":-1},{"$f":"IF(源泉徴収票!AT10=\"\",-1,会社情報!$C$7-YEAR(源泉徴収票!AT10-1))","v":-1},{"$f":"IF(源泉徴収票!AZ10=\"\",-1,会社情報!$C$7-YEAR(源泉徴収票!AZ10-1))","v":-1},{"$f":"IF(源泉徴収票!BF10=\"\",-1,会社情報!$C$7-YEAR(源泉徴収票!BF10-1))","v":-1},{"$f":"IF(源泉徴収票!BL10=\"\",-1,会社情報!$C$7-YEAR(源泉徴収票!BL10-1))","v":-1},{"$f":"IF(H10>=16,IF(AND(H10>=19,H10<23),\"特\",IF(H10>=70,IF(源泉徴収票!AO10=\"同居老親等\",\"同\",\"老\"),\"一\")),IF(H10>=0,\"未\",\"×\"))","v":"×"},{"$f":"IF(I10>=16,IF(AND(I10>=19,I10<23),\"特\",IF(I10>=70,IF(源泉徴収票!AU10=\"同居老親等\",\"同\",\"老\"),\"一\")),IF(I10>=0,\"未\",\"×\"))","v":"×"},{"$f":"IF(J10>=16,IF(AND(J10>=19,J10<23),\"特\",IF(J10>=70,IF(源泉徴収票!BA10=\"同居老親等\",\"同\",\"老\"),\"一\")),IF(J10>=0,\"未\",\"×\"))","v":"×"},{"$f":"IF(K10>=16,IF(AND(K10>=19,K10<23),\"特\",IF(K10>=70,IF(源泉徴収票!BG10=\"同居老親等\",\"同\",\"老\"),\"一\")),IF(K10>=0,\"未\",\"×\"))","v":"×"},{"$f":"IF(L10>=16,IF(AND(L10>=19,L10<23),\"特\",IF(L10>=70,IF(源泉徴収票!BM10=\"同居老親等\",\"同\",\"老\"),\"一\")),IF(L10>=0,\"未\",\"×\"))","v":"×"},"","","","","",{"$f":"IF(源泉徴収票!BU10<=20000, 源泉徴収票!BU10,\n  IF(源泉徴収票!BU10<=40000, 源泉徴収票!BU10*1/2+10000,\n   IF(源泉徴収票!BU10<=80000, 源泉徴収票!BU10*1/4+20000,\n                 40000)))","v":0},{"$f":"IF(源泉徴収票!BV10<=25000,源泉徴収票!BV10,\n  IF(源泉徴収票!BV10<=50000,源泉徴収票!BV10*1/2+12500,\n   IF(源泉徴収票!BV10<=100000,源泉徴収票!BV10*1/4+25000,\n                 50000)))","v":0},0,0,{"$f":"IF(源泉徴収票!BW10<=20000, 源泉徴収票!BW10,\n  IF(源泉徴収票!BW10<=40000, 源泉徴収票!BW10*1/2+10000,\n   IF(源泉徴収票!BW10<=80000, 源泉徴収票!BW10*1/4+20000,\n                 40000)))","v":0},{"$f":"IF(源泉徴収票!BX10<=20000, 源泉徴収票!BX10,\n  IF(源泉徴収票!BX10<=40000, 源泉徴収票!BX10*1/2+10000,\n   IF(源泉徴収票!BX10<=80000, 源泉徴収票!BX10*1/4+20000,\n                 40000)))","v":0},{"$f":"IF(源泉徴収票!BY10<=25000,源泉徴収票!BY10,\n  IF(源泉徴収票!BY10<=50000,源泉徴収票!BY10*1/2+12500,\n   IF(源泉徴収票!BY10<=100000,源泉徴収票!BY10*1/4+25000,\n                 50000)))","v":0},0,0,{"$f":"IF(源泉徴収票!BZ10<>\"\",MIN(源泉徴収票!BZ10,50000),0)","v":0},{"$f":"IF(源泉徴収票!CA10>=20000,15000,IF(源泉徴収票!CA10>=10000,源泉徴収票!CA10/2+5000,源泉徴収票!CA10))","v":0},{"$f":"IF(源泉徴収票!CS10<>\"\",\"〇\",\"×\")","v":"×"},null,{"$f":"源泉徴収票!O10+源泉徴収票!R10+源泉徴収票!U10","v":864200},{"$f":"源泉徴収票!Q10+源泉徴収票!T10+源泉徴収票!W10","v":3450},{"$f":"IF(源泉徴収票!I10=\"無\",0,INT(A10*VLOOKUP(A10, 給与所得計算, 3, TRUE)\n        +  VLOOKUP(A10, 給与所得計算, 4, TRUE) ))","v":0},0,0,{"$f":"源泉徴収票!P10+源泉徴収票!S10+源泉徴収票!V10","v":86000},{"$f":"IF(源泉徴収票!I10=\"無\",0,源泉徴収票!CB10)","v":0},{"$f":"IF(源泉徴収票!I10=\"無\",0,源泉徴収票!CD10)","v":0},{"$f":"IF(源泉徴収票!I10=\"無\",0,MIN(120000,Z10+AA10+AE10))","v":0},{"$f":"IF(源泉徴収票!I10=\"無\",0,MIN(AF10+AG10,50000))","v":0},{"$f":"IF(源泉徴収票!I10=\"無\",0,IF(E10=\"○\",INDEX(H30配偶者控除・特別控除マスタ,F10,G10),0))","v":0},{"$f":"IF(源泉徴収票!I10=\"無\",0,IF(C10=\"○\",INDEX(H30配偶者控除・特別控除マスタ,F10,G10),0)+IF(D10=\"○\",INDEX(H30老人控除対象配偶者上乗せ,1,G10),0))","v":0},{"$f":"IF(源泉徴収票!I10=\"無\",0,COUNTIF(M10:Q10,\"一\")*380000+COUNTIF(M10:Q10,\"特\")*630000+COUNTIF(M10:Q10,\"老\")*480000+COUNTIF(M10:Q10,\"同\")*580000)","v":0},{"$f":"IF(源泉徴収票!I10=\"無\",0,(COUNTIF(源泉徴収票!BO10:BP10,\"一般\")+源泉徴収票!BQ10)*270000+(COUNTIF(源泉徴収票!BO10:BP10,\"特別\")+源泉徴収票!BR10)*400000+(COUNTIF(源泉徴収票!BP10,\"同居特別\")+源泉徴収票!BS10)*750000)","v":0},{"$f":"IF(源泉徴収票!I10=\"無\",0,IF(源泉徴収票!BT10<>\"\",IF(OR(源泉徴収票!BT10=\"特別の寡婦\",源泉徴収票!BT10=\"ひとり親\"),350000,270000),0))","v":0},{"$f":"IF(源泉徴収票!I10=\"無\",0,480000)","v":0},{"$f":"IF(源泉徴収票!I10=\"無\",0,SUM(AO10:AY10))","v":0},{"$f":"IF(源泉徴収票!I10=\"無\",AN10,FLOOR(MAX(AN10-AZ10,0),1000))","v":0},{"$f":"IF(源泉徴収票!I10=\"無\",AK10,BA10*VLOOKUP(BA10,所得税額計算,3,TRUE)+VLOOKUP(BA10,所得税額計算,4,TRUE))","v":3450},{"$f":"IF(源泉徴収票!I10=\"無\",0,源泉徴収票!CZ10)","v":0},3450,{"$f":"IF(源泉徴収票!I10=\"無\",BD10,FLOOR(BD10*102.1%,100))","v":3450},0]
[18000000,{"$f":"IF(AND(源泉徴収票!I11=\"無\",源泉徴収票!AE11<>\"\"),\"○\",\"×\")","v":"×"},{"$f":"IF(AND(源泉徴収票!CO11<>\"\",源泉徴収票!CO11<=480000,AN11<=10000000),\"○\",\"×\")","v":"×"},{"$f":"IF(AND(C11=\"○\",源泉徴収票!CN11<>\"\",会社情報!$C$7-YEAR(MAX(源泉徴収票!CN11-1,0))>=70),\"○\",\"×\")","v":"×"},{"$f":"IF(AND(源泉徴収票!CO11<>\"\",源泉徴収票!CO11>480000,源泉徴収票!CO11<=1330000,AN11<=10000000),\"○\",\"×\")","v":"×"},{"$f":"MATCH(源泉徴収票!CO11,H30配偶者控除・特別控除マスタ_配偶者所得,1)","v":1},{"$f":"MATCH('源泉徴収票計算過程(非)'!AN11,H30配偶者控除・特別控除マスタ_所得者合計所得,1)","v":4},{"$f":"IF(源泉徴収票!AN11=\"\",-1,会社情報!$C$7-YEAR(源泉徴収票!AN11-1))","v":12},{"$f":"IF(源泉徴収票!AT11=\"\",-1,会社情報!$C$7-YEAR(源泉徴収票!AT11-1))","v":-1},{"$f":"IF(源泉徴収票!AZ11=\"\",-1,会社情報!$C$7-YEAR(源泉徴収票!AZ11-1))","v":-1},{"$f":"IF(源泉徴収票!BF11=\"\",-1,会社情報!$C$7-YEAR(源泉徴収票!BF11-1))","v":-1},{"$f":"IF(源泉徴収票!BL11=\"\",-1,会社情報!$C$7-YEAR(源泉徴収票!BL11-1))","v":-1},{"$f":"IF(H11>=16,IF(AND(H11>=19,H11<23),\"特\",IF(H11>=70,IF(源泉徴収票!AO11=\"同居老親等\",\"同\",\"老\"),\"一\")),IF(H11>=0,\"未\",\"×\"))","v":"未"},{"$f":"IF(I11>=16,IF(AND(I11>=19,I11<23),\"特\",IF(I11>=70,IF(源泉徴収票!AU11=\"同居老親等\",\"同\",\"老\"),\"一\")),IF(I11>=0,\"未\",\"×\"))","v":"×"},{"$f":"IF(J11>=16,IF(AND(J11>=19,J11<23),\"特\",IF(J11>=70,IF(源泉徴収票!BA11=\"同居老親等\",\"同\",\"老\"),\"一\")),IF(J11>=0,\"未\",\"×\"))","v":"×"},{"$f":"IF(K11>=16,IF(AND(K11>=19,K11<23),\"特\",IF(K11>=70,IF(源泉徴収票!BG11=\"同居老親等\",\"同\",\"老\"),\"一\")),IF(K11>=0,\"未\",\"×\"))","v":"×"},{"$f":"IF(L11>=16,IF(AND(L11>=19,L11<23),\"特\",IF(L11>=70,IF(源泉徴収票!BM11=\"同居老親等\",\"同\",\"老\"),\"一\")),IF(L11>=0,\"未\",\"×\"))","v":"×"},"未","","","","",{"$f":"IF(源泉徴収票!BU11<=20000, 源泉徴収票!BU11,\n  IF(源泉徴収票!BU11<=40000, 源泉徴収票!BU11*1/2+10000,\n   IF(源泉徴収票!BU11<=80000, 源泉徴収票!BU11*1/4+20000,\n                 40000)))","v":0},{"$f":"IF(源泉徴収票!BV11<=25000,源泉徴収票!BV11,\n  IF(源泉徴収票!BV11<=50000,源泉徴収票!BV11*1/2+12500,\n   IF(源泉徴収票!BV11<=100000,源泉徴収票!BV11*1/4+25000,\n                 50000)))","v":0},0,0,{"$f":"IF(源泉徴収票!BW11<=20000, 源泉徴収票!BW11,\n  IF(源泉徴収票!BW11<=40000, 源泉徴収票!BW11*1/2+10000,\n   IF(源泉徴収票!BW11<=80000, 源泉徴収票!BW11*1/4+20000,\n                 40000)))","v":0},{"$f":"IF(源泉徴収票!BX11<=20000, 源泉徴収票!BX11,\n  IF(源泉徴収票!BX11<=40000, 源泉徴収票!BX11*1/2+10000,\n   IF(源泉徴収票!BX11<=80000, 源泉徴収票!BX11*1/4+20000,\n                 40000)))","v":0},{"$f":"IF(源泉徴収票!BY11<=25000,源泉徴収票!BY11,\n  IF(源泉徴収票!BY11<=50000,源泉徴収票!BY11*1/2+12500,\n   IF(源泉徴収票!BY11<=100000,源泉徴収票!BY11*1/4+25000,\n                 50000)))","v":0},0,0,{"$f":"IF(源泉徴収票!BZ11<>\"\",MIN(源泉徴収票!BZ11,50000),0)","v":0},{"$f":"IF(源泉徴収票!CA11>=20000,15000,IF(源泉徴収票!CA11>=10000,源泉徴収票!CA11/2+5000,源泉徴収票!CA11))","v":0},{"$f":"IF(源泉徴収票!CS11<>\"\",\"〇\",\"×\")","v":"〇"},null,{"$f":"源泉徴収票!O11+源泉徴収票!R11+源泉徴収票!U11","v":18000000},{"$f":"源泉徴収票!Q11+源泉徴収票!T11+源泉徴収票!W11","v":3066948},{"$f":"IF(源泉徴収票!I11=\"無\",0,INT(A11*VLOOKUP(A11, 給与所得計算, 3, TRUE)\n        +  VLOOKUP(A11, 給与所得計算, 4, TRUE) ))","v":16050000},150000,15900000,{"$f":"源泉徴収票!P11+源泉徴収票!S11+源泉徴収票!V11","v":1644860},{"$f":"IF(源泉徴収票!I11=\"無\",0,源泉徴収票!CB11)","v":0},{"$f":"IF(源泉徴収票!I11=\"無\",0,源泉徴収票!CD11)","v":0},{"$f":"IF(源泉徴収票!I11=\"無\",0,MIN(120000,Z11+AA11+AE11))","v":0},{"$f":"IF(源泉徴収票!I11=\"無\",0,MIN(AF11+AG11,50000))","v":0},{"$f":"IF(源泉徴収票!I11=\"無\",0,IF(E11=\"○\",INDEX(H30配偶者控除・特別控除マスタ,F11,G11),0))","v":0},{"$f":"IF(源泉徴収票!I11=\"無\",0,IF(C11=\"○\",INDEX(H30配偶者控除・特別控除マスタ,F11,G11),0)+IF(D11=\"○\",INDEX(H30老人控除対象配偶者上乗せ,1,G11),0))","v":0},{"$f":"IF(源泉徴収票!I11=\"無\",0,COUNTIF(M11:Q11,\"一\")*380000+COUNTIF(M11:Q11,\"特\")*630000+COUNTIF(M11:Q11,\"老\")*480000+COUNTIF(M11:Q11,\"同\")*580000)","v":0},{"$f":"IF(源泉徴収票!I11=\"無\",0,(COUNTIF(源泉徴収票!BO11:BP11,\"一般\")+源泉徴収票!BQ11)*270000+(COUNTIF(源泉徴収票!BO11:BP11,\"特別\")+源泉徴収票!BR11)*400000+(COUNTIF(源泉徴収票!BP11,\"同居特別\")+源泉徴収票!BS11)*750000)","v":0},{"$f":"IF(源泉徴収票!I11=\"無\",0,IF(源泉徴収票!BT11<>\"\",IF(OR(源泉徴収票!BT11=\"特別の寡婦\",源泉徴収票!BT11=\"ひとり親\"),350000,270000),0))","v":0},{"$f":"IF(源泉徴収票!I11=\"無\",0,480000)","v":480000},{"$f":"IF(源泉徴収票!I11=\"無\",0,SUM(AO11:AY11))","v":2124860},{"$f":"IF(源泉徴収票!I11=\"無\",AN11,FLOOR(MAX(AN11-AZ11,0),1000))","v":13775000},{"$f":"IF(源泉徴収票!I11=\"無\",AK11,BA11*VLOOKUP(BA11,所得税額計算,3,TRUE)+VLOOKUP(BA11,所得税額計算,4,TRUE))","v":3009750},{"$f":"IF(源泉徴収票!I11=\"無\",0,源泉徴収票!CZ11)","v":0},3009750,{"$f":"IF(源泉徴収票!I11=\"無\",BD11,FLOOR(BD11*102.1%,100))","v":3072900},5952]
[4000000,{"$f":"IF(AND(源泉徴収票!I12=\"無\",源泉徴収票!AE12<>\"\"),\"○\",\"×\")","v":"○"},{"$f":"IF(AND(源泉徴収票!CO12<>\"\",源泉徴収票!CO12<=480000,AN12<=10000000),\"○\",\"×\")","v":"×"},{"$f":"IF(AND(C12=\"○\",源泉徴収票!CN12<>\"\",会社情報!$C$7-YEAR(MAX(源泉徴収票!CN12-1,0))>=70),\"○\",\"×\")","v":"×"},{"$f":"IF(AND(源泉徴収票!CO12<>\"\",源泉徴収票!CO12>480000,源泉徴収票!CO12<=1330000,AN12<=10000000),\"○\",\"×\")","v":"×"},{"$f":"MATCH(源泉徴収票!CO12,H30配偶者控除・特別控除マスタ_配偶者所得,1)","v":1},{"$f":"MATCH('源泉徴収票計算過程(非)'!AN12,H30配偶者控除・特別控除マスタ_所得者合計所得,1)","v":1},{"$f":"IF(源泉徴収票!AN12=\"\",-1,会社情報!$C$7-YEAR(源泉徴収票!AN12-1))","v":-1},{"$f":"IF(源泉徴収票!AT12=\"\",-1,会社情報!$C$7-YEAR(源泉徴収票!AT12-1))","v":-1},{"$f":"IF(源泉徴収票!AZ12=\"\",-1,会社情報!$C$7-YEAR(源泉徴収票!AZ12-1))","v":-1},{"$f":"IF(源泉徴収票!BF12=\"\",-1,会社情報!$C$7-YEAR(源泉徴収票!BF12-1))","v":-1},{"$f":"IF(源泉徴収票!BL12=\"\",-1,会社情報!$C$7-YEAR(源泉徴収票!BL12-1))","v":-1},{"$f":"IF(H12>=16,IF(AND(H12>=19,H12<23),\"特\",IF(H12>=70,IF(源泉徴収票!AO12=\"同居老親等\",\"同\",\"老\"),\"一\")),IF(H12>=0,\"未\",\"×\"))","v":"×"},{"$f":"IF(I12>=16,IF(AND(I12>=19,I12<23),\"特\",IF(I12>=70,IF(源泉徴収票!AU12=\"同居老親等\",\"同\",\"老\"),\"一\")),IF(I12>=0,\"未\",\"×\"))","v":"×"},{"$f":"IF(J12>=16,IF(AND(J12>=19,J12<23),\"特\",IF(J12>=70,IF(源泉徴収票!BA12=\"同居老親等\",\"同\",\"老\"),\"一\")),IF(J12>=0,\"未\",\"×\"))","v":"×"},{"$f":"IF(K12>=16,IF(AND(K12>=19,K12<23),\"特\",IF(K12>=70,IF(源泉徴収票!BG12=\"同居老親等\",\"同\",\"老\"),\"一\")),IF(K12>=0,\"未\",\"×\"))","v":"×"},{"$f":"IF(L12>=16,IF(AND(L12>=19,L12<23),\"特\",IF(L12>=70,IF(源泉徴収票!BM12=\"同居老親等\",\"同\",\"老\"),\"一\")),IF(L12>=0,\"未\",\"×\"))","v":"×"},"","","","","",{"$f":"IF(源泉徴収票!BU12<=20000, 源泉徴収票!BU12,\n  IF(源泉徴収票!BU12<=40000, 源泉徴収票!BU12*1/2+10000,\n   IF(源泉徴収票!BU12<=80000, 源泉徴収票!BU12*1/4+20000,\n                 40000)))","v":0},{"$f":"IF(源泉徴収票!BV12<=25000,源泉徴収票!BV12,\n  IF(源泉徴収票!BV12<=50000,源泉徴収票!BV12*1/2+12500,\n   IF(源泉徴収票!BV12<=100000,源泉徴収票!BV12*1/4+25000,\n                 50000)))","v":0},0,0,{"$f":"IF(源泉徴収票!BW12<=20000, 源泉徴収票!BW12,\n  IF(源泉徴収票!BW12<=40000, 源泉徴収票!BW12*1/2+10000,\n   IF(源泉徴収票!BW12<=80000, 源泉徴収票!BW12*1/4+20000,\n                 40000)))","v":0},{"$f":"IF(源泉徴収票!BX12<=20000, 源泉徴収票!BX12,\n  IF(源泉徴収票!BX12<=40000, 源泉徴収票!BX12*1/2+10000,\n   IF(源泉徴収票!BX12<=80000, 源泉徴収票!BX12*1/4+20000,\n                 40000)))","v":0},{"$f":"IF(源泉徴収票!BY12<=25000,源泉徴収票!BY12,\n  IF(源泉徴収票!BY12<=50000,源泉徴収票!BY12*1/2+12500,\n   IF(源泉徴収票!BY12<=100000,源泉徴収票!BY12*1/4+25000,\n                 50000)))","v":0},0,0,{"$f":"IF(源泉徴収票!BZ12<>\"\",MIN(源泉徴収票!BZ12,50000),0)","v":0},{"$f":"IF(源泉徴収票!CA12>=20000,15000,IF(源泉徴収票!CA12>=10000,源泉徴収票!CA12/2+5000,源泉徴収票!CA12))","v":0},{"$f":"IF(源泉徴収票!CS12<>\"\",\"〇\",\"×\")","v":"×"},null,{"$f":"源泉徴収票!O12+源泉徴収票!R12+源泉徴収票!U12","v":4000000},{"$f":"源泉徴収票!Q12+源泉徴収票!T12+源泉徴収票!W12","v":142000},{"$f":"IF(源泉徴収票!I12=\"無\",0,INT(A12*VLOOKUP(A12, 給与所得計算, 3, TRUE)\n        +  VLOOKUP(A12, 給与所得計算, 4, TRUE) ))","v":0},0,0,{"$f":"源泉徴収票!P12+源泉徴収票!S12+源泉徴収票!V12","v":0},{"$f":"IF(源泉徴収票!I12=\"無\",0,源泉徴収票!CB12)","v":0},{"$f":"IF(源泉徴収票!I12=\"無\",0,源泉徴収票!CD12)","v":0},{"$f":"IF(源泉徴収票!I12=\"無\",0,MIN(120000,Z12+AA12+AE12))","v":0},{"$f":"IF(源泉徴収票!I12=\"無\",0,MIN(AF12+AG12,50000))","v":0},{"$f":"IF(源泉徴収票!I12=\"無\",0,IF(E12=\"○\",INDEX(H30配偶者控除・特別控除マスタ,F12,G12),0))","v":0},{"$f":"IF(源泉徴収票!I12=\"無\",0,IF(C12=\"○\",INDEX(H30配偶者控除・特別控除マスタ,F12,G12),0)+IF(D12=\"○\",INDEX(H30老人控除対象配偶者上乗せ,1,G12),0))","v":0},{"$f":"IF(源泉徴収票!I12=\"無\",0,COUNTIF(M12:Q12,\"一\")*380000+COUNTIF(M12:Q12,\"特\")*630000+COUNTIF(M12:Q12,\"老\")*480000+COUNTIF(M12:Q12,\"同\")*580000)","v":0},{"$f":"IF(源泉徴収票!I12=\"無\",0,(COUNTIF(源泉徴収票!BO12:BP12,\"一般\")+源泉徴収票!BQ12)*270000+(COUNTIF(源泉徴収票!BO12:BP12,\"特別\")+源泉徴収票!BR12)*400000+(COUNTIF(源泉徴収票!BP12,\"同居特別\")+源泉徴収票!BS12)*750000)","v":0},{"$f":"IF(源泉徴収票!I12=\"無\",0,IF(源泉徴収票!BT12<>\"\",IF(OR(源泉徴収票!BT12=\"特別の寡婦\",源泉徴収票!BT12=\"ひとり親\"),350000,270000),0))","v":0},{"$f":"IF(源泉徴収票!I12=\"無\",0,480000)","v":0},{"$f":"IF(源泉徴収票!I12=\"無\",0,SUM(AO12:AY12))","v":0},{"$f":"IF(源泉徴収票!I12=\"無\",AN12,FLOOR(MAX(AN12-AZ12,0),1000))","v":0},{"$f":"IF(源泉徴収票!I12=\"無\",AK12,BA12*VLOOKUP(BA12,所得税額計算,3,TRUE)+VLOOKUP(BA12,所得税額計算,4,TRUE))","v":142000},{"$f":"IF(源泉徴収票!I12=\"無\",0,源泉徴収票!CZ12)","v":0},142000,{"$f":"IF(源泉徴収票!I12=\"無\",BD12,FLOOR(BD12*102.1%,100))","v":142000},0]
[0,{"$f":"IF(AND(源泉徴収票!I13=\"無\",源泉徴収票!AE13<>\"\"),\"○\",\"×\")","v":"×"},{"$f":"IF(AND(源泉徴収票!CO13<>\"\",源泉徴収票!CO13<=480000,AN13<=10000000),\"○\",\"×\")","v":"×"},{"$f":"IF(AND(C13=\"○\",源泉徴収票!CN13<>\"\",会社情報!$C$7-YEAR(MAX(源泉徴収票!CN13-1,0))>=70),\"○\",\"×\")","v":"×"},{"$f":"IF(AND(源泉徴収票!CO13<>\"\",源泉徴収票!CO13>480000,源泉徴収票!CO13<=1330000,AN13<=10000000),\"○\",\"×\")","v":"×"},{"$f":"MATCH(源泉徴収票!CO13,H30配偶者控除・特別控除マスタ_配偶者所得,1)","v":1},{"$f":"MATCH('源泉徴収票計算過程(非)'!AN13,H30配偶者控除・特別控除マスタ_所得者合計所得,1)","v":1},{"$f":"IF(源泉徴収票!AN13=\"\",-1,会社情報!$C$7-YEAR(源泉徴収票!AN13-1))","v":-1},{"$f":"IF(源泉徴収票!AT13=\"\",-1,会社情報!$C$7-YEAR(源泉徴収票!AT13-1))","v":-1},{"$f":"IF(源泉徴収票!AZ13=\"\",-1,会社情報!$C$7-YEAR(源泉徴収票!AZ13-1))","v":-1},{"$f":"IF(源泉徴収票!BF13=\"\",-1,会社情報!$C$7-YEAR(源泉徴収票!BF13-1))","v":-1},{"$f":"IF(源泉徴収票!BL13=\"\",-1,会社情報!$C$7-YEAR(源泉徴収票!BL13-1))","v":-1},{"$f":"IF(H13>=16,IF(AND(H13>=19,H13<23),\"特\",IF(H13>=70,IF(源泉徴収票!AO13=\"同居老親等\",\"同\",\"老\"),\"一\")),IF(H13>=0,\"未\",\"×\"))","v":"×"},{"$f":"IF(I13>=16,IF(AND(I13>=19,I13<23),\"特\",IF(I13>=70,IF(源泉徴収票!AU13=\"同居老親等\",\"同\",\"老\"),\"一\")),IF(I13>=0,\"未\",\"×\"))","v":"×"},{"$f":"IF(J13>=16,IF(AND(J13>=19,J13<23),\"特\",IF(J13>=70,IF(源泉徴収票!BA13=\"同居老親等\",\"同\",\"老\"),\"一\")),IF(J13>=0,\"未\",\"×\"))","v":"×"},{"$f":"IF(K13>=16,IF(AND(K13>=19,K13<23),\"特\",IF(K13>=70,IF(源泉徴収票!BG13=\"同居老親等\",\"同\",\"老\"),\"一\")),IF(K13>=0,\"未\",\"×\"))","v":"×"},{"$f":"IF(L13>=16,IF(AND(L13>=19,L13<23),\"特\",IF(L13>=70,IF(源泉徴収票!BM13=\"同居老親等\",\"同\",\"老\"),\"一\")),IF(L13>=0,\"未\",\"×\"))","v":"×"},"","","","","",{"$f":"IF(源泉徴収票!BU13<=20000, 源泉徴収票!BU13,\n  IF(源泉徴収票!BU13<=40000, 源泉徴収票!BU13*1/2+10000,\n   IF(源泉徴収票!BU13<=80000, 源泉徴収票!BU13*1/4+20000,\n                 40000)))","v":0},{"$f":"IF(源泉徴収票!BV13<=25000,源泉徴収票!BV13,\n  IF(源泉徴収票!BV13<=50000,源泉徴収票!BV13*1/2+12500,\n   IF(源泉徴収票!BV13<=100000,源泉徴収票!BV13*1/4+25000,\n                 50000)))","v":0},0,0,{"$f":"IF(源泉徴収票!BW13<=20000, 源泉徴収票!BW13,\n  IF(源泉徴収票!BW13<=40000, 源泉徴収票!BW13*1/2+10000,\n   IF(源泉徴収票!BW13<=80000, 源泉徴収票!BW13*1/4+20000,\n                 40000)))","v":0},{"$f":"IF(源泉徴収票!BX13<=20000, 源泉徴収票!BX13,\n  IF(源泉徴収票!BX13<=40000, 源泉徴収票!BX13*1/2+10000,\n   IF(源泉徴収票!BX13<=80000, 源泉徴収票!BX13*1/4+20000,\n                 40000)))","v":0},{"$f":"IF(源泉徴収票!BY13<=25000,源泉徴収票!BY13,\n  IF(源泉徴収票!BY13<=50000,源泉徴収票!BY13*1/2+12500,\n   IF(源泉徴収票!BY13<=100000,源泉徴収票!BY13*1/4+25000,\n                 50000)))","v":0},0,0,{"$f":"IF(源泉徴収票!BZ13<>\"\",MIN(源泉徴収票!BZ13,50000),0)","v":0},{"$f":"IF(源泉徴収票!CA13>=20000,15000,IF(源泉徴収票!CA13>=10000,源泉徴収票!CA13/2+5000,源泉徴収票!CA13))","v":0},{"$f":"IF(源泉徴収票!CS13<>\"\",\"〇\",\"×\")","v":"×"},null,{"$f":"源泉徴収票!O13+源泉徴収票!R13+源泉徴収票!U13","v":0},{"$f":"源泉徴収票!Q13+源泉徴収票!T13+源泉徴収票!W13","v":0},{"$f":"IF(源泉徴収票!I13=\"無\",0,INT(A13*VLOOKUP(A13, 給与所得計算, 3, TRUE)\n        +  VLOOKUP(A13, 給与所得計算, 4, TRUE) ))","v":0},0,0,{"$f":"源泉徴収票!P13+源泉徴収票!S13+源泉徴収票!V13","v":0},{"$f":"IF(源泉徴収票!I13=\"無\",0,源泉徴収票!CB13)","v":0},{"$f":"IF(源泉徴収票!I13=\"無\",0,源泉徴収票!CD13)","v":0},{"$f":"IF(源泉徴収票!I13=\"無\",0,MIN(120000,Z13+AA13+AE13))","v":0},{"$f":"IF(源泉徴収票!I13=\"無\",0,MIN(AF13+AG13,50000))","v":0},{"$f":"IF(源泉徴収票!I13=\"無\",0,IF(E13=\"○\",INDEX(H30配偶者控除・特別控除マスタ,F13,G13),0))","v":0},{"$f":"IF(源泉徴収票!I13=\"無\",0,IF(C13=\"○\",INDEX(H30配偶者控除・特別控除マスタ,F13,G13),0)+IF(D13=\"○\",INDEX(H30老人控除対象配偶者上乗せ,1,G13),0))","v":0},{"$f":"IF(源泉徴収票!I13=\"無\",0,COUNTIF(M13:Q13,\"一\")*380000+COUNTIF(M13:Q13,\"特\")*630000+COUNTIF(M13:Q13,\"老\")*480000+COUNTIF(M13:Q13,\"同\")*580000)","v":0},{"$f":"IF(源泉徴収票!I13=\"無\",0,(COUNTIF(源泉徴収票!BO13:BP13,\"一般\")+源泉徴収票!BQ13)*270000+(COUNTIF(源泉徴収票!BO13:BP13,\"特別\")+源泉徴収票!BR13)*400000+(COUNTIF(源泉徴収票!BP13,\"同居特別\")+源泉徴収票!BS13)*750000)","v":0},{"$f":"IF(源泉徴収票!I13=\"無\",0,IF(源泉徴収票!BT13<>\"\",IF(OR(源泉徴収票!BT13=\"特別の寡婦\",源泉徴収票!BT13=\"ひとり親\"),350000,270000),0))","v":0},{"$f":"IF(源泉徴収票!I13=\"無\",0,480000)","v":480000},{"$f":"IF(源泉徴収票!I13=\"無\",0,SUM(AO13:AY13))","v":480000},{"$f":"IF(源泉徴収票!I13=\"無\",AN13,FLOOR(MAX(AN13-AZ13,0),1000))","v":0},{"$f":"IF(源泉徴収票!I13=\"無\",AK13,BA13*VLOOKUP(BA13,所得税額計算,3,TRUE)+VLOOKUP(BA13,所得税額計算,4,TRUE))","v":0},{"$f":"IF(源泉徴収票!I13=\"無\",0,源泉徴収票!CZ13)","v":0},0,{"$f":"IF(源泉徴収票!I13=\"無\",BD13,FLOOR(BD13*102.1%,100))","v":0},0]
[0,{"$f":"IF(AND(源泉徴収票!I14=\"無\",源泉徴収票!AE14<>\"\"),\"○\",\"×\")","v":"×"},{"$f":"IF(AND(源泉徴収票!CO14<>\"\",源泉徴収票!CO14<=480000,AN14<=10000000),\"○\",\"×\")","v":"×"},{"$f":"IF(AND(C14=\"○\",源泉徴収票!CN14<>\"\",会社情報!$C$7-YEAR(MAX(源泉徴収票!CN14-1,0))>=70),\"○\",\"×\")","v":"×"},{"$f":"IF(AND(源泉徴収票!CO14<>\"\",源泉徴収票!CO14>480000,源泉徴収票!CO14<=1330000,AN14<=10000000),\"○\",\"×\")","v":"×"},{"$f":"MATCH(源泉徴収票!CO14,H30配偶者控除・特別控除マスタ_配偶者所得,1)","v":1},{"$f":"MATCH('源泉徴収票計算過程(非)'!AN14,H30配偶者控除・特別控除マスタ_所得者合計所得,1)","v":1},{"$f":"IF(源泉徴収票!AN14=\"\",-1,会社情報!$C$7-YEAR(源泉徴収票!AN14-1))","v":-1},{"$f":"IF(源泉徴収票!AT14=\"\",-1,会社情報!$C$7-YEAR(源泉徴収票!AT14-1))","v":-1},{"$f":"IF(源泉徴収票!AZ14=\"\",-1,会社情報!$C$7-YEAR(源泉徴収票!AZ14-1))","v":-1},{"$f":"IF(源泉徴収票!BF14=\"\",-1,会社情報!$C$7-YEAR(源泉徴収票!BF14-1))","v":-1},{"$f":"IF(源泉徴収票!BL14=\"\",-1,会社情報!$C$7-YEAR(源泉徴収票!BL14-1))","v":-1},{"$f":"IF(H14>=16,IF(AND(H14>=19,H14<23),\"特\",IF(H14>=70,IF(源泉徴収票!AO14=\"同居老親等\",\"同\",\"老\"),\"一\")),IF(H14>=0,\"未\",\"×\"))","v":"×"},{"$f":"IF(I14>=16,IF(AND(I14>=19,I14<23),\"特\",IF(I14>=70,IF(源泉徴収票!AU14=\"同居老親等\",\"同\",\"老\"),\"一\")),IF(I14>=0,\"未\",\"×\"))","v":"×"},{"$f":"IF(J14>=16,IF(AND(J14>=19,J14<23),\"特\",IF(J14>=70,IF(源泉徴収票!BA14=\"同居老親等\",\"同\",\"老\"),\"一\")),IF(J14>=0,\"未\",\"×\"))","v":"×"},{"$f":"IF(K14>=16,IF(AND(K14>=19,K14<23),\"特\",IF(K14>=70,IF(源泉徴収票!BG14=\"同居老親等\",\"同\",\"老\"),\"一\")),IF(K14>=0,\"未\",\"×\"))","v":"×"},{"$f":"IF(L14>=16,IF(AND(L14>=19,L14<23),\"特\",IF(L14>=70,IF(源泉徴収票!BM14=\"同居老親等\",\"同\",\"老\"),\"一\")),IF(L14>=0,\"未\",\"×\"))","v":"×"},"","","","","",{"$f":"IF(源泉徴収票!BU14<=20000, 源泉徴収票!BU14,\n  IF(源泉徴収票!BU14<=40000, 源泉徴収票!BU14*1/2+10000,\n   IF(源泉徴収票!BU14<=80000, 源泉徴収票!BU14*1/4+20000,\n                 40000)))","v":0},{"$f":"IF(源泉徴収票!BV14<=25000,源泉徴収票!BV14,\n  IF(源泉徴収票!BV14<=50000,源泉徴収票!BV14*1/2+12500,\n   IF(源泉徴収票!BV14<=100000,源泉徴収票!BV14*1/4+25000,\n                 50000)))","v":0},0,0,{"$f":"IF(源泉徴収票!BW14<=20000, 源泉徴収票!BW14,\n  IF(源泉徴収票!BW14<=40000, 源泉徴収票!BW14*1/2+10000,\n   IF(源泉徴収票!BW14<=80000, 源泉徴収票!BW14*1/4+20000,\n                 40000)))","v":0},{"$f":"IF(源泉徴収票!BX14<=20000, 源泉徴収票!BX14,\n  IF(源泉徴収票!BX14<=40000, 源泉徴収票!BX14*1/2+10000,\n   IF(源泉徴収票!BX14<=80000, 源泉徴収票!BX14*1/4+20000,\n                 40000)))","v":0},{"$f":"IF(源泉徴収票!BY14<=25000,源泉徴収票!BY14,\n  IF(源泉徴収票!BY14<=50000,源泉徴収票!BY14*1/2+12500,\n   IF(源泉徴収票!BY14<=100000,源泉徴収票!BY14*1/4+25000,\n                 50000)))","v":0},0,0,{"$f":"IF(源泉徴収票!BZ14<>\"\",MIN(源泉徴収票!BZ14,50000),0)","v":0},{"$f":"IF(源泉徴収票!CA14>=20000,15000,IF(源泉徴収票!CA14>=10000,源泉徴収票!CA14/2+5000,源泉徴収票!CA14))","v":0},{"$f":"IF(源泉徴収票!CS14<>\"\",\"〇\",\"×\")","v":"×"},null,{"$f":"源泉徴収票!O14+源泉徴収票!R14+源泉徴収票!U14","v":0},{"$f":"源泉徴収票!Q14+源泉徴収票!T14+源泉徴収票!W14","v":0},{"$f":"IF(源泉徴収票!I14=\"無\",0,INT(A14*VLOOKUP(A14, 給与所得計算, 3, TRUE)\n        +  VLOOKUP(A14, 給与所得計算, 4, TRUE) ))","v":0},0,0,{"$f":"源泉徴収票!P14+源泉徴収票!S14+源泉徴収票!V14","v":0},{"$f":"IF(源泉徴収票!I14=\"無\",0,源泉徴収票!CB14)","v":0},{"$f":"IF(源泉徴収票!I14=\"無\",0,源泉徴収票!CD14)","v":0},{"$f":"IF(源泉徴収票!I14=\"無\",0,MIN(120000,Z14+AA14+AE14))","v":0},{"$f":"IF(源泉徴収票!I14=\"無\",0,MIN(AF14+AG14,50000))","v":0},{"$f":"IF(源泉徴収票!I14=\"無\",0,IF(E14=\"○\",INDEX(H30配偶者控除・特別控除マスタ,F14,G14),0))","v":0},{"$f":"IF(源泉徴収票!I14=\"無\",0,IF(C14=\"○\",INDEX(H30配偶者控除・特別控除マスタ,F14,G14),0)+IF(D14=\"○\",INDEX(H30老人控除対象配偶者上乗せ,1,G14),0))","v":0},{"$f":"IF(源泉徴収票!I14=\"無\",0,COUNTIF(M14:Q14,\"一\")*380000+COUNTIF(M14:Q14,\"特\")*630000+COUNTIF(M14:Q14,\"老\")*480000+COUNTIF(M14:Q14,\"同\")*580000)","v":0},{"$f":"IF(源泉徴収票!I14=\"無\",0,(COUNTIF(源泉徴収票!BO14:BP14,\"一般\")+源泉徴収票!BQ14)*270000+(COUNTIF(源泉徴収票!BO14:BP14,\"特別\")+源泉徴収票!BR14)*400000+(COUNTIF(源泉徴収票!BP14,\"同居特別\")+源泉徴収票!BS14)*750000)","v":0},{"$f":"IF(源泉徴収票!I14=\"無\",0,IF(源泉徴収票!BT14<>\"\",IF(OR(源泉徴収票!BT14=\"特別の寡婦\",源泉徴収票!BT14=\"ひとり親\"),350000,270000),0))","v":0},{"$f":"IF(源泉徴収票!I14=\"無\",0,480000)","v":480000},{"$f":"IF(源泉徴収票!I14=\"無\",0,SUM(AO14:AY14))","v":480000},{"$f":"IF(源泉徴収票!I14=\"無\",AN14,FLOOR(MAX(AN14-AZ14,0),1000))","v":0},{"$f":"IF(源泉徴収票!I14=\"無\",AK14,BA14*VLOOKUP(BA14,所得税額計算,3,TRUE)+VLOOKUP(BA14,所得税額計算,4,TRUE))","v":0},{"$f":"IF(源泉徴収票!I14=\"無\",0,源泉徴収票!CZ14)","v":0},0,{"$f":"IF(源泉徴収票!I14=\"無\",BD14,FLOOR(BD14*102.1%,100))","v":0},0]
[0,{"$f":"IF(AND(源泉徴収票!I15=\"無\",源泉徴収票!AE15<>\"\"),\"○\",\"×\")","v":"×"},{"$f":"IF(AND(源泉徴収票!CO15<>\"\",源泉徴収票!CO15<=480000,AN15<=10000000),\"○\",\"×\")","v":"×"},{"$f":"IF(AND(C15=\"○\",源泉徴収票!CN15<>\"\",会社情報!$C$7-YEAR(MAX(源泉徴収票!CN15-1,0))>=70),\"○\",\"×\")","v":"×"},{"$f":"IF(AND(源泉徴収票!CO15<>\"\",源泉徴収票!CO15>480000,源泉徴収票!CO15<=1330000,AN15<=10000000),\"○\",\"×\")","v":"×"},{"$f":"MATCH(源泉徴収票!CO15,H30配偶者控除・特別控除マスタ_配偶者所得,1)","v":1},{"$f":"MATCH('源泉徴収票計算過程(非)'!AN15,H30配偶者控除・特別控除マスタ_所得者合計所得,1)","v":1},{"$f":"IF(源泉徴収票!AN15=\"\",-1,会社情報!$C$7-YEAR(源泉徴収票!AN15-1))","v":-1},{"$f":"IF(源泉徴収票!AT15=\"\",-1,会社情報!$C$7-YEAR(源泉徴収票!AT15-1))","v":-1},{"$f":"IF(源泉徴収票!AZ15=\"\",-1,会社情報!$C$7-YEAR(源泉徴収票!AZ15-1))","v":-1},{"$f":"IF(源泉徴収票!BF15=\"\",-1,会社情報!$C$7-YEAR(源泉徴収票!BF15-1))","v":-1},{"$f":"IF(源泉徴収票!BL15=\"\",-1,会社情報!$C$7-YEAR(源泉徴収票!BL15-1))","v":-1},{"$f":"IF(H15>=16,IF(AND(H15>=19,H15<23),\"特\",IF(H15>=70,IF(源泉徴収票!AO15=\"同居老親等\",\"同\",\"老\"),\"一\")),IF(H15>=0,\"未\",\"×\"))","v":"×"},{"$f":"IF(I15>=16,IF(AND(I15>=19,I15<23),\"特\",IF(I15>=70,IF(源泉徴収票!AU15=\"同居老親等\",\"同\",\"老\"),\"一\")),IF(I15>=0,\"未\",\"×\"))","v":"×"},{"$f":"IF(J15>=16,IF(AND(J15>=19,J15<23),\"特\",IF(J15>=70,IF(源泉徴収票!BA15=\"同居老親等\",\"同\",\"老\"),\"一\")),IF(J15>=0,\"未\",\"×\"))","v":"×"},{"$f":"IF(K15>=16,IF(AND(K15>=19,K15<23),\"特\",IF(K15>=70,IF(源泉徴収票!BG15=\"同居老親等\",\"同\",\"老\"),\"一\")),IF(K15>=0,\"未\",\"×\"))","v":"×"},{"$f":"IF(L15>=16,IF(AND(L15>=19,L15<23),\"特\",IF(L15>=70,IF(源泉徴収票!BM15=\"同居老親等\",\"同\",\"老\"),\"一\")),IF(L15>=0,\"未\",\"×\"))","v":"×"},"","","","","",{"$f":"IF(源泉徴収票!BU15<=20000, 源泉徴収票!BU15,\n  IF(源泉徴収票!BU15<=40000, 源泉徴収票!BU15*1/2+10000,\n   IF(源泉徴収票!BU15<=80000, 源泉徴収票!BU15*1/4+20000,\n                 40000)))","v":0},{"$f":"IF(源泉徴収票!BV15<=25000,源泉徴収票!BV15,\n  IF(源泉徴収票!BV15<=50000,源泉徴収票!BV15*1/2+12500,\n   IF(源泉徴収票!BV15<=100000,源泉徴収票!BV15*1/4+25000,\n                 50000)))","v":0},0,0,{"$f":"IF(源泉徴収票!BW15<=20000, 源泉徴収票!BW15,\n  IF(源泉徴収票!BW15<=40000, 源泉徴収票!BW15*1/2+10000,\n   IF(源泉徴収票!BW15<=80000, 源泉徴収票!BW15*1/4+20000,\n                 40000)))","v":0},{"$f":"IF(源泉徴収票!BX15<=20000, 源泉徴収票!BX15,\n  IF(源泉徴収票!BX15<=40000, 源泉徴収票!BX15*1/2+10000,\n   IF(源泉徴収票!BX15<=80000, 源泉徴収票!BX15*1/4+20000,\n                 40000)))","v":0},{"$f":"IF(源泉徴収票!BY15<=25000,源泉徴収票!BY15,\n  IF(源泉徴収票!BY15<=50000,源泉徴収票!BY15*1/2+12500,\n   IF(源泉徴収票!BY15<=100000,源泉徴収票!BY15*1/4+25000,\n                 50000)))","v":0},0,0,{"$f":"IF(源泉徴収票!BZ15<>\"\",MIN(源泉徴収票!BZ15,50000),0)","v":0},{"$f":"IF(源泉徴収票!CA15>=20000,15000,IF(源泉徴収票!CA15>=10000,源泉徴収票!CA15/2+5000,源泉徴収票!CA15))","v":0},{"$f":"IF(源泉徴収票!CS15<>\"\",\"〇\",\"×\")","v":"×"},null,{"$f":"源泉徴収票!O15+源泉徴収票!R15+源泉徴収票!U15","v":0},{"$f":"源泉徴収票!Q15+源泉徴収票!T15+源泉徴収票!W15","v":0},{"$f":"IF(源泉徴収票!I15=\"無\",0,INT(A15*VLOOKUP(A15, 給与所得計算, 3, TRUE)\n        +  VLOOKUP(A15, 給与所得計算, 4, TRUE) ))","v":0},0,0,{"$f":"源泉徴収票!P15+源泉徴収票!S15+源泉徴収票!V15","v":0},{"$f":"IF(源泉徴収票!I15=\"無\",0,源泉徴収票!CB15)","v":0},{"$f":"IF(源泉徴収票!I15=\"無\",0,源泉徴収票!CD15)","v":0},{"$f":"IF(源泉徴収票!I15=\"無\",0,MIN(120000,Z15+AA15+AE15))","v":0},{"$f":"IF(源泉徴収票!I15=\"無\",0,MIN(AF15+AG15,50000))","v":0},{"$f":"IF(源泉徴収票!I15=\"無\",0,IF(E15=\"○\",INDEX(H30配偶者控除・特別控除マスタ,F15,G15),0))","v":0},{"$f":"IF(源泉徴収票!I15=\"無\",0,IF(C15=\"○\",INDEX(H30配偶者控除・特別控除マスタ,F15,G15),0)+IF(D15=\"○\",INDEX(H30老人控除対象配偶者上乗せ,1,G15),0))","v":0},{"$f":"IF(源泉徴収票!I15=\"無\",0,COUNTIF(M15:Q15,\"一\")*380000+COUNTIF(M15:Q15,\"特\")*630000+COUNTIF(M15:Q15,\"老\")*480000+COUNTIF(M15:Q15,\"同\")*580000)","v":0},{"$f":"IF(源泉徴収票!I15=\"無\",0,(COUNTIF(源泉徴収票!BO15:BP15,\"一般\")+源泉徴収票!BQ15)*270000+(COUNTIF(源泉徴収票!BO15:BP15,\"特別\")+源泉徴収票!BR15)*400000+(COUNTIF(源泉徴収票!BP15,\"同居特別\")+源泉徴収票!BS15)*750000)","v":0},{"$f":"IF(源泉徴収票!I15=\"無\",0,IF(源泉徴収票!BT15<>\"\",IF(OR(源泉徴収票!BT15=\"特別の寡婦\",源泉徴収票!BT15=\"ひとり親\"),350000,270000),0))","v":0},{"$f":"IF(源泉徴収票!I15=\"無\",0,480000)","v":480000},{"$f":"IF(源泉徴収票!I15=\"無\",0,SUM(AO15:AY15))","v":480000},{"$f":"IF(源泉徴収票!I15=\"無\",AN15,FLOOR(MAX(AN15-AZ15,0),1000))","v":0},{"$f":"IF(源泉徴収票!I15=\"無\",AK15,BA15*VLOOKUP(BA15,所得税額計算,3,TRUE)+VLOOKUP(BA15,所得税額計算,4,TRUE))","v":0},{"$f":"IF(源泉徴収票!I15=\"無\",0,源泉徴収票!CZ15)","v":0},0,{"$f":"IF(源泉徴収票!I15=\"無\",BD15,FLOOR(BD15*102.1%,100))","v":0},0]
[0,{"$f":"IF(AND(源泉徴収票!I16=\"無\",源泉徴収票!AE16<>\"\"),\"○\",\"×\")","v":"×"},{"$f":"IF(AND(源泉徴収票!CO16<>\"\",源泉徴収票!CO16<=480000,AN16<=10000000),\"○\",\"×\")","v":"×"},{"$f":"IF(AND(C16=\"○\",源泉徴収票!CN16<>\"\",会社情報!$C$7-YEAR(MAX(源泉徴収票!CN16-1,0))>=70),\"○\",\"×\")","v":"×"},{"$f":"IF(AND(源泉徴収票!CO16<>\"\",源泉徴収票!CO16>480000,源泉徴収票!CO16<=1330000,AN16<=10000000),\"○\",\"×\")","v":"×"},{"$f":"MATCH(源泉徴収票!CO16,H30配偶者控除・特別控除マスタ_配偶者所得,1)","v":1},{"$f":"MATCH('源泉徴収票計算過程(非)'!AN16,H30配偶者控除・特別控除マスタ_所得者合計所得,1)","v":1},{"$f":"IF(源泉徴収票!AN16=\"\",-1,会社情報!$C$7-YEAR(源泉徴収票!AN16-1))","v":-1},{"$f":"IF(源泉徴収票!AT16=\"\",-1,会社情報!$C$7-YEAR(源泉徴収票!AT16-1))","v":-1},{"$f":"IF(源泉徴収票!AZ16=\"\",-1,会社情報!$C$7-YEAR(源泉徴収票!AZ16-1))","v":-1},{"$f":"IF(源泉徴収票!BF16=\"\",-1,会社情報!$C$7-YEAR(源泉徴収票!BF16-1))","v":-1},{"$f":"IF(源泉徴収票!BL16=\"\",-1,会社情報!$C$7-YEAR(源泉徴収票!BL16-1))","v":-1},{"$f":"IF(H16>=16,IF(AND(H16>=19,H16<23),\"特\",IF(H16>=70,IF(源泉徴収票!AO16=\"同居老親等\",\"同\",\"老\"),\"一\")),IF(H16>=0,\"未\",\"×\"))","v":"×"},{"$f":"IF(I16>=16,IF(AND(I16>=19,I16<23),\"特\",IF(I16>=70,IF(源泉徴収票!AU16=\"同居老親等\",\"同\",\"老\"),\"一\")),IF(I16>=0,\"未\",\"×\"))","v":"×"},{"$f":"IF(J16>=16,IF(AND(J16>=19,J16<23),\"特\",IF(J16>=70,IF(源泉徴収票!BA16=\"同居老親等\",\"同\",\"老\"),\"一\")),IF(J16>=0,\"未\",\"×\"))","v":"×"},{"$f":"IF(K16>=16,IF(AND(K16>=19,K16<23),\"特\",IF(K16>=70,IF(源泉徴収票!BG16=\"同居老親等\",\"同\",\"老\"),\"一\")),IF(K16>=0,\"未\",\"×\"))","v":"×"},{"$f":"IF(L16>=16,IF(AND(L16>=19,L16<23),\"特\",IF(L16>=70,IF(源泉徴収票!BM16=\"同居老親等\",\"同\",\"老\"),\"一\")),IF(L16>=0,\"未\",\"×\"))","v":"×"},"","","","","",{"$f":"IF(源泉徴収票!BU16<=20000, 源泉徴収票!BU16,\n  IF(源泉徴収票!BU16<=40000, 源泉徴収票!BU16*1/2+10000,\n   IF(源泉徴収票!BU16<=80000, 源泉徴収票!BU16*1/4+20000,\n                 40000)))","v":0},{"$f":"IF(源泉徴収票!BV16<=25000,源泉徴収票!BV16,\n  IF(源泉徴収票!BV16<=50000,源泉徴収票!BV16*1/2+12500,\n   IF(源泉徴収票!BV16<=100000,源泉徴収票!BV16*1/4+25000,\n                 50000)))","v":0},0,0,{"$f":"IF(源泉徴収票!BW16<=20000, 源泉徴収票!BW16,\n  IF(源泉徴収票!BW16<=40000, 源泉徴収票!BW16*1/2+10000,\n   IF(源泉徴収票!BW16<=80000, 源泉徴収票!BW16*1/4+20000,\n                 40000)))","v":0},{"$f":"IF(源泉徴収票!BX16<=20000, 源泉徴収票!BX16,\n  IF(源泉徴収票!BX16<=40000, 源泉徴収票!BX16*1/2+10000,\n   IF(源泉徴収票!BX16<=80000, 源泉徴収票!BX16*1/4+20000,\n                 40000)))","v":0},{"$f":"IF(源泉徴収票!BY16<=25000,源泉徴収票!BY16,\n  IF(源泉徴収票!BY16<=50000,源泉徴収票!BY16*1/2+12500,\n   IF(源泉徴収票!BY16<=100000,源泉徴収票!BY16*1/4+25000,\n                 50000)))","v":0},0,0,{"$f":"IF(源泉徴収票!BZ16<>\"\",MIN(源泉徴収票!BZ16,50000),0)","v":0},{"$f":"IF(源泉徴収票!CA16>=20000,15000,IF(源泉徴収票!CA16>=10000,源泉徴収票!CA16/2+5000,源泉徴収票!CA16))","v":0},{"$f":"IF(源泉徴収票!CS16<>\"\",\"〇\",\"×\")","v":"×"},null,{"$f":"源泉徴収票!O16+源泉徴収票!R16+源泉徴収票!U16","v":0},{"$f":"源泉徴収票!Q16+源泉徴収票!T16+源泉徴収票!W16","v":0},{"$f":"IF(源泉徴収票!I16=\"無\",0,INT(A16*VLOOKUP(A16, 給与所得計算, 3, TRUE)\n        +  VLOOKUP(A16, 給与所得計算, 4, TRUE) ))","v":0},0,0,{"$f":"源泉徴収票!P16+源泉徴収票!S16+源泉徴収票!V16","v":0},{"$f":"IF(源泉徴収票!I16=\"無\",0,源泉徴収票!CB16)","v":0},{"$f":"IF(源泉徴収票!I16=\"無\",0,源泉徴収票!CD16)","v":0},{"$f":"IF(源泉徴収票!I16=\"無\",0,MIN(120000,Z16+AA16+AE16))","v":0},{"$f":"IF(源泉徴収票!I16=\"無\",0,MIN(AF16+AG16,50000))","v":0},{"$f":"IF(源泉徴収票!I16=\"無\",0,IF(E16=\"○\",INDEX(H30配偶者控除・特別控除マスタ,F16,G16),0))","v":0},{"$f":"IF(源泉徴収票!I16=\"無\",0,IF(C16=\"○\",INDEX(H30配偶者控除・特別控除マスタ,F16,G16),0)+IF(D16=\"○\",INDEX(H30老人控除対象配偶者上乗せ,1,G16),0))","v":0},{"$f":"IF(源泉徴収票!I16=\"無\",0,COUNTIF(M16:Q16,\"一\")*380000+COUNTIF(M16:Q16,\"特\")*630000+COUNTIF(M16:Q16,\"老\")*480000+COUNTIF(M16:Q16,\"同\")*580000)","v":0},{"$f":"IF(源泉徴収票!I16=\"無\",0,(COUNTIF(源泉徴収票!BO16:BP16,\"一般\")+源泉徴収票!BQ16)*270000+(COUNTIF(源泉徴収票!BO16:BP16,\"特別\")+源泉徴収票!BR16)*400000+(COUNTIF(源泉徴収票!BP16,\"同居特別\")+源泉徴収票!BS16)*750000)","v":0},{"$f":"IF(源泉徴収票!I16=\"無\",0,IF(源泉徴収票!BT16<>\"\",IF(OR(源泉徴収票!BT16=\"特別の寡婦\",源泉徴収票!BT16=\"ひとり親\"),350000,270000),0))","v":0},{"$f":"IF(源泉徴収票!I16=\"無\",0,480000)","v":480000},{"$f":"IF(源泉徴収票!I16=\"無\",0,SUM(AO16:AY16))","v":480000},{"$f":"IF(源泉徴収票!I16=\"無\",AN16,FLOOR(MAX(AN16-AZ16,0),1000))","v":0},{"$f":"IF(源泉徴収票!I16=\"無\",AK16,BA16*VLOOKUP(BA16,所得税額計算,3,TRUE)+VLOOKUP(BA16,所得税額計算,4,TRUE))","v":0},{"$f":"IF(源泉徴収票!I16=\"無\",0,源泉徴収票!CZ16)","v":0},0,{"$f":"IF(源泉徴収票!I16=\"無\",BD16,FLOOR(BD16*102.1%,100))","v":0},0]
[0,{"$f":"IF(AND(源泉徴収票!I17=\"無\",源泉徴収票!AE17<>\"\"),\"○\",\"×\")","v":"×"},{"$f":"IF(AND(源泉徴収票!CO17<>\"\",源泉徴収票!CO17<=480000,AN17<=10000000),\"○\",\"×\")","v":"×"},{"$f":"IF(AND(C17=\"○\",源泉徴収票!CN17<>\"\",会社情報!$C$7-YEAR(MAX(源泉徴収票!CN17-1,0))>=70),\"○\",\"×\")","v":"×"},{"$f":"IF(AND(源泉徴収票!CO17<>\"\",源泉徴収票!CO17>480000,源泉徴収票!CO17<=1330000,AN17<=10000000),\"○\",\"×\")","v":"×"},{"$f":"MATCH(源泉徴収票!CO17,H30配偶者控除・特別控除マスタ_配偶者所得,1)","v":1},{"$f":"MATCH('源泉徴収票計算過程(非)'!AN17,H30配偶者控除・特別控除マスタ_所得者合計所得,1)","v":1},{"$f":"IF(源泉徴収票!AN17=\"\",-1,会社情報!$C$7-YEAR(源泉徴収票!AN17-1))","v":-1},{"$f":"IF(源泉徴収票!AT17=\"\",-1,会社情報!$C$7-YEAR(源泉徴収票!AT17-1))","v":-1},{"$f":"IF(源泉徴収票!AZ17=\"\",-1,会社情報!$C$7-YEAR(源泉徴収票!AZ17-1))","v":-1},{"$f":"IF(源泉徴収票!BF17=\"\",-1,会社情報!$C$7-YEAR(源泉徴収票!BF17-1))","v":-1},{"$f":"IF(源泉徴収票!BL17=\"\",-1,会社情報!$C$7-YEAR(源泉徴収票!BL17-1))","v":-1},{"$f":"IF(H17>=16,IF(AND(H17>=19,H17<23),\"特\",IF(H17>=70,IF(源泉徴収票!AO17=\"同居老親等\",\"同\",\"老\"),\"一\")),IF(H17>=0,\"未\",\"×\"))","v":"×"},{"$f":"IF(I17>=16,IF(AND(I17>=19,I17<23),\"特\",IF(I17>=70,IF(源泉徴収票!AU17=\"同居老親等\",\"同\",\"老\"),\"一\")),IF(I17>=0,\"未\",\"×\"))","v":"×"},{"$f":"IF(J17>=16,IF(AND(J17>=19,J17<23),\"特\",IF(J17>=70,IF(源泉徴収票!BA17=\"同居老親等\",\"同\",\"老\"),\"一\")),IF(J17>=0,\"未\",\"×\"))","v":"×"},{"$f":"IF(K17>=16,IF(AND(K17>=19,K17<23),\"特\",IF(K17>=70,IF(源泉徴収票!BG17=\"同居老親等\",\"同\",\"老\"),\"一\")),IF(K17>=0,\"未\",\"×\"))","v":"×"},{"$f":"IF(L17>=16,IF(AND(L17>=19,L17<23),\"特\",IF(L17>=70,IF(源泉徴収票!BM17=\"同居老親等\",\"同\",\"老\"),\"一\")),IF(L17>=0,\"未\",\"×\"))","v":"×"},"","","","","",{"$f":"IF(源泉徴収票!BU17<=20000, 源泉徴収票!BU17,\n  IF(源泉徴収票!BU17<=40000, 源泉徴収票!BU17*1/2+10000,\n   IF(源泉徴収票!BU17<=80000, 源泉徴収票!BU17*1/4+20000,\n                 40000)))","v":0},{"$f":"IF(源泉徴収票!BV17<=25000,源泉徴収票!BV17,\n  IF(源泉徴収票!BV17<=50000,源泉徴収票!BV17*1/2+12500,\n   IF(源泉徴収票!BV17<=100000,源泉徴収票!BV17*1/4+25000,\n                 50000)))","v":0},0,0,{"$f":"IF(源泉徴収票!BW17<=20000, 源泉徴収票!BW17,\n  IF(源泉徴収票!BW17<=40000, 源泉徴収票!BW17*1/2+10000,\n   IF(源泉徴収票!BW17<=80000, 源泉徴収票!BW17*1/4+20000,\n                 40000)))","v":0},{"$f":"IF(源泉徴収票!BX17<=20000, 源泉徴収票!BX17,\n  IF(源泉徴収票!BX17<=40000, 源泉徴収票!BX17*1/2+10000,\n   IF(源泉徴収票!BX17<=80000, 源泉徴収票!BX17*1/4+20000,\n                 40000)))","v":0},{"$f":"IF(源泉徴収票!BY17<=25000,源泉徴収票!BY17,\n  IF(源泉徴収票!BY17<=50000,源泉徴収票!BY17*1/2+12500,\n   IF(源泉徴収票!BY17<=100000,源泉徴収票!BY17*1/4+25000,\n                 50000)))","v":0},0,0,{"$f":"IF(源泉徴収票!BZ17<>\"\",MIN(源泉徴収票!BZ17,50000),0)","v":0},{"$f":"IF(源泉徴収票!CA17>=20000,15000,IF(源泉徴収票!CA17>=10000,源泉徴収票!CA17/2+5000,源泉徴収票!CA17))","v":0},{"$f":"IF(源泉徴収票!CS17<>\"\",\"〇\",\"×\")","v":"×"},null,{"$f":"源泉徴収票!O17+源泉徴収票!R17+源泉徴収票!U17","v":0},{"$f":"源泉徴収票!Q17+源泉徴収票!T17+源泉徴収票!W17","v":0},{"$f":"IF(源泉徴収票!I17=\"無\",0,INT(A17*VLOOKUP(A17, 給与所得計算, 3, TRUE)\n        +  VLOOKUP(A17, 給与所得計算, 4, TRUE) ))","v":0},0,0,{"$f":"源泉徴収票!P17+源泉徴収票!S17+源泉徴収票!V17","v":0},{"$f":"IF(源泉徴収票!I17=\"無\",0,源泉徴収票!CB17)","v":0},{"$f":"IF(源泉徴収票!I17=\"無\",0,源泉徴収票!CD17)","v":0},{"$f":"IF(源泉徴収票!I17=\"無\",0,MIN(120000,Z17+AA17+AE17))","v":0},{"$f":"IF(源泉徴収票!I17=\"無\",0,MIN(AF17+AG17,50000))","v":0},{"$f":"IF(源泉徴収票!I17=\"無\",0,IF(E17=\"○\",INDEX(H30配偶者控除・特別控除マスタ,F17,G17),0))","v":0},{"$f":"IF(源泉徴収票!I17=\"無\",0,IF(C17=\"○\",INDEX(H30配偶者控除・特別控除マスタ,F17,G17),0)+IF(D17=\"○\",INDEX(H30老人控除対象配偶者上乗せ,1,G17),0))","v":0},{"$f":"IF(源泉徴収票!I17=\"無\",0,COUNTIF(M17:Q17,\"一\")*380000+COUNTIF(M17:Q17,\"特\")*630000+COUNTIF(M17:Q17,\"老\")*480000+COUNTIF(M17:Q17,\"同\")*580000)","v":0},{"$f":"IF(源泉徴収票!I17=\"無\",0,(COUNTIF(源泉徴収票!BO17:BP17,\"一般\")+源泉徴収票!BQ17)*270000+(COUNTIF(源泉徴収票!BO17:BP17,\"特別\")+源泉徴収票!BR17)*400000+(COUNTIF(源泉徴収票!BP17,\"同居特別\")+源泉徴収票!BS17)*750000)","v":0},{"$f":"IF(源泉徴収票!I17=\"無\",0,IF(源泉徴収票!BT17<>\"\",IF(OR(源泉徴収票!BT17=\"特別の寡婦\",源泉徴収票!BT17=\"ひとり親\"),350000,270000),0))","v":0},{"$f":"IF(源泉徴収票!I17=\"無\",0,480000)","v":480000},{"$f":"IF(源泉徴収票!I17=\"無\",0,SUM(AO17:AY17))","v":480000},{"$f":"IF(源泉徴収票!I17=\"無\",AN17,FLOOR(MAX(AN17-AZ17,0),1000))","v":0},{"$f":"IF(源泉徴収票!I17=\"無\",AK17,BA17*VLOOKUP(BA17,所得税額計算,3,TRUE)+VLOOKUP(BA17,所得税額計算,4,TRUE))","v":0},{"$f":"IF(源泉徴収票!I17=\"無\",0,源泉徴収票!CZ17)","v":0},0,{"$f":"IF(源泉徴収票!I17=\"無\",BD17,FLOOR(BD17*102.1%,100))","v":0},0]
[0,{"$f":"IF(AND(源泉徴収票!I18=\"無\",源泉徴収票!AE18<>\"\"),\"○\",\"×\")","v":"×"},{"$f":"IF(AND(源泉徴収票!CO18<>\"\",源泉徴収票!CO18<=480000,AN18<=10000000),\"○\",\"×\")","v":"×"},{"$f":"IF(AND(C18=\"○\",源泉徴収票!CN18<>\"\",会社情報!$C$7-YEAR(MAX(源泉徴収票!CN18-1,0))>=70),\"○\",\"×\")","v":"×"},{"$f":"IF(AND(源泉徴収票!CO18<>\"\",源泉徴収票!CO18>480000,源泉徴収票!CO18<=1330000,AN18<=10000000),\"○\",\"×\")","v":"×"},{"$f":"MATCH(源泉徴収票!CO18,H30配偶者控除・特別控除マスタ_配偶者所得,1)","v":1},{"$f":"MATCH('源泉徴収票計算過程(非)'!AN18,H30配偶者控除・特別控除マスタ_所得者合計所得,1)","v":1},{"$f":"IF(源泉徴収票!AN18=\"\",-1,会社情報!$C$7-YEAR(源泉徴収票!AN18-1))","v":-1},{"$f":"IF(源泉徴収票!AT18=\"\",-1,会社情報!$C$7-YEAR(源泉徴収票!AT18-1))","v":-1},{"$f":"IF(源泉徴収票!AZ18=\"\",-1,会社情報!$C$7-YEAR(源泉徴収票!AZ18-1))","v":-1},{"$f":"IF(源泉徴収票!BF18=\"\",-1,会社情報!$C$7-YEAR(源泉徴収票!BF18-1))","v":-1},{"$f":"IF(源泉徴収票!BL18=\"\",-1,会社情報!$C$7-YEAR(源泉徴収票!BL18-1))","v":-1},{"$f":"IF(H18>=16,IF(AND(H18>=19,H18<23),\"特\",IF(H18>=70,IF(源泉徴収票!AO18=\"同居老親等\",\"同\",\"老\"),\"一\")),IF(H18>=0,\"未\",\"×\"))","v":"×"},{"$f":"IF(I18>=16,IF(AND(I18>=19,I18<23),\"特\",IF(I18>=70,IF(源泉徴収票!AU18=\"同居老親等\",\"同\",\"老\"),\"一\")),IF(I18>=0,\"未\",\"×\"))","v":"×"},{"$f":"IF(J18>=16,IF(AND(J18>=19,J18<23),\"特\",IF(J18>=70,IF(源泉徴収票!BA18=\"同居老親等\",\"同\",\"老\"),\"一\")),IF(J18>=0,\"未\",\"×\"))","v":"×"},{"$f":"IF(K18>=16,IF(AND(K18>=19,K18<23),\"特\",IF(K18>=70,IF(源泉徴収票!BG18=\"同居老親等\",\"同\",\"老\"),\"一\")),IF(K18>=0,\"未\",\"×\"))","v":"×"},{"$f":"IF(L18>=16,IF(AND(L18>=19,L18<23),\"特\",IF(L18>=70,IF(源泉徴収票!BM18=\"同居老親等\",\"同\",\"老\"),\"一\")),IF(L18>=0,\"未\",\"×\"))","v":"×"},"","","","","",{"$f":"IF(源泉徴収票!BU18<=20000, 源泉徴収票!BU18,\n  IF(源泉徴収票!BU18<=40000, 源泉徴収票!BU18*1/2+10000,\n   IF(源泉徴収票!BU18<=80000, 源泉徴収票!BU18*1/4+20000,\n                 40000)))","v":0},{"$f":"IF(源泉徴収票!BV18<=25000,源泉徴収票!BV18,\n  IF(源泉徴収票!BV18<=50000,源泉徴収票!BV18*1/2+12500,\n   IF(源泉徴収票!BV18<=100000,源泉徴収票!BV18*1/4+25000,\n                 50000)))","v":0},0,0,{"$f":"IF(源泉徴収票!BW18<=20000, 源泉徴収票!BW18,\n  IF(源泉徴収票!BW18<=40000, 源泉徴収票!BW18*1/2+10000,\n   IF(源泉徴収票!BW18<=80000, 源泉徴収票!BW18*1/4+20000,\n                 40000)))","v":0},{"$f":"IF(源泉徴収票!BX18<=20000, 源泉徴収票!BX18,\n  IF(源泉徴収票!BX18<=40000, 源泉徴収票!BX18*1/2+10000,\n   IF(源泉徴収票!BX18<=80000, 源泉徴収票!BX18*1/4+20000,\n                 40000)))","v":0},{"$f":"IF(源泉徴収票!BY18<=25000,源泉徴収票!BY18,\n  IF(源泉徴収票!BY18<=50000,源泉徴収票!BY18*1/2+12500,\n   IF(源泉徴収票!BY18<=100000,源泉徴収票!BY18*1/4+25000,\n                 50000)))","v":0},0,0,{"$f":"IF(源泉徴収票!BZ18<>\"\",MIN(源泉徴収票!BZ18,50000),0)","v":0},{"$f":"IF(源泉徴収票!CA18>=20000,15000,IF(源泉徴収票!CA18>=10000,源泉徴収票!CA18/2+5000,源泉徴収票!CA18))","v":0},{"$f":"IF(源泉徴収票!CS18<>\"\",\"〇\",\"×\")","v":"×"},null,{"$f":"源泉徴収票!O18+源泉徴収票!R18+源泉徴収票!U18","v":0},{"$f":"源泉徴収票!Q18+源泉徴収票!T18+源泉徴収票!W18","v":0},{"$f":"IF(源泉徴収票!I18=\"無\",0,INT(A18*VLOOKUP(A18, 給与所得計算, 3, TRUE)\n        +  VLOOKUP(A18, 給与所得計算, 4, TRUE) ))","v":0},0,0,{"$f":"源泉徴収票!P18+源泉徴収票!S18+源泉徴収票!V18","v":0},{"$f":"IF(源泉徴収票!I18=\"無\",0,源泉徴収票!CB18)","v":0},{"$f":"IF(源泉徴収票!I18=\"無\",0,源泉徴収票!CD18)","v":0},{"$f":"IF(源泉徴収票!I18=\"無\",0,MIN(120000,Z18+AA18+AE18))","v":0},{"$f":"IF(源泉徴収票!I18=\"無\",0,MIN(AF18+AG18,50000))","v":0},{"$f":"IF(源泉徴収票!I18=\"無\",0,IF(E18=\"○\",INDEX(H30配偶者控除・特別控除マスタ,F18,G18),0))","v":0},{"$f":"IF(源泉徴収票!I18=\"無\",0,IF(C18=\"○\",INDEX(H30配偶者控除・特別控除マスタ,F18,G18),0)+IF(D18=\"○\",INDEX(H30老人控除対象配偶者上乗せ,1,G18),0))","v":0},{"$f":"IF(源泉徴収票!I18=\"無\",0,COUNTIF(M18:Q18,\"一\")*380000+COUNTIF(M18:Q18,\"特\")*630000+COUNTIF(M18:Q18,\"老\")*480000+COUNTIF(M18:Q18,\"同\")*580000)","v":0},{"$f":"IF(源泉徴収票!I18=\"無\",0,(COUNTIF(源泉徴収票!BO18:BP18,\"一般\")+源泉徴収票!BQ18)*270000+(COUNTIF(源泉徴収票!BO18:BP18,\"特別\")+源泉徴収票!BR18)*400000+(COUNTIF(源泉徴収票!BP18,\"同居特別\")+源泉徴収票!BS18)*750000)","v":0},{"$f":"IF(源泉徴収票!I18=\"無\",0,IF(源泉徴収票!BT18<>\"\",IF(OR(源泉徴収票!BT18=\"特別の寡婦\",源泉徴収票!BT18=\"ひとり親\"),350000,270000),0))","v":0},{"$f":"IF(源泉徴収票!I18=\"無\",0,480000)","v":480000},{"$f":"IF(源泉徴収票!I18=\"無\",0,SUM(AO18:AY18))","v":480000},{"$f":"IF(源泉徴収票!I18=\"無\",AN18,FLOOR(MAX(AN18-AZ18,0),1000))","v":0},{"$f":"IF(源泉徴収票!I18=\"無\",AK18,BA18*VLOOKUP(BA18,所得税額計算,3,TRUE)+VLOOKUP(BA18,所得税額計算,4,TRUE))","v":0},{"$f":"IF(源泉徴収票!I18=\"無\",0,源泉徴収票!CZ18)","v":0},0,{"$f":"IF(源泉徴収票!I18=\"無\",BD18,FLOOR(BD18*102.1%,100))","v":0},0]
[0,{"$f":"IF(AND(源泉徴収票!I19=\"無\",源泉徴収票!AE19<>\"\"),\"○\",\"×\")","v":"×"},{"$f":"IF(AND(源泉徴収票!CO19<>\"\",源泉徴収票!CO19<=480000,AN19<=10000000),\"○\",\"×\")","v":"×"},{"$f":"IF(AND(C19=\"○\",源泉徴収票!CN19<>\"\",会社情報!$C$7-YEAR(MAX(源泉徴収票!CN19-1,0))>=70),\"○\",\"×\")","v":"×"},{"$f":"IF(AND(源泉徴収票!CO19<>\"\",源泉徴収票!CO19>480000,源泉徴収票!CO19<=1330000,AN19<=10000000),\"○\",\"×\")","v":"×"},{"$f":"MATCH(源泉徴収票!CO19,H30配偶者控除・特別控除マスタ_配偶者所得,1)","v":1},{"$f":"MATCH('源泉徴収票計算過程(非)'!AN19,H30配偶者控除・特別控除マスタ_所得者合計所得,1)","v":1},{"$f":"IF(源泉徴収票!AN19=\"\",-1,会社情報!$C$7-YEAR(源泉徴収票!AN19-1))","v":-1},{"$f":"IF(源泉徴収票!AT19=\"\",-1,会社情報!$C$7-YEAR(源泉徴収票!AT19-1))","v":-1},{"$f":"IF(源泉徴収票!AZ19=\"\",-1,会社情報!$C$7-YEAR(源泉徴収票!AZ19-1))","v":-1},{"$f":"IF(源泉徴収票!BF19=\"\",-1,会社情報!$C$7-YEAR(源泉徴収票!BF19-1))","v":-1},{"$f":"IF(源泉徴収票!BL19=\"\",-1,会社情報!$C$7-YEAR(源泉徴収票!BL19-1))","v":-1},{"$f":"IF(H19>=16,IF(AND(H19>=19,H19<23),\"特\",IF(H19>=70,IF(源泉徴収票!AO19=\"同居老親等\",\"同\",\"老\"),\"一\")),IF(H19>=0,\"未\",\"×\"))","v":"×"},{"$f":"IF(I19>=16,IF(AND(I19>=19,I19<23),\"特\",IF(I19>=70,IF(源泉徴収票!AU19=\"同居老親等\",\"同\",\"老\"),\"一\")),IF(I19>=0,\"未\",\"×\"))","v":"×"},{"$f":"IF(J19>=16,IF(AND(J19>=19,J19<23),\"特\",IF(J19>=70,IF(源泉徴収票!BA19=\"同居老親等\",\"同\",\"老\"),\"一\")),IF(J19>=0,\"未\",\"×\"))","v":"×"},{"$f":"IF(K19>=16,IF(AND(K19>=19,K19<23),\"特\",IF(K19>=70,IF(源泉徴収票!BG19=\"同居老親等\",\"同\",\"老\"),\"一\")),IF(K19>=0,\"未\",\"×\"))","v":"×"},{"$f":"IF(L19>=16,IF(AND(L19>=19,L19<23),\"特\",IF(L19>=70,IF(源泉徴収票!BM19=\"同居老親等\",\"同\",\"老\"),\"一\")),IF(L19>=0,\"未\",\"×\"))","v":"×"},"","","","","",{"$f":"IF(源泉徴収票!BU19<=20000, 源泉徴収票!BU19,\n  IF(源泉徴収票!BU19<=40000, 源泉徴収票!BU19*1/2+10000,\n   IF(源泉徴収票!BU19<=80000, 源泉徴収票!BU19*1/4+20000,\n                 40000)))","v":0},{"$f":"IF(源泉徴収票!BV19<=25000,源泉徴収票!BV19,\n  IF(源泉徴収票!BV19<=50000,源泉徴収票!BV19*1/2+12500,\n   IF(源泉徴収票!BV19<=100000,源泉徴収票!BV19*1/4+25000,\n                 50000)))","v":0},0,0,{"$f":"IF(源泉徴収票!BW19<=20000, 源泉徴収票!BW19,\n  IF(源泉徴収票!BW19<=40000, 源泉徴収票!BW19*1/2+10000,\n   IF(源泉徴収票!BW19<=80000, 源泉徴収票!BW19*1/4+20000,\n                 40000)))","v":0},{"$f":"IF(源泉徴収票!BX19<=20000, 源泉徴収票!BX19,\n  IF(源泉徴収票!BX19<=40000, 源泉徴収票!BX19*1/2+10000,\n   IF(源泉徴収票!BX19<=80000, 源泉徴収票!BX19*1/4+20000,\n                 40000)))","v":0},{"$f":"IF(源泉徴収票!BY19<=25000,源泉徴収票!BY19,\n  IF(源泉徴収票!BY19<=50000,源泉徴収票!BY19*1/2+12500,\n   IF(源泉徴収票!BY19<=100000,源泉徴収票!BY19*1/4+25000,\n                 50000)))","v":0},0,0,{"$f":"IF(源泉徴収票!BZ19<>\"\",MIN(源泉徴収票!BZ19,50000),0)","v":0},{"$f":"IF(源泉徴収票!CA19>=20000,15000,IF(源泉徴収票!CA19>=10000,源泉徴収票!CA19/2+5000,源泉徴収票!CA19))","v":0},{"$f":"IF(源泉徴収票!CS19<>\"\",\"〇\",\"×\")","v":"×"},null,{"$f":"源泉徴収票!O19+源泉徴収票!R19+源泉徴収票!U19","v":0},{"$f":"源泉徴収票!Q19+源泉徴収票!T19+源泉徴収票!W19","v":0},{"$f":"IF(源泉徴収票!I19=\"無\",0,INT(A19*VLOOKUP(A19, 給与所得計算, 3, TRUE)\n        +  VLOOKUP(A19, 給与所得計算, 4, TRUE) ))","v":0},0,0,{"$f":"源泉徴収票!P19+源泉徴収票!S19+源泉徴収票!V19","v":0},{"$f":"IF(源泉徴収票!I19=\"無\",0,源泉徴収票!CB19)","v":0},{"$f":"IF(源泉徴収票!I19=\"無\",0,源泉徴収票!CD19)","v":0},{"$f":"IF(源泉徴収票!I19=\"無\",0,MIN(120000,Z19+AA19+AE19))","v":0},{"$f":"IF(源泉徴収票!I19=\"無\",0,MIN(AF19+AG19,50000))","v":0},{"$f":"IF(源泉徴収票!I19=\"無\",0,IF(E19=\"○\",INDEX(H30配偶者控除・特別控除マスタ,F19,G19),0))","v":0},{"$f":"IF(源泉徴収票!I19=\"無\",0,IF(C19=\"○\",INDEX(H30配偶者控除・特別控除マスタ,F19,G19),0)+IF(D19=\"○\",INDEX(H30老人控除対象配偶者上乗せ,1,G19),0))","v":0},{"$f":"IF(源泉徴収票!I19=\"無\",0,COUNTIF(M19:Q19,\"一\")*380000+COUNTIF(M19:Q19,\"特\")*630000+COUNTIF(M19:Q19,\"老\")*480000+COUNTIF(M19:Q19,\"同\")*580000)","v":0},{"$f":"IF(源泉徴収票!I19=\"無\",0,(COUNTIF(源泉徴収票!BO19:BP19,\"一般\")+源泉徴収票!BQ19)*270000+(COUNTIF(源泉徴収票!BO19:BP19,\"特別\")+源泉徴収票!BR19)*400000+(COUNTIF(源泉徴収票!BP19,\"同居特別\")+源泉徴収票!BS19)*750000)","v":0},{"$f":"IF(源泉徴収票!I19=\"無\",0,IF(源泉徴収票!BT19<>\"\",IF(OR(源泉徴収票!BT19=\"特別の寡婦\",源泉徴収票!BT19=\"ひとり親\"),350000,270000),0))","v":0},{"$f":"IF(源泉徴収票!I19=\"無\",0,480000)","v":480000},{"$f":"IF(源泉徴収票!I19=\"無\",0,SUM(AO19:AY19))","v":480000},{"$f":"IF(源泉徴収票!I19=\"無\",AN19,FLOOR(MAX(AN19-AZ19,0),1000))","v":0},{"$f":"IF(源泉徴収票!I19=\"無\",AK19,BA19*VLOOKUP(BA19,所得税額計算,3,TRUE)+VLOOKUP(BA19,所得税額計算,4,TRUE))","v":0},{"$f":"IF(源泉徴収票!I19=\"無\",0,源泉徴収票!CZ19)","v":0},0,{"$f":"IF(源泉徴収票!I19=\"無\",BD19,FLOOR(BD19*102.1%,100))","v":0},0]
[0,{"$f":"IF(AND(源泉徴収票!I20=\"無\",源泉徴収票!AE20<>\"\"),\"○\",\"×\")","v":"×"},{"$f":"IF(AND(源泉徴収票!CO20<>\"\",源泉徴収票!CO20<=480000,AN20<=10000000),\"○\",\"×\")","v":"×"},{"$f":"IF(AND(C20=\"○\",源泉徴収票!CN20<>\"\",会社情報!$C$7-YEAR(MAX(源泉徴収票!CN20-1,0))>=70),\"○\",\"×\")","v":"×"},{"$f":"IF(AND(源泉徴収票!CO20<>\"\",源泉徴収票!CO20>480000,源泉徴収票!CO20<=1330000,AN20<=10000000),\"○\",\"×\")","v":"×"},{"$f":"MATCH(源泉徴収票!CO20,H30配偶者控除・特別控除マスタ_配偶者所得,1)","v":1},{"$f":"MATCH('源泉徴収票計算過程(非)'!AN20,H30配偶者控除・特別控除マスタ_所得者合計所得,1)","v":1},{"$f":"IF(源泉徴収票!AN20=\"\",-1,会社情報!$C$7-YEAR(源泉徴収票!AN20-1))","v":-1},{"$f":"IF(源泉徴収票!AT20=\"\",-1,会社情報!$C$7-YEAR(源泉徴収票!AT20-1))","v":-1},{"$f":"IF(源泉徴収票!AZ20=\"\",-1,会社情報!$C$7-YEAR(源泉徴収票!AZ20-1))","v":-1},{"$f":"IF(源泉徴収票!BF20=\"\",-1,会社情報!$C$7-YEAR(源泉徴収票!BF20-1))","v":-1},{"$f":"IF(源泉徴収票!BL20=\"\",-1,会社情報!$C$7-YEAR(源泉徴収票!BL20-1))","v":-1},{"$f":"IF(H20>=16,IF(AND(H20>=19,H20<23),\"特\",IF(H20>=70,IF(源泉徴収票!AO20=\"同居老親等\",\"同\",\"老\"),\"一\")),IF(H20>=0,\"未\",\"×\"))","v":"×"},{"$f":"IF(I20>=16,IF(AND(I20>=19,I20<23),\"特\",IF(I20>=70,IF(源泉徴収票!AU20=\"同居老親等\",\"同\",\"老\"),\"一\")),IF(I20>=0,\"未\",\"×\"))","v":"×"},{"$f":"IF(J20>=16,IF(AND(J20>=19,J20<23),\"特\",IF(J20>=70,IF(源泉徴収票!BA20=\"同居老親等\",\"同\",\"老\"),\"一\")),IF(J20>=0,\"未\",\"×\"))","v":"×"},{"$f":"IF(K20>=16,IF(AND(K20>=19,K20<23),\"特\",IF(K20>=70,IF(源泉徴収票!BG20=\"同居老親等\",\"同\",\"老\"),\"一\")),IF(K20>=0,\"未\",\"×\"))","v":"×"},{"$f":"IF(L20>=16,IF(AND(L20>=19,L20<23),\"特\",IF(L20>=70,IF(源泉徴収票!BM20=\"同居老親等\",\"同\",\"老\"),\"一\")),IF(L20>=0,\"未\",\"×\"))","v":"×"},"","","","","",{"$f":"IF(源泉徴収票!BU20<=20000, 源泉徴収票!BU20,\n  IF(源泉徴収票!BU20<=40000, 源泉徴収票!BU20*1/2+10000,\n   IF(源泉徴収票!BU20<=80000, 源泉徴収票!BU20*1/4+20000,\n                 40000)))","v":0},{"$f":"IF(源泉徴収票!BV20<=25000,源泉徴収票!BV20,\n  IF(源泉徴収票!BV20<=50000,源泉徴収票!BV20*1/2+12500,\n   IF(源泉徴収票!BV20<=100000,源泉徴収票!BV20*1/4+25000,\n                 50000)))","v":0},0,0,{"$f":"IF(源泉徴収票!BW20<=20000, 源泉徴収票!BW20,\n  IF(源泉徴収票!BW20<=40000, 源泉徴収票!BW20*1/2+10000,\n   IF(源泉徴収票!BW20<=80000, 源泉徴収票!BW20*1/4+20000,\n                 40000)))","v":0},{"$f":"IF(源泉徴収票!BX20<=20000, 源泉徴収票!BX20,\n  IF(源泉徴収票!BX20<=40000, 源泉徴収票!BX20*1/2+10000,\n   IF(源泉徴収票!BX20<=80000, 源泉徴収票!BX20*1/4+20000,\n                 40000)))","v":0},{"$f":"IF(源泉徴収票!BY20<=25000,源泉徴収票!BY20,\n  IF(源泉徴収票!BY20<=50000,源泉徴収票!BY20*1/2+12500,\n   IF(源泉徴収票!BY20<=100000,源泉徴収票!BY20*1/4+25000,\n                 50000)))","v":0},0,0,{"$f":"IF(源泉徴収票!BZ20<>\"\",MIN(源泉徴収票!BZ20,50000),0)","v":0},{"$f":"IF(源泉徴収票!CA20>=20000,15000,IF(源泉徴収票!CA20>=10000,源泉徴収票!CA20/2+5000,源泉徴収票!CA20))","v":0},{"$f":"IF(源泉徴収票!CS20<>\"\",\"〇\",\"×\")","v":"×"},null,{"$f":"源泉徴収票!O20+源泉徴収票!R20+源泉徴収票!U20","v":0},{"$f":"源泉徴収票!Q20+源泉徴収票!T20+源泉徴収票!W20","v":0},{"$f":"IF(源泉徴収票!I20=\"無\",0,INT(A20*VLOOKUP(A20, 給与所得計算, 3, TRUE)\n        +  VLOOKUP(A20, 給与所得計算, 4, TRUE) ))","v":0},0,0,{"$f":"源泉徴収票!P20+源泉徴収票!S20+源泉徴収票!V20","v":0},{"$f":"IF(源泉徴収票!I20=\"無\",0,源泉徴収票!CB20)","v":0},{"$f":"IF(源泉徴収票!I20=\"無\",0,源泉徴収票!CD20)","v":0},{"$f":"IF(源泉徴収票!I20=\"無\",0,MIN(120000,Z20+AA20+AE20))","v":0},{"$f":"IF(源泉徴収票!I20=\"無\",0,MIN(AF20+AG20,50000))","v":0},{"$f":"IF(源泉徴収票!I20=\"無\",0,IF(E20=\"○\",INDEX(H30配偶者控除・特別控除マスタ,F20,G20),0))","v":0},{"$f":"IF(源泉徴収票!I20=\"無\",0,IF(C20=\"○\",INDEX(H30配偶者控除・特別控除マスタ,F20,G20),0)+IF(D20=\"○\",INDEX(H30老人控除対象配偶者上乗せ,1,G20),0))","v":0},{"$f":"IF(源泉徴収票!I20=\"無\",0,COUNTIF(M20:Q20,\"一\")*380000+COUNTIF(M20:Q20,\"特\")*630000+COUNTIF(M20:Q20,\"老\")*480000+COUNTIF(M20:Q20,\"同\")*580000)","v":0},{"$f":"IF(源泉徴収票!I20=\"無\",0,(COUNTIF(源泉徴収票!BO20:BP20,\"一般\")+源泉徴収票!BQ20)*270000+(COUNTIF(源泉徴収票!BO20:BP20,\"特別\")+源泉徴収票!BR20)*400000+(COUNTIF(源泉徴収票!BP20,\"同居特別\")+源泉徴収票!BS20)*750000)","v":0},{"$f":"IF(源泉徴収票!I20=\"無\",0,IF(源泉徴収票!BT20<>\"\",IF(OR(源泉徴収票!BT20=\"特別の寡婦\",源泉徴収票!BT20=\"ひとり親\"),350000,270000),0))","v":0},{"$f":"IF(源泉徴収票!I20=\"無\",0,480000)","v":480000},{"$f":"IF(源泉徴収票!I20=\"無\",0,SUM(AO20:AY20))","v":480000},{"$f":"IF(源泉徴収票!I20=\"無\",AN20,FLOOR(MAX(AN20-AZ20,0),1000))","v":0},{"$f":"IF(源泉徴収票!I20=\"無\",AK20,BA20*VLOOKUP(BA20,所得税額計算,3,TRUE)+VLOOKUP(BA20,所得税額計算,4,TRUE))","v":0},{"$f":"IF(源泉徴収票!I20=\"無\",0,源泉徴収票!CZ20)","v":0},0,{"$f":"IF(源泉徴収票!I20=\"無\",BD20,FLOOR(BD20*102.1%,100))","v":0},0]
[0,{"$f":"IF(AND(源泉徴収票!I21=\"無\",源泉徴収票!AE21<>\"\"),\"○\",\"×\")","v":"×"},{"$f":"IF(AND(源泉徴収票!CO21<>\"\",源泉徴収票!CO21<=480000,AN21<=10000000),\"○\",\"×\")","v":"×"},{"$f":"IF(AND(C21=\"○\",源泉徴収票!CN21<>\"\",会社情報!$C$7-YEAR(MAX(源泉徴収票!CN21-1,0))>=70),\"○\",\"×\")","v":"×"},{"$f":"IF(AND(源泉徴収票!CO21<>\"\",源泉徴収票!CO21>480000,源泉徴収票!CO21<=1330000,AN21<=10000000),\"○\",\"×\")","v":"×"},{"$f":"MATCH(源泉徴収票!CO21,H30配偶者控除・特別控除マスタ_配偶者所得,1)","v":1},{"$f":"MATCH('源泉徴収票計算過程(非)'!AN21,H30配偶者控除・特別控除マスタ_所得者合計所得,1)","v":1},{"$f":"IF(源泉徴収票!AN21=\"\",-1,会社情報!$C$7-YEAR(源泉徴収票!AN21-1))","v":-1},{"$f":"IF(源泉徴収票!AT21=\"\",-1,会社情報!$C$7-YEAR(源泉徴収票!AT21-1))","v":-1},{"$f":"IF(源泉徴収票!AZ21=\"\",-1,会社情報!$C$7-YEAR(源泉徴収票!AZ21-1))","v":-1},{"$f":"IF(源泉徴収票!BF21=\"\",-1,会社情報!$C$7-YEAR(源泉徴収票!BF21-1))","v":-1},{"$f":"IF(源泉徴収票!BL21=\"\",-1,会社情報!$C$7-YEAR(源泉徴収票!BL21-1))","v":-1},{"$f":"IF(H21>=16,IF(AND(H21>=19,H21<23),\"特\",IF(H21>=70,IF(源泉徴収票!AO21=\"同居老親等\",\"同\",\"老\"),\"一\")),IF(H21>=0,\"未\",\"×\"))","v":"×"},{"$f":"IF(I21>=16,IF(AND(I21>=19,I21<23),\"特\",IF(I21>=70,IF(源泉徴収票!AU21=\"同居老親等\",\"同\",\"老\"),\"一\")),IF(I21>=0,\"未\",\"×\"))","v":"×"},{"$f":"IF(J21>=16,IF(AND(J21>=19,J21<23),\"特\",IF(J21>=70,IF(源泉徴収票!BA21=\"同居老親等\",\"同\",\"老\"),\"一\")),IF(J21>=0,\"未\",\"×\"))","v":"×"},{"$f":"IF(K21>=16,IF(AND(K21>=19,K21<23),\"特\",IF(K21>=70,IF(源泉徴収票!BG21=\"同居老親等\",\"同\",\"老\"),\"一\")),IF(K21>=0,\"未\",\"×\"))","v":"×"},{"$f":"IF(L21>=16,IF(AND(L21>=19,L21<23),\"特\",IF(L21>=70,IF(源泉徴収票!BM21=\"同居老親等\",\"同\",\"老\"),\"一\")),IF(L21>=0,\"未\",\"×\"))","v":"×"},"","","","","",{"$f":"IF(源泉徴収票!BU21<=20000, 源泉徴収票!BU21,\n  IF(源泉徴収票!BU21<=40000, 源泉徴収票!BU21*1/2+10000,\n   IF(源泉徴収票!BU21<=80000, 源泉徴収票!BU21*1/4+20000,\n                 40000)))","v":0},{"$f":"IF(源泉徴収票!BV21<=25000,源泉徴収票!BV21,\n  IF(源泉徴収票!BV21<=50000,源泉徴収票!BV21*1/2+12500,\n   IF(源泉徴収票!BV21<=100000,源泉徴収票!BV21*1/4+25000,\n                 50000)))","v":0},0,0,{"$f":"IF(源泉徴収票!BW21<=20000, 源泉徴収票!BW21,\n  IF(源泉徴収票!BW21<=40000, 源泉徴収票!BW21*1/2+10000,\n   IF(源泉徴収票!BW21<=80000, 源泉徴収票!BW21*1/4+20000,\n                 40000)))","v":0},{"$f":"IF(源泉徴収票!BX21<=20000, 源泉徴収票!BX21,\n  IF(源泉徴収票!BX21<=40000, 源泉徴収票!BX21*1/2+10000,\n   IF(源泉徴収票!BX21<=80000, 源泉徴収票!BX21*1/4+20000,\n                 40000)))","v":0},{"$f":"IF(源泉徴収票!BY21<=25000,源泉徴収票!BY21,\n  IF(源泉徴収票!BY21<=50000,源泉徴収票!BY21*1/2+12500,\n   IF(源泉徴収票!BY21<=100000,源泉徴収票!BY21*1/4+25000,\n                 50000)))","v":0},0,0,{"$f":"IF(源泉徴収票!BZ21<>\"\",MIN(源泉徴収票!BZ21,50000),0)","v":0},{"$f":"IF(源泉徴収票!CA21>=20000,15000,IF(源泉徴収票!CA21>=10000,源泉徴収票!CA21/2+5000,源泉徴収票!CA21))","v":0},{"$f":"IF(源泉徴収票!CS21<>\"\",\"〇\",\"×\")","v":"×"},null,{"$f":"源泉徴収票!O21+源泉徴収票!R21+源泉徴収票!U21","v":0},{"$f":"源泉徴収票!Q21+源泉徴収票!T21+源泉徴収票!W21","v":0},{"$f":"IF(源泉徴収票!I21=\"無\",0,INT(A21*VLOOKUP(A21, 給与所得計算, 3, TRUE)\n        +  VLOOKUP(A21, 給与所得計算, 4, TRUE) ))","v":0},0,0,{"$f":"源泉徴収票!P21+源泉徴収票!S21+源泉徴収票!V21","v":0},{"$f":"IF(源泉徴収票!I21=\"無\",0,源泉徴収票!CB21)","v":0},{"$f":"IF(源泉徴収票!I21=\"無\",0,源泉徴収票!CD21)","v":0},{"$f":"IF(源泉徴収票!I21=\"無\",0,MIN(120000,Z21+AA21+AE21))","v":0},{"$f":"IF(源泉徴収票!I21=\"無\",0,MIN(AF21+AG21,50000))","v":0},{"$f":"IF(源泉徴収票!I21=\"無\",0,IF(E21=\"○\",INDEX(H30配偶者控除・特別控除マスタ,F21,G21),0))","v":0},{"$f":"IF(源泉徴収票!I21=\"無\",0,IF(C21=\"○\",INDEX(H30配偶者控除・特別控除マスタ,F21,G21),0)+IF(D21=\"○\",INDEX(H30老人控除対象配偶者上乗せ,1,G21),0))","v":0},{"$f":"IF(源泉徴収票!I21=\"無\",0,COUNTIF(M21:Q21,\"一\")*380000+COUNTIF(M21:Q21,\"特\")*630000+COUNTIF(M21:Q21,\"老\")*480000+COUNTIF(M21:Q21,\"同\")*580000)","v":0},{"$f":"IF(源泉徴収票!I21=\"無\",0,(COUNTIF(源泉徴収票!BO21:BP21,\"一般\")+源泉徴収票!BQ21)*270000+(COUNTIF(源泉徴収票!BO21:BP21,\"特別\")+源泉徴収票!BR21)*400000+(COUNTIF(源泉徴収票!BP21,\"同居特別\")+源泉徴収票!BS21)*750000)","v":0},{"$f":"IF(源泉徴収票!I21=\"無\",0,IF(源泉徴収票!BT21<>\"\",IF(OR(源泉徴収票!BT21=\"特別の寡婦\",源泉徴収票!BT21=\"ひとり親\"),350000,270000),0))","v":0},{"$f":"IF(源泉徴収票!I21=\"無\",0,480000)","v":480000},{"$f":"IF(源泉徴収票!I21=\"無\",0,SUM(AO21:AY21))","v":480000},{"$f":"IF(源泉徴収票!I21=\"無\",AN21,FLOOR(MAX(AN21-AZ21,0),1000))","v":0},{"$f":"IF(源泉徴収票!I21=\"無\",AK21,BA21*VLOOKUP(BA21,所得税額計算,3,TRUE)+VLOOKUP(BA21,所得税額計算,4,TRUE))","v":0},{"$f":"IF(源泉徴収票!I21=\"無\",0,源泉徴収票!CZ21)","v":0},0,{"$f":"IF(源泉徴収票!I21=\"無\",BD21,FLOOR(BD21*102.1%,100))","v":0},0]
[0,{"$f":"IF(AND(源泉徴収票!I22=\"無\",源泉徴収票!AE22<>\"\"),\"○\",\"×\")","v":"×"},{"$f":"IF(AND(源泉徴収票!CO22<>\"\",源泉徴収票!CO22<=480000,AN22<=10000000),\"○\",\"×\")","v":"×"},{"$f":"IF(AND(C22=\"○\",源泉徴収票!CN22<>\"\",会社情報!$C$7-YEAR(MAX(源泉徴収票!CN22-1,0))>=70),\"○\",\"×\")","v":"×"},{"$f":"IF(AND(源泉徴収票!CO22<>\"\",源泉徴収票!CO22>480000,源泉徴収票!CO22<=1330000,AN22<=10000000),\"○\",\"×\")","v":"×"},{"$f":"MATCH(源泉徴収票!CO22,H30配偶者控除・特別控除マスタ_配偶者所得,1)","v":1},{"$f":"MATCH('源泉徴収票計算過程(非)'!AN22,H30配偶者控除・特別控除マスタ_所得者合計所得,1)","v":1},{"$f":"IF(源泉徴収票!AN22=\"\",-1,会社情報!$C$7-YEAR(源泉徴収票!AN22-1))","v":-1},{"$f":"IF(源泉徴収票!AT22=\"\",-1,会社情報!$C$7-YEAR(源泉徴収票!AT22-1))","v":-1},{"$f":"IF(源泉徴収票!AZ22=\"\",-1,会社情報!$C$7-YEAR(源泉徴収票!AZ22-1))","v":-1},{"$f":"IF(源泉徴収票!BF22=\"\",-1,会社情報!$C$7-YEAR(源泉徴収票!BF22-1))","v":-1},{"$f":"IF(源泉徴収票!BL22=\"\",-1,会社情報!$C$7-YEAR(源泉徴収票!BL22-1))","v":-1},{"$f":"IF(H22>=16,IF(AND(H22>=19,H22<23),\"特\",IF(H22>=70,IF(源泉徴収票!AO22=\"同居老親等\",\"同\",\"老\"),\"一\")),IF(H22>=0,\"未\",\"×\"))","v":"×"},{"$f":"IF(I22>=16,IF(AND(I22>=19,I22<23),\"特\",IF(I22>=70,IF(源泉徴収票!AU22=\"同居老親等\",\"同\",\"老\"),\"一\")),IF(I22>=0,\"未\",\"×\"))","v":"×"},{"$f":"IF(J22>=16,IF(AND(J22>=19,J22<23),\"特\",IF(J22>=70,IF(源泉徴収票!BA22=\"同居老親等\",\"同\",\"老\"),\"一\")),IF(J22>=0,\"未\",\"×\"))","v":"×"},{"$f":"IF(K22>=16,IF(AND(K22>=19,K22<23),\"特\",IF(K22>=70,IF(源泉徴収票!BG22=\"同居老親等\",\"同\",\"老\"),\"一\")),IF(K22>=0,\"未\",\"×\"))","v":"×"},{"$f":"IF(L22>=16,IF(AND(L22>=19,L22<23),\"特\",IF(L22>=70,IF(源泉徴収票!BM22=\"同居老親等\",\"同\",\"老\"),\"一\")),IF(L22>=0,\"未\",\"×\"))","v":"×"},"","","","","",{"$f":"IF(源泉徴収票!BU22<=20000, 源泉徴収票!BU22,\n  IF(源泉徴収票!BU22<=40000, 源泉徴収票!BU22*1/2+10000,\n   IF(源泉徴収票!BU22<=80000, 源泉徴収票!BU22*1/4+20000,\n                 40000)))","v":0},{"$f":"IF(源泉徴収票!BV22<=25000,源泉徴収票!BV22,\n  IF(源泉徴収票!BV22<=50000,源泉徴収票!BV22*1/2+12500,\n   IF(源泉徴収票!BV22<=100000,源泉徴収票!BV22*1/4+25000,\n                 50000)))","v":0},0,0,{"$f":"IF(源泉徴収票!BW22<=20000, 源泉徴収票!BW22,\n  IF(源泉徴収票!BW22<=40000, 源泉徴収票!BW22*1/2+10000,\n   IF(源泉徴収票!BW22<=80000, 源泉徴収票!BW22*1/4+20000,\n                 40000)))","v":0},{"$f":"IF(源泉徴収票!BX22<=20000, 源泉徴収票!BX22,\n  IF(源泉徴収票!BX22<=40000, 源泉徴収票!BX22*1/2+10000,\n   IF(源泉徴収票!BX22<=80000, 源泉徴収票!BX22*1/4+20000,\n                 40000)))","v":0},{"$f":"IF(源泉徴収票!BY22<=25000,源泉徴収票!BY22,\n  IF(源泉徴収票!BY22<=50000,源泉徴収票!BY22*1/2+12500,\n   IF(源泉徴収票!BY22<=100000,源泉徴収票!BY22*1/4+25000,\n                 50000)))","v":0},0,0,{"$f":"IF(源泉徴収票!BZ22<>\"\",MIN(源泉徴収票!BZ22,50000),0)","v":0},{"$f":"IF(源泉徴収票!CA22>=20000,15000,IF(源泉徴収票!CA22>=10000,源泉徴収票!CA22/2+5000,源泉徴収票!CA22))","v":0},{"$f":"IF(源泉徴収票!CS22<>\"\",\"〇\",\"×\")","v":"×"},null,{"$f":"源泉徴収票!O22+源泉徴収票!R22+源泉徴収票!U22","v":0},{"$f":"源泉徴収票!Q22+源泉徴収票!T22+源泉徴収票!W22","v":0},{"$f":"IF(源泉徴収票!I22=\"無\",0,INT(A22*VLOOKUP(A22, 給与所得計算, 3, TRUE)\n        +  VLOOKUP(A22, 給与所得計算, 4, TRUE) ))","v":0},0,0,{"$f":"源泉徴収票!P22+源泉徴収票!S22+源泉徴収票!V22","v":0},{"$f":"IF(源泉徴収票!I22=\"無\",0,源泉徴収票!CB22)","v":0},{"$f":"IF(源泉徴収票!I22=\"無\",0,源泉徴収票!CD22)","v":0},{"$f":"IF(源泉徴収票!I22=\"無\",0,MIN(120000,Z22+AA22+AE22))","v":0},{"$f":"IF(源泉徴収票!I22=\"無\",0,MIN(AF22+AG22,50000))","v":0},{"$f":"IF(源泉徴収票!I22=\"無\",0,IF(E22=\"○\",INDEX(H30配偶者控除・特別控除マスタ,F22,G22),0))","v":0},{"$f":"IF(源泉徴収票!I22=\"無\",0,IF(C22=\"○\",INDEX(H30配偶者控除・特別控除マスタ,F22,G22),0)+IF(D22=\"○\",INDEX(H30老人控除対象配偶者上乗せ,1,G22),0))","v":0},{"$f":"IF(源泉徴収票!I22=\"無\",0,COUNTIF(M22:Q22,\"一\")*380000+COUNTIF(M22:Q22,\"特\")*630000+COUNTIF(M22:Q22,\"老\")*480000+COUNTIF(M22:Q22,\"同\")*580000)","v":0},{"$f":"IF(源泉徴収票!I22=\"無\",0,(COUNTIF(源泉徴収票!BO22:BP22,\"一般\")+源泉徴収票!BQ22)*270000+(COUNTIF(源泉徴収票!BO22:BP22,\"特別\")+源泉徴収票!BR22)*400000+(COUNTIF(源泉徴収票!BP22,\"同居特別\")+源泉徴収票!BS22)*750000)","v":0},{"$f":"IF(源泉徴収票!I22=\"無\",0,IF(源泉徴収票!BT22<>\"\",IF(OR(源泉徴収票!BT22=\"特別の寡婦\",源泉徴収票!BT22=\"ひとり親\"),350000,270000),0))","v":0},{"$f":"IF(源泉徴収票!I22=\"無\",0,480000)","v":480000},{"$f":"IF(源泉徴収票!I22=\"無\",0,SUM(AO22:AY22))","v":480000},{"$f":"IF(源泉徴収票!I22=\"無\",AN22,FLOOR(MAX(AN22-AZ22,0),1000))","v":0},{"$f":"IF(源泉徴収票!I22=\"無\",AK22,BA22*VLOOKUP(BA22,所得税額計算,3,TRUE)+VLOOKUP(BA22,所得税額計算,4,TRUE))","v":0},{"$f":"IF(源泉徴収票!I22=\"無\",0,源泉徴収票!CZ22)","v":0},0,{"$f":"IF(源泉徴収票!I22=\"無\",BD22,FLOOR(BD22*102.1%,100))","v":0},0]
[0,{"$f":"IF(AND(源泉徴収票!I23=\"無\",源泉徴収票!AE23<>\"\"),\"○\",\"×\")","v":"×"},{"$f":"IF(AND(源泉徴収票!CO23<>\"\",源泉徴収票!CO23<=480000,AN23<=10000000),\"○\",\"×\")","v":"×"},{"$f":"IF(AND(C23=\"○\",源泉徴収票!CN23<>\"\",会社情報!$C$7-YEAR(MAX(源泉徴収票!CN23-1,0))>=70),\"○\",\"×\")","v":"×"},{"$f":"IF(AND(源泉徴収票!CO23<>\"\",源泉徴収票!CO23>480000,源泉徴収票!CO23<=1330000,AN23<=10000000),\"○\",\"×\")","v":"×"},{"$f":"MATCH(源泉徴収票!CO23,H30配偶者控除・特別控除マスタ_配偶者所得,1)","v":1},{"$f":"MATCH('源泉徴収票計算過程(非)'!AN23,H30配偶者控除・特別控除マスタ_所得者合計所得,1)","v":1},{"$f":"IF(源泉徴収票!AN23=\"\",-1,会社情報!$C$7-YEAR(源泉徴収票!AN23-1))","v":-1},{"$f":"IF(源泉徴収票!AT23=\"\",-1,会社情報!$C$7-YEAR(源泉徴収票!AT23-1))","v":-1},{"$f":"IF(源泉徴収票!AZ23=\"\",-1,会社情報!$C$7-YEAR(源泉徴収票!AZ23-1))","v":-1},{"$f":"IF(源泉徴収票!BF23=\"\",-1,会社情報!$C$7-YEAR(源泉徴収票!BF23-1))","v":-1},{"$f":"IF(源泉徴収票!BL23=\"\",-1,会社情報!$C$7-YEAR(源泉徴収票!BL23-1))","v":-1},{"$f":"IF(H23>=16,IF(AND(H23>=19,H23<23),\"特\",IF(H23>=70,IF(源泉徴収票!AO23=\"同居老親等\",\"同\",\"老\"),\"一\")),IF(H23>=0,\"未\",\"×\"))","v":"×"},{"$f":"IF(I23>=16,IF(AND(I23>=19,I23<23),\"特\",IF(I23>=70,IF(源泉徴収票!AU23=\"同居老親等\",\"同\",\"老\"),\"一\")),IF(I23>=0,\"未\",\"×\"))","v":"×"},{"$f":"IF(J23>=16,IF(AND(J23>=19,J23<23),\"特\",IF(J23>=70,IF(源泉徴収票!BA23=\"同居老親等\",\"同\",\"老\"),\"一\")),IF(J23>=0,\"未\",\"×\"))","v":"×"},{"$f":"IF(K23>=16,IF(AND(K23>=19,K23<23),\"特\",IF(K23>=70,IF(源泉徴収票!BG23=\"同居老親等\",\"同\",\"老\"),\"一\")),IF(K23>=0,\"未\",\"×\"))","v":"×"},{"$f":"IF(L23>=16,IF(AND(L23>=19,L23<23),\"特\",IF(L23>=70,IF(源泉徴収票!BM23=\"同居老親等\",\"同\",\"老\"),\"一\")),IF(L23>=0,\"未\",\"×\"))","v":"×"},"","","","","",{"$f":"IF(源泉徴収票!BU23<=20000, 源泉徴収票!BU23,\n  IF(源泉徴収票!BU23<=40000, 源泉徴収票!BU23*1/2+10000,\n   IF(源泉徴収票!BU23<=80000, 源泉徴収票!BU23*1/4+20000,\n                 40000)))","v":0},{"$f":"IF(源泉徴収票!BV23<=25000,源泉徴収票!BV23,\n  IF(源泉徴収票!BV23<=50000,源泉徴収票!BV23*1/2+12500,\n   IF(源泉徴収票!BV23<=100000,源泉徴収票!BV23*1/4+25000,\n                 50000)))","v":0},0,0,{"$f":"IF(源泉徴収票!BW23<=20000, 源泉徴収票!BW23,\n  IF(源泉徴収票!BW23<=40000, 源泉徴収票!BW23*1/2+10000,\n   IF(源泉徴収票!BW23<=80000, 源泉徴収票!BW23*1/4+20000,\n                 40000)))","v":0},{"$f":"IF(源泉徴収票!BX23<=20000, 源泉徴収票!BX23,\n  IF(源泉徴収票!BX23<=40000, 源泉徴収票!BX23*1/2+10000,\n   IF(源泉徴収票!BX23<=80000, 源泉徴収票!BX23*1/4+20000,\n                 40000)))","v":0},{"$f":"IF(源泉徴収票!BY23<=25000,源泉徴収票!BY23,\n  IF(源泉徴収票!BY23<=50000,源泉徴収票!BY23*1/2+12500,\n   IF(源泉徴収票!BY23<=100000,源泉徴収票!BY23*1/4+25000,\n                 50000)))","v":0},0,0,{"$f":"IF(源泉徴収票!BZ23<>\"\",MIN(源泉徴収票!BZ23,50000),0)","v":0},{"$f":"IF(源泉徴収票!CA23>=20000,15000,IF(源泉徴収票!CA23>=10000,源泉徴収票!CA23/2+5000,源泉徴収票!CA23))","v":0},{"$f":"IF(源泉徴収票!CS23<>\"\",\"〇\",\"×\")","v":"×"},null,{"$f":"源泉徴収票!O23+源泉徴収票!R23+源泉徴収票!U23","v":0},{"$f":"源泉徴収票!Q23+源泉徴収票!T23+源泉徴収票!W23","v":0},{"$f":"IF(源泉徴収票!I23=\"無\",0,INT(A23*VLOOKUP(A23, 給与所得計算, 3, TRUE)\n        +  VLOOKUP(A23, 給与所得計算, 4, TRUE) ))","v":0},0,0,{"$f":"源泉徴収票!P23+源泉徴収票!S23+源泉徴収票!V23","v":0},{"$f":"IF(源泉徴収票!I23=\"無\",0,源泉徴収票!CB23)","v":0},{"$f":"IF(源泉徴収票!I23=\"無\",0,源泉徴収票!CD23)","v":0},{"$f":"IF(源泉徴収票!I23=\"無\",0,MIN(120000,Z23+AA23+AE23))","v":0},{"$f":"IF(源泉徴収票!I23=\"無\",0,MIN(AF23+AG23,50000))","v":0},{"$f":"IF(源泉徴収票!I23=\"無\",0,IF(E23=\"○\",INDEX(H30配偶者控除・特別控除マスタ,F23,G23),0))","v":0},{"$f":"IF(源泉徴収票!I23=\"無\",0,IF(C23=\"○\",INDEX(H30配偶者控除・特別控除マスタ,F23,G23),0)+IF(D23=\"○\",INDEX(H30老人控除対象配偶者上乗せ,1,G23),0))","v":0},{"$f":"IF(源泉徴収票!I23=\"無\",0,COUNTIF(M23:Q23,\"一\")*380000+COUNTIF(M23:Q23,\"特\")*630000+COUNTIF(M23:Q23,\"老\")*480000+COUNTIF(M23:Q23,\"同\")*580000)","v":0},{"$f":"IF(源泉徴収票!I23=\"無\",0,(COUNTIF(源泉徴収票!BO23:BP23,\"一般\")+源泉徴収票!BQ23)*270000+(COUNTIF(源泉徴収票!BO23:BP23,\"特別\")+源泉徴収票!BR23)*400000+(COUNTIF(源泉徴収票!BP23,\"同居特別\")+源泉徴収票!BS23)*750000)","v":0},{"$f":"IF(源泉徴収票!I23=\"無\",0,IF(源泉徴収票!BT23<>\"\",IF(OR(源泉徴収票!BT23=\"特別の寡婦\",源泉徴収票!BT23=\"ひとり親\"),350000,270000),0))","v":0},{"$f":"IF(源泉徴収票!I23=\"無\",0,480000)","v":480000},{"$f":"IF(源泉徴収票!I23=\"無\",0,SUM(AO23:AY23))","v":480000},{"$f":"IF(源泉徴収票!I23=\"無\",AN23,FLOOR(MAX(AN23-AZ23,0),1000))","v":0},{"$f":"IF(源泉徴収票!I23=\"無\",AK23,BA23*VLOOKUP(BA23,所得税額計算,3,TRUE)+VLOOKUP(BA23,所得税額計算,4,TRUE))","v":0},{"$f":"IF(源泉徴収票!I23=\"無\",0,源泉徴収票!CZ23)","v":0},0,{"$f":"IF(源泉徴収票!I23=\"無\",BD23,FLOOR(BD23*102.1%,100))","v":0},0]
[0,{"$f":"IF(AND(源泉徴収票!I24=\"無\",源泉徴収票!AE24<>\"\"),\"○\",\"×\")","v":"×"},{"$f":"IF(AND(源泉徴収票!CO24<>\"\",源泉徴収票!CO24<=480000,AN24<=10000000),\"○\",\"×\")","v":"×"},{"$f":"IF(AND(C24=\"○\",源泉徴収票!CN24<>\"\",会社情報!$C$7-YEAR(MAX(源泉徴収票!CN24-1,0))>=70),\"○\",\"×\")","v":"×"},{"$f":"IF(AND(源泉徴収票!CO24<>\"\",源泉徴収票!CO24>480000,源泉徴収票!CO24<=1330000,AN24<=10000000),\"○\",\"×\")","v":"×"},{"$f":"MATCH(源泉徴収票!CO24,H30配偶者控除・特別控除マスタ_配偶者所得,1)","v":1},{"$f":"MATCH('源泉徴収票計算過程(非)'!AN24,H30配偶者控除・特別控除マスタ_所得者合計所得,1)","v":1},{"$f":"IF(源泉徴収票!AN24=\"\",-1,会社情報!$C$7-YEAR(源泉徴収票!AN24-1))","v":-1},{"$f":"IF(源泉徴収票!AT24=\"\",-1,会社情報!$C$7-YEAR(源泉徴収票!AT24-1))","v":-1},{"$f":"IF(源泉徴収票!AZ24=\"\",-1,会社情報!$C$7-YEAR(源泉徴収票!AZ24-1))","v":-1},{"$f":"IF(源泉徴収票!BF24=\"\",-1,会社情報!$C$7-YEAR(源泉徴収票!BF24-1))","v":-1},{"$f":"IF(源泉徴収票!BL24=\"\",-1,会社情報!$C$7-YEAR(源泉徴収票!BL24-1))","v":-1},{"$f":"IF(H24>=16,IF(AND(H24>=19,H24<23),\"特\",IF(H24>=70,IF(源泉徴収票!AO24=\"同居老親等\",\"同\",\"老\"),\"一\")),IF(H24>=0,\"未\",\"×\"))","v":"×"},{"$f":"IF(I24>=16,IF(AND(I24>=19,I24<23),\"特\",IF(I24>=70,IF(源泉徴収票!AU24=\"同居老親等\",\"同\",\"老\"),\"一\")),IF(I24>=0,\"未\",\"×\"))","v":"×"},{"$f":"IF(J24>=16,IF(AND(J24>=19,J24<23),\"特\",IF(J24>=70,IF(源泉徴収票!BA24=\"同居老親等\",\"同\",\"老\"),\"一\")),IF(J24>=0,\"未\",\"×\"))","v":"×"},{"$f":"IF(K24>=16,IF(AND(K24>=19,K24<23),\"特\",IF(K24>=70,IF(源泉徴収票!BG24=\"同居老親等\",\"同\",\"老\"),\"一\")),IF(K24>=0,\"未\",\"×\"))","v":"×"},{"$f":"IF(L24>=16,IF(AND(L24>=19,L24<23),\"特\",IF(L24>=70,IF(源泉徴収票!BM24=\"同居老親等\",\"同\",\"老\"),\"一\")),IF(L24>=0,\"未\",\"×\"))","v":"×"},"","","","","",{"$f":"IF(源泉徴収票!BU24<=20000, 源泉徴収票!BU24,\n  IF(源泉徴収票!BU24<=40000, 源泉徴収票!BU24*1/2+10000,\n   IF(源泉徴収票!BU24<=80000, 源泉徴収票!BU24*1/4+20000,\n                 40000)))","v":0},{"$f":"IF(源泉徴収票!BV24<=25000,源泉徴収票!BV24,\n  IF(源泉徴収票!BV24<=50000,源泉徴収票!BV24*1/2+12500,\n   IF(源泉徴収票!BV24<=100000,源泉徴収票!BV24*1/4+25000,\n                 50000)))","v":0},0,0,{"$f":"IF(源泉徴収票!BW24<=20000, 源泉徴収票!BW24,\n  IF(源泉徴収票!BW24<=40000, 源泉徴収票!BW24*1/2+10000,\n   IF(源泉徴収票!BW24<=80000, 源泉徴収票!BW24*1/4+20000,\n                 40000)))","v":0},{"$f":"IF(源泉徴収票!BX24<=20000, 源泉徴収票!BX24,\n  IF(源泉徴収票!BX24<=40000, 源泉徴収票!BX24*1/2+10000,\n   IF(源泉徴収票!BX24<=80000, 源泉徴収票!BX24*1/4+20000,\n                 40000)))","v":0},{"$f":"IF(源泉徴収票!BY24<=25000,源泉徴収票!BY24,\n  IF(源泉徴収票!BY24<=50000,源泉徴収票!BY24*1/2+12500,\n   IF(源泉徴収票!BY24<=100000,源泉徴収票!BY24*1/4+25000,\n                 50000)))","v":0},0,0,{"$f":"IF(源泉徴収票!BZ24<>\"\",MIN(源泉徴収票!BZ24,50000),0)","v":0},{"$f":"IF(源泉徴収票!CA24>=20000,15000,IF(源泉徴収票!CA24>=10000,源泉徴収票!CA24/2+5000,源泉徴収票!CA24))","v":0},{"$f":"IF(源泉徴収票!CS24<>\"\",\"〇\",\"×\")","v":"×"},null,{"$f":"源泉徴収票!O24+源泉徴収票!R24+源泉徴収票!U24","v":0},{"$f":"源泉徴収票!Q24+源泉徴収票!T24+源泉徴収票!W24","v":0},{"$f":"IF(源泉徴収票!I24=\"無\",0,INT(A24*VLOOKUP(A24, 給与所得計算, 3, TRUE)\n        +  VLOOKUP(A24, 給与所得計算, 4, TRUE) ))","v":0},0,0,{"$f":"源泉徴収票!P24+源泉徴収票!S24+源泉徴収票!V24","v":0},{"$f":"IF(源泉徴収票!I24=\"無\",0,源泉徴収票!CB24)","v":0},{"$f":"IF(源泉徴収票!I24=\"無\",0,源泉徴収票!CD24)","v":0},{"$f":"IF(源泉徴収票!I24=\"無\",0,MIN(120000,Z24+AA24+AE24))","v":0},{"$f":"IF(源泉徴収票!I24=\"無\",0,MIN(AF24+AG24,50000))","v":0},{"$f":"IF(源泉徴収票!I24=\"無\",0,IF(E24=\"○\",INDEX(H30配偶者控除・特別控除マスタ,F24,G24),0))","v":0},{"$f":"IF(源泉徴収票!I24=\"無\",0,IF(C24=\"○\",INDEX(H30配偶者控除・特別控除マスタ,F24,G24),0)+IF(D24=\"○\",INDEX(H30老人控除対象配偶者上乗せ,1,G24),0))","v":0},{"$f":"IF(源泉徴収票!I24=\"無\",0,COUNTIF(M24:Q24,\"一\")*380000+COUNTIF(M24:Q24,\"特\")*630000+COUNTIF(M24:Q24,\"老\")*480000+COUNTIF(M24:Q24,\"同\")*580000)","v":0},{"$f":"IF(源泉徴収票!I24=\"無\",0,(COUNTIF(源泉徴収票!BO24:BP24,\"一般\")+源泉徴収票!BQ24)*270000+(COUNTIF(源泉徴収票!BO24:BP24,\"特別\")+源泉徴収票!BR24)*400000+(COUNTIF(源泉徴収票!BP24,\"同居特別\")+源泉徴収票!BS24)*750000)","v":0},{"$f":"IF(源泉徴収票!I24=\"無\",0,IF(源泉徴収票!BT24<>\"\",IF(OR(源泉徴収票!BT24=\"特別の寡婦\",源泉徴収票!BT24=\"ひとり親\"),350000,270000),0))","v":0},{"$f":"IF(源泉徴収票!I24=\"無\",0,480000)","v":480000},{"$f":"IF(源泉徴収票!I24=\"無\",0,SUM(AO24:AY24))","v":480000},{"$f":"IF(源泉徴収票!I24=\"無\",AN24,FLOOR(MAX(AN24-AZ24,0),1000))","v":0},{"$f":"IF(源泉徴収票!I24=\"無\",AK24,BA24*VLOOKUP(BA24,所得税額計算,3,TRUE)+VLOOKUP(BA24,所得税額計算,4,TRUE))","v":0},{"$f":"IF(源泉徴収票!I24=\"無\",0,源泉徴収票!CZ24)","v":0},0,{"$f":"IF(源泉徴収票!I24=\"無\",BD24,FLOOR(BD24*102.1%,100))","v":0},0]
[0,{"$f":"IF(AND(源泉徴収票!I25=\"無\",源泉徴収票!AE25<>\"\"),\"○\",\"×\")","v":"×"},{"$f":"IF(AND(源泉徴収票!CO25<>\"\",源泉徴収票!CO25<=480000,AN25<=10000000),\"○\",\"×\")","v":"×"},{"$f":"IF(AND(C25=\"○\",源泉徴収票!CN25<>\"\",会社情報!$C$7-YEAR(MAX(源泉徴収票!CN25-1,0))>=70),\"○\",\"×\")","v":"×"},{"$f":"IF(AND(源泉徴収票!CO25<>\"\",源泉徴収票!CO25>480000,源泉徴収票!CO25<=1330000,AN25<=10000000),\"○\",\"×\")","v":"×"},{"$f":"MATCH(源泉徴収票!CO25,H30配偶者控除・特別控除マスタ_配偶者所得,1)","v":1},{"$f":"MATCH('源泉徴収票計算過程(非)'!AN25,H30配偶者控除・特別控除マスタ_所得者合計所得,1)","v":1},{"$f":"IF(源泉徴収票!AN25=\"\",-1,会社情報!$C$7-YEAR(源泉徴収票!AN25-1))","v":-1},{"$f":"IF(源泉徴収票!AT25=\"\",-1,会社情報!$C$7-YEAR(源泉徴収票!AT25-1))","v":-1},{"$f":"IF(源泉徴収票!AZ25=\"\",-1,会社情報!$C$7-YEAR(源泉徴収票!AZ25-1))","v":-1},{"$f":"IF(源泉徴収票!BF25=\"\",-1,会社情報!$C$7-YEAR(源泉徴収票!BF25-1))","v":-1},{"$f":"IF(源泉徴収票!BL25=\"\",-1,会社情報!$C$7-YEAR(源泉徴収票!BL25-1))","v":-1},{"$f":"IF(H25>=16,IF(AND(H25>=19,H25<23),\"特\",IF(H25>=70,IF(源泉徴収票!AO25=\"同居老親等\",\"同\",\"老\"),\"一\")),IF(H25>=0,\"未\",\"×\"))","v":"×"},{"$f":"IF(I25>=16,IF(AND(I25>=19,I25<23),\"特\",IF(I25>=70,IF(源泉徴収票!AU25=\"同居老親等\",\"同\",\"老\"),\"一\")),IF(I25>=0,\"未\",\"×\"))","v":"×"},{"$f":"IF(J25>=16,IF(AND(J25>=19,J25<23),\"特\",IF(J25>=70,IF(源泉徴収票!BA25=\"同居老親等\",\"同\",\"老\"),\"一\")),IF(J25>=0,\"未\",\"×\"))","v":"×"},{"$f":"IF(K25>=16,IF(AND(K25>=19,K25<23),\"特\",IF(K25>=70,IF(源泉徴収票!BG25=\"同居老親等\",\"同\",\"老\"),\"一\")),IF(K25>=0,\"未\",\"×\"))","v":"×"},{"$f":"IF(L25>=16,IF(AND(L25>=19,L25<23),\"特\",IF(L25>=70,IF(源泉徴収票!BM25=\"同居老親等\",\"同\",\"老\"),\"一\")),IF(L25>=0,\"未\",\"×\"))","v":"×"},"","","","","",{"$f":"IF(源泉徴収票!BU25<=20000, 源泉徴収票!BU25,\n  IF(源泉徴収票!BU25<=40000, 源泉徴収票!BU25*1/2+10000,\n   IF(源泉徴収票!BU25<=80000, 源泉徴収票!BU25*1/4+20000,\n                 40000)))","v":0},{"$f":"IF(源泉徴収票!BV25<=25000,源泉徴収票!BV25,\n  IF(源泉徴収票!BV25<=50000,源泉徴収票!BV25*1/2+12500,\n   IF(源泉徴収票!BV25<=100000,源泉徴収票!BV25*1/4+25000,\n                 50000)))","v":0},0,0,{"$f":"IF(源泉徴収票!BW25<=20000, 源泉徴収票!BW25,\n  IF(源泉徴収票!BW25<=40000, 源泉徴収票!BW25*1/2+10000,\n   IF(源泉徴収票!BW25<=80000, 源泉徴収票!BW25*1/4+20000,\n                 40000)))","v":0},{"$f":"IF(源泉徴収票!BX25<=20000, 源泉徴収票!BX25,\n  IF(源泉徴収票!BX25<=40000, 源泉徴収票!BX25*1/2+10000,\n   IF(源泉徴収票!BX25<=80000, 源泉徴収票!BX25*1/4+20000,\n                 40000)))","v":0},{"$f":"IF(源泉徴収票!BY25<=25000,源泉徴収票!BY25,\n  IF(源泉徴収票!BY25<=50000,源泉徴収票!BY25*1/2+12500,\n   IF(源泉徴収票!BY25<=100000,源泉徴収票!BY25*1/4+25000,\n                 50000)))","v":0},0,0,{"$f":"IF(源泉徴収票!BZ25<>\"\",MIN(源泉徴収票!BZ25,50000),0)","v":0},{"$f":"IF(源泉徴収票!CA25>=20000,15000,IF(源泉徴収票!CA25>=10000,源泉徴収票!CA25/2+5000,源泉徴収票!CA25))","v":0},{"$f":"IF(源泉徴収票!CS25<>\"\",\"〇\",\"×\")","v":"×"},null,{"$f":"源泉徴収票!O25+源泉徴収票!R25+源泉徴収票!U25","v":0},{"$f":"源泉徴収票!Q25+源泉徴収票!T25+源泉徴収票!W25","v":0},{"$f":"IF(源泉徴収票!I25=\"無\",0,INT(A25*VLOOKUP(A25, 給与所得計算, 3, TRUE)\n        +  VLOOKUP(A25, 給与所得計算, 4, TRUE) ))","v":0},0,0,{"$f":"源泉徴収票!P25+源泉徴収票!S25+源泉徴収票!V25","v":0},{"$f":"IF(源泉徴収票!I25=\"無\",0,源泉徴収票!CB25)","v":0},{"$f":"IF(源泉徴収票!I25=\"無\",0,源泉徴収票!CD25)","v":0},{"$f":"IF(源泉徴収票!I25=\"無\",0,MIN(120000,Z25+AA25+AE25))","v":0},{"$f":"IF(源泉徴収票!I25=\"無\",0,MIN(AF25+AG25,50000))","v":0},{"$f":"IF(源泉徴収票!I25=\"無\",0,IF(E25=\"○\",INDEX(H30配偶者控除・特別控除マスタ,F25,G25),0))","v":0},{"$f":"IF(源泉徴収票!I25=\"無\",0,IF(C25=\"○\",INDEX(H30配偶者控除・特別控除マスタ,F25,G25),0)+IF(D25=\"○\",INDEX(H30老人控除対象配偶者上乗せ,1,G25),0))","v":0},{"$f":"IF(源泉徴収票!I25=\"無\",0,COUNTIF(M25:Q25,\"一\")*380000+COUNTIF(M25:Q25,\"特\")*630000+COUNTIF(M25:Q25,\"老\")*480000+COUNTIF(M25:Q25,\"同\")*580000)","v":0},{"$f":"IF(源泉徴収票!I25=\"無\",0,(COUNTIF(源泉徴収票!BO25:BP25,\"一般\")+源泉徴収票!BQ25)*270000+(COUNTIF(源泉徴収票!BO25:BP25,\"特別\")+源泉徴収票!BR25)*400000+(COUNTIF(源泉徴収票!BP25,\"同居特別\")+源泉徴収票!BS25)*750000)","v":0},{"$f":"IF(源泉徴収票!I25=\"無\",0,IF(源泉徴収票!BT25<>\"\",IF(OR(源泉徴収票!BT25=\"特別の寡婦\",源泉徴収票!BT25=\"ひとり親\"),350000,270000),0))","v":0},{"$f":"IF(源泉徴収票!I25=\"無\",0,480000)","v":480000},{"$f":"IF(源泉徴収票!I25=\"無\",0,SUM(AO25:AY25))","v":480000},{"$f":"IF(源泉徴収票!I25=\"無\",AN25,FLOOR(MAX(AN25-AZ25,0),1000))","v":0},{"$f":"IF(源泉徴収票!I25=\"無\",AK25,BA25*VLOOKUP(BA25,所得税額計算,3,TRUE)+VLOOKUP(BA25,所得税額計算,4,TRUE))","v":0},{"$f":"IF(源泉徴収票!I25=\"無\",0,源泉徴収票!CZ25)","v":0},0,{"$f":"IF(源泉徴収票!I25=\"無\",BD25,FLOOR(BD25*102.1%,100))","v":0},0]
[0,{"$f":"IF(AND(源泉徴収票!I26=\"無\",源泉徴収票!AE26<>\"\"),\"○\",\"×\")","v":"×"},{"$f":"IF(AND(源泉徴収票!CO26<>\"\",源泉徴収票!CO26<=480000,AN26<=10000000),\"○\",\"×\")","v":"×"},{"$f":"IF(AND(C26=\"○\",源泉徴収票!CN26<>\"\",会社情報!$C$7-YEAR(MAX(源泉徴収票!CN26-1,0))>=70),\"○\",\"×\")","v":"×"},{"$f":"IF(AND(源泉徴収票!CO26<>\"\",源泉徴収票!CO26>480000,源泉徴収票!CO26<=1330000,AN26<=10000000),\"○\",\"×\")","v":"×"},{"$f":"MATCH(源泉徴収票!CO26,H30配偶者控除・特別控除マスタ_配偶者所得,1)","v":1},{"$f":"MATCH('源泉徴収票計算過程(非)'!AN26,H30配偶者控除・特別控除マスタ_所得者合計所得,1)","v":1},{"$f":"IF(源泉徴収票!AN26=\"\",-1,会社情報!$C$7-YEAR(源泉徴収票!AN26-1))","v":-1},{"$f":"IF(源泉徴収票!AT26=\"\",-1,会社情報!$C$7-YEAR(源泉徴収票!AT26-1))","v":-1},{"$f":"IF(源泉徴収票!AZ26=\"\",-1,会社情報!$C$7-YEAR(源泉徴収票!AZ26-1))","v":-1},{"$f":"IF(源泉徴収票!BF26=\"\",-1,会社情報!$C$7-YEAR(源泉徴収票!BF26-1))","v":-1},{"$f":"IF(源泉徴収票!BL26=\"\",-1,会社情報!$C$7-YEAR(源泉徴収票!BL26-1))","v":-1},{"$f":"IF(H26>=16,IF(AND(H26>=19,H26<23),\"特\",IF(H26>=70,IF(源泉徴収票!AO26=\"同居老親等\",\"同\",\"老\"),\"一\")),IF(H26>=0,\"未\",\"×\"))","v":"×"},{"$f":"IF(I26>=16,IF(AND(I26>=19,I26<23),\"特\",IF(I26>=70,IF(源泉徴収票!AU26=\"同居老親等\",\"同\",\"老\"),\"一\")),IF(I26>=0,\"未\",\"×\"))","v":"×"},{"$f":"IF(J26>=16,IF(AND(J26>=19,J26<23),\"特\",IF(J26>=70,IF(源泉徴収票!BA26=\"同居老親等\",\"同\",\"老\"),\"一\")),IF(J26>=0,\"未\",\"×\"))","v":"×"},{"$f":"IF(K26>=16,IF(AND(K26>=19,K26<23),\"特\",IF(K26>=70,IF(源泉徴収票!BG26=\"同居老親等\",\"同\",\"老\"),\"一\")),IF(K26>=0,\"未\",\"×\"))","v":"×"},{"$f":"IF(L26>=16,IF(AND(L26>=19,L26<23),\"特\",IF(L26>=70,IF(源泉徴収票!BM26=\"同居老親等\",\"同\",\"老\"),\"一\")),IF(L26>=0,\"未\",\"×\"))","v":"×"},{"$f":"IF(M26=\"未\",\"未\",IF(M26<>\"×\",\"一\",\"\"))","v":""},{"$f":"IF(N26=\"未\",\"未\",IF(N26<>\"×\",\"一\",\"\"))","v":""},{"$f":"IF(O26=\"未\",\"未\",IF(O26<>\"×\",\"一\",\"\"))","v":""},{"$f":"IF(P26=\"未\",\"未\",IF(P26<>\"×\",\"一\",\"\"))","v":""},{"$f":"IF(Q26=\"未\",\"未\",IF(Q26<>\"×\",\"一\",\"\"))","v":""},{"$f":"IF(源泉徴収票!BU26<=20000, 源泉徴収票!BU26,\n  IF(源泉徴収票!BU26<=40000, 源泉徴収票!BU26*1/2+10000,\n   IF(源泉徴収票!BU26<=80000, 源泉徴収票!BU26*1/4+20000,\n                 40000)))","v":0},{"$f":"IF(源泉徴収票!BV26<=25000,源泉徴収票!BV26,\n  IF(源泉徴収票!BV26<=50000,源泉徴収票!BV26*1/2+12500,\n   IF(源泉徴収票!BV26<=100000,源泉徴収票!BV26*1/4+25000,\n                 50000)))","v":0},{"$f":"MIN(W26+X26,40000)","v":0},{"$f":"MAX(X26,Y26)","v":0},{"$f":"IF(源泉徴収票!BW26<=20000, 源泉徴収票!BW26,\n  IF(源泉徴収票!BW26<=40000, 源泉徴収票!BW26*1/2+10000,\n   IF(源泉徴収票!BW26<=80000, 源泉徴収票!BW26*1/4+20000,\n                 40000)))","v":0},{"$f":"IF(源泉徴収票!BX26<=20000, 源泉徴収票!BX26,\n  IF(源泉徴収票!BX26<=40000, 源泉徴収票!BX26*1/2+10000,\n   IF(源泉徴収票!BX26<=80000, 源泉徴収票!BX26*1/4+20000,\n                 40000)))","v":0},{"$f":"IF(源泉徴収票!BY26<=25000,源泉徴収票!BY26,\n  IF(源泉徴収票!BY26<=50000,源泉徴収票!BY26*1/2+12500,\n   IF(源泉徴収票!BY26<=100000,源泉徴収票!BY26*1/4+25000,\n                 50000)))","v":0},{"$f":"MIN(AB26+AC26,40000)","v":0},{"$f":"MAX(AC26,AD26)","v":0},{"$f":"IF(源泉徴収票!BZ26<>\"\",MIN(源泉徴収票!BZ26,50000),0)","v":0},{"$f":"IF(源泉徴収票!CA26>=20000,15000,IF(源泉徴収票!CA26>=10000,源泉徴収票!CA26/2+5000,源泉徴収票!CA26))","v":0},{"$f":"IF(源泉徴収票!CS26<>\"\",\"〇\",\"×\")","v":"×"},null,{"$f":"源泉徴収票!O26+源泉徴収票!R26+源泉徴収票!U26","v":0},{"$f":"源泉徴収票!Q26+源泉徴収票!T26+源泉徴収票!W26","v":0},{"$f":"IF(源泉徴収票!I26=\"無\",0,INT(A26*VLOOKUP(A26, 給与所得計算, 3, TRUE)\n        +  VLOOKUP(A26, 給与所得計算, 4, TRUE) ))","v":0},0,0,{"$f":"源泉徴収票!P26+源泉徴収票!S26+源泉徴収票!V26","v":0},{"$f":"IF(源泉徴収票!I26=\"無\",0,源泉徴収票!CB26)","v":0},{"$f":"IF(源泉徴収票!I26=\"無\",0,源泉徴収票!CD26)","v":0},{"$f":"IF(源泉徴収票!I26=\"無\",0,MIN(120000,Z26+AA26+AE26))","v":0},{"$f":"IF(源泉徴収票!I26=\"無\",0,MIN(AF26+AG26,50000))","v":0},{"$f":"IF(源泉徴収票!I26=\"無\",0,IF(E26=\"○\",INDEX(H30配偶者控除・特別控除マスタ,F26,G26),0))","v":0},{"$f":"IF(源泉徴収票!I26=\"無\",0,IF(C26=\"○\",INDEX(H30配偶者控除・特別控除マスタ,F26,G26),0)+IF(D26=\"○\",INDEX(H30老人控除対象配偶者上乗せ,1,G26),0))","v":0},{"$f":"IF(源泉徴収票!I26=\"無\",0,COUNTIF(M26:Q26,\"一\")*380000+COUNTIF(M26:Q26,\"特\")*630000+COUNTIF(M26:Q26,\"老\")*480000+COUNTIF(M26:Q26,\"同\")*580000)","v":0},{"$f":"IF(源泉徴収票!I26=\"無\",0,(COUNTIF(源泉徴収票!BO26:BP26,\"一般\")+源泉徴収票!BQ26)*270000+(COUNTIF(源泉徴収票!BO26:BP26,\"特別\")+源泉徴収票!BR26)*400000+(COUNTIF(源泉徴収票!BP26,\"同居特別\")+源泉徴収票!BS26)*750000)","v":0},{"$f":"IF(源泉徴収票!I26=\"無\",0,IF(源泉徴収票!BT26<>\"\",IF(OR(源泉徴収票!BT26=\"特別の寡婦\",源泉徴収票!BT26=\"ひとり親\"),350000,270000),0))","v":0},{"$f":"IF(源泉徴収票!I26=\"無\",0,480000)","v":480000},{"$f":"IF(源泉徴収票!I26=\"無\",0,SUM(AO26:AY26))","v":480000},{"$f":"IF(源泉徴収票!I26=\"無\",AN26,FLOOR(MAX(AN26-AZ26,0),1000))","v":0},{"$f":"IF(源泉徴収票!I26=\"無\",AK26,BA26*VLOOKUP(BA26,所得税額計算,3,TRUE)+VLOOKUP(BA26,所得税額計算,4,TRUE))","v":0},{"$f":"IF(源泉徴収票!I26=\"無\",0,源泉徴収票!CZ26)","v":0},0,{"$f":"IF(源泉徴収票!I26=\"無\",BD26,FLOOR(BD26*102.1%,100))","v":0},0]
[0,{"$f":"IF(AND(源泉徴収票!I27=\"無\",源泉徴収票!AE27<>\"\"),\"○\",\"×\")","v":"×"},{"$f":"IF(AND(源泉徴収票!CO27<>\"\",源泉徴収票!CO27<=480000,AN27<=10000000),\"○\",\"×\")","v":"×"},{"$f":"IF(AND(C27=\"○\",源泉徴収票!CN27<>\"\",会社情報!$C$7-YEAR(MAX(源泉徴収票!CN27-1,0))>=70),\"○\",\"×\")","v":"×"},{"$f":"IF(AND(源泉徴収票!CO27<>\"\",源泉徴収票!CO27>480000,源泉徴収票!CO27<=1330000,AN27<=10000000),\"○\",\"×\")","v":"×"},{"$f":"MATCH(源泉徴収票!CO27,H30配偶者控除・特別控除マスタ_配偶者所得,1)","v":1},{"$f":"MATCH('源泉徴収票計算過程(非)'!AN27,H30配偶者控除・特別控除マスタ_所得者合計所得,1)","v":1},{"$f":"IF(源泉徴収票!AN27=\"\",-1,会社情報!$C$7-YEAR(源泉徴収票!AN27-1))","v":-1},{"$f":"IF(源泉徴収票!AT27=\"\",-1,会社情報!$C$7-YEAR(源泉徴収票!AT27-1))","v":-1},{"$f":"IF(源泉徴収票!AZ27=\"\",-1,会社情報!$C$7-YEAR(源泉徴収票!AZ27-1))","v":-1},{"$f":"IF(源泉徴収票!BF27=\"\",-1,会社情報!$C$7-YEAR(源泉徴収票!BF27-1))","v":-1},{"$f":"IF(源泉徴収票!BL27=\"\",-1,会社情報!$C$7-YEAR(源泉徴収票!BL27-1))","v":-1},{"$f":"IF(H27>=16,IF(AND(H27>=19,H27<23),\"特\",IF(H27>=70,IF(源泉徴収票!AO27=\"同居老親等\",\"同\",\"老\"),\"一\")),IF(H27>=0,\"未\",\"×\"))","v":"×"},{"$f":"IF(I27>=16,IF(AND(I27>=19,I27<23),\"特\",IF(I27>=70,IF(源泉徴収票!AU27=\"同居老親等\",\"同\",\"老\"),\"一\")),IF(I27>=0,\"未\",\"×\"))","v":"×"},{"$f":"IF(J27>=16,IF(AND(J27>=19,J27<23),\"特\",IF(J27>=70,IF(源泉徴収票!BA27=\"同居老親等\",\"同\",\"老\"),\"一\")),IF(J27>=0,\"未\",\"×\"))","v":"×"},{"$f":"IF(K27>=16,IF(AND(K27>=19,K27<23),\"特\",IF(K27>=70,IF(源泉徴収票!BG27=\"同居老親等\",\"同\",\"老\"),\"一\")),IF(K27>=0,\"未\",\"×\"))","v":"×"},{"$f":"IF(L27>=16,IF(AND(L27>=19,L27<23),\"特\",IF(L27>=70,IF(源泉徴収票!BM27=\"同居老親等\",\"同\",\"老\"),\"一\")),IF(L27>=0,\"未\",\"×\"))","v":"×"},"","","","","",{"$f":"IF(源泉徴収票!BU27<=20000, 源泉徴収票!BU27,\n  IF(源泉徴収票!BU27<=40000, 源泉徴収票!BU27*1/2+10000,\n   IF(源泉徴収票!BU27<=80000, 源泉徴収票!BU27*1/4+20000,\n                 40000)))","v":0},{"$f":"IF(源泉徴収票!BV27<=25000,源泉徴収票!BV27,\n  IF(源泉徴収票!BV27<=50000,源泉徴収票!BV27*1/2+12500,\n   IF(源泉徴収票!BV27<=100000,源泉徴収票!BV27*1/4+25000,\n                 50000)))","v":0},0,0,{"$f":"IF(源泉徴収票!BW27<=20000, 源泉徴収票!BW27,\n  IF(源泉徴収票!BW27<=40000, 源泉徴収票!BW27*1/2+10000,\n   IF(源泉徴収票!BW27<=80000, 源泉徴収票!BW27*1/4+20000,\n                 40000)))","v":0},{"$f":"IF(源泉徴収票!BX27<=20000, 源泉徴収票!BX27,\n  IF(源泉徴収票!BX27<=40000, 源泉徴収票!BX27*1/2+10000,\n   IF(源泉徴収票!BX27<=80000, 源泉徴収票!BX27*1/4+20000,\n                 40000)))","v":0},{"$f":"IF(源泉徴収票!BY27<=25000,源泉徴収票!BY27,\n  IF(源泉徴収票!BY27<=50000,源泉徴収票!BY27*1/2+12500,\n   IF(源泉徴収票!BY27<=100000,源泉徴収票!BY27*1/4+25000,\n                 50000)))","v":0},0,0,{"$f":"IF(源泉徴収票!BZ27<>\"\",MIN(源泉徴収票!BZ27,50000),0)","v":0},{"$f":"IF(源泉徴収票!CA27>=20000,15000,IF(源泉徴収票!CA27>=10000,源泉徴収票!CA27/2+5000,源泉徴収票!CA27))","v":0},{"$f":"IF(源泉徴収票!CS27<>\"\",\"〇\",\"×\")","v":"×"},null,{"$f":"源泉徴収票!O27+源泉徴収票!R27+源泉徴収票!U27","v":0},{"$f":"源泉徴収票!Q27+源泉徴収票!T27+源泉徴収票!W27","v":0},{"$f":"IF(源泉徴収票!I27=\"無\",0,INT(A27*VLOOKUP(A27, 給与所得計算, 3, TRUE)\n        +  VLOOKUP(A27, 給与所得計算, 4, TRUE) ))","v":0},0,0,{"$f":"源泉徴収票!P27+源泉徴収票!S27+源泉徴収票!V27","v":0},{"$f":"IF(源泉徴収票!I27=\"無\",0,源泉徴収票!CB27)","v":0},{"$f":"IF(源泉徴収票!I27=\"無\",0,源泉徴収票!CD27)","v":0},{"$f":"IF(源泉徴収票!I27=\"無\",0,MIN(120000,Z27+AA27+AE27))","v":0},{"$f":"IF(源泉徴収票!I27=\"無\",0,MIN(AF27+AG27,50000))","v":0},{"$f":"IF(源泉徴収票!I27=\"無\",0,IF(E27=\"○\",INDEX(H30配偶者控除・特別控除マスタ,F27,G27),0))","v":0},{"$f":"IF(源泉徴収票!I27=\"無\",0,IF(C27=\"○\",INDEX(H30配偶者控除・特別控除マスタ,F27,G27),0)+IF(D27=\"○\",INDEX(H30老人控除対象配偶者上乗せ,1,G27),0))","v":0},{"$f":"IF(源泉徴収票!I27=\"無\",0,COUNTIF(M27:Q27,\"一\")*380000+COUNTIF(M27:Q27,\"特\")*630000+COUNTIF(M27:Q27,\"老\")*480000+COUNTIF(M27:Q27,\"同\")*580000)","v":0},{"$f":"IF(源泉徴収票!I27=\"無\",0,(COUNTIF(源泉徴収票!BO27:BP27,\"一般\")+源泉徴収票!BQ27)*270000+(COUNTIF(源泉徴収票!BO27:BP27,\"特別\")+源泉徴収票!BR27)*400000+(COUNTIF(源泉徴収票!BP27,\"同居特別\")+源泉徴収票!BS27)*750000)","v":0},{"$f":"IF(源泉徴収票!I27=\"無\",0,IF(源泉徴収票!BT27<>\"\",IF(OR(源泉徴収票!BT27=\"特別の寡婦\",源泉徴収票!BT27=\"ひとり親\"),350000,270000),0))","v":0},{"$f":"IF(源泉徴収票!I27=\"無\",0,480000)","v":480000},{"$f":"IF(源泉徴収票!I27=\"無\",0,SUM(AO27:AY27))","v":480000},{"$f":"IF(源泉徴収票!I27=\"無\",AN27,FLOOR(MAX(AN27-AZ27,0),1000))","v":0},{"$f":"IF(源泉徴収票!I27=\"無\",AK27,BA27*VLOOKUP(BA27,所得税額計算,3,TRUE)+VLOOKUP(BA27,所得税額計算,4,TRUE))","v":0},{"$f":"IF(源泉徴収票!I27=\"無\",0,源泉徴収票!CZ27)","v":0},0,{"$f":"IF(源泉徴収票!I27=\"無\",BD27,FLOOR(BD27*102.1%,100))","v":0},0]
[0,{"$f":"IF(AND(源泉徴収票!I28=\"無\",源泉徴収票!AE28<>\"\"),\"○\",\"×\")","v":"×"},{"$f":"IF(AND(源泉徴収票!CO28<>\"\",源泉徴収票!CO28<=480000,AN28<=10000000),\"○\",\"×\")","v":"×"},{"$f":"IF(AND(C28=\"○\",源泉徴収票!CN28<>\"\",会社情報!$C$7-YEAR(MAX(源泉徴収票!CN28-1,0))>=70),\"○\",\"×\")","v":"×"},{"$f":"IF(AND(源泉徴収票!CO28<>\"\",源泉徴収票!CO28>480000,源泉徴収票!CO28<=1330000,AN28<=10000000),\"○\",\"×\")","v":"×"},{"$f":"MATCH(源泉徴収票!CO28,H30配偶者控除・特別控除マスタ_配偶者所得,1)","v":1},{"$f":"MATCH('源泉徴収票計算過程(非)'!AN28,H30配偶者控除・特別控除マスタ_所得者合計所得,1)","v":1},{"$f":"IF(源泉徴収票!AN28=\"\",-1,会社情報!$C$7-YEAR(源泉徴収票!AN28-1))","v":-1},{"$f":"IF(源泉徴収票!AT28=\"\",-1,会社情報!$C$7-YEAR(源泉徴収票!AT28-1))","v":-1},{"$f":"IF(源泉徴収票!AZ28=\"\",-1,会社情報!$C$7-YEAR(源泉徴収票!AZ28-1))","v":-1},{"$f":"IF(源泉徴収票!BF28=\"\",-1,会社情報!$C$7-YEAR(源泉徴収票!BF28-1))","v":-1},{"$f":"IF(源泉徴収票!BL28=\"\",-1,会社情報!$C$7-YEAR(源泉徴収票!BL28-1))","v":-1},{"$f":"IF(H28>=16,IF(AND(H28>=19,H28<23),\"特\",IF(H28>=70,IF(源泉徴収票!AO28=\"同居老親等\",\"同\",\"老\"),\"一\")),IF(H28>=0,\"未\",\"×\"))","v":"×"},{"$f":"IF(I28>=16,IF(AND(I28>=19,I28<23),\"特\",IF(I28>=70,IF(源泉徴収票!AU28=\"同居老親等\",\"同\",\"老\"),\"一\")),IF(I28>=0,\"未\",\"×\"))","v":"×"},{"$f":"IF(J28>=16,IF(AND(J28>=19,J28<23),\"特\",IF(J28>=70,IF(源泉徴収票!BA28=\"同居老親等\",\"同\",\"老\"),\"一\")),IF(J28>=0,\"未\",\"×\"))","v":"×"},{"$f":"IF(K28>=16,IF(AND(K28>=19,K28<23),\"特\",IF(K28>=70,IF(源泉徴収票!BG28=\"同居老親等\",\"同\",\"老\"),\"一\")),IF(K28>=0,\"未\",\"×\"))","v":"×"},{"$f":"IF(L28>=16,IF(AND(L28>=19,L28<23),\"特\",IF(L28>=70,IF(源泉徴収票!BM28=\"同居老親等\",\"同\",\"老\"),\"一\")),IF(L28>=0,\"未\",\"×\"))","v":"×"},{"$f":"IF(M28=\"未\",\"未\",IF(M28<>\"×\",\"一\",\"\"))","v":""},{"$f":"IF(N28=\"未\",\"未\",IF(N28<>\"×\",\"一\",\"\"))","v":""},{"$f":"IF(O28=\"未\",\"未\",IF(O28<>\"×\",\"一\",\"\"))","v":""},{"$f":"IF(P28=\"未\",\"未\",IF(P28<>\"×\",\"一\",\"\"))","v":""},{"$f":"IF(Q28=\"未\",\"未\",IF(Q28<>\"×\",\"一\",\"\"))","v":""},{"$f":"IF(源泉徴収票!BU28<=20000, 源泉徴収票!BU28,\n  IF(源泉徴収票!BU28<=40000, 源泉徴収票!BU28*1/2+10000,\n   IF(源泉徴収票!BU28<=80000, 源泉徴収票!BU28*1/4+20000,\n                 40000)))","v":0},{"$f":"IF(源泉徴収票!BV28<=25000,源泉徴収票!BV28,\n  IF(源泉徴収票!BV28<=50000,源泉徴収票!BV28*1/2+12500,\n   IF(源泉徴収票!BV28<=100000,源泉徴収票!BV28*1/4+25000,\n                 50000)))","v":0},{"$f":"MIN(W28+X28,40000)","v":0},{"$f":"MAX(X28,Y28)","v":0},{"$f":"IF(源泉徴収票!BW28<=20000, 源泉徴収票!BW28,\n  IF(源泉徴収票!BW28<=40000, 源泉徴収票!BW28*1/2+10000,\n   IF(源泉徴収票!BW28<=80000, 源泉徴収票!BW28*1/4+20000,\n                 40000)))","v":0},{"$f":"IF(源泉徴収票!BX28<=20000, 源泉徴収票!BX28,\n  IF(源泉徴収票!BX28<=40000, 源泉徴収票!BX28*1/2+10000,\n   IF(源泉徴収票!BX28<=80000, 源泉徴収票!BX28*1/4+20000,\n                 40000)))","v":0},{"$f":"IF(源泉徴収票!BY28<=25000,源泉徴収票!BY28,\n  IF(源泉徴収票!BY28<=50000,源泉徴収票!BY28*1/2+12500,\n   IF(源泉徴収票!BY28<=100000,源泉徴収票!BY28*1/4+25000,\n                 50000)))","v":0},{"$f":"MIN(AB28+AC28,40000)","v":0},{"$f":"MAX(AC28,AD28)","v":0},{"$f":"IF(源泉徴収票!BZ28<>\"\",MIN(源泉徴収票!BZ28,50000),0)","v":0},{"$f":"IF(源泉徴収票!CA28>=20000,15000,IF(源泉徴収票!CA28>=10000,源泉徴収票!CA28/2+5000,源泉徴収票!CA28))","v":0},{"$f":"IF(源泉徴収票!CS28<>\"\",\"〇\",\"×\")","v":"×"},null,{"$f":"源泉徴収票!O28+源泉徴収票!R28+源泉徴収票!U28","v":0},{"$f":"源泉徴収票!Q28+源泉徴収票!T28+源泉徴収票!W28","v":0},{"$f":"IF(源泉徴収票!I28=\"無\",0,INT(A28*VLOOKUP(A28, 給与所得計算, 3, TRUE)\n        +  VLOOKUP(A28, 給与所得計算, 4, TRUE) ))","v":0},0,0,{"$f":"源泉徴収票!P28+源泉徴収票!S28+源泉徴収票!V28","v":0},{"$f":"IF(源泉徴収票!I28=\"無\",0,源泉徴収票!CB28)","v":0},{"$f":"IF(源泉徴収票!I28=\"無\",0,源泉徴収票!CD28)","v":0},{"$f":"IF(源泉徴収票!I28=\"無\",0,MIN(120000,Z28+AA28+AE28))","v":0},{"$f":"IF(源泉徴収票!I28=\"無\",0,MIN(AF28+AG28,50000))","v":0},{"$f":"IF(源泉徴収票!I28=\"無\",0,IF(E28=\"○\",INDEX(H30配偶者控除・特別控除マスタ,F28,G28),0))","v":0},{"$f":"IF(源泉徴収票!I28=\"無\",0,IF(C28=\"○\",INDEX(H30配偶者控除・特別控除マスタ,F28,G28),0)+IF(D28=\"○\",INDEX(H30老人控除対象配偶者上乗せ,1,G28),0))","v":0},{"$f":"IF(源泉徴収票!I28=\"無\",0,COUNTIF(M28:Q28,\"一\")*380000+COUNTIF(M28:Q28,\"特\")*630000+COUNTIF(M28:Q28,\"老\")*480000+COUNTIF(M28:Q28,\"同\")*580000)","v":0},{"$f":"IF(源泉徴収票!I28=\"無\",0,(COUNTIF(源泉徴収票!BO28:BP28,\"一般\")+源泉徴収票!BQ28)*270000+(COUNTIF(源泉徴収票!BO28:BP28,\"特別\")+源泉徴収票!BR28)*400000+(COUNTIF(源泉徴収票!BP28,\"同居特別\")+源泉徴収票!BS28)*750000)","v":0},{"$f":"IF(源泉徴収票!I28=\"無\",0,IF(源泉徴収票!BT28<>\"\",IF(OR(源泉徴収票!BT28=\"特別の寡婦\",源泉徴収票!BT28=\"ひとり親\"),350000,270000),0))","v":0},{"$f":"IF(源泉徴収票!I28=\"無\",0,480000)","v":480000},{"$f":"IF(源泉徴収票!I28=\"無\",0,SUM(AO28:AY28))","v":480000},{"$f":"IF(源泉徴収票!I28=\"無\",AN28,FLOOR(MAX(AN28-AZ28,0),1000))","v":0},{"$f":"IF(源泉徴収票!I28=\"無\",AK28,BA28*VLOOKUP(BA28,所得税額計算,3,TRUE)+VLOOKUP(BA28,所得税額計算,4,TRUE))","v":0},{"$f":"IF(源泉徴収票!I28=\"無\",0,源泉徴収票!CZ28)","v":0},{"$f":"MAX(BB28-BC28,0)","v":0},{"$f":"IF(源泉徴収票!I28=\"無\",BD28,FLOOR(BD28*102.1%,100))","v":0},{"$f":"BE28-AK28","v":0}]
[0,{"$f":"IF(AND(源泉徴収票!I29=\"無\",源泉徴収票!AE29<>\"\"),\"○\",\"×\")","v":"×"},{"$f":"IF(AND(源泉徴収票!CO29<>\"\",源泉徴収票!CO29<=480000,AN29<=10000000),\"○\",\"×\")","v":"×"},{"$f":"IF(AND(C29=\"○\",源泉徴収票!CN29<>\"\",会社情報!$C$7-YEAR(MAX(源泉徴収票!CN29-1,0))>=70),\"○\",\"×\")","v":"×"},{"$f":"IF(AND(源泉徴収票!CO29<>\"\",源泉徴収票!CO29>480000,源泉徴収票!CO29<=1330000,AN29<=10000000),\"○\",\"×\")","v":"×"},{"$f":"MATCH(源泉徴収票!CO29,H30配偶者控除・特別控除マスタ_配偶者所得,1)","v":1},{"$f":"MATCH('源泉徴収票計算過程(非)'!AN29,H30配偶者控除・特別控除マスタ_所得者合計所得,1)","v":1},{"$f":"IF(源泉徴収票!AN29=\"\",-1,会社情報!$C$7-YEAR(源泉徴収票!AN29-1))","v":-1},{"$f":"IF(源泉徴収票!AT29=\"\",-1,会社情報!$C$7-YEAR(源泉徴収票!AT29-1))","v":-1},{"$f":"IF(源泉徴収票!AZ29=\"\",-1,会社情報!$C$7-YEAR(源泉徴収票!AZ29-1))","v":-1},{"$f":"IF(源泉徴収票!BF29=\"\",-1,会社情報!$C$7-YEAR(源泉徴収票!BF29-1))","v":-1},{"$f":"IF(源泉徴収票!BL29=\"\",-1,会社情報!$C$7-YEAR(源泉徴収票!BL29-1))","v":-1},{"$f":"IF(H29>=16,IF(AND(H29>=19,H29<23),\"特\",IF(H29>=70,IF(源泉徴収票!AO29=\"同居老親等\",\"同\",\"老\"),\"一\")),IF(H29>=0,\"未\",\"×\"))","v":"×"},{"$f":"IF(I29>=16,IF(AND(I29>=19,I29<23),\"特\",IF(I29>=70,IF(源泉徴収票!AU29=\"同居老親等\",\"同\",\"老\"),\"一\")),IF(I29>=0,\"未\",\"×\"))","v":"×"},{"$f":"IF(J29>=16,IF(AND(J29>=19,J29<23),\"特\",IF(J29>=70,IF(源泉徴収票!BA29=\"同居老親等\",\"同\",\"老\"),\"一\")),IF(J29>=0,\"未\",\"×\"))","v":"×"},{"$f":"IF(K29>=16,IF(AND(K29>=19,K29<23),\"特\",IF(K29>=70,IF(源泉徴収票!BG29=\"同居老親等\",\"同\",\"老\"),\"一\")),IF(K29>=0,\"未\",\"×\"))","v":"×"},{"$f":"IF(L29>=16,IF(AND(L29>=19,L29<23),\"特\",IF(L29>=70,IF(源泉徴収票!BM29=\"同居老親等\",\"同\",\"老\"),\"一\")),IF(L29>=0,\"未\",\"×\"))","v":"×"},"","","","","",{"$f":"IF(源泉徴収票!BU29<=20000, 源泉徴収票!BU29,\n  IF(源泉徴収票!BU29<=40000, 源泉徴収票!BU29*1/2+10000,\n   IF(源泉徴収票!BU29<=80000, 源泉徴収票!BU29*1/4+20000,\n                 40000)))","v":0},{"$f":"IF(源泉徴収票!BV29<=25000,源泉徴収票!BV29,\n  IF(源泉徴収票!BV29<=50000,源泉徴収票!BV29*1/2+12500,\n   IF(源泉徴収票!BV29<=100000,源泉徴収票!BV29*1/4+25000,\n                 50000)))","v":0},0,0,{"$f":"IF(源泉徴収票!BW29<=20000, 源泉徴収票!BW29,\n  IF(源泉徴収票!BW29<=40000, 源泉徴収票!BW29*1/2+10000,\n   IF(源泉徴収票!BW29<=80000, 源泉徴収票!BW29*1/4+20000,\n                 40000)))","v":0},{"$f":"IF(源泉徴収票!BX29<=20000, 源泉徴収票!BX29,\n  IF(源泉徴収票!BX29<=40000, 源泉徴収票!BX29*1/2+10000,\n   IF(源泉徴収票!BX29<=80000, 源泉徴収票!BX29*1/4+20000,\n                 40000)))","v":0},{"$f":"IF(源泉徴収票!BY29<=25000,源泉徴収票!BY29,\n  IF(源泉徴収票!BY29<=50000,源泉徴収票!BY29*1/2+12500,\n   IF(源泉徴収票!BY29<=100000,源泉徴収票!BY29*1/4+25000,\n                 50000)))","v":0},0,0,{"$f":"IF(源泉徴収票!BZ29<>\"\",MIN(源泉徴収票!BZ29,50000),0)","v":0},{"$f":"IF(源泉徴収票!CA29>=20000,15000,IF(源泉徴収票!CA29>=10000,源泉徴収票!CA29/2+5000,源泉徴収票!CA29))","v":0},{"$f":"IF(源泉徴収票!CS29<>\"\",\"〇\",\"×\")","v":"×"},null,{"$f":"源泉徴収票!O29+源泉徴収票!R29+源泉徴収票!U29","v":0},{"$f":"源泉徴収票!Q29+源泉徴収票!T29+源泉徴収票!W29","v":0},{"$f":"IF(源泉徴収票!I29=\"無\",0,INT(A29*VLOOKUP(A29, 給与所得計算, 3, TRUE)\n        +  VLOOKUP(A29, 給与所得計算, 4, TRUE) ))","v":0},0,0,{"$f":"源泉徴収票!P29+源泉徴収票!S29+源泉徴収票!V29","v":0},{"$f":"IF(源泉徴収票!I29=\"無\",0,源泉徴収票!CB29)","v":0},{"$f":"IF(源泉徴収票!I29=\"無\",0,源泉徴収票!CD29)","v":0},{"$f":"IF(源泉徴収票!I29=\"無\",0,MIN(120000,Z29+AA29+AE29))","v":0},{"$f":"IF(源泉徴収票!I29=\"無\",0,MIN(AF29+AG29,50000))","v":0},{"$f":"IF(源泉徴収票!I29=\"無\",0,IF(E29=\"○\",INDEX(H30配偶者控除・特別控除マスタ,F29,G29),0))","v":0},{"$f":"IF(源泉徴収票!I29=\"無\",0,IF(C29=\"○\",INDEX(H30配偶者控除・特別控除マスタ,F29,G29),0)+IF(D29=\"○\",INDEX(H30老人控除対象配偶者上乗せ,1,G29),0))","v":0},{"$f":"IF(源泉徴収票!I29=\"無\",0,COUNTIF(M29:Q29,\"一\")*380000+COUNTIF(M29:Q29,\"特\")*630000+COUNTIF(M29:Q29,\"老\")*480000+COUNTIF(M29:Q29,\"同\")*580000)","v":0},{"$f":"IF(源泉徴収票!I29=\"無\",0,(COUNTIF(源泉徴収票!BO29:BP29,\"一般\")+源泉徴収票!BQ29)*270000+(COUNTIF(源泉徴収票!BO29:BP29,\"特別\")+源泉徴収票!BR29)*400000+(COUNTIF(源泉徴収票!BP29,\"同居特別\")+源泉徴収票!BS29)*750000)","v":0},{"$f":"IF(源泉徴収票!I29=\"無\",0,IF(源泉徴収票!BT29<>\"\",IF(OR(源泉徴収票!BT29=\"特別の寡婦\",源泉徴収票!BT29=\"ひとり親\"),350000,270000),0))","v":0},{"$f":"IF(源泉徴収票!I29=\"無\",0,480000)","v":480000},{"$f":"IF(源泉徴収票!I29=\"無\",0,SUM(AO29:AY29))","v":480000},{"$f":"IF(源泉徴収票!I29=\"無\",AN29,FLOOR(MAX(AN29-AZ29,0),1000))","v":0},{"$f":"IF(源泉徴収票!I29=\"無\",AK29,BA29*VLOOKUP(BA29,所得税額計算,3,TRUE)+VLOOKUP(BA29,所得税額計算,4,TRUE))","v":0},{"$f":"IF(源泉徴収票!I29=\"無\",0,源泉徴収票!CZ29)","v":0},0,{"$f":"IF(源泉徴収票!I29=\"無\",BD29,FLOOR(BD29*102.1%,100))","v":0},0]
[0,{"$f":"IF(AND(源泉徴収票!I30=\"無\",源泉徴収票!AE30<>\"\"),\"○\",\"×\")","v":"×"},{"$f":"IF(AND(源泉徴収票!CO30<>\"\",源泉徴収票!CO30<=480000,AN30<=10000000),\"○\",\"×\")","v":"×"},{"$f":"IF(AND(C30=\"○\",源泉徴収票!CN30<>\"\",会社情報!$C$7-YEAR(MAX(源泉徴収票!CN30-1,0))>=70),\"○\",\"×\")","v":"×"},{"$f":"IF(AND(源泉徴収票!CO30<>\"\",源泉徴収票!CO30>480000,源泉徴収票!CO30<=1330000,AN30<=10000000),\"○\",\"×\")","v":"×"},{"$f":"MATCH(源泉徴収票!CO30,H30配偶者控除・特別控除マスタ_配偶者所得,1)","v":1},{"$f":"MATCH('源泉徴収票計算過程(非)'!AN30,H30配偶者控除・特別控除マスタ_所得者合計所得,1)","v":1},{"$f":"IF(源泉徴収票!AN30=\"\",-1,会社情報!$C$7-YEAR(源泉徴収票!AN30-1))","v":-1},{"$f":"IF(源泉徴収票!AT30=\"\",-1,会社情報!$C$7-YEAR(源泉徴収票!AT30-1))","v":-1},{"$f":"IF(源泉徴収票!AZ30=\"\",-1,会社情報!$C$7-YEAR(源泉徴収票!AZ30-1))","v":-1},{"$f":"IF(源泉徴収票!BF30=\"\",-1,会社情報!$C$7-YEAR(源泉徴収票!BF30-1))","v":-1},{"$f":"IF(源泉徴収票!BL30=\"\",-1,会社情報!$C$7-YEAR(源泉徴収票!BL30-1))","v":-1},{"$f":"IF(H30>=16,IF(AND(H30>=19,H30<23),\"特\",IF(H30>=70,IF(源泉徴収票!AO30=\"同居老親等\",\"同\",\"老\"),\"一\")),IF(H30>=0,\"未\",\"×\"))","v":"×"},{"$f":"IF(I30>=16,IF(AND(I30>=19,I30<23),\"特\",IF(I30>=70,IF(源泉徴収票!AU30=\"同居老親等\",\"同\",\"老\"),\"一\")),IF(I30>=0,\"未\",\"×\"))","v":"×"},{"$f":"IF(J30>=16,IF(AND(J30>=19,J30<23),\"特\",IF(J30>=70,IF(源泉徴収票!BA30=\"同居老親等\",\"同\",\"老\"),\"一\")),IF(J30>=0,\"未\",\"×\"))","v":"×"},{"$f":"IF(K30>=16,IF(AND(K30>=19,K30<23),\"特\",IF(K30>=70,IF(源泉徴収票!BG30=\"同居老親等\",\"同\",\"老\"),\"一\")),IF(K30>=0,\"未\",\"×\"))","v":"×"},{"$f":"IF(L30>=16,IF(AND(L30>=19,L30<23),\"特\",IF(L30>=70,IF(源泉徴収票!BM30=\"同居老親等\",\"同\",\"老\"),\"一\")),IF(L30>=0,\"未\",\"×\"))","v":"×"},"","","","","",{"$f":"IF(源泉徴収票!BU30<=20000, 源泉徴収票!BU30,\n  IF(源泉徴収票!BU30<=40000, 源泉徴収票!BU30*1/2+10000,\n   IF(源泉徴収票!BU30<=80000, 源泉徴収票!BU30*1/4+20000,\n                 40000)))","v":0},{"$f":"IF(源泉徴収票!BV30<=25000,源泉徴収票!BV30,\n  IF(源泉徴収票!BV30<=50000,源泉徴収票!BV30*1/2+12500,\n   IF(源泉徴収票!BV30<=100000,源泉徴収票!BV30*1/4+25000,\n                 50000)))","v":0},0,0,{"$f":"IF(源泉徴収票!BW30<=20000, 源泉徴収票!BW30,\n  IF(源泉徴収票!BW30<=40000, 源泉徴収票!BW30*1/2+10000,\n   IF(源泉徴収票!BW30<=80000, 源泉徴収票!BW30*1/4+20000,\n                 40000)))","v":0},{"$f":"IF(源泉徴収票!BX30<=20000, 源泉徴収票!BX30,\n  IF(源泉徴収票!BX30<=40000, 源泉徴収票!BX30*1/2+10000,\n   IF(源泉徴収票!BX30<=80000, 源泉徴収票!BX30*1/4+20000,\n                 40000)))","v":0},{"$f":"IF(源泉徴収票!BY30<=25000,源泉徴収票!BY30,\n  IF(源泉徴収票!BY30<=50000,源泉徴収票!BY30*1/2+12500,\n   IF(源泉徴収票!BY30<=100000,源泉徴収票!BY30*1/4+25000,\n                 50000)))","v":0},0,0,{"$f":"IF(源泉徴収票!BZ30<>\"\",MIN(源泉徴収票!BZ30,50000),0)","v":0},{"$f":"IF(源泉徴収票!CA30>=20000,15000,IF(源泉徴収票!CA30>=10000,源泉徴収票!CA30/2+5000,源泉徴収票!CA30))","v":0},{"$f":"IF(源泉徴収票!CS30<>\"\",\"〇\",\"×\")","v":"×"},null,{"$f":"源泉徴収票!O30+源泉徴収票!R30+源泉徴収票!U30","v":0},{"$f":"源泉徴収票!Q30+源泉徴収票!T30+源泉徴収票!W30","v":0},{"$f":"IF(源泉徴収票!I30=\"無\",0,INT(A30*VLOOKUP(A30, 給与所得計算, 3, TRUE)\n        +  VLOOKUP(A30, 給与所得計算, 4, TRUE) ))","v":0},0,0,{"$f":"源泉徴収票!P30+源泉徴収票!S30+源泉徴収票!V30","v":0},{"$f":"IF(源泉徴収票!I30=\"無\",0,源泉徴収票!CB30)","v":0},{"$f":"IF(源泉徴収票!I30=\"無\",0,源泉徴収票!CD30)","v":0},{"$f":"IF(源泉徴収票!I30=\"無\",0,MIN(120000,Z30+AA30+AE30))","v":0},{"$f":"IF(源泉徴収票!I30=\"無\",0,MIN(AF30+AG30,50000))","v":0},{"$f":"IF(源泉徴収票!I30=\"無\",0,IF(E30=\"○\",INDEX(H30配偶者控除・特別控除マスタ,F30,G30),0))","v":0},{"$f":"IF(源泉徴収票!I30=\"無\",0,IF(C30=\"○\",INDEX(H30配偶者控除・特別控除マスタ,F30,G30),0)+IF(D30=\"○\",INDEX(H30老人控除対象配偶者上乗せ,1,G30),0))","v":0},{"$f":"IF(源泉徴収票!I30=\"無\",0,COUNTIF(M30:Q30,\"一\")*380000+COUNTIF(M30:Q30,\"特\")*630000+COUNTIF(M30:Q30,\"老\")*480000+COUNTIF(M30:Q30,\"同\")*580000)","v":0},{"$f":"IF(源泉徴収票!I30=\"無\",0,(COUNTIF(源泉徴収票!BO30:BP30,\"一般\")+源泉徴収票!BQ30)*270000+(COUNTIF(源泉徴収票!BO30:BP30,\"特別\")+源泉徴収票!BR30)*400000+(COUNTIF(源泉徴収票!BP30,\"同居特別\")+源泉徴収票!BS30)*750000)","v":0},{"$f":"IF(源泉徴収票!I30=\"無\",0,IF(源泉徴収票!BT30<>\"\",IF(OR(源泉徴収票!BT30=\"特別の寡婦\",源泉徴収票!BT30=\"ひとり親\"),350000,270000),0))","v":0},{"$f":"IF(源泉徴収票!I30=\"無\",0,480000)","v":480000},{"$f":"IF(源泉徴収票!I30=\"無\",0,SUM(AO30:AY30))","v":480000},{"$f":"IF(源泉徴収票!I30=\"無\",AN30,FLOOR(MAX(AN30-AZ30,0),1000))","v":0},{"$f":"IF(源泉徴収票!I30=\"無\",AK30,BA30*VLOOKUP(BA30,所得税額計算,3,TRUE)+VLOOKUP(BA30,所得税額計算,4,TRUE))","v":0},{"$f":"IF(源泉徴収票!I30=\"無\",0,源泉徴収票!CZ30)","v":0},0,{"$f":"IF(源泉徴収票!I30=\"無\",BD30,FLOOR(BD30*102.1%,100))","v":0},0]
[0,{"$f":"IF(AND(源泉徴収票!I31=\"無\",源泉徴収票!AE31<>\"\"),\"○\",\"×\")","v":"×"},{"$f":"IF(AND(源泉徴収票!CO31<>\"\",源泉徴収票!CO31<=480000,AN31<=10000000),\"○\",\"×\")","v":"×"},{"$f":"IF(AND(C31=\"○\",源泉徴収票!CN31<>\"\",会社情報!$C$7-YEAR(MAX(源泉徴収票!CN31-1,0))>=70),\"○\",\"×\")","v":"×"},{"$f":"IF(AND(源泉徴収票!CO31<>\"\",源泉徴収票!CO31>480000,源泉徴収票!CO31<=1330000,AN31<=10000000),\"○\",\"×\")","v":"×"},{"$f":"MATCH(源泉徴収票!CO31,H30配偶者控除・特別控除マスタ_配偶者所得,1)","v":1},{"$f":"MATCH('源泉徴収票計算過程(非)'!AN31,H30配偶者控除・特別控除マスタ_所得者合計所得,1)","v":1},{"$f":"IF(源泉徴収票!AN31=\"\",-1,会社情報!$C$7-YEAR(源泉徴収票!AN31-1))","v":-1},{"$f":"IF(源泉徴収票!AT31=\"\",-1,会社情報!$C$7-YEAR(源泉徴収票!AT31-1))","v":-1},{"$f":"IF(源泉徴収票!AZ31=\"\",-1,会社情報!$C$7-YEAR(源泉徴収票!AZ31-1))","v":-1},{"$f":"IF(源泉徴収票!BF31=\"\",-1,会社情報!$C$7-YEAR(源泉徴収票!BF31-1))","v":-1},{"$f":"IF(源泉徴収票!BL31=\"\",-1,会社情報!$C$7-YEAR(源泉徴収票!BL31-1))","v":-1},{"$f":"IF(H31>=16,IF(AND(H31>=19,H31<23),\"特\",IF(H31>=70,IF(源泉徴収票!AO31=\"同居老親等\",\"同\",\"老\"),\"一\")),IF(H31>=0,\"未\",\"×\"))","v":"×"},{"$f":"IF(I31>=16,IF(AND(I31>=19,I31<23),\"特\",IF(I31>=70,IF(源泉徴収票!AU31=\"同居老親等\",\"同\",\"老\"),\"一\")),IF(I31>=0,\"未\",\"×\"))","v":"×"},{"$f":"IF(J31>=16,IF(AND(J31>=19,J31<23),\"特\",IF(J31>=70,IF(源泉徴収票!BA31=\"同居老親等\",\"同\",\"老\"),\"一\")),IF(J31>=0,\"未\",\"×\"))","v":"×"},{"$f":"IF(K31>=16,IF(AND(K31>=19,K31<23),\"特\",IF(K31>=70,IF(源泉徴収票!BG31=\"同居老親等\",\"同\",\"老\"),\"一\")),IF(K31>=0,\"未\",\"×\"))","v":"×"},{"$f":"IF(L31>=16,IF(AND(L31>=19,L31<23),\"特\",IF(L31>=70,IF(源泉徴収票!BM31=\"同居老親等\",\"同\",\"老\"),\"一\")),IF(L31>=0,\"未\",\"×\"))","v":"×"},"","","","","",{"$f":"IF(源泉徴収票!BU31<=20000, 源泉徴収票!BU31,\n  IF(源泉徴収票!BU31<=40000, 源泉徴収票!BU31*1/2+10000,\n   IF(源泉徴収票!BU31<=80000, 源泉徴収票!BU31*1/4+20000,\n                 40000)))","v":0},{"$f":"IF(源泉徴収票!BV31<=25000,源泉徴収票!BV31,\n  IF(源泉徴収票!BV31<=50000,源泉徴収票!BV31*1/2+12500,\n   IF(源泉徴収票!BV31<=100000,源泉徴収票!BV31*1/4+25000,\n                 50000)))","v":0},0,0,{"$f":"IF(源泉徴収票!BW31<=20000, 源泉徴収票!BW31,\n  IF(源泉徴収票!BW31<=40000, 源泉徴収票!BW31*1/2+10000,\n   IF(源泉徴収票!BW31<=80000, 源泉徴収票!BW31*1/4+20000,\n                 40000)))","v":0},{"$f":"IF(源泉徴収票!BX31<=20000, 源泉徴収票!BX31,\n  IF(源泉徴収票!BX31<=40000, 源泉徴収票!BX31*1/2+10000,\n   IF(源泉徴収票!BX31<=80000, 源泉徴収票!BX31*1/4+20000,\n                 40000)))","v":0},{"$f":"IF(源泉徴収票!BY31<=25000,源泉徴収票!BY31,\n  IF(源泉徴収票!BY31<=50000,源泉徴収票!BY31*1/2+12500,\n   IF(源泉徴収票!BY31<=100000,源泉徴収票!BY31*1/4+25000,\n                 50000)))","v":0},0,0,{"$f":"IF(源泉徴収票!BZ31<>\"\",MIN(源泉徴収票!BZ31,50000),0)","v":0},{"$f":"IF(源泉徴収票!CA31>=20000,15000,IF(源泉徴収票!CA31>=10000,源泉徴収票!CA31/2+5000,源泉徴収票!CA31))","v":0},{"$f":"IF(源泉徴収票!CS31<>\"\",\"〇\",\"×\")","v":"×"},null,{"$f":"源泉徴収票!O31+源泉徴収票!R31+源泉徴収票!U31","v":0},{"$f":"源泉徴収票!Q31+源泉徴収票!T31+源泉徴収票!W31","v":0},{"$f":"IF(源泉徴収票!I31=\"無\",0,INT(A31*VLOOKUP(A31, 給与所得計算, 3, TRUE)\n        +  VLOOKUP(A31, 給与所得計算, 4, TRUE) ))","v":0},0,0,{"$f":"源泉徴収票!P31+源泉徴収票!S31+源泉徴収票!V31","v":0},{"$f":"IF(源泉徴収票!I31=\"無\",0,源泉徴収票!CB31)","v":0},{"$f":"IF(源泉徴収票!I31=\"無\",0,源泉徴収票!CD31)","v":0},{"$f":"IF(源泉徴収票!I31=\"無\",0,MIN(120000,Z31+AA31+AE31))","v":0},{"$f":"IF(源泉徴収票!I31=\"無\",0,MIN(AF31+AG31,50000))","v":0},{"$f":"IF(源泉徴収票!I31=\"無\",0,IF(E31=\"○\",INDEX(H30配偶者控除・特別控除マスタ,F31,G31),0))","v":0},{"$f":"IF(源泉徴収票!I31=\"無\",0,IF(C31=\"○\",INDEX(H30配偶者控除・特別控除マスタ,F31,G31),0)+IF(D31=\"○\",INDEX(H30老人控除対象配偶者上乗せ,1,G31),0))","v":0},{"$f":"IF(源泉徴収票!I31=\"無\",0,COUNTIF(M31:Q31,\"一\")*380000+COUNTIF(M31:Q31,\"特\")*630000+COUNTIF(M31:Q31,\"老\")*480000+COUNTIF(M31:Q31,\"同\")*580000)","v":0},{"$f":"IF(源泉徴収票!I31=\"無\",0,(COUNTIF(源泉徴収票!BO31:BP31,\"一般\")+源泉徴収票!BQ31)*270000+(COUNTIF(源泉徴収票!BO31:BP31,\"特別\")+源泉徴収票!BR31)*400000+(COUNTIF(源泉徴収票!BP31,\"同居特別\")+源泉徴収票!BS31)*750000)","v":0},{"$f":"IF(源泉徴収票!I31=\"無\",0,IF(源泉徴収票!BT31<>\"\",IF(OR(源泉徴収票!BT31=\"特別の寡婦\",源泉徴収票!BT31=\"ひとり親\"),350000,270000),0))","v":0},{"$f":"IF(源泉徴収票!I31=\"無\",0,480000)","v":480000},{"$f":"IF(源泉徴収票!I31=\"無\",0,SUM(AO31:AY31))","v":480000},{"$f":"IF(源泉徴収票!I31=\"無\",AN31,FLOOR(MAX(AN31-AZ31,0),1000))","v":0},{"$f":"IF(源泉徴収票!I31=\"無\",AK31,BA31*VLOOKUP(BA31,所得税額計算,3,TRUE)+VLOOKUP(BA31,所得税額計算,4,TRUE))","v":0},{"$f":"IF(源泉徴収票!I31=\"無\",0,源泉徴収票!CZ31)","v":0},0,{"$f":"IF(源泉徴収票!I31=\"無\",BD31,FLOOR(BD31*102.1%,100))","v":0},0]
[0,{"$f":"IF(AND(源泉徴収票!I32=\"無\",源泉徴収票!AE32<>\"\"),\"○\",\"×\")","v":"×"},{"$f":"IF(AND(源泉徴収票!CO32<>\"\",源泉徴収票!CO32<=480000,AN32<=10000000),\"○\",\"×\")","v":"×"},{"$f":"IF(AND(C32=\"○\",源泉徴収票!CN32<>\"\",会社情報!$C$7-YEAR(MAX(源泉徴収票!CN32-1,0))>=70),\"○\",\"×\")","v":"×"},{"$f":"IF(AND(源泉徴収票!CO32<>\"\",源泉徴収票!CO32>480000,源泉徴収票!CO32<=1330000,AN32<=10000000),\"○\",\"×\")","v":"×"},{"$f":"MATCH(源泉徴収票!CO32,H30配偶者控除・特別控除マスタ_配偶者所得,1)","v":1},{"$f":"MATCH('源泉徴収票計算過程(非)'!AN32,H30配偶者控除・特別控除マスタ_所得者合計所得,1)","v":1},{"$f":"IF(源泉徴収票!AN32=\"\",-1,会社情報!$C$7-YEAR(源泉徴収票!AN32-1))","v":-1},{"$f":"IF(源泉徴収票!AT32=\"\",-1,会社情報!$C$7-YEAR(源泉徴収票!AT32-1))","v":-1},{"$f":"IF(源泉徴収票!AZ32=\"\",-1,会社情報!$C$7-YEAR(源泉徴収票!AZ32-1))","v":-1},{"$f":"IF(源泉徴収票!BF32=\"\",-1,会社情報!$C$7-YEAR(源泉徴収票!BF32-1))","v":-1},{"$f":"IF(源泉徴収票!BL32=\"\",-1,会社情報!$C$7-YEAR(源泉徴収票!BL32-1))","v":-1},{"$f":"IF(H32>=16,IF(AND(H32>=19,H32<23),\"特\",IF(H32>=70,IF(源泉徴収票!AO32=\"同居老親等\",\"同\",\"老\"),\"一\")),IF(H32>=0,\"未\",\"×\"))","v":"×"},{"$f":"IF(I32>=16,IF(AND(I32>=19,I32<23),\"特\",IF(I32>=70,IF(源泉徴収票!AU32=\"同居老親等\",\"同\",\"老\"),\"一\")),IF(I32>=0,\"未\",\"×\"))","v":"×"},{"$f":"IF(J32>=16,IF(AND(J32>=19,J32<23),\"特\",IF(J32>=70,IF(源泉徴収票!BA32=\"同居老親等\",\"同\",\"老\"),\"一\")),IF(J32>=0,\"未\",\"×\"))","v":"×"},{"$f":"IF(K32>=16,IF(AND(K32>=19,K32<23),\"特\",IF(K32>=70,IF(源泉徴収票!BG32=\"同居老親等\",\"同\",\"老\"),\"一\")),IF(K32>=0,\"未\",\"×\"))","v":"×"},{"$f":"IF(L32>=16,IF(AND(L32>=19,L32<23),\"特\",IF(L32>=70,IF(源泉徴収票!BM32=\"同居老親等\",\"同\",\"老\"),\"一\")),IF(L32>=0,\"未\",\"×\"))","v":"×"},"","","","","",{"$f":"IF(源泉徴収票!BU32<=20000, 源泉徴収票!BU32,\n  IF(源泉徴収票!BU32<=40000, 源泉徴収票!BU32*1/2+10000,\n   IF(源泉徴収票!BU32<=80000, 源泉徴収票!BU32*1/4+20000,\n                 40000)))","v":0},{"$f":"IF(源泉徴収票!BV32<=25000,源泉徴収票!BV32,\n  IF(源泉徴収票!BV32<=50000,源泉徴収票!BV32*1/2+12500,\n   IF(源泉徴収票!BV32<=100000,源泉徴収票!BV32*1/4+25000,\n                 50000)))","v":0},0,0,{"$f":"IF(源泉徴収票!BW32<=20000, 源泉徴収票!BW32,\n  IF(源泉徴収票!BW32<=40000, 源泉徴収票!BW32*1/2+10000,\n   IF(源泉徴収票!BW32<=80000, 源泉徴収票!BW32*1/4+20000,\n                 40000)))","v":0},{"$f":"IF(源泉徴収票!BX32<=20000, 源泉徴収票!BX32,\n  IF(源泉徴収票!BX32<=40000, 源泉徴収票!BX32*1/2+10000,\n   IF(源泉徴収票!BX32<=80000, 源泉徴収票!BX32*1/4+20000,\n                 40000)))","v":0},{"$f":"IF(源泉徴収票!BY32<=25000,源泉徴収票!BY32,\n  IF(源泉徴収票!BY32<=50000,源泉徴収票!BY32*1/2+12500,\n   IF(源泉徴収票!BY32<=100000,源泉徴収票!BY32*1/4+25000,\n                 50000)))","v":0},0,0,{"$f":"IF(源泉徴収票!BZ32<>\"\",MIN(源泉徴収票!BZ32,50000),0)","v":0},{"$f":"IF(源泉徴収票!CA32>=20000,15000,IF(源泉徴収票!CA32>=10000,源泉徴収票!CA32/2+5000,源泉徴収票!CA32))","v":0},{"$f":"IF(源泉徴収票!CS32<>\"\",\"〇\",\"×\")","v":"×"},null,{"$f":"源泉徴収票!O32+源泉徴収票!R32+源泉徴収票!U32","v":0},{"$f":"源泉徴収票!Q32+源泉徴収票!T32+源泉徴収票!W32","v":0},{"$f":"IF(源泉徴収票!I32=\"無\",0,INT(A32*VLOOKUP(A32, 給与所得計算, 3, TRUE)\n        +  VLOOKUP(A32, 給与所得計算, 4, TRUE) ))","v":0},0,0,{"$f":"源泉徴収票!P32+源泉徴収票!S32+源泉徴収票!V32","v":0},{"$f":"IF(源泉徴収票!I32=\"無\",0,源泉徴収票!CB32)","v":0},{"$f":"IF(源泉徴収票!I32=\"無\",0,源泉徴収票!CD32)","v":0},{"$f":"IF(源泉徴収票!I32=\"無\",0,MIN(120000,Z32+AA32+AE32))","v":0},{"$f":"IF(源泉徴収票!I32=\"無\",0,MIN(AF32+AG32,50000))","v":0},{"$f":"IF(源泉徴収票!I32=\"無\",0,IF(E32=\"○\",INDEX(H30配偶者控除・特別控除マスタ,F32,G32),0))","v":0},{"$f":"IF(源泉徴収票!I32=\"無\",0,IF(C32=\"○\",INDEX(H30配偶者控除・特別控除マスタ,F32,G32),0)+IF(D32=\"○\",INDEX(H30老人控除対象配偶者上乗せ,1,G32),0))","v":0},{"$f":"IF(源泉徴収票!I32=\"無\",0,COUNTIF(M32:Q32,\"一\")*380000+COUNTIF(M32:Q32,\"特\")*630000+COUNTIF(M32:Q32,\"老\")*480000+COUNTIF(M32:Q32,\"同\")*580000)","v":0},{"$f":"IF(源泉徴収票!I32=\"無\",0,(COUNTIF(源泉徴収票!BO32:BP32,\"一般\")+源泉徴収票!BQ32)*270000+(COUNTIF(源泉徴収票!BO32:BP32,\"特別\")+源泉徴収票!BR32)*400000+(COUNTIF(源泉徴収票!BP32,\"同居特別\")+源泉徴収票!BS32)*750000)","v":0},{"$f":"IF(源泉徴収票!I32=\"無\",0,IF(源泉徴収票!BT32<>\"\",IF(OR(源泉徴収票!BT32=\"特別の寡婦\",源泉徴収票!BT32=\"ひとり親\"),350000,270000),0))","v":0},{"$f":"IF(源泉徴収票!I32=\"無\",0,480000)","v":480000},{"$f":"IF(源泉徴収票!I32=\"無\",0,SUM(AO32:AY32))","v":480000},{"$f":"IF(源泉徴収票!I32=\"無\",AN32,FLOOR(MAX(AN32-AZ32,0),1000))","v":0},{"$f":"IF(源泉徴収票!I32=\"無\",AK32,BA32*VLOOKUP(BA32,所得税額計算,3,TRUE)+VLOOKUP(BA32,所得税額計算,4,TRUE))","v":0},{"$f":"IF(源泉徴収票!I32=\"無\",0,源泉徴収票!CZ32)","v":0},0,{"$f":"IF(源泉徴収票!I32=\"無\",BD32,FLOOR(BD32*102.1%,100))","v":0},0]
[0,{"$f":"IF(AND(源泉徴収票!I33=\"無\",源泉徴収票!AE33<>\"\"),\"○\",\"×\")","v":"×"},{"$f":"IF(AND(源泉徴収票!CO33<>\"\",源泉徴収票!CO33<=480000,AN33<=10000000),\"○\",\"×\")","v":"×"},{"$f":"IF(AND(C33=\"○\",源泉徴収票!CN33<>\"\",会社情報!$C$7-YEAR(MAX(源泉徴収票!CN33-1,0))>=70),\"○\",\"×\")","v":"×"},{"$f":"IF(AND(源泉徴収票!CO33<>\"\",源泉徴収票!CO33>480000,源泉徴収票!CO33<=1330000,AN33<=10000000),\"○\",\"×\")","v":"×"},{"$f":"MATCH(源泉徴収票!CO33,H30配偶者控除・特別控除マスタ_配偶者所得,1)","v":1},{"$f":"MATCH('源泉徴収票計算過程(非)'!AN33,H30配偶者控除・特別控除マスタ_所得者合計所得,1)","v":1},{"$f":"IF(源泉徴収票!AN33=\"\",-1,会社情報!$C$7-YEAR(源泉徴収票!AN33-1))","v":-1},{"$f":"IF(源泉徴収票!AT33=\"\",-1,会社情報!$C$7-YEAR(源泉徴収票!AT33-1))","v":-1},{"$f":"IF(源泉徴収票!AZ33=\"\",-1,会社情報!$C$7-YEAR(源泉徴収票!AZ33-1))","v":-1},{"$f":"IF(源泉徴収票!BF33=\"\",-1,会社情報!$C$7-YEAR(源泉徴収票!BF33-1))","v":-1},{"$f":"IF(源泉徴収票!BL33=\"\",-1,会社情報!$C$7-YEAR(源泉徴収票!BL33-1))","v":-1},{"$f":"IF(H33>=16,IF(AND(H33>=19,H33<23),\"特\",IF(H33>=70,IF(源泉徴収票!AO33=\"同居老親等\",\"同\",\"老\"),\"一\")),IF(H33>=0,\"未\",\"×\"))","v":"×"},{"$f":"IF(I33>=16,IF(AND(I33>=19,I33<23),\"特\",IF(I33>=70,IF(源泉徴収票!AU33=\"同居老親等\",\"同\",\"老\"),\"一\")),IF(I33>=0,\"未\",\"×\"))","v":"×"},{"$f":"IF(J33>=16,IF(AND(J33>=19,J33<23),\"特\",IF(J33>=70,IF(源泉徴収票!BA33=\"同居老親等\",\"同\",\"老\"),\"一\")),IF(J33>=0,\"未\",\"×\"))","v":"×"},{"$f":"IF(K33>=16,IF(AND(K33>=19,K33<23),\"特\",IF(K33>=70,IF(源泉徴収票!BG33=\"同居老親等\",\"同\",\"老\"),\"一\")),IF(K33>=0,\"未\",\"×\"))","v":"×"},{"$f":"IF(L33>=16,IF(AND(L33>=19,L33<23),\"特\",IF(L33>=70,IF(源泉徴収票!BM33=\"同居老親等\",\"同\",\"老\"),\"一\")),IF(L33>=0,\"未\",\"×\"))","v":"×"},"","","","","",{"$f":"IF(源泉徴収票!BU33<=20000, 源泉徴収票!BU33,\n  IF(源泉徴収票!BU33<=40000, 源泉徴収票!BU33*1/2+10000,\n   IF(源泉徴収票!BU33<=80000, 源泉徴収票!BU33*1/4+20000,\n                 40000)))","v":0},{"$f":"IF(源泉徴収票!BV33<=25000,源泉徴収票!BV33,\n  IF(源泉徴収票!BV33<=50000,源泉徴収票!BV33*1/2+12500,\n   IF(源泉徴収票!BV33<=100000,源泉徴収票!BV33*1/4+25000,\n                 50000)))","v":0},0,0,{"$f":"IF(源泉徴収票!BW33<=20000, 源泉徴収票!BW33,\n  IF(源泉徴収票!BW33<=40000, 源泉徴収票!BW33*1/2+10000,\n   IF(源泉徴収票!BW33<=80000, 源泉徴収票!BW33*1/4+20000,\n                 40000)))","v":0},{"$f":"IF(源泉徴収票!BX33<=20000, 源泉徴収票!BX33,\n  IF(源泉徴収票!BX33<=40000, 源泉徴収票!BX33*1/2+10000,\n   IF(源泉徴収票!BX33<=80000, 源泉徴収票!BX33*1/4+20000,\n                 40000)))","v":0},{"$f":"IF(源泉徴収票!BY33<=25000,源泉徴収票!BY33,\n  IF(源泉徴収票!BY33<=50000,源泉徴収票!BY33*1/2+12500,\n   IF(源泉徴収票!BY33<=100000,源泉徴収票!BY33*1/4+25000,\n                 50000)))","v":0},0,0,{"$f":"IF(源泉徴収票!BZ33<>\"\",MIN(源泉徴収票!BZ33,50000),0)","v":0},{"$f":"IF(源泉徴収票!CA33>=20000,15000,IF(源泉徴収票!CA33>=10000,源泉徴収票!CA33/2+5000,源泉徴収票!CA33))","v":0},{"$f":"IF(源泉徴収票!CS33<>\"\",\"〇\",\"×\")","v":"×"},null,{"$f":"源泉徴収票!O33+源泉徴収票!R33+源泉徴収票!U33","v":0},{"$f":"源泉徴収票!Q33+源泉徴収票!T33+源泉徴収票!W33","v":0},{"$f":"IF(源泉徴収票!I33=\"無\",0,INT(A33*VLOOKUP(A33, 給与所得計算, 3, TRUE)\n        +  VLOOKUP(A33, 給与所得計算, 4, TRUE) ))","v":0},0,0,{"$f":"源泉徴収票!P33+源泉徴収票!S33+源泉徴収票!V33","v":0},{"$f":"IF(源泉徴収票!I33=\"無\",0,源泉徴収票!CB33)","v":0},{"$f":"IF(源泉徴収票!I33=\"無\",0,源泉徴収票!CD33)","v":0},{"$f":"IF(源泉徴収票!I33=\"無\",0,MIN(120000,Z33+AA33+AE33))","v":0},{"$f":"IF(源泉徴収票!I33=\"無\",0,MIN(AF33+AG33,50000))","v":0},{"$f":"IF(源泉徴収票!I33=\"無\",0,IF(E33=\"○\",INDEX(H30配偶者控除・特別控除マスタ,F33,G33),0))","v":0},{"$f":"IF(源泉徴収票!I33=\"無\",0,IF(C33=\"○\",INDEX(H30配偶者控除・特別控除マスタ,F33,G33),0)+IF(D33=\"○\",INDEX(H30老人控除対象配偶者上乗せ,1,G33),0))","v":0},{"$f":"IF(源泉徴収票!I33=\"無\",0,COUNTIF(M33:Q33,\"一\")*380000+COUNTIF(M33:Q33,\"特\")*630000+COUNTIF(M33:Q33,\"老\")*480000+COUNTIF(M33:Q33,\"同\")*580000)","v":0},{"$f":"IF(源泉徴収票!I33=\"無\",0,(COUNTIF(源泉徴収票!BO33:BP33,\"一般\")+源泉徴収票!BQ33)*270000+(COUNTIF(源泉徴収票!BO33:BP33,\"特別\")+源泉徴収票!BR33)*400000+(COUNTIF(源泉徴収票!BP33,\"同居特別\")+源泉徴収票!BS33)*750000)","v":0},{"$f":"IF(源泉徴収票!I33=\"無\",0,IF(源泉徴収票!BT33<>\"\",IF(OR(源泉徴収票!BT33=\"特別の寡婦\",源泉徴収票!BT33=\"ひとり親\"),350000,270000),0))","v":0},{"$f":"IF(源泉徴収票!I33=\"無\",0,480000)","v":480000},{"$f":"IF(源泉徴収票!I33=\"無\",0,SUM(AO33:AY33))","v":480000},{"$f":"IF(源泉徴収票!I33=\"無\",AN33,FLOOR(MAX(AN33-AZ33,0),1000))","v":0},{"$f":"IF(源泉徴収票!I33=\"無\",AK33,BA33*VLOOKUP(BA33,所得税額計算,3,TRUE)+VLOOKUP(BA33,所得税額計算,4,TRUE))","v":0},{"$f":"IF(源泉徴収票!I33=\"無\",0,源泉徴収票!CZ33)","v":0},0,{"$f":"IF(源泉徴収票!I33=\"無\",BD33,FLOOR(BD33*102.1%,100))","v":0},0]
[0,{"$f":"IF(AND(源泉徴収票!I34=\"無\",源泉徴収票!AE34<>\"\"),\"○\",\"×\")","v":"×"},{"$f":"IF(AND(源泉徴収票!CO34<>\"\",源泉徴収票!CO34<=480000,AN34<=10000000),\"○\",\"×\")","v":"×"},{"$f":"IF(AND(C34=\"○\",源泉徴収票!CN34<>\"\",会社情報!$C$7-YEAR(MAX(源泉徴収票!CN34-1,0))>=70),\"○\",\"×\")","v":"×"},{"$f":"IF(AND(源泉徴収票!CO34<>\"\",源泉徴収票!CO34>480000,源泉徴収票!CO34<=1330000,AN34<=10000000),\"○\",\"×\")","v":"×"},{"$f":"MATCH(源泉徴収票!CO34,H30配偶者控除・特別控除マスタ_配偶者所得,1)","v":1},{"$f":"MATCH('源泉徴収票計算過程(非)'!AN34,H30配偶者控除・特別控除マスタ_所得者合計所得,1)","v":1},{"$f":"IF(源泉徴収票!AN34=\"\",-1,会社情報!$C$7-YEAR(源泉徴収票!AN34-1))","v":-1},{"$f":"IF(源泉徴収票!AT34=\"\",-1,会社情報!$C$7-YEAR(源泉徴収票!AT34-1))","v":-1},{"$f":"IF(源泉徴収票!AZ34=\"\",-1,会社情報!$C$7-YEAR(源泉徴収票!AZ34-1))","v":-1},{"$f":"IF(源泉徴収票!BF34=\"\",-1,会社情報!$C$7-YEAR(源泉徴収票!BF34-1))","v":-1},{"$f":"IF(源泉徴収票!BL34=\"\",-1,会社情報!$C$7-YEAR(源泉徴収票!BL34-1))","v":-1},{"$f":"IF(H34>=16,IF(AND(H34>=19,H34<23),\"特\",IF(H34>=70,IF(源泉徴収票!AO34=\"同居老親等\",\"同\",\"老\"),\"一\")),IF(H34>=0,\"未\",\"×\"))","v":"×"},{"$f":"IF(I34>=16,IF(AND(I34>=19,I34<23),\"特\",IF(I34>=70,IF(源泉徴収票!AU34=\"同居老親等\",\"同\",\"老\"),\"一\")),IF(I34>=0,\"未\",\"×\"))","v":"×"},{"$f":"IF(J34>=16,IF(AND(J34>=19,J34<23),\"特\",IF(J34>=70,IF(源泉徴収票!BA34=\"同居老親等\",\"同\",\"老\"),\"一\")),IF(J34>=0,\"未\",\"×\"))","v":"×"},{"$f":"IF(K34>=16,IF(AND(K34>=19,K34<23),\"特\",IF(K34>=70,IF(源泉徴収票!BG34=\"同居老親等\",\"同\",\"老\"),\"一\")),IF(K34>=0,\"未\",\"×\"))","v":"×"},{"$f":"IF(L34>=16,IF(AND(L34>=19,L34<23),\"特\",IF(L34>=70,IF(源泉徴収票!BM34=\"同居老親等\",\"同\",\"老\"),\"一\")),IF(L34>=0,\"未\",\"×\"))","v":"×"},"","","","","",{"$f":"IF(源泉徴収票!BU34<=20000, 源泉徴収票!BU34,\n  IF(源泉徴収票!BU34<=40000, 源泉徴収票!BU34*1/2+10000,\n   IF(源泉徴収票!BU34<=80000, 源泉徴収票!BU34*1/4+20000,\n                 40000)))","v":0},{"$f":"IF(源泉徴収票!BV34<=25000,源泉徴収票!BV34,\n  IF(源泉徴収票!BV34<=50000,源泉徴収票!BV34*1/2+12500,\n   IF(源泉徴収票!BV34<=100000,源泉徴収票!BV34*1/4+25000,\n                 50000)))","v":0},0,0,{"$f":"IF(源泉徴収票!BW34<=20000, 源泉徴収票!BW34,\n  IF(源泉徴収票!BW34<=40000, 源泉徴収票!BW34*1/2+10000,\n   IF(源泉徴収票!BW34<=80000, 源泉徴収票!BW34*1/4+20000,\n                 40000)))","v":0},{"$f":"IF(源泉徴収票!BX34<=20000, 源泉徴収票!BX34,\n  IF(源泉徴収票!BX34<=40000, 源泉徴収票!BX34*1/2+10000,\n   IF(源泉徴収票!BX34<=80000, 源泉徴収票!BX34*1/4+20000,\n                 40000)))","v":0},{"$f":"IF(源泉徴収票!BY34<=25000,源泉徴収票!BY34,\n  IF(源泉徴収票!BY34<=50000,源泉徴収票!BY34*1/2+12500,\n   IF(源泉徴収票!BY34<=100000,源泉徴収票!BY34*1/4+25000,\n                 50000)))","v":0},0,0,{"$f":"IF(源泉徴収票!BZ34<>\"\",MIN(源泉徴収票!BZ34,50000),0)","v":0},{"$f":"IF(源泉徴収票!CA34>=20000,15000,IF(源泉徴収票!CA34>=10000,源泉徴収票!CA34/2+5000,源泉徴収票!CA34))","v":0},{"$f":"IF(源泉徴収票!CS34<>\"\",\"〇\",\"×\")","v":"×"},null,{"$f":"源泉徴収票!O34+源泉徴収票!R34+源泉徴収票!U34","v":0},{"$f":"源泉徴収票!Q34+源泉徴収票!T34+源泉徴収票!W34","v":0},{"$f":"IF(源泉徴収票!I34=\"無\",0,INT(A34*VLOOKUP(A34, 給与所得計算, 3, TRUE)\n        +  VLOOKUP(A34, 給与所得計算, 4, TRUE) ))","v":0},0,0,{"$f":"源泉徴収票!P34+源泉徴収票!S34+源泉徴収票!V34","v":0},{"$f":"IF(源泉徴収票!I34=\"無\",0,源泉徴収票!CB34)","v":0},{"$f":"IF(源泉徴収票!I34=\"無\",0,源泉徴収票!CD34)","v":0},{"$f":"IF(源泉徴収票!I34=\"無\",0,MIN(120000,Z34+AA34+AE34))","v":0},{"$f":"IF(源泉徴収票!I34=\"無\",0,MIN(AF34+AG34,50000))","v":0},{"$f":"IF(源泉徴収票!I34=\"無\",0,IF(E34=\"○\",INDEX(H30配偶者控除・特別控除マスタ,F34,G34),0))","v":0},{"$f":"IF(源泉徴収票!I34=\"無\",0,IF(C34=\"○\",INDEX(H30配偶者控除・特別控除マスタ,F34,G34),0)+IF(D34=\"○\",INDEX(H30老人控除対象配偶者上乗せ,1,G34),0))","v":0},{"$f":"IF(源泉徴収票!I34=\"無\",0,COUNTIF(M34:Q34,\"一\")*380000+COUNTIF(M34:Q34,\"特\")*630000+COUNTIF(M34:Q34,\"老\")*480000+COUNTIF(M34:Q34,\"同\")*580000)","v":0},{"$f":"IF(源泉徴収票!I34=\"無\",0,(COUNTIF(源泉徴収票!BO34:BP34,\"一般\")+源泉徴収票!BQ34)*270000+(COUNTIF(源泉徴収票!BO34:BP34,\"特別\")+源泉徴収票!BR34)*400000+(COUNTIF(源泉徴収票!BP34,\"同居特別\")+源泉徴収票!BS34)*750000)","v":0},{"$f":"IF(源泉徴収票!I34=\"無\",0,IF(源泉徴収票!BT34<>\"\",IF(OR(源泉徴収票!BT34=\"特別の寡婦\",源泉徴収票!BT34=\"ひとり親\"),350000,270000),0))","v":0},{"$f":"IF(源泉徴収票!I34=\"無\",0,480000)","v":480000},{"$f":"IF(源泉徴収票!I34=\"無\",0,SUM(AO34:AY34))","v":480000},{"$f":"IF(源泉徴収票!I34=\"無\",AN34,FLOOR(MAX(AN34-AZ34,0),1000))","v":0},{"$f":"IF(源泉徴収票!I34=\"無\",AK34,BA34*VLOOKUP(BA34,所得税額計算,3,TRUE)+VLOOKUP(BA34,所得税額計算,4,TRUE))","v":0},{"$f":"IF(源泉徴収票!I34=\"無\",0,源泉徴収票!CZ34)","v":0},0,{"$f":"IF(源泉徴収票!I34=\"無\",BD34,FLOOR(BD34*102.1%,100))","v":0},0]
[0,{"$f":"IF(AND(源泉徴収票!I35=\"無\",源泉徴収票!AE35<>\"\"),\"○\",\"×\")","v":"×"},{"$f":"IF(AND(源泉徴収票!CO35<>\"\",源泉徴収票!CO35<=480000,AN35<=10000000),\"○\",\"×\")","v":"×"},{"$f":"IF(AND(C35=\"○\",源泉徴収票!CN35<>\"\",会社情報!$C$7-YEAR(MAX(源泉徴収票!CN35-1,0))>=70),\"○\",\"×\")","v":"×"},{"$f":"IF(AND(源泉徴収票!CO35<>\"\",源泉徴収票!CO35>480000,源泉徴収票!CO35<=1330000,AN35<=10000000),\"○\",\"×\")","v":"×"},{"$f":"MATCH(源泉徴収票!CO35,H30配偶者控除・特別控除マスタ_配偶者所得,1)","v":1},{"$f":"MATCH('源泉徴収票計算過程(非)'!AN35,H30配偶者控除・特別控除マスタ_所得者合計所得,1)","v":1},{"$f":"IF(源泉徴収票!AN35=\"\",-1,会社情報!$C$7-YEAR(源泉徴収票!AN35-1))","v":-1},{"$f":"IF(源泉徴収票!AT35=\"\",-1,会社情報!$C$7-YEAR(源泉徴収票!AT35-1))","v":-1},{"$f":"IF(源泉徴収票!AZ35=\"\",-1,会社情報!$C$7-YEAR(源泉徴収票!AZ35-1))","v":-1},{"$f":"IF(源泉徴収票!BF35=\"\",-1,会社情報!$C$7-YEAR(源泉徴収票!BF35-1))","v":-1},{"$f":"IF(源泉徴収票!BL35=\"\",-1,会社情報!$C$7-YEAR(源泉徴収票!BL35-1))","v":-1},{"$f":"IF(H35>=16,IF(AND(H35>=19,H35<23),\"特\",IF(H35>=70,IF(源泉徴収票!AO35=\"同居老親等\",\"同\",\"老\"),\"一\")),IF(H35>=0,\"未\",\"×\"))","v":"×"},{"$f":"IF(I35>=16,IF(AND(I35>=19,I35<23),\"特\",IF(I35>=70,IF(源泉徴収票!AU35=\"同居老親等\",\"同\",\"老\"),\"一\")),IF(I35>=0,\"未\",\"×\"))","v":"×"},{"$f":"IF(J35>=16,IF(AND(J35>=19,J35<23),\"特\",IF(J35>=70,IF(源泉徴収票!BA35=\"同居老親等\",\"同\",\"老\"),\"一\")),IF(J35>=0,\"未\",\"×\"))","v":"×"},{"$f":"IF(K35>=16,IF(AND(K35>=19,K35<23),\"特\",IF(K35>=70,IF(源泉徴収票!BG35=\"同居老親等\",\"同\",\"老\"),\"一\")),IF(K35>=0,\"未\",\"×\"))","v":"×"},{"$f":"IF(L35>=16,IF(AND(L35>=19,L35<23),\"特\",IF(L35>=70,IF(源泉徴収票!BM35=\"同居老親等\",\"同\",\"老\"),\"一\")),IF(L35>=0,\"未\",\"×\"))","v":"×"},"","","","","",{"$f":"IF(源泉徴収票!BU35<=20000, 源泉徴収票!BU35,\n  IF(源泉徴収票!BU35<=40000, 源泉徴収票!BU35*1/2+10000,\n   IF(源泉徴収票!BU35<=80000, 源泉徴収票!BU35*1/4+20000,\n                 40000)))","v":0},{"$f":"IF(源泉徴収票!BV35<=25000,源泉徴収票!BV35,\n  IF(源泉徴収票!BV35<=50000,源泉徴収票!BV35*1/2+12500,\n   IF(源泉徴収票!BV35<=100000,源泉徴収票!BV35*1/4+25000,\n                 50000)))","v":0},0,0,{"$f":"IF(源泉徴収票!BW35<=20000, 源泉徴収票!BW35,\n  IF(源泉徴収票!BW35<=40000, 源泉徴収票!BW35*1/2+10000,\n   IF(源泉徴収票!BW35<=80000, 源泉徴収票!BW35*1/4+20000,\n                 40000)))","v":0},{"$f":"IF(源泉徴収票!BX35<=20000, 源泉徴収票!BX35,\n  IF(源泉徴収票!BX35<=40000, 源泉徴収票!BX35*1/2+10000,\n   IF(源泉徴収票!BX35<=80000, 源泉徴収票!BX35*1/4+20000,\n                 40000)))","v":0},{"$f":"IF(源泉徴収票!BY35<=25000,源泉徴収票!BY35,\n  IF(源泉徴収票!BY35<=50000,源泉徴収票!BY35*1/2+12500,\n   IF(源泉徴収票!BY35<=100000,源泉徴収票!BY35*1/4+25000,\n                 50000)))","v":0},0,0,{"$f":"IF(源泉徴収票!BZ35<>\"\",MIN(源泉徴収票!BZ35,50000),0)","v":0},{"$f":"IF(源泉徴収票!CA35>=20000,15000,IF(源泉徴収票!CA35>=10000,源泉徴収票!CA35/2+5000,源泉徴収票!CA35))","v":0},{"$f":"IF(源泉徴収票!CS35<>\"\",\"〇\",\"×\")","v":"×"},null,{"$f":"源泉徴収票!O35+源泉徴収票!R35+源泉徴収票!U35","v":0},{"$f":"源泉徴収票!Q35+源泉徴収票!T35+源泉徴収票!W35","v":0},{"$f":"IF(源泉徴収票!I35=\"無\",0,INT(A35*VLOOKUP(A35, 給与所得計算, 3, TRUE)\n        +  VLOOKUP(A35, 給与所得計算, 4, TRUE) ))","v":0},0,0,{"$f":"源泉徴収票!P35+源泉徴収票!S35+源泉徴収票!V35","v":0},{"$f":"IF(源泉徴収票!I35=\"無\",0,源泉徴収票!CB35)","v":0},{"$f":"IF(源泉徴収票!I35=\"無\",0,源泉徴収票!CD35)","v":0},{"$f":"IF(源泉徴収票!I35=\"無\",0,MIN(120000,Z35+AA35+AE35))","v":0},{"$f":"IF(源泉徴収票!I35=\"無\",0,MIN(AF35+AG35,50000))","v":0},{"$f":"IF(源泉徴収票!I35=\"無\",0,IF(E35=\"○\",INDEX(H30配偶者控除・特別控除マスタ,F35,G35),0))","v":0},{"$f":"IF(源泉徴収票!I35=\"無\",0,IF(C35=\"○\",INDEX(H30配偶者控除・特別控除マスタ,F35,G35),0)+IF(D35=\"○\",INDEX(H30老人控除対象配偶者上乗せ,1,G35),0))","v":0},{"$f":"IF(源泉徴収票!I35=\"無\",0,COUNTIF(M35:Q35,\"一\")*380000+COUNTIF(M35:Q35,\"特\")*630000+COUNTIF(M35:Q35,\"老\")*480000+COUNTIF(M35:Q35,\"同\")*580000)","v":0},{"$f":"IF(源泉徴収票!I35=\"無\",0,(COUNTIF(源泉徴収票!BO35:BP35,\"一般\")+源泉徴収票!BQ35)*270000+(COUNTIF(源泉徴収票!BO35:BP35,\"特別\")+源泉徴収票!BR35)*400000+(COUNTIF(源泉徴収票!BP35,\"同居特別\")+源泉徴収票!BS35)*750000)","v":0},{"$f":"IF(源泉徴収票!I35=\"無\",0,IF(源泉徴収票!BT35<>\"\",IF(OR(源泉徴収票!BT35=\"特別の寡婦\",源泉徴収票!BT35=\"ひとり親\"),350000,270000),0))","v":0},{"$f":"IF(源泉徴収票!I35=\"無\",0,480000)","v":480000},{"$f":"IF(源泉徴収票!I35=\"無\",0,SUM(AO35:AY35))","v":480000},{"$f":"IF(源泉徴収票!I35=\"無\",AN35,FLOOR(MAX(AN35-AZ35,0),1000))","v":0},{"$f":"IF(源泉徴収票!I35=\"無\",AK35,BA35*VLOOKUP(BA35,所得税額計算,3,TRUE)+VLOOKUP(BA35,所得税額計算,4,TRUE))","v":0},{"$f":"IF(源泉徴収票!I35=\"無\",0,源泉徴収票!CZ35)","v":0},0,{"$f":"IF(源泉徴収票!I35=\"無\",BD35,FLOOR(BD35*102.1%,100))","v":0},0]
[0,{"$f":"IF(AND(源泉徴収票!I36=\"無\",源泉徴収票!AE36<>\"\"),\"○\",\"×\")","v":"×"},{"$f":"IF(AND(源泉徴収票!CO36<>\"\",源泉徴収票!CO36<=480000,AN36<=10000000),\"○\",\"×\")","v":"×"},{"$f":"IF(AND(C36=\"○\",源泉徴収票!CN36<>\"\",会社情報!$C$7-YEAR(MAX(源泉徴収票!CN36-1,0))>=70),\"○\",\"×\")","v":"×"},{"$f":"IF(AND(源泉徴収票!CO36<>\"\",源泉徴収票!CO36>480000,源泉徴収票!CO36<=1330000,AN36<=10000000),\"○\",\"×\")","v":"×"},{"$f":"MATCH(源泉徴収票!CO36,H30配偶者控除・特別控除マスタ_配偶者所得,1)","v":1},{"$f":"MATCH('源泉徴収票計算過程(非)'!AN36,H30配偶者控除・特別控除マスタ_所得者合計所得,1)","v":1},{"$f":"IF(源泉徴収票!AN36=\"\",-1,会社情報!$C$7-YEAR(源泉徴収票!AN36-1))","v":-1},{"$f":"IF(源泉徴収票!AT36=\"\",-1,会社情報!$C$7-YEAR(源泉徴収票!AT36-1))","v":-1},{"$f":"IF(源泉徴収票!AZ36=\"\",-1,会社情報!$C$7-YEAR(源泉徴収票!AZ36-1))","v":-1},{"$f":"IF(源泉徴収票!BF36=\"\",-1,会社情報!$C$7-YEAR(源泉徴収票!BF36-1))","v":-1},{"$f":"IF(源泉徴収票!BL36=\"\",-1,会社情報!$C$7-YEAR(源泉徴収票!BL36-1))","v":-1},{"$f":"IF(H36>=16,IF(AND(H36>=19,H36<23),\"特\",IF(H36>=70,IF(源泉徴収票!AO36=\"同居老親等\",\"同\",\"老\"),\"一\")),IF(H36>=0,\"未\",\"×\"))","v":"×"},{"$f":"IF(I36>=16,IF(AND(I36>=19,I36<23),\"特\",IF(I36>=70,IF(源泉徴収票!AU36=\"同居老親等\",\"同\",\"老\"),\"一\")),IF(I36>=0,\"未\",\"×\"))","v":"×"},{"$f":"IF(J36>=16,IF(AND(J36>=19,J36<23),\"特\",IF(J36>=70,IF(源泉徴収票!BA36=\"同居老親等\",\"同\",\"老\"),\"一\")),IF(J36>=0,\"未\",\"×\"))","v":"×"},{"$f":"IF(K36>=16,IF(AND(K36>=19,K36<23),\"特\",IF(K36>=70,IF(源泉徴収票!BG36=\"同居老親等\",\"同\",\"老\"),\"一\")),IF(K36>=0,\"未\",\"×\"))","v":"×"},{"$f":"IF(L36>=16,IF(AND(L36>=19,L36<23),\"特\",IF(L36>=70,IF(源泉徴収票!BM36=\"同居老親等\",\"同\",\"老\"),\"一\")),IF(L36>=0,\"未\",\"×\"))","v":"×"},"","","","","",{"$f":"IF(源泉徴収票!BU36<=20000, 源泉徴収票!BU36,\n  IF(源泉徴収票!BU36<=40000, 源泉徴収票!BU36*1/2+10000,\n   IF(源泉徴収票!BU36<=80000, 源泉徴収票!BU36*1/4+20000,\n                 40000)))","v":0},{"$f":"IF(源泉徴収票!BV36<=25000,源泉徴収票!BV36,\n  IF(源泉徴収票!BV36<=50000,源泉徴収票!BV36*1/2+12500,\n   IF(源泉徴収票!BV36<=100000,源泉徴収票!BV36*1/4+25000,\n                 50000)))","v":0},0,0,{"$f":"IF(源泉徴収票!BW36<=20000, 源泉徴収票!BW36,\n  IF(源泉徴収票!BW36<=40000, 源泉徴収票!BW36*1/2+10000,\n   IF(源泉徴収票!BW36<=80000, 源泉徴収票!BW36*1/4+20000,\n                 40000)))","v":0},{"$f":"IF(源泉徴収票!BX36<=20000, 源泉徴収票!BX36,\n  IF(源泉徴収票!BX36<=40000, 源泉徴収票!BX36*1/2+10000,\n   IF(源泉徴収票!BX36<=80000, 源泉徴収票!BX36*1/4+20000,\n                 40000)))","v":0},{"$f":"IF(源泉徴収票!BY36<=25000,源泉徴収票!BY36,\n  IF(源泉徴収票!BY36<=50000,源泉徴収票!BY36*1/2+12500,\n   IF(源泉徴収票!BY36<=100000,源泉徴収票!BY36*1/4+25000,\n                 50000)))","v":0},0,0,{"$f":"IF(源泉徴収票!BZ36<>\"\",MIN(源泉徴収票!BZ36,50000),0)","v":0},{"$f":"IF(源泉徴収票!CA36>=20000,15000,IF(源泉徴収票!CA36>=10000,源泉徴収票!CA36/2+5000,源泉徴収票!CA36))","v":0},{"$f":"IF(源泉徴収票!CS36<>\"\",\"〇\",\"×\")","v":"×"},null,{"$f":"源泉徴収票!O36+源泉徴収票!R36+源泉徴収票!U36","v":0},{"$f":"源泉徴収票!Q36+源泉徴収票!T36+源泉徴収票!W36","v":0},{"$f":"IF(源泉徴収票!I36=\"無\",0,INT(A36*VLOOKUP(A36, 給与所得計算, 3, TRUE)\n        +  VLOOKUP(A36, 給与所得計算, 4, TRUE) ))","v":0},0,0,{"$f":"源泉徴収票!P36+源泉徴収票!S36+源泉徴収票!V36","v":0},{"$f":"IF(源泉徴収票!I36=\"無\",0,源泉徴収票!CB36)","v":0},{"$f":"IF(源泉徴収票!I36=\"無\",0,源泉徴収票!CD36)","v":0},{"$f":"IF(源泉徴収票!I36=\"無\",0,MIN(120000,Z36+AA36+AE36))","v":0},{"$f":"IF(源泉徴収票!I36=\"無\",0,MIN(AF36+AG36,50000))","v":0},{"$f":"IF(源泉徴収票!I36=\"無\",0,IF(E36=\"○\",INDEX(H30配偶者控除・特別控除マスタ,F36,G36),0))","v":0},{"$f":"IF(源泉徴収票!I36=\"無\",0,IF(C36=\"○\",INDEX(H30配偶者控除・特別控除マスタ,F36,G36),0)+IF(D36=\"○\",INDEX(H30老人控除対象配偶者上乗せ,1,G36),0))","v":0},{"$f":"IF(源泉徴収票!I36=\"無\",0,COUNTIF(M36:Q36,\"一\")*380000+COUNTIF(M36:Q36,\"特\")*630000+COUNTIF(M36:Q36,\"老\")*480000+COUNTIF(M36:Q36,\"同\")*580000)","v":0},{"$f":"IF(源泉徴収票!I36=\"無\",0,(COUNTIF(源泉徴収票!BO36:BP36,\"一般\")+源泉徴収票!BQ36)*270000+(COUNTIF(源泉徴収票!BO36:BP36,\"特別\")+源泉徴収票!BR36)*400000+(COUNTIF(源泉徴収票!BP36,\"同居特別\")+源泉徴収票!BS36)*750000)","v":0},{"$f":"IF(源泉徴収票!I36=\"無\",0,IF(源泉徴収票!BT36<>\"\",IF(OR(源泉徴収票!BT36=\"特別の寡婦\",源泉徴収票!BT36=\"ひとり親\"),350000,270000),0))","v":0},{"$f":"IF(源泉徴収票!I36=\"無\",0,480000)","v":480000},{"$f":"IF(源泉徴収票!I36=\"無\",0,SUM(AO36:AY36))","v":480000},{"$f":"IF(源泉徴収票!I36=\"無\",AN36,FLOOR(MAX(AN36-AZ36,0),1000))","v":0},{"$f":"IF(源泉徴収票!I36=\"無\",AK36,BA36*VLOOKUP(BA36,所得税額計算,3,TRUE)+VLOOKUP(BA36,所得税額計算,4,TRUE))","v":0},{"$f":"IF(源泉徴収票!I36=\"無\",0,源泉徴収票!CZ36)","v":0},0,{"$f":"IF(源泉徴収票!I36=\"無\",BD36,FLOOR(BD36*102.1%,100))","v":0},0]
[0,{"$f":"IF(AND(源泉徴収票!I37=\"無\",源泉徴収票!AE37<>\"\"),\"○\",\"×\")","v":"×"},{"$f":"IF(AND(源泉徴収票!CO37<>\"\",源泉徴収票!CO37<=480000,AN37<=10000000),\"○\",\"×\")","v":"×"},{"$f":"IF(AND(C37=\"○\",源泉徴収票!CN37<>\"\",会社情報!$C$7-YEAR(MAX(源泉徴収票!CN37-1,0))>=70),\"○\",\"×\")","v":"×"},{"$f":"IF(AND(源泉徴収票!CO37<>\"\",源泉徴収票!CO37>480000,源泉徴収票!CO37<=1330000,AN37<=10000000),\"○\",\"×\")","v":"×"},{"$f":"MATCH(源泉徴収票!CO37,H30配偶者控除・特別控除マスタ_配偶者所得,1)","v":1},{"$f":"MATCH('源泉徴収票計算過程(非)'!AN37,H30配偶者控除・特別控除マスタ_所得者合計所得,1)","v":1},{"$f":"IF(源泉徴収票!AN37=\"\",-1,会社情報!$C$7-YEAR(源泉徴収票!AN37-1))","v":-1},{"$f":"IF(源泉徴収票!AT37=\"\",-1,会社情報!$C$7-YEAR(源泉徴収票!AT37-1))","v":-1},{"$f":"IF(源泉徴収票!AZ37=\"\",-1,会社情報!$C$7-YEAR(源泉徴収票!AZ37-1))","v":-1},{"$f":"IF(源泉徴収票!BF37=\"\",-1,会社情報!$C$7-YEAR(源泉徴収票!BF37-1))","v":-1},{"$f":"IF(源泉徴収票!BL37=\"\",-1,会社情報!$C$7-YEAR(源泉徴収票!BL37-1))","v":-1},{"$f":"IF(H37>=16,IF(AND(H37>=19,H37<23),\"特\",IF(H37>=70,IF(源泉徴収票!AO37=\"同居老親等\",\"同\",\"老\"),\"一\")),IF(H37>=0,\"未\",\"×\"))","v":"×"},{"$f":"IF(I37>=16,IF(AND(I37>=19,I37<23),\"特\",IF(I37>=70,IF(源泉徴収票!AU37=\"同居老親等\",\"同\",\"老\"),\"一\")),IF(I37>=0,\"未\",\"×\"))","v":"×"},{"$f":"IF(J37>=16,IF(AND(J37>=19,J37<23),\"特\",IF(J37>=70,IF(源泉徴収票!BA37=\"同居老親等\",\"同\",\"老\"),\"一\")),IF(J37>=0,\"未\",\"×\"))","v":"×"},{"$f":"IF(K37>=16,IF(AND(K37>=19,K37<23),\"特\",IF(K37>=70,IF(源泉徴収票!BG37=\"同居老親等\",\"同\",\"老\"),\"一\")),IF(K37>=0,\"未\",\"×\"))","v":"×"},{"$f":"IF(L37>=16,IF(AND(L37>=19,L37<23),\"特\",IF(L37>=70,IF(源泉徴収票!BM37=\"同居老親等\",\"同\",\"老\"),\"一\")),IF(L37>=0,\"未\",\"×\"))","v":"×"},"","","","","",{"$f":"IF(源泉徴収票!BU37<=20000, 源泉徴収票!BU37,\n  IF(源泉徴収票!BU37<=40000, 源泉徴収票!BU37*1/2+10000,\n   IF(源泉徴収票!BU37<=80000, 源泉徴収票!BU37*1/4+20000,\n                 40000)))","v":0},{"$f":"IF(源泉徴収票!BV37<=25000,源泉徴収票!BV37,\n  IF(源泉徴収票!BV37<=50000,源泉徴収票!BV37*1/2+12500,\n   IF(源泉徴収票!BV37<=100000,源泉徴収票!BV37*1/4+25000,\n                 50000)))","v":0},0,0,{"$f":"IF(源泉徴収票!BW37<=20000, 源泉徴収票!BW37,\n  IF(源泉徴収票!BW37<=40000, 源泉徴収票!BW37*1/2+10000,\n   IF(源泉徴収票!BW37<=80000, 源泉徴収票!BW37*1/4+20000,\n                 40000)))","v":0},{"$f":"IF(源泉徴収票!BX37<=20000, 源泉徴収票!BX37,\n  IF(源泉徴収票!BX37<=40000, 源泉徴収票!BX37*1/2+10000,\n   IF(源泉徴収票!BX37<=80000, 源泉徴収票!BX37*1/4+20000,\n                 40000)))","v":0},{"$f":"IF(源泉徴収票!BY37<=25000,源泉徴収票!BY37,\n  IF(源泉徴収票!BY37<=50000,源泉徴収票!BY37*1/2+12500,\n   IF(源泉徴収票!BY37<=100000,源泉徴収票!BY37*1/4+25000,\n                 50000)))","v":0},0,0,{"$f":"IF(源泉徴収票!BZ37<>\"\",MIN(源泉徴収票!BZ37,50000),0)","v":0},{"$f":"IF(源泉徴収票!CA37>=20000,15000,IF(源泉徴収票!CA37>=10000,源泉徴収票!CA37/2+5000,源泉徴収票!CA37))","v":0},{"$f":"IF(源泉徴収票!CS37<>\"\",\"〇\",\"×\")","v":"×"},null,{"$f":"源泉徴収票!O37+源泉徴収票!R37+源泉徴収票!U37","v":0},{"$f":"源泉徴収票!Q37+源泉徴収票!T37+源泉徴収票!W37","v":0},{"$f":"IF(源泉徴収票!I37=\"無\",0,INT(A37*VLOOKUP(A37, 給与所得計算, 3, TRUE)\n        +  VLOOKUP(A37, 給与所得計算, 4, TRUE) ))","v":0},0,0,{"$f":"源泉徴収票!P37+源泉徴収票!S37+源泉徴収票!V37","v":0},{"$f":"IF(源泉徴収票!I37=\"無\",0,源泉徴収票!CB37)","v":0},{"$f":"IF(源泉徴収票!I37=\"無\",0,源泉徴収票!CD37)","v":0},{"$f":"IF(源泉徴収票!I37=\"無\",0,MIN(120000,Z37+AA37+AE37))","v":0},{"$f":"IF(源泉徴収票!I37=\"無\",0,MIN(AF37+AG37,50000))","v":0},{"$f":"IF(源泉徴収票!I37=\"無\",0,IF(E37=\"○\",INDEX(H30配偶者控除・特別控除マスタ,F37,G37),0))","v":0},{"$f":"IF(源泉徴収票!I37=\"無\",0,IF(C37=\"○\",INDEX(H30配偶者控除・特別控除マスタ,F37,G37),0)+IF(D37=\"○\",INDEX(H30老人控除対象配偶者上乗せ,1,G37),0))","v":0},{"$f":"IF(源泉徴収票!I37=\"無\",0,COUNTIF(M37:Q37,\"一\")*380000+COUNTIF(M37:Q37,\"特\")*630000+COUNTIF(M37:Q37,\"老\")*480000+COUNTIF(M37:Q37,\"同\")*580000)","v":0},{"$f":"IF(源泉徴収票!I37=\"無\",0,(COUNTIF(源泉徴収票!BO37:BP37,\"一般\")+源泉徴収票!BQ37)*270000+(COUNTIF(源泉徴収票!BO37:BP37,\"特別\")+源泉徴収票!BR37)*400000+(COUNTIF(源泉徴収票!BP37,\"同居特別\")+源泉徴収票!BS37)*750000)","v":0},{"$f":"IF(源泉徴収票!I37=\"無\",0,IF(源泉徴収票!BT37<>\"\",IF(OR(源泉徴収票!BT37=\"特別の寡婦\",源泉徴収票!BT37=\"ひとり親\"),350000,270000),0))","v":0},{"$f":"IF(源泉徴収票!I37=\"無\",0,480000)","v":480000},{"$f":"IF(源泉徴収票!I37=\"無\",0,SUM(AO37:AY37))","v":480000},{"$f":"IF(源泉徴収票!I37=\"無\",AN37,FLOOR(MAX(AN37-AZ37,0),1000))","v":0},{"$f":"IF(源泉徴収票!I37=\"無\",AK37,BA37*VLOOKUP(BA37,所得税額計算,3,TRUE)+VLOOKUP(BA37,所得税額計算,4,TRUE))","v":0},{"$f":"IF(源泉徴収票!I37=\"無\",0,源泉徴収票!CZ37)","v":0},0,{"$f":"IF(源泉徴収票!I37=\"無\",BD37,FLOOR(BD37*102.1%,100))","v":0},0]
[0,{"$f":"IF(AND(源泉徴収票!I38=\"無\",源泉徴収票!AE38<>\"\"),\"○\",\"×\")","v":"×"},{"$f":"IF(AND(源泉徴収票!CO38<>\"\",源泉徴収票!CO38<=480000,AN38<=10000000),\"○\",\"×\")","v":"×"},{"$f":"IF(AND(C38=\"○\",源泉徴収票!CN38<>\"\",会社情報!$C$7-YEAR(MAX(源泉徴収票!CN38-1,0))>=70),\"○\",\"×\")","v":"×"},{"$f":"IF(AND(源泉徴収票!CO38<>\"\",源泉徴収票!CO38>480000,源泉徴収票!CO38<=1330000,AN38<=10000000),\"○\",\"×\")","v":"×"},{"$f":"MATCH(源泉徴収票!CO38,H30配偶者控除・特別控除マスタ_配偶者所得,1)","v":1},{"$f":"MATCH('源泉徴収票計算過程(非)'!AN38,H30配偶者控除・特別控除マスタ_所得者合計所得,1)","v":1},{"$f":"IF(源泉徴収票!AN38=\"\",-1,会社情報!$C$7-YEAR(源泉徴収票!AN38-1))","v":-1},{"$f":"IF(源泉徴収票!AT38=\"\",-1,会社情報!$C$7-YEAR(源泉徴収票!AT38-1))","v":-1},{"$f":"IF(源泉徴収票!AZ38=\"\",-1,会社情報!$C$7-YEAR(源泉徴収票!AZ38-1))","v":-1},{"$f":"IF(源泉徴収票!BF38=\"\",-1,会社情報!$C$7-YEAR(源泉徴収票!BF38-1))","v":-1},{"$f":"IF(源泉徴収票!BL38=\"\",-1,会社情報!$C$7-YEAR(源泉徴収票!BL38-1))","v":-1},{"$f":"IF(H38>=16,IF(AND(H38>=19,H38<23),\"特\",IF(H38>=70,IF(源泉徴収票!AO38=\"同居老親等\",\"同\",\"老\"),\"一\")),IF(H38>=0,\"未\",\"×\"))","v":"×"},{"$f":"IF(I38>=16,IF(AND(I38>=19,I38<23),\"特\",IF(I38>=70,IF(源泉徴収票!AU38=\"同居老親等\",\"同\",\"老\"),\"一\")),IF(I38>=0,\"未\",\"×\"))","v":"×"},{"$f":"IF(J38>=16,IF(AND(J38>=19,J38<23),\"特\",IF(J38>=70,IF(源泉徴収票!BA38=\"同居老親等\",\"同\",\"老\"),\"一\")),IF(J38>=0,\"未\",\"×\"))","v":"×"},{"$f":"IF(K38>=16,IF(AND(K38>=19,K38<23),\"特\",IF(K38>=70,IF(源泉徴収票!BG38=\"同居老親等\",\"同\",\"老\"),\"一\")),IF(K38>=0,\"未\",\"×\"))","v":"×"},{"$f":"IF(L38>=16,IF(AND(L38>=19,L38<23),\"特\",IF(L38>=70,IF(源泉徴収票!BM38=\"同居老親等\",\"同\",\"老\"),\"一\")),IF(L38>=0,\"未\",\"×\"))","v":"×"},"","","","","",{"$f":"IF(源泉徴収票!BU38<=20000, 源泉徴収票!BU38,\n  IF(源泉徴収票!BU38<=40000, 源泉徴収票!BU38*1/2+10000,\n   IF(源泉徴収票!BU38<=80000, 源泉徴収票!BU38*1/4+20000,\n                 40000)))","v":0},{"$f":"IF(源泉徴収票!BV38<=25000,源泉徴収票!BV38,\n  IF(源泉徴収票!BV38<=50000,源泉徴収票!BV38*1/2+12500,\n   IF(源泉徴収票!BV38<=100000,源泉徴収票!BV38*1/4+25000,\n                 50000)))","v":0},0,0,{"$f":"IF(源泉徴収票!BW38<=20000, 源泉徴収票!BW38,\n  IF(源泉徴収票!BW38<=40000, 源泉徴収票!BW38*1/2+10000,\n   IF(源泉徴収票!BW38<=80000, 源泉徴収票!BW38*1/4+20000,\n                 40000)))","v":0},{"$f":"IF(源泉徴収票!BX38<=20000, 源泉徴収票!BX38,\n  IF(源泉徴収票!BX38<=40000, 源泉徴収票!BX38*1/2+10000,\n   IF(源泉徴収票!BX38<=80000, 源泉徴収票!BX38*1/4+20000,\n                 40000)))","v":0},{"$f":"IF(源泉徴収票!BY38<=25000,源泉徴収票!BY38,\n  IF(源泉徴収票!BY38<=50000,源泉徴収票!BY38*1/2+12500,\n   IF(源泉徴収票!BY38<=100000,源泉徴収票!BY38*1/4+25000,\n                 50000)))","v":0},0,0,{"$f":"IF(源泉徴収票!BZ38<>\"\",MIN(源泉徴収票!BZ38,50000),0)","v":0},{"$f":"IF(源泉徴収票!CA38>=20000,15000,IF(源泉徴収票!CA38>=10000,源泉徴収票!CA38/2+5000,源泉徴収票!CA38))","v":0},{"$f":"IF(源泉徴収票!CS38<>\"\",\"〇\",\"×\")","v":"×"},null,{"$f":"源泉徴収票!O38+源泉徴収票!R38+源泉徴収票!U38","v":0},{"$f":"源泉徴収票!Q38+源泉徴収票!T38+源泉徴収票!W38","v":0},{"$f":"IF(源泉徴収票!I38=\"無\",0,INT(A38*VLOOKUP(A38, 給与所得計算, 3, TRUE)\n        +  VLOOKUP(A38, 給与所得計算, 4, TRUE) ))","v":0},0,0,{"$f":"源泉徴収票!P38+源泉徴収票!S38+源泉徴収票!V38","v":0},{"$f":"IF(源泉徴収票!I38=\"無\",0,源泉徴収票!CB38)","v":0},{"$f":"IF(源泉徴収票!I38=\"無\",0,源泉徴収票!CD38)","v":0},{"$f":"IF(源泉徴収票!I38=\"無\",0,MIN(120000,Z38+AA38+AE38))","v":0},{"$f":"IF(源泉徴収票!I38=\"無\",0,MIN(AF38+AG38,50000))","v":0},{"$f":"IF(源泉徴収票!I38=\"無\",0,IF(E38=\"○\",INDEX(H30配偶者控除・特別控除マスタ,F38,G38),0))","v":0},{"$f":"IF(源泉徴収票!I38=\"無\",0,IF(C38=\"○\",INDEX(H30配偶者控除・特別控除マスタ,F38,G38),0)+IF(D38=\"○\",INDEX(H30老人控除対象配偶者上乗せ,1,G38),0))","v":0},{"$f":"IF(源泉徴収票!I38=\"無\",0,COUNTIF(M38:Q38,\"一\")*380000+COUNTIF(M38:Q38,\"特\")*630000+COUNTIF(M38:Q38,\"老\")*480000+COUNTIF(M38:Q38,\"同\")*580000)","v":0},{"$f":"IF(源泉徴収票!I38=\"無\",0,(COUNTIF(源泉徴収票!BO38:BP38,\"一般\")+源泉徴収票!BQ38)*270000+(COUNTIF(源泉徴収票!BO38:BP38,\"特別\")+源泉徴収票!BR38)*400000+(COUNTIF(源泉徴収票!BP38,\"同居特別\")+源泉徴収票!BS38)*750000)","v":0},{"$f":"IF(源泉徴収票!I38=\"無\",0,IF(源泉徴収票!BT38<>\"\",IF(OR(源泉徴収票!BT38=\"特別の寡婦\",源泉徴収票!BT38=\"ひとり親\"),350000,270000),0))","v":0},{"$f":"IF(源泉徴収票!I38=\"無\",0,480000)","v":480000},{"$f":"IF(源泉徴収票!I38=\"無\",0,SUM(AO38:AY38))","v":480000},{"$f":"IF(源泉徴収票!I38=\"無\",AN38,FLOOR(MAX(AN38-AZ38,0),1000))","v":0},{"$f":"IF(源泉徴収票!I38=\"無\",AK38,BA38*VLOOKUP(BA38,所得税額計算,3,TRUE)+VLOOKUP(BA38,所得税額計算,4,TRUE))","v":0},{"$f":"IF(源泉徴収票!I38=\"無\",0,源泉徴収票!CZ38)","v":0},0,{"$f":"IF(源泉徴収票!I38=\"無\",BD38,FLOOR(BD38*102.1%,100))","v":0},0]
[0,{"$f":"IF(AND(源泉徴収票!I39=\"無\",源泉徴収票!AE39<>\"\"),\"○\",\"×\")","v":"×"},{"$f":"IF(AND(源泉徴収票!CO39<>\"\",源泉徴収票!CO39<=480000,AN39<=10000000),\"○\",\"×\")","v":"×"},{"$f":"IF(AND(C39=\"○\",源泉徴収票!CN39<>\"\",会社情報!$C$7-YEAR(MAX(源泉徴収票!CN39-1,0))>=70),\"○\",\"×\")","v":"×"},{"$f":"IF(AND(源泉徴収票!CO39<>\"\",源泉徴収票!CO39>480000,源泉徴収票!CO39<=1330000,AN39<=10000000),\"○\",\"×\")","v":"×"},{"$f":"MATCH(源泉徴収票!CO39,H30配偶者控除・特別控除マスタ_配偶者所得,1)","v":1},{"$f":"MATCH('源泉徴収票計算過程(非)'!AN39,H30配偶者控除・特別控除マスタ_所得者合計所得,1)","v":1},{"$f":"IF(源泉徴収票!AN39=\"\",-1,会社情報!$C$7-YEAR(源泉徴収票!AN39-1))","v":-1},{"$f":"IF(源泉徴収票!AT39=\"\",-1,会社情報!$C$7-YEAR(源泉徴収票!AT39-1))","v":-1},{"$f":"IF(源泉徴収票!AZ39=\"\",-1,会社情報!$C$7-YEAR(源泉徴収票!AZ39-1))","v":-1},{"$f":"IF(源泉徴収票!BF39=\"\",-1,会社情報!$C$7-YEAR(源泉徴収票!BF39-1))","v":-1},{"$f":"IF(源泉徴収票!BL39=\"\",-1,会社情報!$C$7-YEAR(源泉徴収票!BL39-1))","v":-1},{"$f":"IF(H39>=16,IF(AND(H39>=19,H39<23),\"特\",IF(H39>=70,IF(源泉徴収票!AO39=\"同居老親等\",\"同\",\"老\"),\"一\")),IF(H39>=0,\"未\",\"×\"))","v":"×"},{"$f":"IF(I39>=16,IF(AND(I39>=19,I39<23),\"特\",IF(I39>=70,IF(源泉徴収票!AU39=\"同居老親等\",\"同\",\"老\"),\"一\")),IF(I39>=0,\"未\",\"×\"))","v":"×"},{"$f":"IF(J39>=16,IF(AND(J39>=19,J39<23),\"特\",IF(J39>=70,IF(源泉徴収票!BA39=\"同居老親等\",\"同\",\"老\"),\"一\")),IF(J39>=0,\"未\",\"×\"))","v":"×"},{"$f":"IF(K39>=16,IF(AND(K39>=19,K39<23),\"特\",IF(K39>=70,IF(源泉徴収票!BG39=\"同居老親等\",\"同\",\"老\"),\"一\")),IF(K39>=0,\"未\",\"×\"))","v":"×"},{"$f":"IF(L39>=16,IF(AND(L39>=19,L39<23),\"特\",IF(L39>=70,IF(源泉徴収票!BM39=\"同居老親等\",\"同\",\"老\"),\"一\")),IF(L39>=0,\"未\",\"×\"))","v":"×"},"","","","","",{"$f":"IF(源泉徴収票!BU39<=20000, 源泉徴収票!BU39,\n  IF(源泉徴収票!BU39<=40000, 源泉徴収票!BU39*1/2+10000,\n   IF(源泉徴収票!BU39<=80000, 源泉徴収票!BU39*1/4+20000,\n                 40000)))","v":0},{"$f":"IF(源泉徴収票!BV39<=25000,源泉徴収票!BV39,\n  IF(源泉徴収票!BV39<=50000,源泉徴収票!BV39*1/2+12500,\n   IF(源泉徴収票!BV39<=100000,源泉徴収票!BV39*1/4+25000,\n                 50000)))","v":0},0,0,{"$f":"IF(源泉徴収票!BW39<=20000, 源泉徴収票!BW39,\n  IF(源泉徴収票!BW39<=40000, 源泉徴収票!BW39*1/2+10000,\n   IF(源泉徴収票!BW39<=80000, 源泉徴収票!BW39*1/4+20000,\n                 40000)))","v":0},{"$f":"IF(源泉徴収票!BX39<=20000, 源泉徴収票!BX39,\n  IF(源泉徴収票!BX39<=40000, 源泉徴収票!BX39*1/2+10000,\n   IF(源泉徴収票!BX39<=80000, 源泉徴収票!BX39*1/4+20000,\n                 40000)))","v":0},{"$f":"IF(源泉徴収票!BY39<=25000,源泉徴収票!BY39,\n  IF(源泉徴収票!BY39<=50000,源泉徴収票!BY39*1/2+12500,\n   IF(源泉徴収票!BY39<=100000,源泉徴収票!BY39*1/4+25000,\n                 50000)))","v":0},0,0,{"$f":"IF(源泉徴収票!BZ39<>\"\",MIN(源泉徴収票!BZ39,50000),0)","v":0},{"$f":"IF(源泉徴収票!CA39>=20000,15000,IF(源泉徴収票!CA39>=10000,源泉徴収票!CA39/2+5000,源泉徴収票!CA39))","v":0},{"$f":"IF(源泉徴収票!CS39<>\"\",\"〇\",\"×\")","v":"×"},null,{"$f":"源泉徴収票!O39+源泉徴収票!R39+源泉徴収票!U39","v":0},{"$f":"源泉徴収票!Q39+源泉徴収票!T39+源泉徴収票!W39","v":0},{"$f":"IF(源泉徴収票!I39=\"無\",0,INT(A39*VLOOKUP(A39, 給与所得計算, 3, TRUE)\n        +  VLOOKUP(A39, 給与所得計算, 4, TRUE) ))","v":0},0,0,{"$f":"源泉徴収票!P39+源泉徴収票!S39+源泉徴収票!V39","v":0},{"$f":"IF(源泉徴収票!I39=\"無\",0,源泉徴収票!CB39)","v":0},{"$f":"IF(源泉徴収票!I39=\"無\",0,源泉徴収票!CD39)","v":0},{"$f":"IF(源泉徴収票!I39=\"無\",0,MIN(120000,Z39+AA39+AE39))","v":0},{"$f":"IF(源泉徴収票!I39=\"無\",0,MIN(AF39+AG39,50000))","v":0},{"$f":"IF(源泉徴収票!I39=\"無\",0,IF(E39=\"○\",INDEX(H30配偶者控除・特別控除マスタ,F39,G39),0))","v":0},{"$f":"IF(源泉徴収票!I39=\"無\",0,IF(C39=\"○\",INDEX(H30配偶者控除・特別控除マスタ,F39,G39),0)+IF(D39=\"○\",INDEX(H30老人控除対象配偶者上乗せ,1,G39),0))","v":0},{"$f":"IF(源泉徴収票!I39=\"無\",0,COUNTIF(M39:Q39,\"一\")*380000+COUNTIF(M39:Q39,\"特\")*630000+COUNTIF(M39:Q39,\"老\")*480000+COUNTIF(M39:Q39,\"同\")*580000)","v":0},{"$f":"IF(源泉徴収票!I39=\"無\",0,(COUNTIF(源泉徴収票!BO39:BP39,\"一般\")+源泉徴収票!BQ39)*270000+(COUNTIF(源泉徴収票!BO39:BP39,\"特別\")+源泉徴収票!BR39)*400000+(COUNTIF(源泉徴収票!BP39,\"同居特別\")+源泉徴収票!BS39)*750000)","v":0},{"$f":"IF(源泉徴収票!I39=\"無\",0,IF(源泉徴収票!BT39<>\"\",IF(OR(源泉徴収票!BT39=\"特別の寡婦\",源泉徴収票!BT39=\"ひとり親\"),350000,270000),0))","v":0},{"$f":"IF(源泉徴収票!I39=\"無\",0,480000)","v":480000},{"$f":"IF(源泉徴収票!I39=\"無\",0,SUM(AO39:AY39))","v":480000},{"$f":"IF(源泉徴収票!I39=\"無\",AN39,FLOOR(MAX(AN39-AZ39,0),1000))","v":0},{"$f":"IF(源泉徴収票!I39=\"無\",AK39,BA39*VLOOKUP(BA39,所得税額計算,3,TRUE)+VLOOKUP(BA39,所得税額計算,4,TRUE))","v":0},{"$f":"IF(源泉徴収票!I39=\"無\",0,源泉徴収票!CZ39)","v":0},0,{"$f":"IF(源泉徴収票!I39=\"無\",BD39,FLOOR(BD39*102.1%,100))","v":0},0]
[{"$f":"FLOOR(AJ40,VLOOKUP(AJ40,年調給与計算,3,TRUE))","v":0},{"$f":"IF(AND(源泉徴収票!I40=\"無\",源泉徴収票!AE40<>\"\"),\"○\",\"×\")","v":"×"},{"$f":"IF(AND(源泉徴収票!CO40<>\"\",源泉徴収票!CO40<=480000,AN40<=10000000),\"○\",\"×\")","v":"×"},{"$f":"IF(AND(C40=\"○\",源泉徴収票!CN40<>\"\",会社情報!$C$7-YEAR(MAX(源泉徴収票!CN40-1,0))>=70),\"○\",\"×\")","v":"×"},{"$f":"IF(AND(源泉徴収票!CO40<>\"\",源泉徴収票!CO40>480000,源泉徴収票!CO40<=1330000,AN40<=10000000),\"○\",\"×\")","v":"×"},{"$f":"MATCH(源泉徴収票!CO40,H30配偶者控除・特別控除マスタ_配偶者所得,1)","v":1},{"$f":"MATCH('源泉徴収票計算過程(非)'!AN40,H30配偶者控除・特別控除マスタ_所得者合計所得,1)","v":1},{"$f":"IF(源泉徴収票!AN40=\"\",-1,会社情報!$C$7-YEAR(源泉徴収票!AN40-1))","v":-1},{"$f":"IF(源泉徴収票!AT40=\"\",-1,会社情報!$C$7-YEAR(源泉徴収票!AT40-1))","v":-1},{"$f":"IF(源泉徴収票!AZ40=\"\",-1,会社情報!$C$7-YEAR(源泉徴収票!AZ40-1))","v":-1},{"$f":"IF(源泉徴収票!BF40=\"\",-1,会社情報!$C$7-YEAR(源泉徴収票!BF40-1))","v":-1},{"$f":"IF(源泉徴収票!BL40=\"\",-1,会社情報!$C$7-YEAR(源泉徴収票!BL40-1))","v":-1},{"$f":"IF(H40>=16,IF(AND(H40>=19,H40<23),\"特\",IF(H40>=70,IF(源泉徴収票!AO40=\"同居老親等\",\"同\",\"老\"),\"一\")),IF(H40>=0,\"未\",\"×\"))","v":"×"},{"$f":"IF(I40>=16,IF(AND(I40>=19,I40<23),\"特\",IF(I40>=70,IF(源泉徴収票!AU40=\"同居老親等\",\"同\",\"老\"),\"一\")),IF(I40>=0,\"未\",\"×\"))","v":"×"},{"$f":"IF(J40>=16,IF(AND(J40>=19,J40<23),\"特\",IF(J40>=70,IF(源泉徴収票!BA40=\"同居老親等\",\"同\",\"老\"),\"一\")),IF(J40>=0,\"未\",\"×\"))","v":"×"},{"$f":"IF(K40>=16,IF(AND(K40>=19,K40<23),\"特\",IF(K40>=70,IF(源泉徴収票!BG40=\"同居老親等\",\"同\",\"老\"),\"一\")),IF(K40>=0,\"未\",\"×\"))","v":"×"},{"$f":"IF(L40>=16,IF(AND(L40>=19,L40<23),\"特\",IF(L40>=70,IF(源泉徴収票!BM40=\"同居老親等\",\"同\",\"老\"),\"一\")),IF(L40>=0,\"未\",\"×\"))","v":"×"},"","","","","",{"$f":"IF(源泉徴収票!BU40<=20000, 源泉徴収票!BU40,\n  IF(源泉徴収票!BU40<=40000, 源泉徴収票!BU40*1/2+10000,\n   IF(源泉徴収票!BU40<=80000, 源泉徴収票!BU40*1/4+20000,\n                 40000)))","v":0},{"$f":"IF(源泉徴収票!BV40<=25000,源泉徴収票!BV40,\n  IF(源泉徴収票!BV40<=50000,源泉徴収票!BV40*1/2+12500,\n   IF(源泉徴収票!BV40<=100000,源泉徴収票!BV40*1/4+25000,\n                 50000)))","v":0},0,0,{"$f":"IF(源泉徴収票!BW40<=20000, 源泉徴収票!BW40,\n  IF(源泉徴収票!BW40<=40000, 源泉徴収票!BW40*1/2+10000,\n   IF(源泉徴収票!BW40<=80000, 源泉徴収票!BW40*1/4+20000,\n                 40000)))","v":0},{"$f":"IF(源泉徴収票!BX40<=20000, 源泉徴収票!BX40,\n  IF(源泉徴収票!BX40<=40000, 源泉徴収票!BX40*1/2+10000,\n   IF(源泉徴収票!BX40<=80000, 源泉徴収票!BX40*1/4+20000,\n                 40000)))","v":0},{"$f":"IF(源泉徴収票!BY40<=25000,源泉徴収票!BY40,\n  IF(源泉徴収票!BY40<=50000,源泉徴収票!BY40*1/2+12500,\n   IF(源泉徴収票!BY40<=100000,源泉徴収票!BY40*1/4+25000,\n                 50000)))","v":0},0,0,{"$f":"IF(源泉徴収票!BZ40<>\"\",MIN(源泉徴収票!BZ40,50000),0)","v":0},{"$f":"IF(源泉徴収票!CA40>=20000,15000,IF(源泉徴収票!CA40>=10000,源泉徴収票!CA40/2+5000,源泉徴収票!CA40))","v":0},{"$f":"IF(源泉徴収票!CS40<>\"\",\"〇\",\"×\")","v":"×"},null,{"$f":"源泉徴収票!O40+源泉徴収票!R40+源泉徴収票!U40","v":0},{"$f":"源泉徴収票!Q40+源泉徴収票!T40+源泉徴収票!W40","v":0},{"$f":"IF(源泉徴収票!I40=\"無\",0,INT(A40*VLOOKUP(A40, 給与所得計算, 3, TRUE)\n        +  VLOOKUP(A40, 給与所得計算, 4, TRUE) ))","v":0},0,0,{"$f":"源泉徴収票!P40+源泉徴収票!S40+源泉徴収票!V40","v":0},{"$f":"IF(源泉徴収票!I40=\"無\",0,源泉徴収票!CB40)","v":0},{"$f":"IF(源泉徴収票!I40=\"無\",0,源泉徴収票!CD40)","v":0},{"$f":"IF(源泉徴収票!I40=\"無\",0,MIN(120000,Z40+AA40+AE40))","v":0},{"$f":"IF(源泉徴収票!I40=\"無\",0,MIN(AF40+AG40,50000))","v":0},{"$f":"IF(源泉徴収票!I40=\"無\",0,IF(E40=\"○\",INDEX(H30配偶者控除・特別控除マスタ,F40,G40),0))","v":0},{"$f":"IF(源泉徴収票!I40=\"無\",0,IF(C40=\"○\",INDEX(H30配偶者控除・特別控除マスタ,F40,G40),0)+IF(D40=\"○\",INDEX(H30老人控除対象配偶者上乗せ,1,G40),0))","v":0},{"$f":"IF(源泉徴収票!I40=\"無\",0,COUNTIF(M40:Q40,\"一\")*380000+COUNTIF(M40:Q40,\"特\")*630000+COUNTIF(M40:Q40,\"老\")*480000+COUNTIF(M40:Q40,\"同\")*580000)","v":0},{"$f":"IF(源泉徴収票!I40=\"無\",0,(COUNTIF(源泉徴収票!BO40:BP40,\"一般\")+源泉徴収票!BQ40)*270000+(COUNTIF(源泉徴収票!BO40:BP40,\"特別\")+源泉徴収票!BR40)*400000+(COUNTIF(源泉徴収票!BP40,\"同居特別\")+源泉徴収票!BS40)*750000)","v":0},{"$f":"IF(源泉徴収票!I40=\"無\",0,IF(源泉徴収票!BT40<>\"\",IF(OR(源泉徴収票!BT40=\"特別の寡婦\",源泉徴収票!BT40=\"ひとり親\"),350000,270000),0))","v":0},{"$f":"IF(源泉徴収票!I40=\"無\",0,480000)","v":480000},{"$f":"IF(源泉徴収票!I40=\"無\",0,SUM(AO40:AY40))","v":480000},{"$f":"IF(源泉徴収票!I40=\"無\",AN40,FLOOR(MAX(AN40-AZ40,0),1000))","v":0},{"$f":"IF(源泉徴収票!I40=\"無\",AK40,BA40*VLOOKUP(BA40,所得税額計算,3,TRUE)+VLOOKUP(BA40,所得税額計算,4,TRUE))","v":0},{"$f":"IF(源泉徴収票!I40=\"無\",0,源泉徴収票!CZ40)","v":0},0,{"$f":"IF(源泉徴収票!I40=\"無\",BD40,FLOOR(BD40*102.1%,100))","v":0},0]
[0,{"$f":"IF(AND(源泉徴収票!I41=\"無\",源泉徴収票!AE41<>\"\"),\"○\",\"×\")","v":"×"},{"$f":"IF(AND(源泉徴収票!CO41<>\"\",源泉徴収票!CO41<=480000,AN41<=10000000),\"○\",\"×\")","v":"×"},{"$f":"IF(AND(C41=\"○\",源泉徴収票!CN41<>\"\",会社情報!$C$7-YEAR(MAX(源泉徴収票!CN41-1,0))>=70),\"○\",\"×\")","v":"×"},{"$f":"IF(AND(源泉徴収票!CO41<>\"\",源泉徴収票!CO41>480000,源泉徴収票!CO41<=1330000,AN41<=10000000),\"○\",\"×\")","v":"×"},{"$f":"MATCH(源泉徴収票!CO41,H30配偶者控除・特別控除マスタ_配偶者所得,1)","v":1},{"$f":"MATCH('源泉徴収票計算過程(非)'!AN41,H30配偶者控除・特別控除マスタ_所得者合計所得,1)","v":1},{"$f":"IF(源泉徴収票!AN41=\"\",-1,会社情報!$C$7-YEAR(源泉徴収票!AN41-1))","v":-1},{"$f":"IF(源泉徴収票!AT41=\"\",-1,会社情報!$C$7-YEAR(源泉徴収票!AT41-1))","v":-1},{"$f":"IF(源泉徴収票!AZ41=\"\",-1,会社情報!$C$7-YEAR(源泉徴収票!AZ41-1))","v":-1},{"$f":"IF(源泉徴収票!BF41=\"\",-1,会社情報!$C$7-YEAR(源泉徴収票!BF41-1))","v":-1},{"$f":"IF(源泉徴収票!BL41=\"\",-1,会社情報!$C$7-YEAR(源泉徴収票!BL41-1))","v":-1},{"$f":"IF(H41>=16,IF(AND(H41>=19,H41<23),\"特\",IF(H41>=70,IF(源泉徴収票!AO41=\"同居老親等\",\"同\",\"老\"),\"一\")),IF(H41>=0,\"未\",\"×\"))","v":"×"},{"$f":"IF(I41>=16,IF(AND(I41>=19,I41<23),\"特\",IF(I41>=70,IF(源泉徴収票!AU41=\"同居老親等\",\"同\",\"老\"),\"一\")),IF(I41>=0,\"未\",\"×\"))","v":"×"},{"$f":"IF(J41>=16,IF(AND(J41>=19,J41<23),\"特\",IF(J41>=70,IF(源泉徴収票!BA41=\"同居老親等\",\"同\",\"老\"),\"一\")),IF(J41>=0,\"未\",\"×\"))","v":"×"},{"$f":"IF(K41>=16,IF(AND(K41>=19,K41<23),\"特\",IF(K41>=70,IF(源泉徴収票!BG41=\"同居老親等\",\"同\",\"老\"),\"一\")),IF(K41>=0,\"未\",\"×\"))","v":"×"},{"$f":"IF(L41>=16,IF(AND(L41>=19,L41<23),\"特\",IF(L41>=70,IF(源泉徴収票!BM41=\"同居老親等\",\"同\",\"老\"),\"一\")),IF(L41>=0,\"未\",\"×\"))","v":"×"},"","","","","",{"$f":"IF(源泉徴収票!BU41<=20000, 源泉徴収票!BU41,\n  IF(源泉徴収票!BU41<=40000, 源泉徴収票!BU41*1/2+10000,\n   IF(源泉徴収票!BU41<=80000, 源泉徴収票!BU41*1/4+20000,\n                 40000)))","v":0},{"$f":"IF(源泉徴収票!BV41<=25000,源泉徴収票!BV41,\n  IF(源泉徴収票!BV41<=50000,源泉徴収票!BV41*1/2+12500,\n   IF(源泉徴収票!BV41<=100000,源泉徴収票!BV41*1/4+25000,\n                 50000)))","v":0},0,0,{"$f":"IF(源泉徴収票!BW41<=20000, 源泉徴収票!BW41,\n  IF(源泉徴収票!BW41<=40000, 源泉徴収票!BW41*1/2+10000,\n   IF(源泉徴収票!BW41<=80000, 源泉徴収票!BW41*1/4+20000,\n                 40000)))","v":0},{"$f":"IF(源泉徴収票!BX41<=20000, 源泉徴収票!BX41,\n  IF(源泉徴収票!BX41<=40000, 源泉徴収票!BX41*1/2+10000,\n   IF(源泉徴収票!BX41<=80000, 源泉徴収票!BX41*1/4+20000,\n                 40000)))","v":0},{"$f":"IF(源泉徴収票!BY41<=25000,源泉徴収票!BY41,\n  IF(源泉徴収票!BY41<=50000,源泉徴収票!BY41*1/2+12500,\n   IF(源泉徴収票!BY41<=100000,源泉徴収票!BY41*1/4+25000,\n                 50000)))","v":0},0,0,{"$f":"IF(源泉徴収票!BZ41<>\"\",MIN(源泉徴収票!BZ41,50000),0)","v":0},{"$f":"IF(源泉徴収票!CA41>=20000,15000,IF(源泉徴収票!CA41>=10000,源泉徴収票!CA41/2+5000,源泉徴収票!CA41))","v":0},{"$f":"IF(源泉徴収票!CS41<>\"\",\"〇\",\"×\")","v":"×"},null,{"$f":"源泉徴収票!O41+源泉徴収票!R41+源泉徴収票!U41","v":0},{"$f":"源泉徴収票!Q41+源泉徴収票!T41+源泉徴収票!W41","v":0},{"$f":"IF(源泉徴収票!I41=\"無\",0,INT(A41*VLOOKUP(A41, 給与所得計算, 3, TRUE)\n        +  VLOOKUP(A41, 給与所得計算, 4, TRUE) ))","v":0},0,0,{"$f":"源泉徴収票!P41+源泉徴収票!S41+源泉徴収票!V41","v":0},{"$f":"IF(源泉徴収票!I41=\"無\",0,源泉徴収票!CB41)","v":0},{"$f":"IF(源泉徴収票!I41=\"無\",0,源泉徴収票!CD41)","v":0},{"$f":"IF(源泉徴収票!I41=\"無\",0,MIN(120000,Z41+AA41+AE41))","v":0},{"$f":"IF(源泉徴収票!I41=\"無\",0,MIN(AF41+AG41,50000))","v":0},{"$f":"IF(源泉徴収票!I41=\"無\",0,IF(E41=\"○\",INDEX(H30配偶者控除・特別控除マスタ,F41,G41),0))","v":0},{"$f":"IF(源泉徴収票!I41=\"無\",0,IF(C41=\"○\",INDEX(H30配偶者控除・特別控除マスタ,F41,G41),0)+IF(D41=\"○\",INDEX(H30老人控除対象配偶者上乗せ,1,G41),0))","v":0},{"$f":"IF(源泉徴収票!I41=\"無\",0,COUNTIF(M41:Q41,\"一\")*380000+COUNTIF(M41:Q41,\"特\")*630000+COUNTIF(M41:Q41,\"老\")*480000+COUNTIF(M41:Q41,\"同\")*580000)","v":0},{"$f":"IF(源泉徴収票!I41=\"無\",0,(COUNTIF(源泉徴収票!BO41:BP41,\"一般\")+源泉徴収票!BQ41)*270000+(COUNTIF(源泉徴収票!BO41:BP41,\"特別\")+源泉徴収票!BR41)*400000+(COUNTIF(源泉徴収票!BP41,\"同居特別\")+源泉徴収票!BS41)*750000)","v":0},{"$f":"IF(源泉徴収票!I41=\"無\",0,IF(源泉徴収票!BT41<>\"\",IF(OR(源泉徴収票!BT41=\"特別の寡婦\",源泉徴収票!BT41=\"ひとり親\"),350000,270000),0))","v":0},{"$f":"IF(源泉徴収票!I41=\"無\",0,480000)","v":480000},{"$f":"IF(源泉徴収票!I41=\"無\",0,SUM(AO41:AY41))","v":480000},{"$f":"IF(源泉徴収票!I41=\"無\",AN41,FLOOR(MAX(AN41-AZ41,0),1000))","v":0},{"$f":"IF(源泉徴収票!I41=\"無\",AK41,BA41*VLOOKUP(BA41,所得税額計算,3,TRUE)+VLOOKUP(BA41,所得税額計算,4,TRUE))","v":0},{"$f":"IF(源泉徴収票!I41=\"無\",0,源泉徴収票!CZ41)","v":0},0,{"$f":"IF(源泉徴収票!I41=\"無\",BD41,FLOOR(BD41*102.1%,100))","v":0},0]
[0,{"$f":"IF(AND(源泉徴収票!I42=\"無\",源泉徴収票!AE42<>\"\"),\"○\",\"×\")","v":"×"},{"$f":"IF(AND(源泉徴収票!CO42<>\"\",源泉徴収票!CO42<=480000,AN42<=10000000),\"○\",\"×\")","v":"×"},{"$f":"IF(AND(C42=\"○\",源泉徴収票!CN42<>\"\",会社情報!$C$7-YEAR(MAX(源泉徴収票!CN42-1,0))>=70),\"○\",\"×\")","v":"×"},{"$f":"IF(AND(源泉徴収票!CO42<>\"\",源泉徴収票!CO42>480000,源泉徴収票!CO42<=1330000,AN42<=10000000),\"○\",\"×\")","v":"×"},{"$f":"MATCH(源泉徴収票!CO42,H30配偶者控除・特別控除マスタ_配偶者所得,1)","v":1},{"$f":"MATCH('源泉徴収票計算過程(非)'!AN42,H30配偶者控除・特別控除マスタ_所得者合計所得,1)","v":1},{"$f":"IF(源泉徴収票!AN42=\"\",-1,会社情報!$C$7-YEAR(源泉徴収票!AN42-1))","v":-1},{"$f":"IF(源泉徴収票!AT42=\"\",-1,会社情報!$C$7-YEAR(源泉徴収票!AT42-1))","v":-1},{"$f":"IF(源泉徴収票!AZ42=\"\",-1,会社情報!$C$7-YEAR(源泉徴収票!AZ42-1))","v":-1},{"$f":"IF(源泉徴収票!BF42=\"\",-1,会社情報!$C$7-YEAR(源泉徴収票!BF42-1))","v":-1},{"$f":"IF(源泉徴収票!BL42=\"\",-1,会社情報!$C$7-YEAR(源泉徴収票!BL42-1))","v":-1},{"$f":"IF(H42>=16,IF(AND(H42>=19,H42<23),\"特\",IF(H42>=70,IF(源泉徴収票!AO42=\"同居老親等\",\"同\",\"老\"),\"一\")),IF(H42>=0,\"未\",\"×\"))","v":"×"},{"$f":"IF(I42>=16,IF(AND(I42>=19,I42<23),\"特\",IF(I42>=70,IF(源泉徴収票!AU42=\"同居老親等\",\"同\",\"老\"),\"一\")),IF(I42>=0,\"未\",\"×\"))","v":"×"},{"$f":"IF(J42>=16,IF(AND(J42>=19,J42<23),\"特\",IF(J42>=70,IF(源泉徴収票!BA42=\"同居老親等\",\"同\",\"老\"),\"一\")),IF(J42>=0,\"未\",\"×\"))","v":"×"},{"$f":"IF(K42>=16,IF(AND(K42>=19,K42<23),\"特\",IF(K42>=70,IF(源泉徴収票!BG42=\"同居老親等\",\"同\",\"老\"),\"一\")),IF(K42>=0,\"未\",\"×\"))","v":"×"},{"$f":"IF(L42>=16,IF(AND(L42>=19,L42<23),\"特\",IF(L42>=70,IF(源泉徴収票!BM42=\"同居老親等\",\"同\",\"老\"),\"一\")),IF(L42>=0,\"未\",\"×\"))","v":"×"},"","","","","",{"$f":"IF(源泉徴収票!BU42<=20000, 源泉徴収票!BU42,\n  IF(源泉徴収票!BU42<=40000, 源泉徴収票!BU42*1/2+10000,\n   IF(源泉徴収票!BU42<=80000, 源泉徴収票!BU42*1/4+20000,\n                 40000)))","v":0},{"$f":"IF(源泉徴収票!BV42<=25000,源泉徴収票!BV42,\n  IF(源泉徴収票!BV42<=50000,源泉徴収票!BV42*1/2+12500,\n   IF(源泉徴収票!BV42<=100000,源泉徴収票!BV42*1/4+25000,\n                 50000)))","v":0},0,0,{"$f":"IF(源泉徴収票!BW42<=20000, 源泉徴収票!BW42,\n  IF(源泉徴収票!BW42<=40000, 源泉徴収票!BW42*1/2+10000,\n   IF(源泉徴収票!BW42<=80000, 源泉徴収票!BW42*1/4+20000,\n                 40000)))","v":0},{"$f":"IF(源泉徴収票!BX42<=20000, 源泉徴収票!BX42,\n  IF(源泉徴収票!BX42<=40000, 源泉徴収票!BX42*1/2+10000,\n   IF(源泉徴収票!BX42<=80000, 源泉徴収票!BX42*1/4+20000,\n                 40000)))","v":0},{"$f":"IF(源泉徴収票!BY42<=25000,源泉徴収票!BY42,\n  IF(源泉徴収票!BY42<=50000,源泉徴収票!BY42*1/2+12500,\n   IF(源泉徴収票!BY42<=100000,源泉徴収票!BY42*1/4+25000,\n                 50000)))","v":0},0,0,{"$f":"IF(源泉徴収票!BZ42<>\"\",MIN(源泉徴収票!BZ42,50000),0)","v":0},{"$f":"IF(源泉徴収票!CA42>=20000,15000,IF(源泉徴収票!CA42>=10000,源泉徴収票!CA42/2+5000,源泉徴収票!CA42))","v":0},{"$f":"IF(源泉徴収票!CS42<>\"\",\"〇\",\"×\")","v":"×"},null,{"$f":"源泉徴収票!O42+源泉徴収票!R42+源泉徴収票!U42","v":0},{"$f":"源泉徴収票!Q42+源泉徴収票!T42+源泉徴収票!W42","v":0},{"$f":"IF(源泉徴収票!I42=\"無\",0,INT(A42*VLOOKUP(A42, 給与所得計算, 3, TRUE)\n        +  VLOOKUP(A42, 給与所得計算, 4, TRUE) ))","v":0},0,0,{"$f":"源泉徴収票!P42+源泉徴収票!S42+源泉徴収票!V42","v":0},{"$f":"IF(源泉徴収票!I42=\"無\",0,源泉徴収票!CB42)","v":0},{"$f":"IF(源泉徴収票!I42=\"無\",0,源泉徴収票!CD42)","v":0},{"$f":"IF(源泉徴収票!I42=\"無\",0,MIN(120000,Z42+AA42+AE42))","v":0},{"$f":"IF(源泉徴収票!I42=\"無\",0,MIN(AF42+AG42,50000))","v":0},{"$f":"IF(源泉徴収票!I42=\"無\",0,IF(E42=\"○\",INDEX(H30配偶者控除・特別控除マスタ,F42,G42),0))","v":0},{"$f":"IF(源泉徴収票!I42=\"無\",0,IF(C42=\"○\",INDEX(H30配偶者控除・特別控除マスタ,F42,G42),0)+IF(D42=\"○\",INDEX(H30老人控除対象配偶者上乗せ,1,G42),0))","v":0},{"$f":"IF(源泉徴収票!I42=\"無\",0,COUNTIF(M42:Q42,\"一\")*380000+COUNTIF(M42:Q42,\"特\")*630000+COUNTIF(M42:Q42,\"老\")*480000+COUNTIF(M42:Q42,\"同\")*580000)","v":0},{"$f":"IF(源泉徴収票!I42=\"無\",0,(COUNTIF(源泉徴収票!BO42:BP42,\"一般\")+源泉徴収票!BQ42)*270000+(COUNTIF(源泉徴収票!BO42:BP42,\"特別\")+源泉徴収票!BR42)*400000+(COUNTIF(源泉徴収票!BP42,\"同居特別\")+源泉徴収票!BS42)*750000)","v":0},{"$f":"IF(源泉徴収票!I42=\"無\",0,IF(源泉徴収票!BT42<>\"\",IF(OR(源泉徴収票!BT42=\"特別の寡婦\",源泉徴収票!BT42=\"ひとり親\"),350000,270000),0))","v":0},{"$f":"IF(源泉徴収票!I42=\"無\",0,480000)","v":480000},{"$f":"IF(源泉徴収票!I42=\"無\",0,SUM(AO42:AY42))","v":480000},{"$f":"IF(源泉徴収票!I42=\"無\",AN42,FLOOR(MAX(AN42-AZ42,0),1000))","v":0},{"$f":"IF(源泉徴収票!I42=\"無\",AK42,BA42*VLOOKUP(BA42,所得税額計算,3,TRUE)+VLOOKUP(BA42,所得税額計算,4,TRUE))","v":0},{"$f":"IF(源泉徴収票!I42=\"無\",0,源泉徴収票!CZ42)","v":0},0,{"$f":"IF(源泉徴収票!I42=\"無\",BD42,FLOOR(BD42*102.1%,100))","v":0},0]
[0,{"$f":"IF(AND(源泉徴収票!I43=\"無\",源泉徴収票!AE43<>\"\"),\"○\",\"×\")","v":"×"},{"$f":"IF(AND(源泉徴収票!CO43<>\"\",源泉徴収票!CO43<=480000,AN43<=10000000),\"○\",\"×\")","v":"×"},{"$f":"IF(AND(C43=\"○\",源泉徴収票!CN43<>\"\",会社情報!$C$7-YEAR(MAX(源泉徴収票!CN43-1,0))>=70),\"○\",\"×\")","v":"×"},{"$f":"IF(AND(源泉徴収票!CO43<>\"\",源泉徴収票!CO43>480000,源泉徴収票!CO43<=1330000,AN43<=10000000),\"○\",\"×\")","v":"×"},{"$f":"MATCH(源泉徴収票!CO43,H30配偶者控除・特別控除マスタ_配偶者所得,1)","v":1},{"$f":"MATCH('源泉徴収票計算過程(非)'!AN43,H30配偶者控除・特別控除マスタ_所得者合計所得,1)","v":1},{"$f":"IF(源泉徴収票!AN43=\"\",-1,会社情報!$C$7-YEAR(源泉徴収票!AN43-1))","v":-1},{"$f":"IF(源泉徴収票!AT43=\"\",-1,会社情報!$C$7-YEAR(源泉徴収票!AT43-1))","v":-1},{"$f":"IF(源泉徴収票!AZ43=\"\",-1,会社情報!$C$7-YEAR(源泉徴収票!AZ43-1))","v":-1},{"$f":"IF(源泉徴収票!BF43=\"\",-1,会社情報!$C$7-YEAR(源泉徴収票!BF43-1))","v":-1},{"$f":"IF(源泉徴収票!BL43=\"\",-1,会社情報!$C$7-YEAR(源泉徴収票!BL43-1))","v":-1},{"$f":"IF(H43>=16,IF(AND(H43>=19,H43<23),\"特\",IF(H43>=70,IF(源泉徴収票!AO43=\"同居老親等\",\"同\",\"老\"),\"一\")),IF(H43>=0,\"未\",\"×\"))","v":"×"},{"$f":"IF(I43>=16,IF(AND(I43>=19,I43<23),\"特\",IF(I43>=70,IF(源泉徴収票!AU43=\"同居老親等\",\"同\",\"老\"),\"一\")),IF(I43>=0,\"未\",\"×\"))","v":"×"},{"$f":"IF(J43>=16,IF(AND(J43>=19,J43<23),\"特\",IF(J43>=70,IF(源泉徴収票!BA43=\"同居老親等\",\"同\",\"老\"),\"一\")),IF(J43>=0,\"未\",\"×\"))","v":"×"},{"$f":"IF(K43>=16,IF(AND(K43>=19,K43<23),\"特\",IF(K43>=70,IF(源泉徴収票!BG43=\"同居老親等\",\"同\",\"老\"),\"一\")),IF(K43>=0,\"未\",\"×\"))","v":"×"},{"$f":"IF(L43>=16,IF(AND(L43>=19,L43<23),\"特\",IF(L43>=70,IF(源泉徴収票!BM43=\"同居老親等\",\"同\",\"老\"),\"一\")),IF(L43>=0,\"未\",\"×\"))","v":"×"},"","","","","",{"$f":"IF(源泉徴収票!BU43<=20000, 源泉徴収票!BU43,\n  IF(源泉徴収票!BU43<=40000, 源泉徴収票!BU43*1/2+10000,\n   IF(源泉徴収票!BU43<=80000, 源泉徴収票!BU43*1/4+20000,\n                 40000)))","v":0},{"$f":"IF(源泉徴収票!BV43<=25000,源泉徴収票!BV43,\n  IF(源泉徴収票!BV43<=50000,源泉徴収票!BV43*1/2+12500,\n   IF(源泉徴収票!BV43<=100000,源泉徴収票!BV43*1/4+25000,\n                 50000)))","v":0},0,0,{"$f":"IF(源泉徴収票!BW43<=20000, 源泉徴収票!BW43,\n  IF(源泉徴収票!BW43<=40000, 源泉徴収票!BW43*1/2+10000,\n   IF(源泉徴収票!BW43<=80000, 源泉徴収票!BW43*1/4+20000,\n                 40000)))","v":0},{"$f":"IF(源泉徴収票!BX43<=20000, 源泉徴収票!BX43,\n  IF(源泉徴収票!BX43<=40000, 源泉徴収票!BX43*1/2+10000,\n   IF(源泉徴収票!BX43<=80000, 源泉徴収票!BX43*1/4+20000,\n                 40000)))","v":0},{"$f":"IF(源泉徴収票!BY43<=25000,源泉徴収票!BY43,\n  IF(源泉徴収票!BY43<=50000,源泉徴収票!BY43*1/2+12500,\n   IF(源泉徴収票!BY43<=100000,源泉徴収票!BY43*1/4+25000,\n                 50000)))","v":0},0,0,{"$f":"IF(源泉徴収票!BZ43<>\"\",MIN(源泉徴収票!BZ43,50000),0)","v":0},{"$f":"IF(源泉徴収票!CA43>=20000,15000,IF(源泉徴収票!CA43>=10000,源泉徴収票!CA43/2+5000,源泉徴収票!CA43))","v":0},{"$f":"IF(源泉徴収票!CS43<>\"\",\"〇\",\"×\")","v":"×"},null,{"$f":"源泉徴収票!O43+源泉徴収票!R43+源泉徴収票!U43","v":0},{"$f":"源泉徴収票!Q43+源泉徴収票!T43+源泉徴収票!W43","v":0},{"$f":"IF(源泉徴収票!I43=\"無\",0,INT(A43*VLOOKUP(A43, 給与所得計算, 3, TRUE)\n        +  VLOOKUP(A43, 給与所得計算, 4, TRUE) ))","v":0},0,0,{"$f":"源泉徴収票!P43+源泉徴収票!S43+源泉徴収票!V43","v":0},{"$f":"IF(源泉徴収票!I43=\"無\",0,源泉徴収票!CB43)","v":0},{"$f":"IF(源泉徴収票!I43=\"無\",0,源泉徴収票!CD43)","v":0},{"$f":"IF(源泉徴収票!I43=\"無\",0,MIN(120000,Z43+AA43+AE43))","v":0},{"$f":"IF(源泉徴収票!I43=\"無\",0,MIN(AF43+AG43,50000))","v":0},{"$f":"IF(源泉徴収票!I43=\"無\",0,IF(E43=\"○\",INDEX(H30配偶者控除・特別控除マスタ,F43,G43),0))","v":0},{"$f":"IF(源泉徴収票!I43=\"無\",0,IF(C43=\"○\",INDEX(H30配偶者控除・特別控除マスタ,F43,G43),0)+IF(D43=\"○\",INDEX(H30老人控除対象配偶者上乗せ,1,G43),0))","v":0},{"$f":"IF(源泉徴収票!I43=\"無\",0,COUNTIF(M43:Q43,\"一\")*380000+COUNTIF(M43:Q43,\"特\")*630000+COUNTIF(M43:Q43,\"老\")*480000+COUNTIF(M43:Q43,\"同\")*580000)","v":0},{"$f":"IF(源泉徴収票!I43=\"無\",0,(COUNTIF(源泉徴収票!BO43:BP43,\"一般\")+源泉徴収票!BQ43)*270000+(COUNTIF(源泉徴収票!BO43:BP43,\"特別\")+源泉徴収票!BR43)*400000+(COUNTIF(源泉徴収票!BP43,\"同居特別\")+源泉徴収票!BS43)*750000)","v":0},{"$f":"IF(源泉徴収票!I43=\"無\",0,IF(源泉徴収票!BT43<>\"\",IF(OR(源泉徴収票!BT43=\"特別の寡婦\",源泉徴収票!BT43=\"ひとり親\"),350000,270000),0))","v":0},{"$f":"IF(源泉徴収票!I43=\"無\",0,480000)","v":480000},{"$f":"IF(源泉徴収票!I43=\"無\",0,SUM(AO43:AY43))","v":480000},{"$f":"IF(源泉徴収票!I43=\"無\",AN43,FLOOR(MAX(AN43-AZ43,0),1000))","v":0},{"$f":"IF(源泉徴収票!I43=\"無\",AK43,BA43*VLOOKUP(BA43,所得税額計算,3,TRUE)+VLOOKUP(BA43,所得税額計算,4,TRUE))","v":0},{"$f":"IF(源泉徴収票!I43=\"無\",0,源泉徴収票!CZ43)","v":0},0,{"$f":"IF(源泉徴収票!I43=\"無\",BD43,FLOOR(BD43*102.1%,100))","v":0},0]
[0,{"$f":"IF(AND(源泉徴収票!I44=\"無\",源泉徴収票!AE44<>\"\"),\"○\",\"×\")","v":"×"},{"$f":"IF(AND(源泉徴収票!CO44<>\"\",源泉徴収票!CO44<=480000,AN44<=10000000),\"○\",\"×\")","v":"×"},{"$f":"IF(AND(C44=\"○\",源泉徴収票!CN44<>\"\",会社情報!$C$7-YEAR(MAX(源泉徴収票!CN44-1,0))>=70),\"○\",\"×\")","v":"×"},{"$f":"IF(AND(源泉徴収票!CO44<>\"\",源泉徴収票!CO44>480000,源泉徴収票!CO44<=1330000,AN44<=10000000),\"○\",\"×\")","v":"×"},{"$f":"MATCH(源泉徴収票!CO44,H30配偶者控除・特別控除マスタ_配偶者所得,1)","v":1},{"$f":"MATCH('源泉徴収票計算過程(非)'!AN44,H30配偶者控除・特別控除マスタ_所得者合計所得,1)","v":1},{"$f":"IF(源泉徴収票!AN44=\"\",-1,会社情報!$C$7-YEAR(源泉徴収票!AN44-1))","v":-1},{"$f":"IF(源泉徴収票!AT44=\"\",-1,会社情報!$C$7-YEAR(源泉徴収票!AT44-1))","v":-1},{"$f":"IF(源泉徴収票!AZ44=\"\",-1,会社情報!$C$7-YEAR(源泉徴収票!AZ44-1))","v":-1},{"$f":"IF(源泉徴収票!BF44=\"\",-1,会社情報!$C$7-YEAR(源泉徴収票!BF44-1))","v":-1},{"$f":"IF(源泉徴収票!BL44=\"\",-1,会社情報!$C$7-YEAR(源泉徴収票!BL44-1))","v":-1},{"$f":"IF(H44>=16,IF(AND(H44>=19,H44<23),\"特\",IF(H44>=70,IF(源泉徴収票!AO44=\"同居老親等\",\"同\",\"老\"),\"一\")),IF(H44>=0,\"未\",\"×\"))","v":"×"},{"$f":"IF(I44>=16,IF(AND(I44>=19,I44<23),\"特\",IF(I44>=70,IF(源泉徴収票!AU44=\"同居老親等\",\"同\",\"老\"),\"一\")),IF(I44>=0,\"未\",\"×\"))","v":"×"},{"$f":"IF(J44>=16,IF(AND(J44>=19,J44<23),\"特\",IF(J44>=70,IF(源泉徴収票!BA44=\"同居老親等\",\"同\",\"老\"),\"一\")),IF(J44>=0,\"未\",\"×\"))","v":"×"},{"$f":"IF(K44>=16,IF(AND(K44>=19,K44<23),\"特\",IF(K44>=70,IF(源泉徴収票!BG44=\"同居老親等\",\"同\",\"老\"),\"一\")),IF(K44>=0,\"未\",\"×\"))","v":"×"},{"$f":"IF(L44>=16,IF(AND(L44>=19,L44<23),\"特\",IF(L44>=70,IF(源泉徴収票!BM44=\"同居老親等\",\"同\",\"老\"),\"一\")),IF(L44>=0,\"未\",\"×\"))","v":"×"},"","","","","",{"$f":"IF(源泉徴収票!BU44<=20000, 源泉徴収票!BU44,\n  IF(源泉徴収票!BU44<=40000, 源泉徴収票!BU44*1/2+10000,\n   IF(源泉徴収票!BU44<=80000, 源泉徴収票!BU44*1/4+20000,\n                 40000)))","v":0},{"$f":"IF(源泉徴収票!BV44<=25000,源泉徴収票!BV44,\n  IF(源泉徴収票!BV44<=50000,源泉徴収票!BV44*1/2+12500,\n   IF(源泉徴収票!BV44<=100000,源泉徴収票!BV44*1/4+25000,\n                 50000)))","v":0},0,0,{"$f":"IF(源泉徴収票!BW44<=20000, 源泉徴収票!BW44,\n  IF(源泉徴収票!BW44<=40000, 源泉徴収票!BW44*1/2+10000,\n   IF(源泉徴収票!BW44<=80000, 源泉徴収票!BW44*1/4+20000,\n                 40000)))","v":0},{"$f":"IF(源泉徴収票!BX44<=20000, 源泉徴収票!BX44,\n  IF(源泉徴収票!BX44<=40000, 源泉徴収票!BX44*1/2+10000,\n   IF(源泉徴収票!BX44<=80000, 源泉徴収票!BX44*1/4+20000,\n                 40000)))","v":0},{"$f":"IF(源泉徴収票!BY44<=25000,源泉徴収票!BY44,\n  IF(源泉徴収票!BY44<=50000,源泉徴収票!BY44*1/2+12500,\n   IF(源泉徴収票!BY44<=100000,源泉徴収票!BY44*1/4+25000,\n                 50000)))","v":0},0,0,{"$f":"IF(源泉徴収票!BZ44<>\"\",MIN(源泉徴収票!BZ44,50000),0)","v":0},{"$f":"IF(源泉徴収票!CA44>=20000,15000,IF(源泉徴収票!CA44>=10000,源泉徴収票!CA44/2+5000,源泉徴収票!CA44))","v":0},{"$f":"IF(源泉徴収票!CS44<>\"\",\"〇\",\"×\")","v":"×"},null,{"$f":"源泉徴収票!O44+源泉徴収票!R44+源泉徴収票!U44","v":0},{"$f":"源泉徴収票!Q44+源泉徴収票!T44+源泉徴収票!W44","v":0},{"$f":"IF(源泉徴収票!I44=\"無\",0,INT(A44*VLOOKUP(A44, 給与所得計算, 3, TRUE)\n        +  VLOOKUP(A44, 給与所得計算, 4, TRUE) ))","v":0},0,0,{"$f":"源泉徴収票!P44+源泉徴収票!S44+源泉徴収票!V44","v":0},{"$f":"IF(源泉徴収票!I44=\"無\",0,源泉徴収票!CB44)","v":0},{"$f":"IF(源泉徴収票!I44=\"無\",0,源泉徴収票!CD44)","v":0},{"$f":"IF(源泉徴収票!I44=\"無\",0,MIN(120000,Z44+AA44+AE44))","v":0},{"$f":"IF(源泉徴収票!I44=\"無\",0,MIN(AF44+AG44,50000))","v":0},{"$f":"IF(源泉徴収票!I44=\"無\",0,IF(E44=\"○\",INDEX(H30配偶者控除・特別控除マスタ,F44,G44),0))","v":0},{"$f":"IF(源泉徴収票!I44=\"無\",0,IF(C44=\"○\",INDEX(H30配偶者控除・特別控除マスタ,F44,G44),0)+IF(D44=\"○\",INDEX(H30老人控除対象配偶者上乗せ,1,G44),0))","v":0},{"$f":"IF(源泉徴収票!I44=\"無\",0,COUNTIF(M44:Q44,\"一\")*380000+COUNTIF(M44:Q44,\"特\")*630000+COUNTIF(M44:Q44,\"老\")*480000+COUNTIF(M44:Q44,\"同\")*580000)","v":0},{"$f":"IF(源泉徴収票!I44=\"無\",0,(COUNTIF(源泉徴収票!BO44:BP44,\"一般\")+源泉徴収票!BQ44)*270000+(COUNTIF(源泉徴収票!BO44:BP44,\"特別\")+源泉徴収票!BR44)*400000+(COUNTIF(源泉徴収票!BP44,\"同居特別\")+源泉徴収票!BS44)*750000)","v":0},{"$f":"IF(源泉徴収票!I44=\"無\",0,IF(源泉徴収票!BT44<>\"\",IF(OR(源泉徴収票!BT44=\"特別の寡婦\",源泉徴収票!BT44=\"ひとり親\"),350000,270000),0))","v":0},{"$f":"IF(源泉徴収票!I44=\"無\",0,480000)","v":480000},{"$f":"IF(源泉徴収票!I44=\"無\",0,SUM(AO44:AY44))","v":480000},{"$f":"IF(源泉徴収票!I44=\"無\",AN44,FLOOR(MAX(AN44-AZ44,0),1000))","v":0},{"$f":"IF(源泉徴収票!I44=\"無\",AK44,BA44*VLOOKUP(BA44,所得税額計算,3,TRUE)+VLOOKUP(BA44,所得税額計算,4,TRUE))","v":0},{"$f":"IF(源泉徴収票!I44=\"無\",0,源泉徴収票!CZ44)","v":0},0,{"$f":"IF(源泉徴収票!I44=\"無\",BD44,FLOOR(BD44*102.1%,100))","v":0},0]
[0,{"$f":"IF(AND(源泉徴収票!I45=\"無\",源泉徴収票!AE45<>\"\"),\"○\",\"×\")","v":"×"},{"$f":"IF(AND(源泉徴収票!CO45<>\"\",源泉徴収票!CO45<=480000,AN45<=10000000),\"○\",\"×\")","v":"×"},{"$f":"IF(AND(C45=\"○\",源泉徴収票!CN45<>\"\",会社情報!$C$7-YEAR(MAX(源泉徴収票!CN45-1,0))>=70),\"○\",\"×\")","v":"×"},{"$f":"IF(AND(源泉徴収票!CO45<>\"\",源泉徴収票!CO45>480000,源泉徴収票!CO45<=1330000,AN45<=10000000),\"○\",\"×\")","v":"×"},{"$f":"MATCH(源泉徴収票!CO45,H30配偶者控除・特別控除マスタ_配偶者所得,1)","v":1},{"$f":"MATCH('源泉徴収票計算過程(非)'!AN45,H30配偶者控除・特別控除マスタ_所得者合計所得,1)","v":1},{"$f":"IF(源泉徴収票!AN45=\"\",-1,会社情報!$C$7-YEAR(源泉徴収票!AN45-1))","v":-1},{"$f":"IF(源泉徴収票!AT45=\"\",-1,会社情報!$C$7-YEAR(源泉徴収票!AT45-1))","v":-1},{"$f":"IF(源泉徴収票!AZ45=\"\",-1,会社情報!$C$7-YEAR(源泉徴収票!AZ45-1))","v":-1},{"$f":"IF(源泉徴収票!BF45=\"\",-1,会社情報!$C$7-YEAR(源泉徴収票!BF45-1))","v":-1},{"$f":"IF(源泉徴収票!BL45=\"\",-1,会社情報!$C$7-YEAR(源泉徴収票!BL45-1))","v":-1},{"$f":"IF(H45>=16,IF(AND(H45>=19,H45<23),\"特\",IF(H45>=70,IF(源泉徴収票!AO45=\"同居老親等\",\"同\",\"老\"),\"一\")),IF(H45>=0,\"未\",\"×\"))","v":"×"},{"$f":"IF(I45>=16,IF(AND(I45>=19,I45<23),\"特\",IF(I45>=70,IF(源泉徴収票!AU45=\"同居老親等\",\"同\",\"老\"),\"一\")),IF(I45>=0,\"未\",\"×\"))","v":"×"},{"$f":"IF(J45>=16,IF(AND(J45>=19,J45<23),\"特\",IF(J45>=70,IF(源泉徴収票!BA45=\"同居老親等\",\"同\",\"老\"),\"一\")),IF(J45>=0,\"未\",\"×\"))","v":"×"},{"$f":"IF(K45>=16,IF(AND(K45>=19,K45<23),\"特\",IF(K45>=70,IF(源泉徴収票!BG45=\"同居老親等\",\"同\",\"老\"),\"一\")),IF(K45>=0,\"未\",\"×\"))","v":"×"},{"$f":"IF(L45>=16,IF(AND(L45>=19,L45<23),\"特\",IF(L45>=70,IF(源泉徴収票!BM45=\"同居老親等\",\"同\",\"老\"),\"一\")),IF(L45>=0,\"未\",\"×\"))","v":"×"},"","","","","",{"$f":"IF(源泉徴収票!BU45<=20000, 源泉徴収票!BU45,\n  IF(源泉徴収票!BU45<=40000, 源泉徴収票!BU45*1/2+10000,\n   IF(源泉徴収票!BU45<=80000, 源泉徴収票!BU45*1/4+20000,\n                 40000)))","v":0},{"$f":"IF(源泉徴収票!BV45<=25000,源泉徴収票!BV45,\n  IF(源泉徴収票!BV45<=50000,源泉徴収票!BV45*1/2+12500,\n   IF(源泉徴収票!BV45<=100000,源泉徴収票!BV45*1/4+25000,\n                 50000)))","v":0},0,0,{"$f":"IF(源泉徴収票!BW45<=20000, 源泉徴収票!BW45,\n  IF(源泉徴収票!BW45<=40000, 源泉徴収票!BW45*1/2+10000,\n   IF(源泉徴収票!BW45<=80000, 源泉徴収票!BW45*1/4+20000,\n                 40000)))","v":0},{"$f":"IF(源泉徴収票!BX45<=20000, 源泉徴収票!BX45,\n  IF(源泉徴収票!BX45<=40000, 源泉徴収票!BX45*1/2+10000,\n   IF(源泉徴収票!BX45<=80000, 源泉徴収票!BX45*1/4+20000,\n                 40000)))","v":0},{"$f":"IF(源泉徴収票!BY45<=25000,源泉徴収票!BY45,\n  IF(源泉徴収票!BY45<=50000,源泉徴収票!BY45*1/2+12500,\n   IF(源泉徴収票!BY45<=100000,源泉徴収票!BY45*1/4+25000,\n                 50000)))","v":0},0,0,{"$f":"IF(源泉徴収票!BZ45<>\"\",MIN(源泉徴収票!BZ45,50000),0)","v":0},{"$f":"IF(源泉徴収票!CA45>=20000,15000,IF(源泉徴収票!CA45>=10000,源泉徴収票!CA45/2+5000,源泉徴収票!CA45))","v":0},{"$f":"IF(源泉徴収票!CS45<>\"\",\"〇\",\"×\")","v":"×"},null,{"$f":"源泉徴収票!O45+源泉徴収票!R45+源泉徴収票!U45","v":0},{"$f":"源泉徴収票!Q45+源泉徴収票!T45+源泉徴収票!W45","v":0},{"$f":"IF(源泉徴収票!I45=\"無\",0,INT(A45*VLOOKUP(A45, 給与所得計算, 3, TRUE)\n        +  VLOOKUP(A45, 給与所得計算, 4, TRUE) ))","v":0},0,0,{"$f":"源泉徴収票!P45+源泉徴収票!S45+源泉徴収票!V45","v":0},{"$f":"IF(源泉徴収票!I45=\"無\",0,源泉徴収票!CB45)","v":0},{"$f":"IF(源泉徴収票!I45=\"無\",0,源泉徴収票!CD45)","v":0},{"$f":"IF(源泉徴収票!I45=\"無\",0,MIN(120000,Z45+AA45+AE45))","v":0},{"$f":"IF(源泉徴収票!I45=\"無\",0,MIN(AF45+AG45,50000))","v":0},{"$f":"IF(源泉徴収票!I45=\"無\",0,IF(E45=\"○\",INDEX(H30配偶者控除・特別控除マスタ,F45,G45),0))","v":0},{"$f":"IF(源泉徴収票!I45=\"無\",0,IF(C45=\"○\",INDEX(H30配偶者控除・特別控除マスタ,F45,G45),0)+IF(D45=\"○\",INDEX(H30老人控除対象配偶者上乗せ,1,G45),0))","v":0},{"$f":"IF(源泉徴収票!I45=\"無\",0,COUNTIF(M45:Q45,\"一\")*380000+COUNTIF(M45:Q45,\"特\")*630000+COUNTIF(M45:Q45,\"老\")*480000+COUNTIF(M45:Q45,\"同\")*580000)","v":0},{"$f":"IF(源泉徴収票!I45=\"無\",0,(COUNTIF(源泉徴収票!BO45:BP45,\"一般\")+源泉徴収票!BQ45)*270000+(COUNTIF(源泉徴収票!BO45:BP45,\"特別\")+源泉徴収票!BR45)*400000+(COUNTIF(源泉徴収票!BP45,\"同居特別\")+源泉徴収票!BS45)*750000)","v":0},{"$f":"IF(源泉徴収票!I45=\"無\",0,IF(源泉徴収票!BT45<>\"\",IF(OR(源泉徴収票!BT45=\"特別の寡婦\",源泉徴収票!BT45=\"ひとり親\"),350000,270000),0))","v":0},{"$f":"IF(源泉徴収票!I45=\"無\",0,480000)","v":480000},{"$f":"IF(源泉徴収票!I45=\"無\",0,SUM(AO45:AY45))","v":480000},{"$f":"IF(源泉徴収票!I45=\"無\",AN45,FLOOR(MAX(AN45-AZ45,0),1000))","v":0},{"$f":"IF(源泉徴収票!I45=\"無\",AK45,BA45*VLOOKUP(BA45,所得税額計算,3,TRUE)+VLOOKUP(BA45,所得税額計算,4,TRUE))","v":0},{"$f":"IF(源泉徴収票!I45=\"無\",0,源泉徴収票!CZ45)","v":0},0,{"$f":"IF(源泉徴収票!I45=\"無\",BD45,FLOOR(BD45*102.1%,100))","v":0},0]
[0,{"$f":"IF(AND(源泉徴収票!I46=\"無\",源泉徴収票!AE46<>\"\"),\"○\",\"×\")","v":"×"},{"$f":"IF(AND(源泉徴収票!CO46<>\"\",源泉徴収票!CO46<=480000,AN46<=10000000),\"○\",\"×\")","v":"×"},{"$f":"IF(AND(C46=\"○\",源泉徴収票!CN46<>\"\",会社情報!$C$7-YEAR(MAX(源泉徴収票!CN46-1,0))>=70),\"○\",\"×\")","v":"×"},{"$f":"IF(AND(源泉徴収票!CO46<>\"\",源泉徴収票!CO46>480000,源泉徴収票!CO46<=1330000,AN46<=10000000),\"○\",\"×\")","v":"×"},{"$f":"MATCH(源泉徴収票!CO46,H30配偶者控除・特別控除マスタ_配偶者所得,1)","v":1},{"$f":"MATCH('源泉徴収票計算過程(非)'!AN46,H30配偶者控除・特別控除マスタ_所得者合計所得,1)","v":1},{"$f":"IF(源泉徴収票!AN46=\"\",-1,会社情報!$C$7-YEAR(源泉徴収票!AN46-1))","v":-1},{"$f":"IF(源泉徴収票!AT46=\"\",-1,会社情報!$C$7-YEAR(源泉徴収票!AT46-1))","v":-1},{"$f":"IF(源泉徴収票!AZ46=\"\",-1,会社情報!$C$7-YEAR(源泉徴収票!AZ46-1))","v":-1},{"$f":"IF(源泉徴収票!BF46=\"\",-1,会社情報!$C$7-YEAR(源泉徴収票!BF46-1))","v":-1},{"$f":"IF(源泉徴収票!BL46=\"\",-1,会社情報!$C$7-YEAR(源泉徴収票!BL46-1))","v":-1},{"$f":"IF(H46>=16,IF(AND(H46>=19,H46<23),\"特\",IF(H46>=70,IF(源泉徴収票!AO46=\"同居老親等\",\"同\",\"老\"),\"一\")),IF(H46>=0,\"未\",\"×\"))","v":"×"},{"$f":"IF(I46>=16,IF(AND(I46>=19,I46<23),\"特\",IF(I46>=70,IF(源泉徴収票!AU46=\"同居老親等\",\"同\",\"老\"),\"一\")),IF(I46>=0,\"未\",\"×\"))","v":"×"},{"$f":"IF(J46>=16,IF(AND(J46>=19,J46<23),\"特\",IF(J46>=70,IF(源泉徴収票!BA46=\"同居老親等\",\"同\",\"老\"),\"一\")),IF(J46>=0,\"未\",\"×\"))","v":"×"},{"$f":"IF(K46>=16,IF(AND(K46>=19,K46<23),\"特\",IF(K46>=70,IF(源泉徴収票!BG46=\"同居老親等\",\"同\",\"老\"),\"一\")),IF(K46>=0,\"未\",\"×\"))","v":"×"},{"$f":"IF(L46>=16,IF(AND(L46>=19,L46<23),\"特\",IF(L46>=70,IF(源泉徴収票!BM46=\"同居老親等\",\"同\",\"老\"),\"一\")),IF(L46>=0,\"未\",\"×\"))","v":"×"},"","","","","",{"$f":"IF(源泉徴収票!BU46<=20000, 源泉徴収票!BU46,\n  IF(源泉徴収票!BU46<=40000, 源泉徴収票!BU46*1/2+10000,\n   IF(源泉徴収票!BU46<=80000, 源泉徴収票!BU46*1/4+20000,\n                 40000)))","v":0},{"$f":"IF(源泉徴収票!BV46<=25000,源泉徴収票!BV46,\n  IF(源泉徴収票!BV46<=50000,源泉徴収票!BV46*1/2+12500,\n   IF(源泉徴収票!BV46<=100000,源泉徴収票!BV46*1/4+25000,\n                 50000)))","v":0},0,0,{"$f":"IF(源泉徴収票!BW46<=20000, 源泉徴収票!BW46,\n  IF(源泉徴収票!BW46<=40000, 源泉徴収票!BW46*1/2+10000,\n   IF(源泉徴収票!BW46<=80000, 源泉徴収票!BW46*1/4+20000,\n                 40000)))","v":0},{"$f":"IF(源泉徴収票!BX46<=20000, 源泉徴収票!BX46,\n  IF(源泉徴収票!BX46<=40000, 源泉徴収票!BX46*1/2+10000,\n   IF(源泉徴収票!BX46<=80000, 源泉徴収票!BX46*1/4+20000,\n                 40000)))","v":0},{"$f":"IF(源泉徴収票!BY46<=25000,源泉徴収票!BY46,\n  IF(源泉徴収票!BY46<=50000,源泉徴収票!BY46*1/2+12500,\n   IF(源泉徴収票!BY46<=100000,源泉徴収票!BY46*1/4+25000,\n                 50000)))","v":0},0,0,{"$f":"IF(源泉徴収票!BZ46<>\"\",MIN(源泉徴収票!BZ46,50000),0)","v":0},{"$f":"IF(源泉徴収票!CA46>=20000,15000,IF(源泉徴収票!CA46>=10000,源泉徴収票!CA46/2+5000,源泉徴収票!CA46))","v":0},{"$f":"IF(源泉徴収票!CS46<>\"\",\"〇\",\"×\")","v":"×"},null,{"$f":"源泉徴収票!O46+源泉徴収票!R46+源泉徴収票!U46","v":0},{"$f":"源泉徴収票!Q46+源泉徴収票!T46+源泉徴収票!W46","v":0},{"$f":"IF(源泉徴収票!I46=\"無\",0,INT(A46*VLOOKUP(A46, 給与所得計算, 3, TRUE)\n        +  VLOOKUP(A46, 給与所得計算, 4, TRUE) ))","v":0},0,0,{"$f":"源泉徴収票!P46+源泉徴収票!S46+源泉徴収票!V46","v":0},{"$f":"IF(源泉徴収票!I46=\"無\",0,源泉徴収票!CB46)","v":0},{"$f":"IF(源泉徴収票!I46=\"無\",0,源泉徴収票!CD46)","v":0},{"$f":"IF(源泉徴収票!I46=\"無\",0,MIN(120000,Z46+AA46+AE46))","v":0},{"$f":"IF(源泉徴収票!I46=\"無\",0,MIN(AF46+AG46,50000))","v":0},{"$f":"IF(源泉徴収票!I46=\"無\",0,IF(E46=\"○\",INDEX(H30配偶者控除・特別控除マスタ,F46,G46),0))","v":0},{"$f":"IF(源泉徴収票!I46=\"無\",0,IF(C46=\"○\",INDEX(H30配偶者控除・特別控除マスタ,F46,G46),0)+IF(D46=\"○\",INDEX(H30老人控除対象配偶者上乗せ,1,G46),0))","v":0},{"$f":"IF(源泉徴収票!I46=\"無\",0,COUNTIF(M46:Q46,\"一\")*380000+COUNTIF(M46:Q46,\"特\")*630000+COUNTIF(M46:Q46,\"老\")*480000+COUNTIF(M46:Q46,\"同\")*580000)","v":0},{"$f":"IF(源泉徴収票!I46=\"無\",0,(COUNTIF(源泉徴収票!BO46:BP46,\"一般\")+源泉徴収票!BQ46)*270000+(COUNTIF(源泉徴収票!BO46:BP46,\"特別\")+源泉徴収票!BR46)*400000+(COUNTIF(源泉徴収票!BP46,\"同居特別\")+源泉徴収票!BS46)*750000)","v":0},{"$f":"IF(源泉徴収票!I46=\"無\",0,IF(源泉徴収票!BT46<>\"\",IF(OR(源泉徴収票!BT46=\"特別の寡婦\",源泉徴収票!BT46=\"ひとり親\"),350000,270000),0))","v":0},{"$f":"IF(源泉徴収票!I46=\"無\",0,480000)","v":480000},{"$f":"IF(源泉徴収票!I46=\"無\",0,SUM(AO46:AY46))","v":480000},{"$f":"IF(源泉徴収票!I46=\"無\",AN46,FLOOR(MAX(AN46-AZ46,0),1000))","v":0},{"$f":"IF(源泉徴収票!I46=\"無\",AK46,BA46*VLOOKUP(BA46,所得税額計算,3,TRUE)+VLOOKUP(BA46,所得税額計算,4,TRUE))","v":0},{"$f":"IF(源泉徴収票!I46=\"無\",0,源泉徴収票!CZ46)","v":0},0,{"$f":"IF(源泉徴収票!I46=\"無\",BD46,FLOOR(BD46*102.1%,100))","v":0},0]
[0,{"$f":"IF(AND(源泉徴収票!I47=\"無\",源泉徴収票!AE47<>\"\"),\"○\",\"×\")","v":"×"},{"$f":"IF(AND(源泉徴収票!CO47<>\"\",源泉徴収票!CO47<=480000,AN47<=10000000),\"○\",\"×\")","v":"×"},{"$f":"IF(AND(C47=\"○\",源泉徴収票!CN47<>\"\",会社情報!$C$7-YEAR(MAX(源泉徴収票!CN47-1,0))>=70),\"○\",\"×\")","v":"×"},{"$f":"IF(AND(源泉徴収票!CO47<>\"\",源泉徴収票!CO47>480000,源泉徴収票!CO47<=1330000,AN47<=10000000),\"○\",\"×\")","v":"×"},{"$f":"MATCH(源泉徴収票!CO47,H30配偶者控除・特別控除マスタ_配偶者所得,1)","v":1},{"$f":"MATCH('源泉徴収票計算過程(非)'!AN47,H30配偶者控除・特別控除マスタ_所得者合計所得,1)","v":1},{"$f":"IF(源泉徴収票!AN47=\"\",-1,会社情報!$C$7-YEAR(源泉徴収票!AN47-1))","v":-1},{"$f":"IF(源泉徴収票!AT47=\"\",-1,会社情報!$C$7-YEAR(源泉徴収票!AT47-1))","v":-1},{"$f":"IF(源泉徴収票!AZ47=\"\",-1,会社情報!$C$7-YEAR(源泉徴収票!AZ47-1))","v":-1},{"$f":"IF(源泉徴収票!BF47=\"\",-1,会社情報!$C$7-YEAR(源泉徴収票!BF47-1))","v":-1},{"$f":"IF(源泉徴収票!BL47=\"\",-1,会社情報!$C$7-YEAR(源泉徴収票!BL47-1))","v":-1},{"$f":"IF(H47>=16,IF(AND(H47>=19,H47<23),\"特\",IF(H47>=70,IF(源泉徴収票!AO47=\"同居老親等\",\"同\",\"老\"),\"一\")),IF(H47>=0,\"未\",\"×\"))","v":"×"},{"$f":"IF(I47>=16,IF(AND(I47>=19,I47<23),\"特\",IF(I47>=70,IF(源泉徴収票!AU47=\"同居老親等\",\"同\",\"老\"),\"一\")),IF(I47>=0,\"未\",\"×\"))","v":"×"},{"$f":"IF(J47>=16,IF(AND(J47>=19,J47<23),\"特\",IF(J47>=70,IF(源泉徴収票!BA47=\"同居老親等\",\"同\",\"老\"),\"一\")),IF(J47>=0,\"未\",\"×\"))","v":"×"},{"$f":"IF(K47>=16,IF(AND(K47>=19,K47<23),\"特\",IF(K47>=70,IF(源泉徴収票!BG47=\"同居老親等\",\"同\",\"老\"),\"一\")),IF(K47>=0,\"未\",\"×\"))","v":"×"},{"$f":"IF(L47>=16,IF(AND(L47>=19,L47<23),\"特\",IF(L47>=70,IF(源泉徴収票!BM47=\"同居老親等\",\"同\",\"老\"),\"一\")),IF(L47>=0,\"未\",\"×\"))","v":"×"},"","","","","",{"$f":"IF(源泉徴収票!BU47<=20000, 源泉徴収票!BU47,\n  IF(源泉徴収票!BU47<=40000, 源泉徴収票!BU47*1/2+10000,\n   IF(源泉徴収票!BU47<=80000, 源泉徴収票!BU47*1/4+20000,\n                 40000)))","v":0},{"$f":"IF(源泉徴収票!BV47<=25000,源泉徴収票!BV47,\n  IF(源泉徴収票!BV47<=50000,源泉徴収票!BV47*1/2+12500,\n   IF(源泉徴収票!BV47<=100000,源泉徴収票!BV47*1/4+25000,\n                 50000)))","v":0},0,0,{"$f":"IF(源泉徴収票!BW47<=20000, 源泉徴収票!BW47,\n  IF(源泉徴収票!BW47<=40000, 源泉徴収票!BW47*1/2+10000,\n   IF(源泉徴収票!BW47<=80000, 源泉徴収票!BW47*1/4+20000,\n                 40000)))","v":0},{"$f":"IF(源泉徴収票!BX47<=20000, 源泉徴収票!BX47,\n  IF(源泉徴収票!BX47<=40000, 源泉徴収票!BX47*1/2+10000,\n   IF(源泉徴収票!BX47<=80000, 源泉徴収票!BX47*1/4+20000,\n                 40000)))","v":0},{"$f":"IF(源泉徴収票!BY47<=25000,源泉徴収票!BY47,\n  IF(源泉徴収票!BY47<=50000,源泉徴収票!BY47*1/2+12500,\n   IF(源泉徴収票!BY47<=100000,源泉徴収票!BY47*1/4+25000,\n                 50000)))","v":0},0,0,{"$f":"IF(源泉徴収票!BZ47<>\"\",MIN(源泉徴収票!BZ47,50000),0)","v":0},{"$f":"IF(源泉徴収票!CA47>=20000,15000,IF(源泉徴収票!CA47>=10000,源泉徴収票!CA47/2+5000,源泉徴収票!CA47))","v":0},{"$f":"IF(源泉徴収票!CS47<>\"\",\"〇\",\"×\")","v":"×"},null,{"$f":"源泉徴収票!O47+源泉徴収票!R47+源泉徴収票!U47","v":0},{"$f":"源泉徴収票!Q47+源泉徴収票!T47+源泉徴収票!W47","v":0},{"$f":"IF(源泉徴収票!I47=\"無\",0,INT(A47*VLOOKUP(A47, 給与所得計算, 3, TRUE)\n        +  VLOOKUP(A47, 給与所得計算, 4, TRUE) ))","v":0},0,0,{"$f":"源泉徴収票!P47+源泉徴収票!S47+源泉徴収票!V47","v":0},{"$f":"IF(源泉徴収票!I47=\"無\",0,源泉徴収票!CB47)","v":0},{"$f":"IF(源泉徴収票!I47=\"無\",0,源泉徴収票!CD47)","v":0},{"$f":"IF(源泉徴収票!I47=\"無\",0,MIN(120000,Z47+AA47+AE47))","v":0},{"$f":"IF(源泉徴収票!I47=\"無\",0,MIN(AF47+AG47,50000))","v":0},{"$f":"IF(源泉徴収票!I47=\"無\",0,IF(E47=\"○\",INDEX(H30配偶者控除・特別控除マスタ,F47,G47),0))","v":0},{"$f":"IF(源泉徴収票!I47=\"無\",0,IF(C47=\"○\",INDEX(H30配偶者控除・特別控除マスタ,F47,G47),0)+IF(D47=\"○\",INDEX(H30老人控除対象配偶者上乗せ,1,G47),0))","v":0},{"$f":"IF(源泉徴収票!I47=\"無\",0,COUNTIF(M47:Q47,\"一\")*380000+COUNTIF(M47:Q47,\"特\")*630000+COUNTIF(M47:Q47,\"老\")*480000+COUNTIF(M47:Q47,\"同\")*580000)","v":0},{"$f":"IF(源泉徴収票!I47=\"無\",0,(COUNTIF(源泉徴収票!BO47:BP47,\"一般\")+源泉徴収票!BQ47)*270000+(COUNTIF(源泉徴収票!BO47:BP47,\"特別\")+源泉徴収票!BR47)*400000+(COUNTIF(源泉徴収票!BP47,\"同居特別\")+源泉徴収票!BS47)*750000)","v":0},{"$f":"IF(源泉徴収票!I47=\"無\",0,IF(源泉徴収票!BT47<>\"\",IF(OR(源泉徴収票!BT47=\"特別の寡婦\",源泉徴収票!BT47=\"ひとり親\"),350000,270000),0))","v":0},{"$f":"IF(源泉徴収票!I47=\"無\",0,480000)","v":480000},{"$f":"IF(源泉徴収票!I47=\"無\",0,SUM(AO47:AY47))","v":480000},{"$f":"IF(源泉徴収票!I47=\"無\",AN47,FLOOR(MAX(AN47-AZ47,0),1000))","v":0},{"$f":"IF(源泉徴収票!I47=\"無\",AK47,BA47*VLOOKUP(BA47,所得税額計算,3,TRUE)+VLOOKUP(BA47,所得税額計算,4,TRUE))","v":0},{"$f":"IF(源泉徴収票!I47=\"無\",0,源泉徴収票!CZ47)","v":0},0,{"$f":"IF(源泉徴収票!I47=\"無\",BD47,FLOOR(BD47*102.1%,100))","v":0},0]
[0,{"$f":"IF(AND(源泉徴収票!I48=\"無\",源泉徴収票!AE48<>\"\"),\"○\",\"×\")","v":"×"},{"$f":"IF(AND(源泉徴収票!CO48<>\"\",源泉徴収票!CO48<=480000,AN48<=10000000),\"○\",\"×\")","v":"×"},{"$f":"IF(AND(C48=\"○\",源泉徴収票!CN48<>\"\",会社情報!$C$7-YEAR(MAX(源泉徴収票!CN48-1,0))>=70),\"○\",\"×\")","v":"×"},{"$f":"IF(AND(源泉徴収票!CO48<>\"\",源泉徴収票!CO48>480000,源泉徴収票!CO48<=1330000,AN48<=10000000),\"○\",\"×\")","v":"×"},{"$f":"MATCH(源泉徴収票!CO48,H30配偶者控除・特別控除マスタ_配偶者所得,1)","v":1},{"$f":"MATCH('源泉徴収票計算過程(非)'!AN48,H30配偶者控除・特別控除マスタ_所得者合計所得,1)","v":1},{"$f":"IF(源泉徴収票!AN48=\"\",-1,会社情報!$C$7-YEAR(源泉徴収票!AN48-1))","v":-1},{"$f":"IF(源泉徴収票!AT48=\"\",-1,会社情報!$C$7-YEAR(源泉徴収票!AT48-1))","v":-1},{"$f":"IF(源泉徴収票!AZ48=\"\",-1,会社情報!$C$7-YEAR(源泉徴収票!AZ48-1))","v":-1},{"$f":"IF(源泉徴収票!BF48=\"\",-1,会社情報!$C$7-YEAR(源泉徴収票!BF48-1))","v":-1},{"$f":"IF(源泉徴収票!BL48=\"\",-1,会社情報!$C$7-YEAR(源泉徴収票!BL48-1))","v":-1},{"$f":"IF(H48>=16,IF(AND(H48>=19,H48<23),\"特\",IF(H48>=70,IF(源泉徴収票!AO48=\"同居老親等\",\"同\",\"老\"),\"一\")),IF(H48>=0,\"未\",\"×\"))","v":"×"},{"$f":"IF(I48>=16,IF(AND(I48>=19,I48<23),\"特\",IF(I48>=70,IF(源泉徴収票!AU48=\"同居老親等\",\"同\",\"老\"),\"一\")),IF(I48>=0,\"未\",\"×\"))","v":"×"},{"$f":"IF(J48>=16,IF(AND(J48>=19,J48<23),\"特\",IF(J48>=70,IF(源泉徴収票!BA48=\"同居老親等\",\"同\",\"老\"),\"一\")),IF(J48>=0,\"未\",\"×\"))","v":"×"},{"$f":"IF(K48>=16,IF(AND(K48>=19,K48<23),\"特\",IF(K48>=70,IF(源泉徴収票!BG48=\"同居老親等\",\"同\",\"老\"),\"一\")),IF(K48>=0,\"未\",\"×\"))","v":"×"},{"$f":"IF(L48>=16,IF(AND(L48>=19,L48<23),\"特\",IF(L48>=70,IF(源泉徴収票!BM48=\"同居老親等\",\"同\",\"老\"),\"一\")),IF(L48>=0,\"未\",\"×\"))","v":"×"},"","","","","",{"$f":"IF(源泉徴収票!BU48<=20000, 源泉徴収票!BU48,\n  IF(源泉徴収票!BU48<=40000, 源泉徴収票!BU48*1/2+10000,\n   IF(源泉徴収票!BU48<=80000, 源泉徴収票!BU48*1/4+20000,\n                 40000)))","v":0},{"$f":"IF(源泉徴収票!BV48<=25000,源泉徴収票!BV48,\n  IF(源泉徴収票!BV48<=50000,源泉徴収票!BV48*1/2+12500,\n   IF(源泉徴収票!BV48<=100000,源泉徴収票!BV48*1/4+25000,\n                 50000)))","v":0},0,0,{"$f":"IF(源泉徴収票!BW48<=20000, 源泉徴収票!BW48,\n  IF(源泉徴収票!BW48<=40000, 源泉徴収票!BW48*1/2+10000,\n   IF(源泉徴収票!BW48<=80000, 源泉徴収票!BW48*1/4+20000,\n                 40000)))","v":0},{"$f":"IF(源泉徴収票!BX48<=20000, 源泉徴収票!BX48,\n  IF(源泉徴収票!BX48<=40000, 源泉徴収票!BX48*1/2+10000,\n   IF(源泉徴収票!BX48<=80000, 源泉徴収票!BX48*1/4+20000,\n                 40000)))","v":0},{"$f":"IF(源泉徴収票!BY48<=25000,源泉徴収票!BY48,\n  IF(源泉徴収票!BY48<=50000,源泉徴収票!BY48*1/2+12500,\n   IF(源泉徴収票!BY48<=100000,源泉徴収票!BY48*1/4+25000,\n                 50000)))","v":0},0,0,{"$f":"IF(源泉徴収票!BZ48<>\"\",MIN(源泉徴収票!BZ48,50000),0)","v":0},{"$f":"IF(源泉徴収票!CA48>=20000,15000,IF(源泉徴収票!CA48>=10000,源泉徴収票!CA48/2+5000,源泉徴収票!CA48))","v":0},{"$f":"IF(源泉徴収票!CS48<>\"\",\"〇\",\"×\")","v":"×"},null,{"$f":"源泉徴収票!O48+源泉徴収票!R48+源泉徴収票!U48","v":0},{"$f":"源泉徴収票!Q48+源泉徴収票!T48+源泉徴収票!W48","v":0},{"$f":"IF(源泉徴収票!I48=\"無\",0,INT(A48*VLOOKUP(A48, 給与所得計算, 3, TRUE)\n        +  VLOOKUP(A48, 給与所得計算, 4, TRUE) ))","v":0},0,0,{"$f":"源泉徴収票!P48+源泉徴収票!S48+源泉徴収票!V48","v":0},{"$f":"IF(源泉徴収票!I48=\"無\",0,源泉徴収票!CB48)","v":0},{"$f":"IF(源泉徴収票!I48=\"無\",0,源泉徴収票!CD48)","v":0},{"$f":"IF(源泉徴収票!I48=\"無\",0,MIN(120000,Z48+AA48+AE48))","v":0},{"$f":"IF(源泉徴収票!I48=\"無\",0,MIN(AF48+AG48,50000))","v":0},{"$f":"IF(源泉徴収票!I48=\"無\",0,IF(E48=\"○\",INDEX(H30配偶者控除・特別控除マスタ,F48,G48),0))","v":0},{"$f":"IF(源泉徴収票!I48=\"無\",0,IF(C48=\"○\",INDEX(H30配偶者控除・特別控除マスタ,F48,G48),0)+IF(D48=\"○\",INDEX(H30老人控除対象配偶者上乗せ,1,G48),0))","v":0},{"$f":"IF(源泉徴収票!I48=\"無\",0,COUNTIF(M48:Q48,\"一\")*380000+COUNTIF(M48:Q48,\"特\")*630000+COUNTIF(M48:Q48,\"老\")*480000+COUNTIF(M48:Q48,\"同\")*580000)","v":0},{"$f":"IF(源泉徴収票!I48=\"無\",0,(COUNTIF(源泉徴収票!BO48:BP48,\"一般\")+源泉徴収票!BQ48)*270000+(COUNTIF(源泉徴収票!BO48:BP48,\"特別\")+源泉徴収票!BR48)*400000+(COUNTIF(源泉徴収票!BP48,\"同居特別\")+源泉徴収票!BS48)*750000)","v":0},{"$f":"IF(源泉徴収票!I48=\"無\",0,IF(源泉徴収票!BT48<>\"\",IF(OR(源泉徴収票!BT48=\"特別の寡婦\",源泉徴収票!BT48=\"ひとり親\"),350000,270000),0))","v":0},{"$f":"IF(源泉徴収票!I48=\"無\",0,480000)","v":480000},{"$f":"IF(源泉徴収票!I48=\"無\",0,SUM(AO48:AY48))","v":480000},{"$f":"IF(源泉徴収票!I48=\"無\",AN48,FLOOR(MAX(AN48-AZ48,0),1000))","v":0},{"$f":"IF(源泉徴収票!I48=\"無\",AK48,BA48*VLOOKUP(BA48,所得税額計算,3,TRUE)+VLOOKUP(BA48,所得税額計算,4,TRUE))","v":0},{"$f":"IF(源泉徴収票!I48=\"無\",0,源泉徴収票!CZ48)","v":0},0,{"$f":"IF(源泉徴収票!I48=\"無\",BD48,FLOOR(BD48*102.1%,100))","v":0},0]
[0,{"$f":"IF(AND(源泉徴収票!I49=\"無\",源泉徴収票!AE49<>\"\"),\"○\",\"×\")","v":"×"},{"$f":"IF(AND(源泉徴収票!CO49<>\"\",源泉徴収票!CO49<=480000,AN49<=10000000),\"○\",\"×\")","v":"×"},{"$f":"IF(AND(C49=\"○\",源泉徴収票!CN49<>\"\",会社情報!$C$7-YEAR(MAX(源泉徴収票!CN49-1,0))>=70),\"○\",\"×\")","v":"×"},{"$f":"IF(AND(源泉徴収票!CO49<>\"\",源泉徴収票!CO49>480000,源泉徴収票!CO49<=1330000,AN49<=10000000),\"○\",\"×\")","v":"×"},{"$f":"MATCH(源泉徴収票!CO49,H30配偶者控除・特別控除マスタ_配偶者所得,1)","v":1},{"$f":"MATCH('源泉徴収票計算過程(非)'!AN49,H30配偶者控除・特別控除マスタ_所得者合計所得,1)","v":1},{"$f":"IF(源泉徴収票!AN49=\"\",-1,会社情報!$C$7-YEAR(源泉徴収票!AN49-1))","v":-1},{"$f":"IF(源泉徴収票!AT49=\"\",-1,会社情報!$C$7-YEAR(源泉徴収票!AT49-1))","v":-1},{"$f":"IF(源泉徴収票!AZ49=\"\",-1,会社情報!$C$7-YEAR(源泉徴収票!AZ49-1))","v":-1},{"$f":"IF(源泉徴収票!BF49=\"\",-1,会社情報!$C$7-YEAR(源泉徴収票!BF49-1))","v":-1},{"$f":"IF(源泉徴収票!BL49=\"\",-1,会社情報!$C$7-YEAR(源泉徴収票!BL49-1))","v":-1},{"$f":"IF(H49>=16,IF(AND(H49>=19,H49<23),\"特\",IF(H49>=70,IF(源泉徴収票!AO49=\"同居老親等\",\"同\",\"老\"),\"一\")),IF(H49>=0,\"未\",\"×\"))","v":"×"},{"$f":"IF(I49>=16,IF(AND(I49>=19,I49<23),\"特\",IF(I49>=70,IF(源泉徴収票!AU49=\"同居老親等\",\"同\",\"老\"),\"一\")),IF(I49>=0,\"未\",\"×\"))","v":"×"},{"$f":"IF(J49>=16,IF(AND(J49>=19,J49<23),\"特\",IF(J49>=70,IF(源泉徴収票!BA49=\"同居老親等\",\"同\",\"老\"),\"一\")),IF(J49>=0,\"未\",\"×\"))","v":"×"},{"$f":"IF(K49>=16,IF(AND(K49>=19,K49<23),\"特\",IF(K49>=70,IF(源泉徴収票!BG49=\"同居老親等\",\"同\",\"老\"),\"一\")),IF(K49>=0,\"未\",\"×\"))","v":"×"},{"$f":"IF(L49>=16,IF(AND(L49>=19,L49<23),\"特\",IF(L49>=70,IF(源泉徴収票!BM49=\"同居老親等\",\"同\",\"老\"),\"一\")),IF(L49>=0,\"未\",\"×\"))","v":"×"},"","","","","",{"$f":"IF(源泉徴収票!BU49<=20000, 源泉徴収票!BU49,\n  IF(源泉徴収票!BU49<=40000, 源泉徴収票!BU49*1/2+10000,\n   IF(源泉徴収票!BU49<=80000, 源泉徴収票!BU49*1/4+20000,\n                 40000)))","v":0},{"$f":"IF(源泉徴収票!BV49<=25000,源泉徴収票!BV49,\n  IF(源泉徴収票!BV49<=50000,源泉徴収票!BV49*1/2+12500,\n   IF(源泉徴収票!BV49<=100000,源泉徴収票!BV49*1/4+25000,\n                 50000)))","v":0},0,0,{"$f":"IF(源泉徴収票!BW49<=20000, 源泉徴収票!BW49,\n  IF(源泉徴収票!BW49<=40000, 源泉徴収票!BW49*1/2+10000,\n   IF(源泉徴収票!BW49<=80000, 源泉徴収票!BW49*1/4+20000,\n                 40000)))","v":0},{"$f":"IF(源泉徴収票!BX49<=20000, 源泉徴収票!BX49,\n  IF(源泉徴収票!BX49<=40000, 源泉徴収票!BX49*1/2+10000,\n   IF(源泉徴収票!BX49<=80000, 源泉徴収票!BX49*1/4+20000,\n                 40000)))","v":0},{"$f":"IF(源泉徴収票!BY49<=25000,源泉徴収票!BY49,\n  IF(源泉徴収票!BY49<=50000,源泉徴収票!BY49*1/2+12500,\n   IF(源泉徴収票!BY49<=100000,源泉徴収票!BY49*1/4+25000,\n                 50000)))","v":0},0,0,{"$f":"IF(源泉徴収票!BZ49<>\"\",MIN(源泉徴収票!BZ49,50000),0)","v":0},{"$f":"IF(源泉徴収票!CA49>=20000,15000,IF(源泉徴収票!CA49>=10000,源泉徴収票!CA49/2+5000,源泉徴収票!CA49))","v":0},{"$f":"IF(源泉徴収票!CS49<>\"\",\"〇\",\"×\")","v":"×"},null,{"$f":"源泉徴収票!O49+源泉徴収票!R49+源泉徴収票!U49","v":0},{"$f":"源泉徴収票!Q49+源泉徴収票!T49+源泉徴収票!W49","v":0},{"$f":"IF(源泉徴収票!I49=\"無\",0,INT(A49*VLOOKUP(A49, 給与所得計算, 3, TRUE)\n        +  VLOOKUP(A49, 給与所得計算, 4, TRUE) ))","v":0},0,0,{"$f":"源泉徴収票!P49+源泉徴収票!S49+源泉徴収票!V49","v":0},{"$f":"IF(源泉徴収票!I49=\"無\",0,源泉徴収票!CB49)","v":0},{"$f":"IF(源泉徴収票!I49=\"無\",0,源泉徴収票!CD49)","v":0},{"$f":"IF(源泉徴収票!I49=\"無\",0,MIN(120000,Z49+AA49+AE49))","v":0},{"$f":"IF(源泉徴収票!I49=\"無\",0,MIN(AF49+AG49,50000))","v":0},{"$f":"IF(源泉徴収票!I49=\"無\",0,IF(E49=\"○\",INDEX(H30配偶者控除・特別控除マスタ,F49,G49),0))","v":0},{"$f":"IF(源泉徴収票!I49=\"無\",0,IF(C49=\"○\",INDEX(H30配偶者控除・特別控除マスタ,F49,G49),0)+IF(D49=\"○\",INDEX(H30老人控除対象配偶者上乗せ,1,G49),0))","v":0},{"$f":"IF(源泉徴収票!I49=\"無\",0,COUNTIF(M49:Q49,\"一\")*380000+COUNTIF(M49:Q49,\"特\")*630000+COUNTIF(M49:Q49,\"老\")*480000+COUNTIF(M49:Q49,\"同\")*580000)","v":0},{"$f":"IF(源泉徴収票!I49=\"無\",0,(COUNTIF(源泉徴収票!BO49:BP49,\"一般\")+源泉徴収票!BQ49)*270000+(COUNTIF(源泉徴収票!BO49:BP49,\"特別\")+源泉徴収票!BR49)*400000+(COUNTIF(源泉徴収票!BP49,\"同居特別\")+源泉徴収票!BS49)*750000)","v":0},{"$f":"IF(源泉徴収票!I49=\"無\",0,IF(源泉徴収票!BT49<>\"\",IF(OR(源泉徴収票!BT49=\"特別の寡婦\",源泉徴収票!BT49=\"ひとり親\"),350000,270000),0))","v":0},{"$f":"IF(源泉徴収票!I49=\"無\",0,480000)","v":480000},{"$f":"IF(源泉徴収票!I49=\"無\",0,SUM(AO49:AY49))","v":480000},{"$f":"IF(源泉徴収票!I49=\"無\",AN49,FLOOR(MAX(AN49-AZ49,0),1000))","v":0},{"$f":"IF(源泉徴収票!I49=\"無\",AK49,BA49*VLOOKUP(BA49,所得税額計算,3,TRUE)+VLOOKUP(BA49,所得税額計算,4,TRUE))","v":0},{"$f":"IF(源泉徴収票!I49=\"無\",0,源泉徴収票!CZ49)","v":0},0,{"$f":"IF(源泉徴収票!I49=\"無\",BD49,FLOOR(BD49*102.1%,100))","v":0},0]
[0,{"$f":"IF(AND(源泉徴収票!I50=\"無\",源泉徴収票!AE50<>\"\"),\"○\",\"×\")","v":"×"},{"$f":"IF(AND(源泉徴収票!CO50<>\"\",源泉徴収票!CO50<=480000,AN50<=10000000),\"○\",\"×\")","v":"×"},{"$f":"IF(AND(C50=\"○\",源泉徴収票!CN50<>\"\",会社情報!$C$7-YEAR(MAX(源泉徴収票!CN50-1,0))>=70),\"○\",\"×\")","v":"×"},{"$f":"IF(AND(源泉徴収票!CO50<>\"\",源泉徴収票!CO50>480000,源泉徴収票!CO50<=1330000,AN50<=10000000),\"○\",\"×\")","v":"×"},{"$f":"MATCH(源泉徴収票!CO50,H30配偶者控除・特別控除マスタ_配偶者所得,1)","v":1},{"$f":"MATCH('源泉徴収票計算過程(非)'!AN50,H30配偶者控除・特別控除マスタ_所得者合計所得,1)","v":1},{"$f":"IF(源泉徴収票!AN50=\"\",-1,会社情報!$C$7-YEAR(源泉徴収票!AN50-1))","v":-1},{"$f":"IF(源泉徴収票!AT50=\"\",-1,会社情報!$C$7-YEAR(源泉徴収票!AT50-1))","v":-1},{"$f":"IF(源泉徴収票!AZ50=\"\",-1,会社情報!$C$7-YEAR(源泉徴収票!AZ50-1))","v":-1},{"$f":"IF(源泉徴収票!BF50=\"\",-1,会社情報!$C$7-YEAR(源泉徴収票!BF50-1))","v":-1},{"$f":"IF(源泉徴収票!BL50=\"\",-1,会社情報!$C$7-YEAR(源泉徴収票!BL50-1))","v":-1},{"$f":"IF(H50>=16,IF(AND(H50>=19,H50<23),\"特\",IF(H50>=70,IF(源泉徴収票!AO50=\"同居老親等\",\"同\",\"老\"),\"一\")),IF(H50>=0,\"未\",\"×\"))","v":"×"},{"$f":"IF(I50>=16,IF(AND(I50>=19,I50<23),\"特\",IF(I50>=70,IF(源泉徴収票!AU50=\"同居老親等\",\"同\",\"老\"),\"一\")),IF(I50>=0,\"未\",\"×\"))","v":"×"},{"$f":"IF(J50>=16,IF(AND(J50>=19,J50<23),\"特\",IF(J50>=70,IF(源泉徴収票!BA50=\"同居老親等\",\"同\",\"老\"),\"一\")),IF(J50>=0,\"未\",\"×\"))","v":"×"},{"$f":"IF(K50>=16,IF(AND(K50>=19,K50<23),\"特\",IF(K50>=70,IF(源泉徴収票!BG50=\"同居老親等\",\"同\",\"老\"),\"一\")),IF(K50>=0,\"未\",\"×\"))","v":"×"},{"$f":"IF(L50>=16,IF(AND(L50>=19,L50<23),\"特\",IF(L50>=70,IF(源泉徴収票!BM50=\"同居老親等\",\"同\",\"老\"),\"一\")),IF(L50>=0,\"未\",\"×\"))","v":"×"},"","","","","",{"$f":"IF(源泉徴収票!BU50<=20000, 源泉徴収票!BU50,\n  IF(源泉徴収票!BU50<=40000, 源泉徴収票!BU50*1/2+10000,\n   IF(源泉徴収票!BU50<=80000, 源泉徴収票!BU50*1/4+20000,\n                 40000)))","v":0},{"$f":"IF(源泉徴収票!BV50<=25000,源泉徴収票!BV50,\n  IF(源泉徴収票!BV50<=50000,源泉徴収票!BV50*1/2+12500,\n   IF(源泉徴収票!BV50<=100000,源泉徴収票!BV50*1/4+25000,\n                 50000)))","v":0},0,0,{"$f":"IF(源泉徴収票!BW50<=20000, 源泉徴収票!BW50,\n  IF(源泉徴収票!BW50<=40000, 源泉徴収票!BW50*1/2+10000,\n   IF(源泉徴収票!BW50<=80000, 源泉徴収票!BW50*1/4+20000,\n                 40000)))","v":0},{"$f":"IF(源泉徴収票!BX50<=20000, 源泉徴収票!BX50,\n  IF(源泉徴収票!BX50<=40000, 源泉徴収票!BX50*1/2+10000,\n   IF(源泉徴収票!BX50<=80000, 源泉徴収票!BX50*1/4+20000,\n                 40000)))","v":0},{"$f":"IF(源泉徴収票!BY50<=25000,源泉徴収票!BY50,\n  IF(源泉徴収票!BY50<=50000,源泉徴収票!BY50*1/2+12500,\n   IF(源泉徴収票!BY50<=100000,源泉徴収票!BY50*1/4+25000,\n                 50000)))","v":0},0,0,{"$f":"IF(源泉徴収票!BZ50<>\"\",MIN(源泉徴収票!BZ50,50000),0)","v":0},{"$f":"IF(源泉徴収票!CA50>=20000,15000,IF(源泉徴収票!CA50>=10000,源泉徴収票!CA50/2+5000,源泉徴収票!CA50))","v":0},{"$f":"IF(源泉徴収票!CS50<>\"\",\"〇\",\"×\")","v":"×"},null,{"$f":"源泉徴収票!O50+源泉徴収票!R50+源泉徴収票!U50","v":0},{"$f":"源泉徴収票!Q50+源泉徴収票!T50+源泉徴収票!W50","v":0},{"$f":"IF(源泉徴収票!I50=\"無\",0,INT(A50*VLOOKUP(A50, 給与所得計算, 3, TRUE)\n        +  VLOOKUP(A50, 給与所得計算, 4, TRUE) ))","v":0},0,0,{"$f":"源泉徴収票!P50+源泉徴収票!S50+源泉徴収票!V50","v":0},{"$f":"IF(源泉徴収票!I50=\"無\",0,源泉徴収票!CB50)","v":0},{"$f":"IF(源泉徴収票!I50=\"無\",0,源泉徴収票!CD50)","v":0},{"$f":"IF(源泉徴収票!I50=\"無\",0,MIN(120000,Z50+AA50+AE50))","v":0},{"$f":"IF(源泉徴収票!I50=\"無\",0,MIN(AF50+AG50,50000))","v":0},{"$f":"IF(源泉徴収票!I50=\"無\",0,IF(E50=\"○\",INDEX(H30配偶者控除・特別控除マスタ,F50,G50),0))","v":0},{"$f":"IF(源泉徴収票!I50=\"無\",0,IF(C50=\"○\",INDEX(H30配偶者控除・特別控除マスタ,F50,G50),0)+IF(D50=\"○\",INDEX(H30老人控除対象配偶者上乗せ,1,G50),0))","v":0},{"$f":"IF(源泉徴収票!I50=\"無\",0,COUNTIF(M50:Q50,\"一\")*380000+COUNTIF(M50:Q50,\"特\")*630000+COUNTIF(M50:Q50,\"老\")*480000+COUNTIF(M50:Q50,\"同\")*580000)","v":0},{"$f":"IF(源泉徴収票!I50=\"無\",0,(COUNTIF(源泉徴収票!BO50:BP50,\"一般\")+源泉徴収票!BQ50)*270000+(COUNTIF(源泉徴収票!BO50:BP50,\"特別\")+源泉徴収票!BR50)*400000+(COUNTIF(源泉徴収票!BP50,\"同居特別\")+源泉徴収票!BS50)*750000)","v":0},{"$f":"IF(源泉徴収票!I50=\"無\",0,IF(源泉徴収票!BT50<>\"\",IF(OR(源泉徴収票!BT50=\"特別の寡婦\",源泉徴収票!BT50=\"ひとり親\"),350000,270000),0))","v":0},{"$f":"IF(源泉徴収票!I50=\"無\",0,480000)","v":480000},{"$f":"IF(源泉徴収票!I50=\"無\",0,SUM(AO50:AY50))","v":480000},{"$f":"IF(源泉徴収票!I50=\"無\",AN50,FLOOR(MAX(AN50-AZ50,0),1000))","v":0},{"$f":"IF(源泉徴収票!I50=\"無\",AK50,BA50*VLOOKUP(BA50,所得税額計算,3,TRUE)+VLOOKUP(BA50,所得税額計算,4,TRUE))","v":0},{"$f":"IF(源泉徴収票!I50=\"無\",0,源泉徴収票!CZ50)","v":0},0,{"$f":"IF(源泉徴収票!I50=\"無\",BD50,FLOOR(BD50*102.1%,100))","v":0},0]
[0,{"$f":"IF(AND(源泉徴収票!I51=\"無\",源泉徴収票!AE51<>\"\"),\"○\",\"×\")","v":"×"},{"$f":"IF(AND(源泉徴収票!CO51<>\"\",源泉徴収票!CO51<=480000,AN51<=10000000),\"○\",\"×\")","v":"×"},{"$f":"IF(AND(C51=\"○\",源泉徴収票!CN51<>\"\",会社情報!$C$7-YEAR(MAX(源泉徴収票!CN51-1,0))>=70),\"○\",\"×\")","v":"×"},{"$f":"IF(AND(源泉徴収票!CO51<>\"\",源泉徴収票!CO51>480000,源泉徴収票!CO51<=1330000,AN51<=10000000),\"○\",\"×\")","v":"×"},{"$f":"MATCH(源泉徴収票!CO51,H30配偶者控除・特別控除マスタ_配偶者所得,1)","v":1},{"$f":"MATCH('源泉徴収票計算過程(非)'!AN51,H30配偶者控除・特別控除マスタ_所得者合計所得,1)","v":1},{"$f":"IF(源泉徴収票!AN51=\"\",-1,会社情報!$C$7-YEAR(源泉徴収票!AN51-1))","v":-1},{"$f":"IF(源泉徴収票!AT51=\"\",-1,会社情報!$C$7-YEAR(源泉徴収票!AT51-1))","v":-1},{"$f":"IF(源泉徴収票!AZ51=\"\",-1,会社情報!$C$7-YEAR(源泉徴収票!AZ51-1))","v":-1},{"$f":"IF(源泉徴収票!BF51=\"\",-1,会社情報!$C$7-YEAR(源泉徴収票!BF51-1))","v":-1},{"$f":"IF(源泉徴収票!BL51=\"\",-1,会社情報!$C$7-YEAR(源泉徴収票!BL51-1))","v":-1},{"$f":"IF(H51>=16,IF(AND(H51>=19,H51<23),\"特\",IF(H51>=70,IF(源泉徴収票!AO51=\"同居老親等\",\"同\",\"老\"),\"一\")),IF(H51>=0,\"未\",\"×\"))","v":"×"},{"$f":"IF(I51>=16,IF(AND(I51>=19,I51<23),\"特\",IF(I51>=70,IF(源泉徴収票!AU51=\"同居老親等\",\"同\",\"老\"),\"一\")),IF(I51>=0,\"未\",\"×\"))","v":"×"},{"$f":"IF(J51>=16,IF(AND(J51>=19,J51<23),\"特\",IF(J51>=70,IF(源泉徴収票!BA51=\"同居老親等\",\"同\",\"老\"),\"一\")),IF(J51>=0,\"未\",\"×\"))","v":"×"},{"$f":"IF(K51>=16,IF(AND(K51>=19,K51<23),\"特\",IF(K51>=70,IF(源泉徴収票!BG51=\"同居老親等\",\"同\",\"老\"),\"一\")),IF(K51>=0,\"未\",\"×\"))","v":"×"},{"$f":"IF(L51>=16,IF(AND(L51>=19,L51<23),\"特\",IF(L51>=70,IF(源泉徴収票!BM51=\"同居老親等\",\"同\",\"老\"),\"一\")),IF(L51>=0,\"未\",\"×\"))","v":"×"},"","","","","",{"$f":"IF(源泉徴収票!BU51<=20000, 源泉徴収票!BU51,\n  IF(源泉徴収票!BU51<=40000, 源泉徴収票!BU51*1/2+10000,\n   IF(源泉徴収票!BU51<=80000, 源泉徴収票!BU51*1/4+20000,\n                 40000)))","v":0},{"$f":"IF(源泉徴収票!BV51<=25000,源泉徴収票!BV51,\n  IF(源泉徴収票!BV51<=50000,源泉徴収票!BV51*1/2+12500,\n   IF(源泉徴収票!BV51<=100000,源泉徴収票!BV51*1/4+25000,\n                 50000)))","v":0},0,0,{"$f":"IF(源泉徴収票!BW51<=20000, 源泉徴収票!BW51,\n  IF(源泉徴収票!BW51<=40000, 源泉徴収票!BW51*1/2+10000,\n   IF(源泉徴収票!BW51<=80000, 源泉徴収票!BW51*1/4+20000,\n                 40000)))","v":0},{"$f":"IF(源泉徴収票!BX51<=20000, 源泉徴収票!BX51,\n  IF(源泉徴収票!BX51<=40000, 源泉徴収票!BX51*1/2+10000,\n   IF(源泉徴収票!BX51<=80000, 源泉徴収票!BX51*1/4+20000,\n                 40000)))","v":0},{"$f":"IF(源泉徴収票!BY51<=25000,源泉徴収票!BY51,\n  IF(源泉徴収票!BY51<=50000,源泉徴収票!BY51*1/2+12500,\n   IF(源泉徴収票!BY51<=100000,源泉徴収票!BY51*1/4+25000,\n                 50000)))","v":0},0,0,{"$f":"IF(源泉徴収票!BZ51<>\"\",MIN(源泉徴収票!BZ51,50000),0)","v":0},{"$f":"IF(源泉徴収票!CA51>=20000,15000,IF(源泉徴収票!CA51>=10000,源泉徴収票!CA51/2+5000,源泉徴収票!CA51))","v":0},{"$f":"IF(源泉徴収票!CS51<>\"\",\"〇\",\"×\")","v":"×"},null,{"$f":"源泉徴収票!O51+源泉徴収票!R51+源泉徴収票!U51","v":0},{"$f":"源泉徴収票!Q51+源泉徴収票!T51+源泉徴収票!W51","v":0},{"$f":"IF(源泉徴収票!I51=\"無\",0,INT(A51*VLOOKUP(A51, 給与所得計算, 3, TRUE)\n        +  VLOOKUP(A51, 給与所得計算, 4, TRUE) ))","v":0},0,0,{"$f":"源泉徴収票!P51+源泉徴収票!S51+源泉徴収票!V51","v":0},{"$f":"IF(源泉徴収票!I51=\"無\",0,源泉徴収票!CB51)","v":0},{"$f":"IF(源泉徴収票!I51=\"無\",0,源泉徴収票!CD51)","v":0},{"$f":"IF(源泉徴収票!I51=\"無\",0,MIN(120000,Z51+AA51+AE51))","v":0},{"$f":"IF(源泉徴収票!I51=\"無\",0,MIN(AF51+AG51,50000))","v":0},{"$f":"IF(源泉徴収票!I51=\"無\",0,IF(E51=\"○\",INDEX(H30配偶者控除・特別控除マスタ,F51,G51),0))","v":0},{"$f":"IF(源泉徴収票!I51=\"無\",0,IF(C51=\"○\",INDEX(H30配偶者控除・特別控除マスタ,F51,G51),0)+IF(D51=\"○\",INDEX(H30老人控除対象配偶者上乗せ,1,G51),0))","v":0},{"$f":"IF(源泉徴収票!I51=\"無\",0,COUNTIF(M51:Q51,\"一\")*380000+COUNTIF(M51:Q51,\"特\")*630000+COUNTIF(M51:Q51,\"老\")*480000+COUNTIF(M51:Q51,\"同\")*580000)","v":0},{"$f":"IF(源泉徴収票!I51=\"無\",0,(COUNTIF(源泉徴収票!BO51:BP51,\"一般\")+源泉徴収票!BQ51)*270000+(COUNTIF(源泉徴収票!BO51:BP51,\"特別\")+源泉徴収票!BR51)*400000+(COUNTIF(源泉徴収票!BP51,\"同居特別\")+源泉徴収票!BS51)*750000)","v":0},{"$f":"IF(源泉徴収票!I51=\"無\",0,IF(源泉徴収票!BT51<>\"\",IF(OR(源泉徴収票!BT51=\"特別の寡婦\",源泉徴収票!BT51=\"ひとり親\"),350000,270000),0))","v":0},{"$f":"IF(源泉徴収票!I51=\"無\",0,480000)","v":480000},{"$f":"IF(源泉徴収票!I51=\"無\",0,SUM(AO51:AY51))","v":480000},{"$f":"IF(源泉徴収票!I51=\"無\",AN51,FLOOR(MAX(AN51-AZ51,0),1000))","v":0},{"$f":"IF(源泉徴収票!I51=\"無\",AK51,BA51*VLOOKUP(BA51,所得税額計算,3,TRUE)+VLOOKUP(BA51,所得税額計算,4,TRUE))","v":0},{"$f":"IF(源泉徴収票!I51=\"無\",0,源泉徴収票!CZ51)","v":0},0,{"$f":"IF(源泉徴収票!I51=\"無\",BD51,FLOOR(BD51*102.1%,100))","v":0},0]
[0,{"$f":"IF(AND(源泉徴収票!I52=\"無\",源泉徴収票!AE52<>\"\"),\"○\",\"×\")","v":"×"},{"$f":"IF(AND(源泉徴収票!CO52<>\"\",源泉徴収票!CO52<=480000,AN52<=10000000),\"○\",\"×\")","v":"×"},{"$f":"IF(AND(C52=\"○\",源泉徴収票!CN52<>\"\",会社情報!$C$7-YEAR(MAX(源泉徴収票!CN52-1,0))>=70),\"○\",\"×\")","v":"×"},{"$f":"IF(AND(源泉徴収票!CO52<>\"\",源泉徴収票!CO52>480000,源泉徴収票!CO52<=1330000,AN52<=10000000),\"○\",\"×\")","v":"×"},{"$f":"MATCH(源泉徴収票!CO52,H30配偶者控除・特別控除マスタ_配偶者所得,1)","v":1},{"$f":"MATCH('源泉徴収票計算過程(非)'!AN52,H30配偶者控除・特別控除マスタ_所得者合計所得,1)","v":1},{"$f":"IF(源泉徴収票!AN52=\"\",-1,会社情報!$C$7-YEAR(源泉徴収票!AN52-1))","v":-1},{"$f":"IF(源泉徴収票!AT52=\"\",-1,会社情報!$C$7-YEAR(源泉徴収票!AT52-1))","v":-1},{"$f":"IF(源泉徴収票!AZ52=\"\",-1,会社情報!$C$7-YEAR(源泉徴収票!AZ52-1))","v":-1},{"$f":"IF(源泉徴収票!BF52=\"\",-1,会社情報!$C$7-YEAR(源泉徴収票!BF52-1))","v":-1},{"$f":"IF(源泉徴収票!BL52=\"\",-1,会社情報!$C$7-YEAR(源泉徴収票!BL52-1))","v":-1},{"$f":"IF(H52>=16,IF(AND(H52>=19,H52<23),\"特\",IF(H52>=70,IF(源泉徴収票!AO52=\"同居老親等\",\"同\",\"老\"),\"一\")),IF(H52>=0,\"未\",\"×\"))","v":"×"},{"$f":"IF(I52>=16,IF(AND(I52>=19,I52<23),\"特\",IF(I52>=70,IF(源泉徴収票!AU52=\"同居老親等\",\"同\",\"老\"),\"一\")),IF(I52>=0,\"未\",\"×\"))","v":"×"},{"$f":"IF(J52>=16,IF(AND(J52>=19,J52<23),\"特\",IF(J52>=70,IF(源泉徴収票!BA52=\"同居老親等\",\"同\",\"老\"),\"一\")),IF(J52>=0,\"未\",\"×\"))","v":"×"},{"$f":"IF(K52>=16,IF(AND(K52>=19,K52<23),\"特\",IF(K52>=70,IF(源泉徴収票!BG52=\"同居老親等\",\"同\",\"老\"),\"一\")),IF(K52>=0,\"未\",\"×\"))","v":"×"},{"$f":"IF(L52>=16,IF(AND(L52>=19,L52<23),\"特\",IF(L52>=70,IF(源泉徴収票!BM52=\"同居老親等\",\"同\",\"老\"),\"一\")),IF(L52>=0,\"未\",\"×\"))","v":"×"},"","","","","",{"$f":"IF(源泉徴収票!BU52<=20000, 源泉徴収票!BU52,\n  IF(源泉徴収票!BU52<=40000, 源泉徴収票!BU52*1/2+10000,\n   IF(源泉徴収票!BU52<=80000, 源泉徴収票!BU52*1/4+20000,\n                 40000)))","v":0},{"$f":"IF(源泉徴収票!BV52<=25000,源泉徴収票!BV52,\n  IF(源泉徴収票!BV52<=50000,源泉徴収票!BV52*1/2+12500,\n   IF(源泉徴収票!BV52<=100000,源泉徴収票!BV52*1/4+25000,\n                 50000)))","v":0},0,0,{"$f":"IF(源泉徴収票!BW52<=20000, 源泉徴収票!BW52,\n  IF(源泉徴収票!BW52<=40000, 源泉徴収票!BW52*1/2+10000,\n   IF(源泉徴収票!BW52<=80000, 源泉徴収票!BW52*1/4+20000,\n                 40000)))","v":0},{"$f":"IF(源泉徴収票!BX52<=20000, 源泉徴収票!BX52,\n  IF(源泉徴収票!BX52<=40000, 源泉徴収票!BX52*1/2+10000,\n   IF(源泉徴収票!BX52<=80000, 源泉徴収票!BX52*1/4+20000,\n                 40000)))","v":0},{"$f":"IF(源泉徴収票!BY52<=25000,源泉徴収票!BY52,\n  IF(源泉徴収票!BY52<=50000,源泉徴収票!BY52*1/2+12500,\n   IF(源泉徴収票!BY52<=100000,源泉徴収票!BY52*1/4+25000,\n                 50000)))","v":0},0,0,{"$f":"IF(源泉徴収票!BZ52<>\"\",MIN(源泉徴収票!BZ52,50000),0)","v":0},{"$f":"IF(源泉徴収票!CA52>=20000,15000,IF(源泉徴収票!CA52>=10000,源泉徴収票!CA52/2+5000,源泉徴収票!CA52))","v":0},{"$f":"IF(源泉徴収票!CS52<>\"\",\"〇\",\"×\")","v":"×"},null,{"$f":"源泉徴収票!O52+源泉徴収票!R52+源泉徴収票!U52","v":0},{"$f":"源泉徴収票!Q52+源泉徴収票!T52+源泉徴収票!W52","v":0},{"$f":"IF(源泉徴収票!I52=\"無\",0,INT(A52*VLOOKUP(A52, 給与所得計算, 3, TRUE)\n        +  VLOOKUP(A52, 給与所得計算, 4, TRUE) ))","v":0},0,0,{"$f":"源泉徴収票!P52+源泉徴収票!S52+源泉徴収票!V52","v":0},{"$f":"IF(源泉徴収票!I52=\"無\",0,源泉徴収票!CB52)","v":0},{"$f":"IF(源泉徴収票!I52=\"無\",0,源泉徴収票!CD52)","v":0},{"$f":"IF(源泉徴収票!I52=\"無\",0,MIN(120000,Z52+AA52+AE52))","v":0},{"$f":"IF(源泉徴収票!I52=\"無\",0,MIN(AF52+AG52,50000))","v":0},{"$f":"IF(源泉徴収票!I52=\"無\",0,IF(E52=\"○\",INDEX(H30配偶者控除・特別控除マスタ,F52,G52),0))","v":0},{"$f":"IF(源泉徴収票!I52=\"無\",0,IF(C52=\"○\",INDEX(H30配偶者控除・特別控除マスタ,F52,G52),0)+IF(D52=\"○\",INDEX(H30老人控除対象配偶者上乗せ,1,G52),0))","v":0},{"$f":"IF(源泉徴収票!I52=\"無\",0,COUNTIF(M52:Q52,\"一\")*380000+COUNTIF(M52:Q52,\"特\")*630000+COUNTIF(M52:Q52,\"老\")*480000+COUNTIF(M52:Q52,\"同\")*580000)","v":0},{"$f":"IF(源泉徴収票!I52=\"無\",0,(COUNTIF(源泉徴収票!BO52:BP52,\"一般\")+源泉徴収票!BQ52)*270000+(COUNTIF(源泉徴収票!BO52:BP52,\"特別\")+源泉徴収票!BR52)*400000+(COUNTIF(源泉徴収票!BP52,\"同居特別\")+源泉徴収票!BS52)*750000)","v":0},{"$f":"IF(源泉徴収票!I52=\"無\",0,IF(源泉徴収票!BT52<>\"\",IF(OR(源泉徴収票!BT52=\"特別の寡婦\",源泉徴収票!BT52=\"ひとり親\"),350000,270000),0))","v":0},{"$f":"IF(源泉徴収票!I52=\"無\",0,480000)","v":480000},{"$f":"IF(源泉徴収票!I52=\"無\",0,SUM(AO52:AY52))","v":480000},{"$f":"IF(源泉徴収票!I52=\"無\",AN52,FLOOR(MAX(AN52-AZ52,0),1000))","v":0},{"$f":"IF(源泉徴収票!I52=\"無\",AK52,BA52*VLOOKUP(BA52,所得税額計算,3,TRUE)+VLOOKUP(BA52,所得税額計算,4,TRUE))","v":0},{"$f":"IF(源泉徴収票!I52=\"無\",0,源泉徴収票!CZ52)","v":0},0,{"$f":"IF(源泉徴収票!I52=\"無\",BD52,FLOOR(BD52*102.1%,100))","v":0},0]
[0,{"$f":"IF(AND(源泉徴収票!I53=\"無\",源泉徴収票!AE53<>\"\"),\"○\",\"×\")","v":"×"},{"$f":"IF(AND(源泉徴収票!CO53<>\"\",源泉徴収票!CO53<=480000,AN53<=10000000),\"○\",\"×\")","v":"×"},{"$f":"IF(AND(C53=\"○\",源泉徴収票!CN53<>\"\",会社情報!$C$7-YEAR(MAX(源泉徴収票!CN53-1,0))>=70),\"○\",\"×\")","v":"×"},{"$f":"IF(AND(源泉徴収票!CO53<>\"\",源泉徴収票!CO53>480000,源泉徴収票!CO53<=1330000,AN53<=10000000),\"○\",\"×\")","v":"×"},{"$f":"MATCH(源泉徴収票!CO53,H30配偶者控除・特別控除マスタ_配偶者所得,1)","v":1},{"$f":"MATCH('源泉徴収票計算過程(非)'!AN53,H30配偶者控除・特別控除マスタ_所得者合計所得,1)","v":1},{"$f":"IF(源泉徴収票!AN53=\"\",-1,会社情報!$C$7-YEAR(源泉徴収票!AN53-1))","v":-1},{"$f":"IF(源泉徴収票!AT53=\"\",-1,会社情報!$C$7-YEAR(源泉徴収票!AT53-1))","v":-1},{"$f":"IF(源泉徴収票!AZ53=\"\",-1,会社情報!$C$7-YEAR(源泉徴収票!AZ53-1))","v":-1},{"$f":"IF(源泉徴収票!BF53=\"\",-1,会社情報!$C$7-YEAR(源泉徴収票!BF53-1))","v":-1},{"$f":"IF(源泉徴収票!BL53=\"\",-1,会社情報!$C$7-YEAR(源泉徴収票!BL53-1))","v":-1},{"$f":"IF(H53>=16,IF(AND(H53>=19,H53<23),\"特\",IF(H53>=70,IF(源泉徴収票!AO53=\"同居老親等\",\"同\",\"老\"),\"一\")),IF(H53>=0,\"未\",\"×\"))","v":"×"},{"$f":"IF(I53>=16,IF(AND(I53>=19,I53<23),\"特\",IF(I53>=70,IF(源泉徴収票!AU53=\"同居老親等\",\"同\",\"老\"),\"一\")),IF(I53>=0,\"未\",\"×\"))","v":"×"},{"$f":"IF(J53>=16,IF(AND(J53>=19,J53<23),\"特\",IF(J53>=70,IF(源泉徴収票!BA53=\"同居老親等\",\"同\",\"老\"),\"一\")),IF(J53>=0,\"未\",\"×\"))","v":"×"},{"$f":"IF(K53>=16,IF(AND(K53>=19,K53<23),\"特\",IF(K53>=70,IF(源泉徴収票!BG53=\"同居老親等\",\"同\",\"老\"),\"一\")),IF(K53>=0,\"未\",\"×\"))","v":"×"},{"$f":"IF(L53>=16,IF(AND(L53>=19,L53<23),\"特\",IF(L53>=70,IF(源泉徴収票!BM53=\"同居老親等\",\"同\",\"老\"),\"一\")),IF(L53>=0,\"未\",\"×\"))","v":"×"},"","","","","",{"$f":"IF(源泉徴収票!BU53<=20000, 源泉徴収票!BU53,\n  IF(源泉徴収票!BU53<=40000, 源泉徴収票!BU53*1/2+10000,\n   IF(源泉徴収票!BU53<=80000, 源泉徴収票!BU53*1/4+20000,\n                 40000)))","v":0},{"$f":"IF(源泉徴収票!BV53<=25000,源泉徴収票!BV53,\n  IF(源泉徴収票!BV53<=50000,源泉徴収票!BV53*1/2+12500,\n   IF(源泉徴収票!BV53<=100000,源泉徴収票!BV53*1/4+25000,\n                 50000)))","v":0},0,0,{"$f":"IF(源泉徴収票!BW53<=20000, 源泉徴収票!BW53,\n  IF(源泉徴収票!BW53<=40000, 源泉徴収票!BW53*1/2+10000,\n   IF(源泉徴収票!BW53<=80000, 源泉徴収票!BW53*1/4+20000,\n                 40000)))","v":0},{"$f":"IF(源泉徴収票!BX53<=20000, 源泉徴収票!BX53,\n  IF(源泉徴収票!BX53<=40000, 源泉徴収票!BX53*1/2+10000,\n   IF(源泉徴収票!BX53<=80000, 源泉徴収票!BX53*1/4+20000,\n                 40000)))","v":0},{"$f":"IF(源泉徴収票!BY53<=25000,源泉徴収票!BY53,\n  IF(源泉徴収票!BY53<=50000,源泉徴収票!BY53*1/2+12500,\n   IF(源泉徴収票!BY53<=100000,源泉徴収票!BY53*1/4+25000,\n                 50000)))","v":0},0,0,{"$f":"IF(源泉徴収票!BZ53<>\"\",MIN(源泉徴収票!BZ53,50000),0)","v":0},{"$f":"IF(源泉徴収票!CA53>=20000,15000,IF(源泉徴収票!CA53>=10000,源泉徴収票!CA53/2+5000,源泉徴収票!CA53))","v":0},{"$f":"IF(源泉徴収票!CS53<>\"\",\"〇\",\"×\")","v":"×"},null,{"$f":"源泉徴収票!O53+源泉徴収票!R53+源泉徴収票!U53","v":0},{"$f":"源泉徴収票!Q53+源泉徴収票!T53+源泉徴収票!W53","v":0},{"$f":"IF(源泉徴収票!I53=\"無\",0,INT(A53*VLOOKUP(A53, 給与所得計算, 3, TRUE)\n        +  VLOOKUP(A53, 給与所得計算, 4, TRUE) ))","v":0},0,0,{"$f":"源泉徴収票!P53+源泉徴収票!S53+源泉徴収票!V53","v":0},{"$f":"IF(源泉徴収票!I53=\"無\",0,源泉徴収票!CB53)","v":0},{"$f":"IF(源泉徴収票!I53=\"無\",0,源泉徴収票!CD53)","v":0},{"$f":"IF(源泉徴収票!I53=\"無\",0,MIN(120000,Z53+AA53+AE53))","v":0},{"$f":"IF(源泉徴収票!I53=\"無\",0,MIN(AF53+AG53,50000))","v":0},{"$f":"IF(源泉徴収票!I53=\"無\",0,IF(E53=\"○\",INDEX(H30配偶者控除・特別控除マスタ,F53,G53),0))","v":0},{"$f":"IF(源泉徴収票!I53=\"無\",0,IF(C53=\"○\",INDEX(H30配偶者控除・特別控除マスタ,F53,G53),0)+IF(D53=\"○\",INDEX(H30老人控除対象配偶者上乗せ,1,G53),0))","v":0},{"$f":"IF(源泉徴収票!I53=\"無\",0,COUNTIF(M53:Q53,\"一\")*380000+COUNTIF(M53:Q53,\"特\")*630000+COUNTIF(M53:Q53,\"老\")*480000+COUNTIF(M53:Q53,\"同\")*580000)","v":0},{"$f":"IF(源泉徴収票!I53=\"無\",0,(COUNTIF(源泉徴収票!BO53:BP53,\"一般\")+源泉徴収票!BQ53)*270000+(COUNTIF(源泉徴収票!BO53:BP53,\"特別\")+源泉徴収票!BR53)*400000+(COUNTIF(源泉徴収票!BP53,\"同居特別\")+源泉徴収票!BS53)*750000)","v":0},{"$f":"IF(源泉徴収票!I53=\"無\",0,IF(源泉徴収票!BT53<>\"\",IF(OR(源泉徴収票!BT53=\"特別の寡婦\",源泉徴収票!BT53=\"ひとり親\"),350000,270000),0))","v":0},{"$f":"IF(源泉徴収票!I53=\"無\",0,480000)","v":480000},{"$f":"IF(源泉徴収票!I53=\"無\",0,SUM(AO53:AY53))","v":480000},{"$f":"IF(源泉徴収票!I53=\"無\",AN53,FLOOR(MAX(AN53-AZ53,0),1000))","v":0},{"$f":"IF(源泉徴収票!I53=\"無\",AK53,BA53*VLOOKUP(BA53,所得税額計算,3,TRUE)+VLOOKUP(BA53,所得税額計算,4,TRUE))","v":0},{"$f":"IF(源泉徴収票!I53=\"無\",0,源泉徴収票!CZ53)","v":0},0,{"$f":"IF(源泉徴収票!I53=\"無\",BD53,FLOOR(BD53*102.1%,100))","v":0},0]
[0,{"$f":"IF(AND(源泉徴収票!I54=\"無\",源泉徴収票!AE54<>\"\"),\"○\",\"×\")","v":"×"},{"$f":"IF(AND(源泉徴収票!CO54<>\"\",源泉徴収票!CO54<=480000,AN54<=10000000),\"○\",\"×\")","v":"×"},{"$f":"IF(AND(C54=\"○\",源泉徴収票!CN54<>\"\",会社情報!$C$7-YEAR(MAX(源泉徴収票!CN54-1,0))>=70),\"○\",\"×\")","v":"×"},{"$f":"IF(AND(源泉徴収票!CO54<>\"\",源泉徴収票!CO54>480000,源泉徴収票!CO54<=1330000,AN54<=10000000),\"○\",\"×\")","v":"×"},{"$f":"MATCH(源泉徴収票!CO54,H30配偶者控除・特別控除マスタ_配偶者所得,1)","v":1},{"$f":"MATCH('源泉徴収票計算過程(非)'!AN54,H30配偶者控除・特別控除マスタ_所得者合計所得,1)","v":1},{"$f":"IF(源泉徴収票!AN54=\"\",-1,会社情報!$C$7-YEAR(源泉徴収票!AN54-1))","v":-1},{"$f":"IF(源泉徴収票!AT54=\"\",-1,会社情報!$C$7-YEAR(源泉徴収票!AT54-1))","v":-1},{"$f":"IF(源泉徴収票!AZ54=\"\",-1,会社情報!$C$7-YEAR(源泉徴収票!AZ54-1))","v":-1},{"$f":"IF(源泉徴収票!BF54=\"\",-1,会社情報!$C$7-YEAR(源泉徴収票!BF54-1))","v":-1},{"$f":"IF(源泉徴収票!BL54=\"\",-1,会社情報!$C$7-YEAR(源泉徴収票!BL54-1))","v":-1},{"$f":"IF(H54>=16,IF(AND(H54>=19,H54<23),\"特\",IF(H54>=70,IF(源泉徴収票!AO54=\"同居老親等\",\"同\",\"老\"),\"一\")),IF(H54>=0,\"未\",\"×\"))","v":"×"},{"$f":"IF(I54>=16,IF(AND(I54>=19,I54<23),\"特\",IF(I54>=70,IF(源泉徴収票!AU54=\"同居老親等\",\"同\",\"老\"),\"一\")),IF(I54>=0,\"未\",\"×\"))","v":"×"},{"$f":"IF(J54>=16,IF(AND(J54>=19,J54<23),\"特\",IF(J54>=70,IF(源泉徴収票!BA54=\"同居老親等\",\"同\",\"老\"),\"一\")),IF(J54>=0,\"未\",\"×\"))","v":"×"},{"$f":"IF(K54>=16,IF(AND(K54>=19,K54<23),\"特\",IF(K54>=70,IF(源泉徴収票!BG54=\"同居老親等\",\"同\",\"老\"),\"一\")),IF(K54>=0,\"未\",\"×\"))","v":"×"},{"$f":"IF(L54>=16,IF(AND(L54>=19,L54<23),\"特\",IF(L54>=70,IF(源泉徴収票!BM54=\"同居老親等\",\"同\",\"老\"),\"一\")),IF(L54>=0,\"未\",\"×\"))","v":"×"},"","","","","",{"$f":"IF(源泉徴収票!BU54<=20000, 源泉徴収票!BU54,\n  IF(源泉徴収票!BU54<=40000, 源泉徴収票!BU54*1/2+10000,\n   IF(源泉徴収票!BU54<=80000, 源泉徴収票!BU54*1/4+20000,\n                 40000)))","v":0},{"$f":"IF(源泉徴収票!BV54<=25000,源泉徴収票!BV54,\n  IF(源泉徴収票!BV54<=50000,源泉徴収票!BV54*1/2+12500,\n   IF(源泉徴収票!BV54<=100000,源泉徴収票!BV54*1/4+25000,\n                 50000)))","v":0},0,0,{"$f":"IF(源泉徴収票!BW54<=20000, 源泉徴収票!BW54,\n  IF(源泉徴収票!BW54<=40000, 源泉徴収票!BW54*1/2+10000,\n   IF(源泉徴収票!BW54<=80000, 源泉徴収票!BW54*1/4+20000,\n                 40000)))","v":0},{"$f":"IF(源泉徴収票!BX54<=20000, 源泉徴収票!BX54,\n  IF(源泉徴収票!BX54<=40000, 源泉徴収票!BX54*1/2+10000,\n   IF(源泉徴収票!BX54<=80000, 源泉徴収票!BX54*1/4+20000,\n                 40000)))","v":0},{"$f":"IF(源泉徴収票!BY54<=25000,源泉徴収票!BY54,\n  IF(源泉徴収票!BY54<=50000,源泉徴収票!BY54*1/2+12500,\n   IF(源泉徴収票!BY54<=100000,源泉徴収票!BY54*1/4+25000,\n                 50000)))","v":0},0,0,{"$f":"IF(源泉徴収票!BZ54<>\"\",MIN(源泉徴収票!BZ54,50000),0)","v":0},{"$f":"IF(源泉徴収票!CA54>=20000,15000,IF(源泉徴収票!CA54>=10000,源泉徴収票!CA54/2+5000,源泉徴収票!CA54))","v":0},{"$f":"IF(源泉徴収票!CS54<>\"\",\"〇\",\"×\")","v":"×"},null,{"$f":"源泉徴収票!O54+源泉徴収票!R54+源泉徴収票!U54","v":0},{"$f":"源泉徴収票!Q54+源泉徴収票!T54+源泉徴収票!W54","v":0},{"$f":"IF(源泉徴収票!I54=\"無\",0,INT(A54*VLOOKUP(A54, 給与所得計算, 3, TRUE)\n        +  VLOOKUP(A54, 給与所得計算, 4, TRUE) ))","v":0},0,0,{"$f":"源泉徴収票!P54+源泉徴収票!S54+源泉徴収票!V54","v":0},{"$f":"IF(源泉徴収票!I54=\"無\",0,源泉徴収票!CB54)","v":0},{"$f":"IF(源泉徴収票!I54=\"無\",0,源泉徴収票!CD54)","v":0},{"$f":"IF(源泉徴収票!I54=\"無\",0,MIN(120000,Z54+AA54+AE54))","v":0},{"$f":"IF(源泉徴収票!I54=\"無\",0,MIN(AF54+AG54,50000))","v":0},{"$f":"IF(源泉徴収票!I54=\"無\",0,IF(E54=\"○\",INDEX(H30配偶者控除・特別控除マスタ,F54,G54),0))","v":0},{"$f":"IF(源泉徴収票!I54=\"無\",0,IF(C54=\"○\",INDEX(H30配偶者控除・特別控除マスタ,F54,G54),0)+IF(D54=\"○\",INDEX(H30老人控除対象配偶者上乗せ,1,G54),0))","v":0},{"$f":"IF(源泉徴収票!I54=\"無\",0,COUNTIF(M54:Q54,\"一\")*380000+COUNTIF(M54:Q54,\"特\")*630000+COUNTIF(M54:Q54,\"老\")*480000+COUNTIF(M54:Q54,\"同\")*580000)","v":0},{"$f":"IF(源泉徴収票!I54=\"無\",0,(COUNTIF(源泉徴収票!BO54:BP54,\"一般\")+源泉徴収票!BQ54)*270000+(COUNTIF(源泉徴収票!BO54:BP54,\"特別\")+源泉徴収票!BR54)*400000+(COUNTIF(源泉徴収票!BP54,\"同居特別\")+源泉徴収票!BS54)*750000)","v":0},{"$f":"IF(源泉徴収票!I54=\"無\",0,IF(源泉徴収票!BT54<>\"\",IF(OR(源泉徴収票!BT54=\"特別の寡婦\",源泉徴収票!BT54=\"ひとり親\"),350000,270000),0))","v":0},{"$f":"IF(源泉徴収票!I54=\"無\",0,480000)","v":480000},{"$f":"IF(源泉徴収票!I54=\"無\",0,SUM(AO54:AY54))","v":480000},{"$f":"IF(源泉徴収票!I54=\"無\",AN54,FLOOR(MAX(AN54-AZ54,0),1000))","v":0},{"$f":"IF(源泉徴収票!I54=\"無\",AK54,BA54*VLOOKUP(BA54,所得税額計算,3,TRUE)+VLOOKUP(BA54,所得税額計算,4,TRUE))","v":0},{"$f":"IF(源泉徴収票!I54=\"無\",0,源泉徴収票!CZ54)","v":0},0,{"$f":"IF(源泉徴収票!I54=\"無\",BD54,FLOOR(BD54*102.1%,100))","v":0},0]
[0,{"$f":"IF(AND(源泉徴収票!I55=\"無\",源泉徴収票!AE55<>\"\"),\"○\",\"×\")","v":"×"},{"$f":"IF(AND(源泉徴収票!CO55<>\"\",源泉徴収票!CO55<=480000,AN55<=10000000),\"○\",\"×\")","v":"×"},{"$f":"IF(AND(C55=\"○\",源泉徴収票!CN55<>\"\",会社情報!$C$7-YEAR(MAX(源泉徴収票!CN55-1,0))>=70),\"○\",\"×\")","v":"×"},{"$f":"IF(AND(源泉徴収票!CO55<>\"\",源泉徴収票!CO55>480000,源泉徴収票!CO55<=1330000,AN55<=10000000),\"○\",\"×\")","v":"×"},{"$f":"MATCH(源泉徴収票!CO55,H30配偶者控除・特別控除マスタ_配偶者所得,1)","v":1},{"$f":"MATCH('源泉徴収票計算過程(非)'!AN55,H30配偶者控除・特別控除マスタ_所得者合計所得,1)","v":1},{"$f":"IF(源泉徴収票!AN55=\"\",-1,会社情報!$C$7-YEAR(源泉徴収票!AN55-1))","v":-1},{"$f":"IF(源泉徴収票!AT55=\"\",-1,会社情報!$C$7-YEAR(源泉徴収票!AT55-1))","v":-1},{"$f":"IF(源泉徴収票!AZ55=\"\",-1,会社情報!$C$7-YEAR(源泉徴収票!AZ55-1))","v":-1},{"$f":"IF(源泉徴収票!BF55=\"\",-1,会社情報!$C$7-YEAR(源泉徴収票!BF55-1))","v":-1},{"$f":"IF(源泉徴収票!BL55=\"\",-1,会社情報!$C$7-YEAR(源泉徴収票!BL55-1))","v":-1},{"$f":"IF(H55>=16,IF(AND(H55>=19,H55<23),\"特\",IF(H55>=70,IF(源泉徴収票!AO55=\"同居老親等\",\"同\",\"老\"),\"一\")),IF(H55>=0,\"未\",\"×\"))","v":"×"},{"$f":"IF(I55>=16,IF(AND(I55>=19,I55<23),\"特\",IF(I55>=70,IF(源泉徴収票!AU55=\"同居老親等\",\"同\",\"老\"),\"一\")),IF(I55>=0,\"未\",\"×\"))","v":"×"},{"$f":"IF(J55>=16,IF(AND(J55>=19,J55<23),\"特\",IF(J55>=70,IF(源泉徴収票!BA55=\"同居老親等\",\"同\",\"老\"),\"一\")),IF(J55>=0,\"未\",\"×\"))","v":"×"},{"$f":"IF(K55>=16,IF(AND(K55>=19,K55<23),\"特\",IF(K55>=70,IF(源泉徴収票!BG55=\"同居老親等\",\"同\",\"老\"),\"一\")),IF(K55>=0,\"未\",\"×\"))","v":"×"},{"$f":"IF(L55>=16,IF(AND(L55>=19,L55<23),\"特\",IF(L55>=70,IF(源泉徴収票!BM55=\"同居老親等\",\"同\",\"老\"),\"一\")),IF(L55>=0,\"未\",\"×\"))","v":"×"},"","","","","",{"$f":"IF(源泉徴収票!BU55<=20000, 源泉徴収票!BU55,\n  IF(源泉徴収票!BU55<=40000, 源泉徴収票!BU55*1/2+10000,\n   IF(源泉徴収票!BU55<=80000, 源泉徴収票!BU55*1/4+20000,\n                 40000)))","v":0},{"$f":"IF(源泉徴収票!BV55<=25000,源泉徴収票!BV55,\n  IF(源泉徴収票!BV55<=50000,源泉徴収票!BV55*1/2+12500,\n   IF(源泉徴収票!BV55<=100000,源泉徴収票!BV55*1/4+25000,\n                 50000)))","v":0},0,0,{"$f":"IF(源泉徴収票!BW55<=20000, 源泉徴収票!BW55,\n  IF(源泉徴収票!BW55<=40000, 源泉徴収票!BW55*1/2+10000,\n   IF(源泉徴収票!BW55<=80000, 源泉徴収票!BW55*1/4+20000,\n                 40000)))","v":0},{"$f":"IF(源泉徴収票!BX55<=20000, 源泉徴収票!BX55,\n  IF(源泉徴収票!BX55<=40000, 源泉徴収票!BX55*1/2+10000,\n   IF(源泉徴収票!BX55<=80000, 源泉徴収票!BX55*1/4+20000,\n                 40000)))","v":0},{"$f":"IF(源泉徴収票!BY55<=25000,源泉徴収票!BY55,\n  IF(源泉徴収票!BY55<=50000,源泉徴収票!BY55*1/2+12500,\n   IF(源泉徴収票!BY55<=100000,源泉徴収票!BY55*1/4+25000,\n                 50000)))","v":0},0,0,{"$f":"IF(源泉徴収票!BZ55<>\"\",MIN(源泉徴収票!BZ55,50000),0)","v":0},{"$f":"IF(源泉徴収票!CA55>=20000,15000,IF(源泉徴収票!CA55>=10000,源泉徴収票!CA55/2+5000,源泉徴収票!CA55))","v":0},{"$f":"IF(源泉徴収票!CS55<>\"\",\"〇\",\"×\")","v":"×"},null,{"$f":"源泉徴収票!O55+源泉徴収票!R55+源泉徴収票!U55","v":0},{"$f":"源泉徴収票!Q55+源泉徴収票!T55+源泉徴収票!W55","v":0},{"$f":"IF(源泉徴収票!I55=\"無\",0,INT(A55*VLOOKUP(A55, 給与所得計算, 3, TRUE)\n        +  VLOOKUP(A55, 給与所得計算, 4, TRUE) ))","v":0},0,0,{"$f":"源泉徴収票!P55+源泉徴収票!S55+源泉徴収票!V55","v":0},{"$f":"IF(源泉徴収票!I55=\"無\",0,源泉徴収票!CB55)","v":0},{"$f":"IF(源泉徴収票!I55=\"無\",0,源泉徴収票!CD55)","v":0},{"$f":"IF(源泉徴収票!I55=\"無\",0,MIN(120000,Z55+AA55+AE55))","v":0},{"$f":"IF(源泉徴収票!I55=\"無\",0,MIN(AF55+AG55,50000))","v":0},{"$f":"IF(源泉徴収票!I55=\"無\",0,IF(E55=\"○\",INDEX(H30配偶者控除・特別控除マスタ,F55,G55),0))","v":0},{"$f":"IF(源泉徴収票!I55=\"無\",0,IF(C55=\"○\",INDEX(H30配偶者控除・特別控除マスタ,F55,G55),0)+IF(D55=\"○\",INDEX(H30老人控除対象配偶者上乗せ,1,G55),0))","v":0},{"$f":"IF(源泉徴収票!I55=\"無\",0,COUNTIF(M55:Q55,\"一\")*380000+COUNTIF(M55:Q55,\"特\")*630000+COUNTIF(M55:Q55,\"老\")*480000+COUNTIF(M55:Q55,\"同\")*580000)","v":0},{"$f":"IF(源泉徴収票!I55=\"無\",0,(COUNTIF(源泉徴収票!BO55:BP55,\"一般\")+源泉徴収票!BQ55)*270000+(COUNTIF(源泉徴収票!BO55:BP55,\"特別\")+源泉徴収票!BR55)*400000+(COUNTIF(源泉徴収票!BP55,\"同居特別\")+源泉徴収票!BS55)*750000)","v":0},{"$f":"IF(源泉徴収票!I55=\"無\",0,IF(源泉徴収票!BT55<>\"\",IF(OR(源泉徴収票!BT55=\"特別の寡婦\",源泉徴収票!BT55=\"ひとり親\"),350000,270000),0))","v":0},{"$f":"IF(源泉徴収票!I55=\"無\",0,480000)","v":480000},{"$f":"IF(源泉徴収票!I55=\"無\",0,SUM(AO55:AY55))","v":480000},{"$f":"IF(源泉徴収票!I55=\"無\",AN55,FLOOR(MAX(AN55-AZ55,0),1000))","v":0},{"$f":"IF(源泉徴収票!I55=\"無\",AK55,BA55*VLOOKUP(BA55,所得税額計算,3,TRUE)+VLOOKUP(BA55,所得税額計算,4,TRUE))","v":0},{"$f":"IF(源泉徴収票!I55=\"無\",0,源泉徴収票!CZ55)","v":0},0,{"$f":"IF(源泉徴収票!I55=\"無\",BD55,FLOOR(BD55*102.1%,100))","v":0},0]
[0,{"$f":"IF(AND(源泉徴収票!I56=\"無\",源泉徴収票!AE56<>\"\"),\"○\",\"×\")","v":"×"},{"$f":"IF(AND(源泉徴収票!CO56<>\"\",源泉徴収票!CO56<=480000,AN56<=10000000),\"○\",\"×\")","v":"×"},{"$f":"IF(AND(C56=\"○\",源泉徴収票!CN56<>\"\",会社情報!$C$7-YEAR(MAX(源泉徴収票!CN56-1,0))>=70),\"○\",\"×\")","v":"×"},{"$f":"IF(AND(源泉徴収票!CO56<>\"\",源泉徴収票!CO56>480000,源泉徴収票!CO56<=1330000,AN56<=10000000),\"○\",\"×\")","v":"×"},{"$f":"MATCH(源泉徴収票!CO56,H30配偶者控除・特別控除マスタ_配偶者所得,1)","v":1},{"$f":"MATCH('源泉徴収票計算過程(非)'!AN56,H30配偶者控除・特別控除マスタ_所得者合計所得,1)","v":1},{"$f":"IF(源泉徴収票!AN56=\"\",-1,会社情報!$C$7-YEAR(源泉徴収票!AN56-1))","v":-1},{"$f":"IF(源泉徴収票!AT56=\"\",-1,会社情報!$C$7-YEAR(源泉徴収票!AT56-1))","v":-1},{"$f":"IF(源泉徴収票!AZ56=\"\",-1,会社情報!$C$7-YEAR(源泉徴収票!AZ56-1))","v":-1},{"$f":"IF(源泉徴収票!BF56=\"\",-1,会社情報!$C$7-YEAR(源泉徴収票!BF56-1))","v":-1},{"$f":"IF(源泉徴収票!BL56=\"\",-1,会社情報!$C$7-YEAR(源泉徴収票!BL56-1))","v":-1},{"$f":"IF(H56>=16,IF(AND(H56>=19,H56<23),\"特\",IF(H56>=70,IF(源泉徴収票!AO56=\"同居老親等\",\"同\",\"老\"),\"一\")),IF(H56>=0,\"未\",\"×\"))","v":"×"},{"$f":"IF(I56>=16,IF(AND(I56>=19,I56<23),\"特\",IF(I56>=70,IF(源泉徴収票!AU56=\"同居老親等\",\"同\",\"老\"),\"一\")),IF(I56>=0,\"未\",\"×\"))","v":"×"},{"$f":"IF(J56>=16,IF(AND(J56>=19,J56<23),\"特\",IF(J56>=70,IF(源泉徴収票!BA56=\"同居老親等\",\"同\",\"老\"),\"一\")),IF(J56>=0,\"未\",\"×\"))","v":"×"},{"$f":"IF(K56>=16,IF(AND(K56>=19,K56<23),\"特\",IF(K56>=70,IF(源泉徴収票!BG56=\"同居老親等\",\"同\",\"老\"),\"一\")),IF(K56>=0,\"未\",\"×\"))","v":"×"},{"$f":"IF(L56>=16,IF(AND(L56>=19,L56<23),\"特\",IF(L56>=70,IF(源泉徴収票!BM56=\"同居老親等\",\"同\",\"老\"),\"一\")),IF(L56>=0,\"未\",\"×\"))","v":"×"},"","","","","",{"$f":"IF(源泉徴収票!BU56<=20000, 源泉徴収票!BU56,\n  IF(源泉徴収票!BU56<=40000, 源泉徴収票!BU56*1/2+10000,\n   IF(源泉徴収票!BU56<=80000, 源泉徴収票!BU56*1/4+20000,\n                 40000)))","v":0},{"$f":"IF(源泉徴収票!BV56<=25000,源泉徴収票!BV56,\n  IF(源泉徴収票!BV56<=50000,源泉徴収票!BV56*1/2+12500,\n   IF(源泉徴収票!BV56<=100000,源泉徴収票!BV56*1/4+25000,\n                 50000)))","v":0},0,0,{"$f":"IF(源泉徴収票!BW56<=20000, 源泉徴収票!BW56,\n  IF(源泉徴収票!BW56<=40000, 源泉徴収票!BW56*1/2+10000,\n   IF(源泉徴収票!BW56<=80000, 源泉徴収票!BW56*1/4+20000,\n                 40000)))","v":0},{"$f":"IF(源泉徴収票!BX56<=20000, 源泉徴収票!BX56,\n  IF(源泉徴収票!BX56<=40000, 源泉徴収票!BX56*1/2+10000,\n   IF(源泉徴収票!BX56<=80000, 源泉徴収票!BX56*1/4+20000,\n                 40000)))","v":0},{"$f":"IF(源泉徴収票!BY56<=25000,源泉徴収票!BY56,\n  IF(源泉徴収票!BY56<=50000,源泉徴収票!BY56*1/2+12500,\n   IF(源泉徴収票!BY56<=100000,源泉徴収票!BY56*1/4+25000,\n                 50000)))","v":0},0,0,{"$f":"IF(源泉徴収票!BZ56<>\"\",MIN(源泉徴収票!BZ56,50000),0)","v":0},{"$f":"IF(源泉徴収票!CA56>=20000,15000,IF(源泉徴収票!CA56>=10000,源泉徴収票!CA56/2+5000,源泉徴収票!CA56))","v":0},{"$f":"IF(源泉徴収票!CS56<>\"\",\"〇\",\"×\")","v":"×"},null,{"$f":"源泉徴収票!O56+源泉徴収票!R56+源泉徴収票!U56","v":0},{"$f":"源泉徴収票!Q56+源泉徴収票!T56+源泉徴収票!W56","v":0},{"$f":"IF(源泉徴収票!I56=\"無\",0,INT(A56*VLOOKUP(A56, 給与所得計算, 3, TRUE)\n        +  VLOOKUP(A56, 給与所得計算, 4, TRUE) ))","v":0},0,0,{"$f":"源泉徴収票!P56+源泉徴収票!S56+源泉徴収票!V56","v":0},{"$f":"IF(源泉徴収票!I56=\"無\",0,源泉徴収票!CB56)","v":0},{"$f":"IF(源泉徴収票!I56=\"無\",0,源泉徴収票!CD56)","v":0},{"$f":"IF(源泉徴収票!I56=\"無\",0,MIN(120000,Z56+AA56+AE56))","v":0},{"$f":"IF(源泉徴収票!I56=\"無\",0,MIN(AF56+AG56,50000))","v":0},{"$f":"IF(源泉徴収票!I56=\"無\",0,IF(E56=\"○\",INDEX(H30配偶者控除・特別控除マスタ,F56,G56),0))","v":0},{"$f":"IF(源泉徴収票!I56=\"無\",0,IF(C56=\"○\",INDEX(H30配偶者控除・特別控除マスタ,F56,G56),0)+IF(D56=\"○\",INDEX(H30老人控除対象配偶者上乗せ,1,G56),0))","v":0},{"$f":"IF(源泉徴収票!I56=\"無\",0,COUNTIF(M56:Q56,\"一\")*380000+COUNTIF(M56:Q56,\"特\")*630000+COUNTIF(M56:Q56,\"老\")*480000+COUNTIF(M56:Q56,\"同\")*580000)","v":0},{"$f":"IF(源泉徴収票!I56=\"無\",0,(COUNTIF(源泉徴収票!BO56:BP56,\"一般\")+源泉徴収票!BQ56)*270000+(COUNTIF(源泉徴収票!BO56:BP56,\"特別\")+源泉徴収票!BR56)*400000+(COUNTIF(源泉徴収票!BP56,\"同居特別\")+源泉徴収票!BS56)*750000)","v":0},{"$f":"IF(源泉徴収票!I56=\"無\",0,IF(源泉徴収票!BT56<>\"\",IF(OR(源泉徴収票!BT56=\"特別の寡婦\",源泉徴収票!BT56=\"ひとり親\"),350000,270000),0))","v":0},{"$f":"IF(源泉徴収票!I56=\"無\",0,480000)","v":480000},{"$f":"IF(源泉徴収票!I56=\"無\",0,SUM(AO56:AY56))","v":480000},{"$f":"IF(源泉徴収票!I56=\"無\",AN56,FLOOR(MAX(AN56-AZ56,0),1000))","v":0},{"$f":"IF(源泉徴収票!I56=\"無\",AK56,BA56*VLOOKUP(BA56,所得税額計算,3,TRUE)+VLOOKUP(BA56,所得税額計算,4,TRUE))","v":0},{"$f":"IF(源泉徴収票!I56=\"無\",0,源泉徴収票!CZ56)","v":0},0,{"$f":"IF(源泉徴収票!I56=\"無\",BD56,FLOOR(BD56*102.1%,100))","v":0},0]
[0,{"$f":"IF(AND(源泉徴収票!I57=\"無\",源泉徴収票!AE57<>\"\"),\"○\",\"×\")","v":"×"},{"$f":"IF(AND(源泉徴収票!CO57<>\"\",源泉徴収票!CO57<=480000,AN57<=10000000),\"○\",\"×\")","v":"×"},{"$f":"IF(AND(C57=\"○\",源泉徴収票!CN57<>\"\",会社情報!$C$7-YEAR(MAX(源泉徴収票!CN57-1,0))>=70),\"○\",\"×\")","v":"×"},{"$f":"IF(AND(源泉徴収票!CO57<>\"\",源泉徴収票!CO57>480000,源泉徴収票!CO57<=1330000,AN57<=10000000),\"○\",\"×\")","v":"×"},{"$f":"MATCH(源泉徴収票!CO57,H30配偶者控除・特別控除マスタ_配偶者所得,1)","v":1},{"$f":"MATCH('源泉徴収票計算過程(非)'!AN57,H30配偶者控除・特別控除マスタ_所得者合計所得,1)","v":1},{"$f":"IF(源泉徴収票!AN57=\"\",-1,会社情報!$C$7-YEAR(源泉徴収票!AN57-1))","v":-1},{"$f":"IF(源泉徴収票!AT57=\"\",-1,会社情報!$C$7-YEAR(源泉徴収票!AT57-1))","v":-1},{"$f":"IF(源泉徴収票!AZ57=\"\",-1,会社情報!$C$7-YEAR(源泉徴収票!AZ57-1))","v":-1},{"$f":"IF(源泉徴収票!BF57=\"\",-1,会社情報!$C$7-YEAR(源泉徴収票!BF57-1))","v":-1},{"$f":"IF(源泉徴収票!BL57=\"\",-1,会社情報!$C$7-YEAR(源泉徴収票!BL57-1))","v":-1},{"$f":"IF(H57>=16,IF(AND(H57>=19,H57<23),\"特\",IF(H57>=70,IF(源泉徴収票!AO57=\"同居老親等\",\"同\",\"老\"),\"一\")),IF(H57>=0,\"未\",\"×\"))","v":"×"},{"$f":"IF(I57>=16,IF(AND(I57>=19,I57<23),\"特\",IF(I57>=70,IF(源泉徴収票!AU57=\"同居老親等\",\"同\",\"老\"),\"一\")),IF(I57>=0,\"未\",\"×\"))","v":"×"},{"$f":"IF(J57>=16,IF(AND(J57>=19,J57<23),\"特\",IF(J57>=70,IF(源泉徴収票!BA57=\"同居老親等\",\"同\",\"老\"),\"一\")),IF(J57>=0,\"未\",\"×\"))","v":"×"},{"$f":"IF(K57>=16,IF(AND(K57>=19,K57<23),\"特\",IF(K57>=70,IF(源泉徴収票!BG57=\"同居老親等\",\"同\",\"老\"),\"一\")),IF(K57>=0,\"未\",\"×\"))","v":"×"},{"$f":"IF(L57>=16,IF(AND(L57>=19,L57<23),\"特\",IF(L57>=70,IF(源泉徴収票!BM57=\"同居老親等\",\"同\",\"老\"),\"一\")),IF(L57>=0,\"未\",\"×\"))","v":"×"},"","","","","",{"$f":"IF(源泉徴収票!BU57<=20000, 源泉徴収票!BU57,\n  IF(源泉徴収票!BU57<=40000, 源泉徴収票!BU57*1/2+10000,\n   IF(源泉徴収票!BU57<=80000, 源泉徴収票!BU57*1/4+20000,\n                 40000)))","v":0},{"$f":"IF(源泉徴収票!BV57<=25000,源泉徴収票!BV57,\n  IF(源泉徴収票!BV57<=50000,源泉徴収票!BV57*1/2+12500,\n   IF(源泉徴収票!BV57<=100000,源泉徴収票!BV57*1/4+25000,\n                 50000)))","v":0},0,0,{"$f":"IF(源泉徴収票!BW57<=20000, 源泉徴収票!BW57,\n  IF(源泉徴収票!BW57<=40000, 源泉徴収票!BW57*1/2+10000,\n   IF(源泉徴収票!BW57<=80000, 源泉徴収票!BW57*1/4+20000,\n                 40000)))","v":0},{"$f":"IF(源泉徴収票!BX57<=20000, 源泉徴収票!BX57,\n  IF(源泉徴収票!BX57<=40000, 源泉徴収票!BX57*1/2+10000,\n   IF(源泉徴収票!BX57<=80000, 源泉徴収票!BX57*1/4+20000,\n                 40000)))","v":0},{"$f":"IF(源泉徴収票!BY57<=25000,源泉徴収票!BY57,\n  IF(源泉徴収票!BY57<=50000,源泉徴収票!BY57*1/2+12500,\n   IF(源泉徴収票!BY57<=100000,源泉徴収票!BY57*1/4+25000,\n                 50000)))","v":0},0,0,{"$f":"IF(源泉徴収票!BZ57<>\"\",MIN(源泉徴収票!BZ57,50000),0)","v":0},{"$f":"IF(源泉徴収票!CA57>=20000,15000,IF(源泉徴収票!CA57>=10000,源泉徴収票!CA57/2+5000,源泉徴収票!CA57))","v":0},{"$f":"IF(源泉徴収票!CS57<>\"\",\"〇\",\"×\")","v":"×"},null,{"$f":"源泉徴収票!O57+源泉徴収票!R57+源泉徴収票!U57","v":0},{"$f":"源泉徴収票!Q57+源泉徴収票!T57+源泉徴収票!W57","v":0},{"$f":"IF(源泉徴収票!I57=\"無\",0,INT(A57*VLOOKUP(A57, 給与所得計算, 3, TRUE)\n        +  VLOOKUP(A57, 給与所得計算, 4, TRUE) ))","v":0},0,0,{"$f":"源泉徴収票!P57+源泉徴収票!S57+源泉徴収票!V57","v":0},{"$f":"IF(源泉徴収票!I57=\"無\",0,源泉徴収票!CB57)","v":0},{"$f":"IF(源泉徴収票!I57=\"無\",0,源泉徴収票!CD57)","v":0},{"$f":"IF(源泉徴収票!I57=\"無\",0,MIN(120000,Z57+AA57+AE57))","v":0},{"$f":"IF(源泉徴収票!I57=\"無\",0,MIN(AF57+AG57,50000))","v":0},{"$f":"IF(源泉徴収票!I57=\"無\",0,IF(E57=\"○\",INDEX(H30配偶者控除・特別控除マスタ,F57,G57),0))","v":0},{"$f":"IF(源泉徴収票!I57=\"無\",0,IF(C57=\"○\",INDEX(H30配偶者控除・特別控除マスタ,F57,G57),0)+IF(D57=\"○\",INDEX(H30老人控除対象配偶者上乗せ,1,G57),0))","v":0},{"$f":"IF(源泉徴収票!I57=\"無\",0,COUNTIF(M57:Q57,\"一\")*380000+COUNTIF(M57:Q57,\"特\")*630000+COUNTIF(M57:Q57,\"老\")*480000+COUNTIF(M57:Q57,\"同\")*580000)","v":0},{"$f":"IF(源泉徴収票!I57=\"無\",0,(COUNTIF(源泉徴収票!BO57:BP57,\"一般\")+源泉徴収票!BQ57)*270000+(COUNTIF(源泉徴収票!BO57:BP57,\"特別\")+源泉徴収票!BR57)*400000+(COUNTIF(源泉徴収票!BP57,\"同居特別\")+源泉徴収票!BS57)*750000)","v":0},{"$f":"IF(源泉徴収票!I57=\"無\",0,IF(源泉徴収票!BT57<>\"\",IF(OR(源泉徴収票!BT57=\"特別の寡婦\",源泉徴収票!BT57=\"ひとり親\"),350000,270000),0))","v":0},{"$f":"IF(源泉徴収票!I57=\"無\",0,480000)","v":480000},{"$f":"IF(源泉徴収票!I57=\"無\",0,SUM(AO57:AY57))","v":480000},{"$f":"IF(源泉徴収票!I57=\"無\",AN57,FLOOR(MAX(AN57-AZ57,0),1000))","v":0},{"$f":"IF(源泉徴収票!I57=\"無\",AK57,BA57*VLOOKUP(BA57,所得税額計算,3,TRUE)+VLOOKUP(BA57,所得税額計算,4,TRUE))","v":0},{"$f":"IF(源泉徴収票!I57=\"無\",0,源泉徴収票!CZ57)","v":0},0,{"$f":"IF(源泉徴収票!I57=\"無\",BD57,FLOOR(BD57*102.1%,100))","v":0},0]
[0,{"$f":"IF(AND(源泉徴収票!I58=\"無\",源泉徴収票!AE58<>\"\"),\"○\",\"×\")","v":"×"},{"$f":"IF(AND(源泉徴収票!CO58<>\"\",源泉徴収票!CO58<=480000,AN58<=10000000),\"○\",\"×\")","v":"×"},{"$f":"IF(AND(C58=\"○\",源泉徴収票!CN58<>\"\",会社情報!$C$7-YEAR(MAX(源泉徴収票!CN58-1,0))>=70),\"○\",\"×\")","v":"×"},{"$f":"IF(AND(源泉徴収票!CO58<>\"\",源泉徴収票!CO58>480000,源泉徴収票!CO58<=1330000,AN58<=10000000),\"○\",\"×\")","v":"×"},{"$f":"MATCH(源泉徴収票!CO58,H30配偶者控除・特別控除マスタ_配偶者所得,1)","v":1},{"$f":"MATCH('源泉徴収票計算過程(非)'!AN58,H30配偶者控除・特別控除マスタ_所得者合計所得,1)","v":1},{"$f":"IF(源泉徴収票!AN58=\"\",-1,会社情報!$C$7-YEAR(源泉徴収票!AN58-1))","v":-1},{"$f":"IF(源泉徴収票!AT58=\"\",-1,会社情報!$C$7-YEAR(源泉徴収票!AT58-1))","v":-1},{"$f":"IF(源泉徴収票!AZ58=\"\",-1,会社情報!$C$7-YEAR(源泉徴収票!AZ58-1))","v":-1},{"$f":"IF(源泉徴収票!BF58=\"\",-1,会社情報!$C$7-YEAR(源泉徴収票!BF58-1))","v":-1},{"$f":"IF(源泉徴収票!BL58=\"\",-1,会社情報!$C$7-YEAR(源泉徴収票!BL58-1))","v":-1},{"$f":"IF(H58>=16,IF(AND(H58>=19,H58<23),\"特\",IF(H58>=70,IF(源泉徴収票!AO58=\"同居老親等\",\"同\",\"老\"),\"一\")),IF(H58>=0,\"未\",\"×\"))","v":"×"},{"$f":"IF(I58>=16,IF(AND(I58>=19,I58<23),\"特\",IF(I58>=70,IF(源泉徴収票!AU58=\"同居老親等\",\"同\",\"老\"),\"一\")),IF(I58>=0,\"未\",\"×\"))","v":"×"},{"$f":"IF(J58>=16,IF(AND(J58>=19,J58<23),\"特\",IF(J58>=70,IF(源泉徴収票!BA58=\"同居老親等\",\"同\",\"老\"),\"一\")),IF(J58>=0,\"未\",\"×\"))","v":"×"},{"$f":"IF(K58>=16,IF(AND(K58>=19,K58<23),\"特\",IF(K58>=70,IF(源泉徴収票!BG58=\"同居老親等\",\"同\",\"老\"),\"一\")),IF(K58>=0,\"未\",\"×\"))","v":"×"},{"$f":"IF(L58>=16,IF(AND(L58>=19,L58<23),\"特\",IF(L58>=70,IF(源泉徴収票!BM58=\"同居老親等\",\"同\",\"老\"),\"一\")),IF(L58>=0,\"未\",\"×\"))","v":"×"},"","","","","",{"$f":"IF(源泉徴収票!BU58<=20000, 源泉徴収票!BU58,\n  IF(源泉徴収票!BU58<=40000, 源泉徴収票!BU58*1/2+10000,\n   IF(源泉徴収票!BU58<=80000, 源泉徴収票!BU58*1/4+20000,\n                 40000)))","v":0},{"$f":"IF(源泉徴収票!BV58<=25000,源泉徴収票!BV58,\n  IF(源泉徴収票!BV58<=50000,源泉徴収票!BV58*1/2+12500,\n   IF(源泉徴収票!BV58<=100000,源泉徴収票!BV58*1/4+25000,\n                 50000)))","v":0},0,0,{"$f":"IF(源泉徴収票!BW58<=20000, 源泉徴収票!BW58,\n  IF(源泉徴収票!BW58<=40000, 源泉徴収票!BW58*1/2+10000,\n   IF(源泉徴収票!BW58<=80000, 源泉徴収票!BW58*1/4+20000,\n                 40000)))","v":0},{"$f":"IF(源泉徴収票!BX58<=20000, 源泉徴収票!BX58,\n  IF(源泉徴収票!BX58<=40000, 源泉徴収票!BX58*1/2+10000,\n   IF(源泉徴収票!BX58<=80000, 源泉徴収票!BX58*1/4+20000,\n                 40000)))","v":0},{"$f":"IF(源泉徴収票!BY58<=25000,源泉徴収票!BY58,\n  IF(源泉徴収票!BY58<=50000,源泉徴収票!BY58*1/2+12500,\n   IF(源泉徴収票!BY58<=100000,源泉徴収票!BY58*1/4+25000,\n                 50000)))","v":0},0,0,{"$f":"IF(源泉徴収票!BZ58<>\"\",MIN(源泉徴収票!BZ58,50000),0)","v":0},{"$f":"IF(源泉徴収票!CA58>=20000,15000,IF(源泉徴収票!CA58>=10000,源泉徴収票!CA58/2+5000,源泉徴収票!CA58))","v":0},{"$f":"IF(源泉徴収票!CS58<>\"\",\"〇\",\"×\")","v":"×"},null,{"$f":"源泉徴収票!O58+源泉徴収票!R58+源泉徴収票!U58","v":0},{"$f":"源泉徴収票!Q58+源泉徴収票!T58+源泉徴収票!W58","v":0},{"$f":"IF(源泉徴収票!I58=\"無\",0,INT(A58*VLOOKUP(A58, 給与所得計算, 3, TRUE)\n        +  VLOOKUP(A58, 給与所得計算, 4, TRUE) ))","v":0},0,0,{"$f":"源泉徴収票!P58+源泉徴収票!S58+源泉徴収票!V58","v":0},{"$f":"IF(源泉徴収票!I58=\"無\",0,源泉徴収票!CB58)","v":0},{"$f":"IF(源泉徴収票!I58=\"無\",0,源泉徴収票!CD58)","v":0},{"$f":"IF(源泉徴収票!I58=\"無\",0,MIN(120000,Z58+AA58+AE58))","v":0},{"$f":"IF(源泉徴収票!I58=\"無\",0,MIN(AF58+AG58,50000))","v":0},{"$f":"IF(源泉徴収票!I58=\"無\",0,IF(E58=\"○\",INDEX(H30配偶者控除・特別控除マスタ,F58,G58),0))","v":0},{"$f":"IF(源泉徴収票!I58=\"無\",0,IF(C58=\"○\",INDEX(H30配偶者控除・特別控除マスタ,F58,G58),0)+IF(D58=\"○\",INDEX(H30老人控除対象配偶者上乗せ,1,G58),0))","v":0},{"$f":"IF(源泉徴収票!I58=\"無\",0,COUNTIF(M58:Q58,\"一\")*380000+COUNTIF(M58:Q58,\"特\")*630000+COUNTIF(M58:Q58,\"老\")*480000+COUNTIF(M58:Q58,\"同\")*580000)","v":0},{"$f":"IF(源泉徴収票!I58=\"無\",0,(COUNTIF(源泉徴収票!BO58:BP58,\"一般\")+源泉徴収票!BQ58)*270000+(COUNTIF(源泉徴収票!BO58:BP58,\"特別\")+源泉徴収票!BR58)*400000+(COUNTIF(源泉徴収票!BP58,\"同居特別\")+源泉徴収票!BS58)*750000)","v":0},{"$f":"IF(源泉徴収票!I58=\"無\",0,IF(源泉徴収票!BT58<>\"\",IF(OR(源泉徴収票!BT58=\"特別の寡婦\",源泉徴収票!BT58=\"ひとり親\"),350000,270000),0))","v":0},{"$f":"IF(源泉徴収票!I58=\"無\",0,480000)","v":480000},{"$f":"IF(源泉徴収票!I58=\"無\",0,SUM(AO58:AY58))","v":480000},{"$f":"IF(源泉徴収票!I58=\"無\",AN58,FLOOR(MAX(AN58-AZ58,0),1000))","v":0},{"$f":"IF(源泉徴収票!I58=\"無\",AK58,BA58*VLOOKUP(BA58,所得税額計算,3,TRUE)+VLOOKUP(BA58,所得税額計算,4,TRUE))","v":0},{"$f":"IF(源泉徴収票!I58=\"無\",0,源泉徴収票!CZ58)","v":0},0,{"$f":"IF(源泉徴収票!I58=\"無\",BD58,FLOOR(BD58*102.1%,100))","v":0},0]
[0,{"$f":"IF(AND(源泉徴収票!I59=\"無\",源泉徴収票!AE59<>\"\"),\"○\",\"×\")","v":"×"},{"$f":"IF(AND(源泉徴収票!CO59<>\"\",源泉徴収票!CO59<=480000,AN59<=10000000),\"○\",\"×\")","v":"×"},{"$f":"IF(AND(C59=\"○\",源泉徴収票!CN59<>\"\",会社情報!$C$7-YEAR(MAX(源泉徴収票!CN59-1,0))>=70),\"○\",\"×\")","v":"×"},{"$f":"IF(AND(源泉徴収票!CO59<>\"\",源泉徴収票!CO59>480000,源泉徴収票!CO59<=1330000,AN59<=10000000),\"○\",\"×\")","v":"×"},{"$f":"MATCH(源泉徴収票!CO59,H30配偶者控除・特別控除マスタ_配偶者所得,1)","v":1},{"$f":"MATCH('源泉徴収票計算過程(非)'!AN59,H30配偶者控除・特別控除マスタ_所得者合計所得,1)","v":1},{"$f":"IF(源泉徴収票!AN59=\"\",-1,会社情報!$C$7-YEAR(源泉徴収票!AN59-1))","v":-1},{"$f":"IF(源泉徴収票!AT59=\"\",-1,会社情報!$C$7-YEAR(源泉徴収票!AT59-1))","v":-1},{"$f":"IF(源泉徴収票!AZ59=\"\",-1,会社情報!$C$7-YEAR(源泉徴収票!AZ59-1))","v":-1},{"$f":"IF(源泉徴収票!BF59=\"\",-1,会社情報!$C$7-YEAR(源泉徴収票!BF59-1))","v":-1},{"$f":"IF(源泉徴収票!BL59=\"\",-1,会社情報!$C$7-YEAR(源泉徴収票!BL59-1))","v":-1},{"$f":"IF(H59>=16,IF(AND(H59>=19,H59<23),\"特\",IF(H59>=70,IF(源泉徴収票!AO59=\"同居老親等\",\"同\",\"老\"),\"一\")),IF(H59>=0,\"未\",\"×\"))","v":"×"},{"$f":"IF(I59>=16,IF(AND(I59>=19,I59<23),\"特\",IF(I59>=70,IF(源泉徴収票!AU59=\"同居老親等\",\"同\",\"老\"),\"一\")),IF(I59>=0,\"未\",\"×\"))","v":"×"},{"$f":"IF(J59>=16,IF(AND(J59>=19,J59<23),\"特\",IF(J59>=70,IF(源泉徴収票!BA59=\"同居老親等\",\"同\",\"老\"),\"一\")),IF(J59>=0,\"未\",\"×\"))","v":"×"},{"$f":"IF(K59>=16,IF(AND(K59>=19,K59<23),\"特\",IF(K59>=70,IF(源泉徴収票!BG59=\"同居老親等\",\"同\",\"老\"),\"一\")),IF(K59>=0,\"未\",\"×\"))","v":"×"},{"$f":"IF(L59>=16,IF(AND(L59>=19,L59<23),\"特\",IF(L59>=70,IF(源泉徴収票!BM59=\"同居老親等\",\"同\",\"老\"),\"一\")),IF(L59>=0,\"未\",\"×\"))","v":"×"},"","","","","",{"$f":"IF(源泉徴収票!BU59<=20000, 源泉徴収票!BU59,\n  IF(源泉徴収票!BU59<=40000, 源泉徴収票!BU59*1/2+10000,\n   IF(源泉徴収票!BU59<=80000, 源泉徴収票!BU59*1/4+20000,\n                 40000)))","v":0},{"$f":"IF(源泉徴収票!BV59<=25000,源泉徴収票!BV59,\n  IF(源泉徴収票!BV59<=50000,源泉徴収票!BV59*1/2+12500,\n   IF(源泉徴収票!BV59<=100000,源泉徴収票!BV59*1/4+25000,\n                 50000)))","v":0},0,0,{"$f":"IF(源泉徴収票!BW59<=20000, 源泉徴収票!BW59,\n  IF(源泉徴収票!BW59<=40000, 源泉徴収票!BW59*1/2+10000,\n   IF(源泉徴収票!BW59<=80000, 源泉徴収票!BW59*1/4+20000,\n                 40000)))","v":0},{"$f":"IF(源泉徴収票!BX59<=20000, 源泉徴収票!BX59,\n  IF(源泉徴収票!BX59<=40000, 源泉徴収票!BX59*1/2+10000,\n   IF(源泉徴収票!BX59<=80000, 源泉徴収票!BX59*1/4+20000,\n                 40000)))","v":0},{"$f":"IF(源泉徴収票!BY59<=25000,源泉徴収票!BY59,\n  IF(源泉徴収票!BY59<=50000,源泉徴収票!BY59*1/2+12500,\n   IF(源泉徴収票!BY59<=100000,源泉徴収票!BY59*1/4+25000,\n                 50000)))","v":0},0,0,{"$f":"IF(源泉徴収票!BZ59<>\"\",MIN(源泉徴収票!BZ59,50000),0)","v":0},{"$f":"IF(源泉徴収票!CA59>=20000,15000,IF(源泉徴収票!CA59>=10000,源泉徴収票!CA59/2+5000,源泉徴収票!CA59))","v":0},{"$f":"IF(源泉徴収票!CS59<>\"\",\"〇\",\"×\")","v":"×"},null,{"$f":"源泉徴収票!O59+源泉徴収票!R59+源泉徴収票!U59","v":0},{"$f":"源泉徴収票!Q59+源泉徴収票!T59+源泉徴収票!W59","v":0},{"$f":"IF(源泉徴収票!I59=\"無\",0,INT(A59*VLOOKUP(A59, 給与所得計算, 3, TRUE)\n        +  VLOOKUP(A59, 給与所得計算, 4, TRUE) ))","v":0},0,0,{"$f":"源泉徴収票!P59+源泉徴収票!S59+源泉徴収票!V59","v":0},{"$f":"IF(源泉徴収票!I59=\"無\",0,源泉徴収票!CB59)","v":0},{"$f":"IF(源泉徴収票!I59=\"無\",0,源泉徴収票!CD59)","v":0},{"$f":"IF(源泉徴収票!I59=\"無\",0,MIN(120000,Z59+AA59+AE59))","v":0},{"$f":"IF(源泉徴収票!I59=\"無\",0,MIN(AF59+AG59,50000))","v":0},{"$f":"IF(源泉徴収票!I59=\"無\",0,IF(E59=\"○\",INDEX(H30配偶者控除・特別控除マスタ,F59,G59),0))","v":0},{"$f":"IF(源泉徴収票!I59=\"無\",0,IF(C59=\"○\",INDEX(H30配偶者控除・特別控除マスタ,F59,G59),0)+IF(D59=\"○\",INDEX(H30老人控除対象配偶者上乗せ,1,G59),0))","v":0},{"$f":"IF(源泉徴収票!I59=\"無\",0,COUNTIF(M59:Q59,\"一\")*380000+COUNTIF(M59:Q59,\"特\")*630000+COUNTIF(M59:Q59,\"老\")*480000+COUNTIF(M59:Q59,\"同\")*580000)","v":0},{"$f":"IF(源泉徴収票!I59=\"無\",0,(COUNTIF(源泉徴収票!BO59:BP59,\"一般\")+源泉徴収票!BQ59)*270000+(COUNTIF(源泉徴収票!BO59:BP59,\"特別\")+源泉徴収票!BR59)*400000+(COUNTIF(源泉徴収票!BP59,\"同居特別\")+源泉徴収票!BS59)*750000)","v":0},{"$f":"IF(源泉徴収票!I59=\"無\",0,IF(源泉徴収票!BT59<>\"\",IF(OR(源泉徴収票!BT59=\"特別の寡婦\",源泉徴収票!BT59=\"ひとり親\"),350000,270000),0))","v":0},{"$f":"IF(源泉徴収票!I59=\"無\",0,480000)","v":480000},{"$f":"IF(源泉徴収票!I59=\"無\",0,SUM(AO59:AY59))","v":480000},{"$f":"IF(源泉徴収票!I59=\"無\",AN59,FLOOR(MAX(AN59-AZ59,0),1000))","v":0},{"$f":"IF(源泉徴収票!I59=\"無\",AK59,BA59*VLOOKUP(BA59,所得税額計算,3,TRUE)+VLOOKUP(BA59,所得税額計算,4,TRUE))","v":0},{"$f":"IF(源泉徴収票!I59=\"無\",0,源泉徴収票!CZ59)","v":0},0,{"$f":"IF(源泉徴収票!I59=\"無\",BD59,FLOOR(BD59*102.1%,100))","v":0},0]
[0,{"$f":"IF(AND(源泉徴収票!I60=\"無\",源泉徴収票!AE60<>\"\"),\"○\",\"×\")","v":"×"},{"$f":"IF(AND(源泉徴収票!CO60<>\"\",源泉徴収票!CO60<=480000,AN60<=10000000),\"○\",\"×\")","v":"×"},{"$f":"IF(AND(C60=\"○\",源泉徴収票!CN60<>\"\",会社情報!$C$7-YEAR(MAX(源泉徴収票!CN60-1,0))>=70),\"○\",\"×\")","v":"×"},{"$f":"IF(AND(源泉徴収票!CO60<>\"\",源泉徴収票!CO60>480000,源泉徴収票!CO60<=1330000,AN60<=10000000),\"○\",\"×\")","v":"×"},{"$f":"MATCH(源泉徴収票!CO60,H30配偶者控除・特別控除マスタ_配偶者所得,1)","v":1},{"$f":"MATCH('源泉徴収票計算過程(非)'!AN60,H30配偶者控除・特別控除マスタ_所得者合計所得,1)","v":1},{"$f":"IF(源泉徴収票!AN60=\"\",-1,会社情報!$C$7-YEAR(源泉徴収票!AN60-1))","v":-1},{"$f":"IF(源泉徴収票!AT60=\"\",-1,会社情報!$C$7-YEAR(源泉徴収票!AT60-1))","v":-1},{"$f":"IF(源泉徴収票!AZ60=\"\",-1,会社情報!$C$7-YEAR(源泉徴収票!AZ60-1))","v":-1},{"$f":"IF(源泉徴収票!BF60=\"\",-1,会社情報!$C$7-YEAR(源泉徴収票!BF60-1))","v":-1},{"$f":"IF(源泉徴収票!BL60=\"\",-1,会社情報!$C$7-YEAR(源泉徴収票!BL60-1))","v":-1},{"$f":"IF(H60>=16,IF(AND(H60>=19,H60<23),\"特\",IF(H60>=70,IF(源泉徴収票!AO60=\"同居老親等\",\"同\",\"老\"),\"一\")),IF(H60>=0,\"未\",\"×\"))","v":"×"},{"$f":"IF(I60>=16,IF(AND(I60>=19,I60<23),\"特\",IF(I60>=70,IF(源泉徴収票!AU60=\"同居老親等\",\"同\",\"老\"),\"一\")),IF(I60>=0,\"未\",\"×\"))","v":"×"},{"$f":"IF(J60>=16,IF(AND(J60>=19,J60<23),\"特\",IF(J60>=70,IF(源泉徴収票!BA60=\"同居老親等\",\"同\",\"老\"),\"一\")),IF(J60>=0,\"未\",\"×\"))","v":"×"},{"$f":"IF(K60>=16,IF(AND(K60>=19,K60<23),\"特\",IF(K60>=70,IF(源泉徴収票!BG60=\"同居老親等\",\"同\",\"老\"),\"一\")),IF(K60>=0,\"未\",\"×\"))","v":"×"},{"$f":"IF(L60>=16,IF(AND(L60>=19,L60<23),\"特\",IF(L60>=70,IF(源泉徴収票!BM60=\"同居老親等\",\"同\",\"老\"),\"一\")),IF(L60>=0,\"未\",\"×\"))","v":"×"},"","","","","",{"$f":"IF(源泉徴収票!BU60<=20000, 源泉徴収票!BU60,\n  IF(源泉徴収票!BU60<=40000, 源泉徴収票!BU60*1/2+10000,\n   IF(源泉徴収票!BU60<=80000, 源泉徴収票!BU60*1/4+20000,\n                 40000)))","v":0},{"$f":"IF(源泉徴収票!BV60<=25000,源泉徴収票!BV60,\n  IF(源泉徴収票!BV60<=50000,源泉徴収票!BV60*1/2+12500,\n   IF(源泉徴収票!BV60<=100000,源泉徴収票!BV60*1/4+25000,\n                 50000)))","v":0},0,0,{"$f":"IF(源泉徴収票!BW60<=20000, 源泉徴収票!BW60,\n  IF(源泉徴収票!BW60<=40000, 源泉徴収票!BW60*1/2+10000,\n   IF(源泉徴収票!BW60<=80000, 源泉徴収票!BW60*1/4+20000,\n                 40000)))","v":0},{"$f":"IF(源泉徴収票!BX60<=20000, 源泉徴収票!BX60,\n  IF(源泉徴収票!BX60<=40000, 源泉徴収票!BX60*1/2+10000,\n   IF(源泉徴収票!BX60<=80000, 源泉徴収票!BX60*1/4+20000,\n                 40000)))","v":0},{"$f":"IF(源泉徴収票!BY60<=25000,源泉徴収票!BY60,\n  IF(源泉徴収票!BY60<=50000,源泉徴収票!BY60*1/2+12500,\n   IF(源泉徴収票!BY60<=100000,源泉徴収票!BY60*1/4+25000,\n                 50000)))","v":0},0,0,{"$f":"IF(源泉徴収票!BZ60<>\"\",MIN(源泉徴収票!BZ60,50000),0)","v":0},{"$f":"IF(源泉徴収票!CA60>=20000,15000,IF(源泉徴収票!CA60>=10000,源泉徴収票!CA60/2+5000,源泉徴収票!CA60))","v":0},{"$f":"IF(源泉徴収票!CS60<>\"\",\"〇\",\"×\")","v":"×"},null,{"$f":"源泉徴収票!O60+源泉徴収票!R60+源泉徴収票!U60","v":0},{"$f":"源泉徴収票!Q60+源泉徴収票!T60+源泉徴収票!W60","v":0},{"$f":"IF(源泉徴収票!I60=\"無\",0,INT(A60*VLOOKUP(A60, 給与所得計算, 3, TRUE)\n        +  VLOOKUP(A60, 給与所得計算, 4, TRUE) ))","v":0},0,0,{"$f":"源泉徴収票!P60+源泉徴収票!S60+源泉徴収票!V60","v":0},{"$f":"IF(源泉徴収票!I60=\"無\",0,源泉徴収票!CB60)","v":0},{"$f":"IF(源泉徴収票!I60=\"無\",0,源泉徴収票!CD60)","v":0},{"$f":"IF(源泉徴収票!I60=\"無\",0,MIN(120000,Z60+AA60+AE60))","v":0},{"$f":"IF(源泉徴収票!I60=\"無\",0,MIN(AF60+AG60,50000))","v":0},{"$f":"IF(源泉徴収票!I60=\"無\",0,IF(E60=\"○\",INDEX(H30配偶者控除・特別控除マスタ,F60,G60),0))","v":0},{"$f":"IF(源泉徴収票!I60=\"無\",0,IF(C60=\"○\",INDEX(H30配偶者控除・特別控除マスタ,F60,G60),0)+IF(D60=\"○\",INDEX(H30老人控除対象配偶者上乗せ,1,G60),0))","v":0},{"$f":"IF(源泉徴収票!I60=\"無\",0,COUNTIF(M60:Q60,\"一\")*380000+COUNTIF(M60:Q60,\"特\")*630000+COUNTIF(M60:Q60,\"老\")*480000+COUNTIF(M60:Q60,\"同\")*580000)","v":0},{"$f":"IF(源泉徴収票!I60=\"無\",0,(COUNTIF(源泉徴収票!BO60:BP60,\"一般\")+源泉徴収票!BQ60)*270000+(COUNTIF(源泉徴収票!BO60:BP60,\"特別\")+源泉徴収票!BR60)*400000+(COUNTIF(源泉徴収票!BP60,\"同居特別\")+源泉徴収票!BS60)*750000)","v":0},{"$f":"IF(源泉徴収票!I60=\"無\",0,IF(源泉徴収票!BT60<>\"\",IF(OR(源泉徴収票!BT60=\"特別の寡婦\",源泉徴収票!BT60=\"ひとり親\"),350000,270000),0))","v":0},{"$f":"IF(源泉徴収票!I60=\"無\",0,480000)","v":480000},{"$f":"IF(源泉徴収票!I60=\"無\",0,SUM(AO60:AY60))","v":480000},{"$f":"IF(源泉徴収票!I60=\"無\",AN60,FLOOR(MAX(AN60-AZ60,0),1000))","v":0},{"$f":"IF(源泉徴収票!I60=\"無\",AK60,BA60*VLOOKUP(BA60,所得税額計算,3,TRUE)+VLOOKUP(BA60,所得税額計算,4,TRUE))","v":0},{"$f":"IF(源泉徴収票!I60=\"無\",0,源泉徴収票!CZ60)","v":0},0,{"$f":"IF(源泉徴収票!I60=\"無\",BD60,FLOOR(BD60*102.1%,100))","v":0},0]
[0,{"$f":"IF(AND(源泉徴収票!I61=\"無\",源泉徴収票!AE61<>\"\"),\"○\",\"×\")","v":"×"},{"$f":"IF(AND(源泉徴収票!CO61<>\"\",源泉徴収票!CO61<=480000,AN61<=10000000),\"○\",\"×\")","v":"×"},{"$f":"IF(AND(C61=\"○\",源泉徴収票!CN61<>\"\",会社情報!$C$7-YEAR(MAX(源泉徴収票!CN61-1,0))>=70),\"○\",\"×\")","v":"×"},{"$f":"IF(AND(源泉徴収票!CO61<>\"\",源泉徴収票!CO61>480000,源泉徴収票!CO61<=1330000,AN61<=10000000),\"○\",\"×\")","v":"×"},{"$f":"MATCH(源泉徴収票!CO61,H30配偶者控除・特別控除マスタ_配偶者所得,1)","v":1},{"$f":"MATCH('源泉徴収票計算過程(非)'!AN61,H30配偶者控除・特別控除マスタ_所得者合計所得,1)","v":1},{"$f":"IF(源泉徴収票!AN61=\"\",-1,会社情報!$C$7-YEAR(源泉徴収票!AN61-1))","v":-1},{"$f":"IF(源泉徴収票!AT61=\"\",-1,会社情報!$C$7-YEAR(源泉徴収票!AT61-1))","v":-1},{"$f":"IF(源泉徴収票!AZ61=\"\",-1,会社情報!$C$7-YEAR(源泉徴収票!AZ61-1))","v":-1},{"$f":"IF(源泉徴収票!BF61=\"\",-1,会社情報!$C$7-YEAR(源泉徴収票!BF61-1))","v":-1},{"$f":"IF(源泉徴収票!BL61=\"\",-1,会社情報!$C$7-YEAR(源泉徴収票!BL61-1))","v":-1},{"$f":"IF(H61>=16,IF(AND(H61>=19,H61<23),\"特\",IF(H61>=70,IF(源泉徴収票!AO61=\"同居老親等\",\"同\",\"老\"),\"一\")),IF(H61>=0,\"未\",\"×\"))","v":"×"},{"$f":"IF(I61>=16,IF(AND(I61>=19,I61<23),\"特\",IF(I61>=70,IF(源泉徴収票!AU61=\"同居老親等\",\"同\",\"老\"),\"一\")),IF(I61>=0,\"未\",\"×\"))","v":"×"},{"$f":"IF(J61>=16,IF(AND(J61>=19,J61<23),\"特\",IF(J61>=70,IF(源泉徴収票!BA61=\"同居老親等\",\"同\",\"老\"),\"一\")),IF(J61>=0,\"未\",\"×\"))","v":"×"},{"$f":"IF(K61>=16,IF(AND(K61>=19,K61<23),\"特\",IF(K61>=70,IF(源泉徴収票!BG61=\"同居老親等\",\"同\",\"老\"),\"一\")),IF(K61>=0,\"未\",\"×\"))","v":"×"},{"$f":"IF(L61>=16,IF(AND(L61>=19,L61<23),\"特\",IF(L61>=70,IF(源泉徴収票!BM61=\"同居老親等\",\"同\",\"老\"),\"一\")),IF(L61>=0,\"未\",\"×\"))","v":"×"},"","","","","",{"$f":"IF(源泉徴収票!BU61<=20000, 源泉徴収票!BU61,\n  IF(源泉徴収票!BU61<=40000, 源泉徴収票!BU61*1/2+10000,\n   IF(源泉徴収票!BU61<=80000, 源泉徴収票!BU61*1/4+20000,\n                 40000)))","v":0},{"$f":"IF(源泉徴収票!BV61<=25000,源泉徴収票!BV61,\n  IF(源泉徴収票!BV61<=50000,源泉徴収票!BV61*1/2+12500,\n   IF(源泉徴収票!BV61<=100000,源泉徴収票!BV61*1/4+25000,\n                 50000)))","v":0},0,0,{"$f":"IF(源泉徴収票!BW61<=20000, 源泉徴収票!BW61,\n  IF(源泉徴収票!BW61<=40000, 源泉徴収票!BW61*1/2+10000,\n   IF(源泉徴収票!BW61<=80000, 源泉徴収票!BW61*1/4+20000,\n                 40000)))","v":0},{"$f":"IF(源泉徴収票!BX61<=20000, 源泉徴収票!BX61,\n  IF(源泉徴収票!BX61<=40000, 源泉徴収票!BX61*1/2+10000,\n   IF(源泉徴収票!BX61<=80000, 源泉徴収票!BX61*1/4+20000,\n                 40000)))","v":0},{"$f":"IF(源泉徴収票!BY61<=25000,源泉徴収票!BY61,\n  IF(源泉徴収票!BY61<=50000,源泉徴収票!BY61*1/2+12500,\n   IF(源泉徴収票!BY61<=100000,源泉徴収票!BY61*1/4+25000,\n                 50000)))","v":0},0,0,{"$f":"IF(源泉徴収票!BZ61<>\"\",MIN(源泉徴収票!BZ61,50000),0)","v":0},{"$f":"IF(源泉徴収票!CA61>=20000,15000,IF(源泉徴収票!CA61>=10000,源泉徴収票!CA61/2+5000,源泉徴収票!CA61))","v":0},{"$f":"IF(源泉徴収票!CS61<>\"\",\"〇\",\"×\")","v":"×"},null,{"$f":"源泉徴収票!O61+源泉徴収票!R61+源泉徴収票!U61","v":0},{"$f":"源泉徴収票!Q61+源泉徴収票!T61+源泉徴収票!W61","v":0},{"$f":"IF(源泉徴収票!I61=\"無\",0,INT(A61*VLOOKUP(A61, 給与所得計算, 3, TRUE)\n        +  VLOOKUP(A61, 給与所得計算, 4, TRUE) ))","v":0},0,0,{"$f":"源泉徴収票!P61+源泉徴収票!S61+源泉徴収票!V61","v":0},{"$f":"IF(源泉徴収票!I61=\"無\",0,源泉徴収票!CB61)","v":0},{"$f":"IF(源泉徴収票!I61=\"無\",0,源泉徴収票!CD61)","v":0},{"$f":"IF(源泉徴収票!I61=\"無\",0,MIN(120000,Z61+AA61+AE61))","v":0},{"$f":"IF(源泉徴収票!I61=\"無\",0,MIN(AF61+AG61,50000))","v":0},{"$f":"IF(源泉徴収票!I61=\"無\",0,IF(E61=\"○\",INDEX(H30配偶者控除・特別控除マスタ,F61,G61),0))","v":0},{"$f":"IF(源泉徴収票!I61=\"無\",0,IF(C61=\"○\",INDEX(H30配偶者控除・特別控除マスタ,F61,G61),0)+IF(D61=\"○\",INDEX(H30老人控除対象配偶者上乗せ,1,G61),0))","v":0},{"$f":"IF(源泉徴収票!I61=\"無\",0,COUNTIF(M61:Q61,\"一\")*380000+COUNTIF(M61:Q61,\"特\")*630000+COUNTIF(M61:Q61,\"老\")*480000+COUNTIF(M61:Q61,\"同\")*580000)","v":0},{"$f":"IF(源泉徴収票!I61=\"無\",0,(COUNTIF(源泉徴収票!BO61:BP61,\"一般\")+源泉徴収票!BQ61)*270000+(COUNTIF(源泉徴収票!BO61:BP61,\"特別\")+源泉徴収票!BR61)*400000+(COUNTIF(源泉徴収票!BP61,\"同居特別\")+源泉徴収票!BS61)*750000)","v":0},{"$f":"IF(源泉徴収票!I61=\"無\",0,IF(源泉徴収票!BT61<>\"\",IF(OR(源泉徴収票!BT61=\"特別の寡婦\",源泉徴収票!BT61=\"ひとり親\"),350000,270000),0))","v":0},{"$f":"IF(源泉徴収票!I61=\"無\",0,480000)","v":480000},{"$f":"IF(源泉徴収票!I61=\"無\",0,SUM(AO61:AY61))","v":480000},{"$f":"IF(源泉徴収票!I61=\"無\",AN61,FLOOR(MAX(AN61-AZ61,0),1000))","v":0},{"$f":"IF(源泉徴収票!I61=\"無\",AK61,BA61*VLOOKUP(BA61,所得税額計算,3,TRUE)+VLOOKUP(BA61,所得税額計算,4,TRUE))","v":0},{"$f":"IF(源泉徴収票!I61=\"無\",0,源泉徴収票!CZ61)","v":0},0,{"$f":"IF(源泉徴収票!I61=\"無\",BD61,FLOOR(BD61*102.1%,100))","v":0},0]
[0,{"$f":"IF(AND(源泉徴収票!I62=\"無\",源泉徴収票!AE62<>\"\"),\"○\",\"×\")","v":"×"},{"$f":"IF(AND(源泉徴収票!CO62<>\"\",源泉徴収票!CO62<=480000,AN62<=10000000),\"○\",\"×\")","v":"×"},{"$f":"IF(AND(C62=\"○\",源泉徴収票!CN62<>\"\",会社情報!$C$7-YEAR(MAX(源泉徴収票!CN62-1,0))>=70),\"○\",\"×\")","v":"×"},{"$f":"IF(AND(源泉徴収票!CO62<>\"\",源泉徴収票!CO62>480000,源泉徴収票!CO62<=1330000,AN62<=10000000),\"○\",\"×\")","v":"×"},{"$f":"MATCH(源泉徴収票!CO62,H30配偶者控除・特別控除マスタ_配偶者所得,1)","v":1},{"$f":"MATCH('源泉徴収票計算過程(非)'!AN62,H30配偶者控除・特別控除マスタ_所得者合計所得,1)","v":1},{"$f":"IF(源泉徴収票!AN62=\"\",-1,会社情報!$C$7-YEAR(源泉徴収票!AN62-1))","v":-1},{"$f":"IF(源泉徴収票!AT62=\"\",-1,会社情報!$C$7-YEAR(源泉徴収票!AT62-1))","v":-1},{"$f":"IF(源泉徴収票!AZ62=\"\",-1,会社情報!$C$7-YEAR(源泉徴収票!AZ62-1))","v":-1},{"$f":"IF(源泉徴収票!BF62=\"\",-1,会社情報!$C$7-YEAR(源泉徴収票!BF62-1))","v":-1},{"$f":"IF(源泉徴収票!BL62=\"\",-1,会社情報!$C$7-YEAR(源泉徴収票!BL62-1))","v":-1},{"$f":"IF(H62>=16,IF(AND(H62>=19,H62<23),\"特\",IF(H62>=70,IF(源泉徴収票!AO62=\"同居老親等\",\"同\",\"老\"),\"一\")),IF(H62>=0,\"未\",\"×\"))","v":"×"},{"$f":"IF(I62>=16,IF(AND(I62>=19,I62<23),\"特\",IF(I62>=70,IF(源泉徴収票!AU62=\"同居老親等\",\"同\",\"老\"),\"一\")),IF(I62>=0,\"未\",\"×\"))","v":"×"},{"$f":"IF(J62>=16,IF(AND(J62>=19,J62<23),\"特\",IF(J62>=70,IF(源泉徴収票!BA62=\"同居老親等\",\"同\",\"老\"),\"一\")),IF(J62>=0,\"未\",\"×\"))","v":"×"},{"$f":"IF(K62>=16,IF(AND(K62>=19,K62<23),\"特\",IF(K62>=70,IF(源泉徴収票!BG62=\"同居老親等\",\"同\",\"老\"),\"一\")),IF(K62>=0,\"未\",\"×\"))","v":"×"},{"$f":"IF(L62>=16,IF(AND(L62>=19,L62<23),\"特\",IF(L62>=70,IF(源泉徴収票!BM62=\"同居老親等\",\"同\",\"老\"),\"一\")),IF(L62>=0,\"未\",\"×\"))","v":"×"},"","","","","",{"$f":"IF(源泉徴収票!BU62<=20000, 源泉徴収票!BU62,\n  IF(源泉徴収票!BU62<=40000, 源泉徴収票!BU62*1/2+10000,\n   IF(源泉徴収票!BU62<=80000, 源泉徴収票!BU62*1/4+20000,\n                 40000)))","v":0},{"$f":"IF(源泉徴収票!BV62<=25000,源泉徴収票!BV62,\n  IF(源泉徴収票!BV62<=50000,源泉徴収票!BV62*1/2+12500,\n   IF(源泉徴収票!BV62<=100000,源泉徴収票!BV62*1/4+25000,\n                 50000)))","v":0},0,0,{"$f":"IF(源泉徴収票!BW62<=20000, 源泉徴収票!BW62,\n  IF(源泉徴収票!BW62<=40000, 源泉徴収票!BW62*1/2+10000,\n   IF(源泉徴収票!BW62<=80000, 源泉徴収票!BW62*1/4+20000,\n                 40000)))","v":0},{"$f":"IF(源泉徴収票!BX62<=20000, 源泉徴収票!BX62,\n  IF(源泉徴収票!BX62<=40000, 源泉徴収票!BX62*1/2+10000,\n   IF(源泉徴収票!BX62<=80000, 源泉徴収票!BX62*1/4+20000,\n                 40000)))","v":0},{"$f":"IF(源泉徴収票!BY62<=25000,源泉徴収票!BY62,\n  IF(源泉徴収票!BY62<=50000,源泉徴収票!BY62*1/2+12500,\n   IF(源泉徴収票!BY62<=100000,源泉徴収票!BY62*1/4+25000,\n                 50000)))","v":0},0,0,{"$f":"IF(源泉徴収票!BZ62<>\"\",MIN(源泉徴収票!BZ62,50000),0)","v":0},{"$f":"IF(源泉徴収票!CA62>=20000,15000,IF(源泉徴収票!CA62>=10000,源泉徴収票!CA62/2+5000,源泉徴収票!CA62))","v":0},{"$f":"IF(源泉徴収票!CS62<>\"\",\"〇\",\"×\")","v":"×"},null,{"$f":"源泉徴収票!O62+源泉徴収票!R62+源泉徴収票!U62","v":0},{"$f":"源泉徴収票!Q62+源泉徴収票!T62+源泉徴収票!W62","v":0},{"$f":"IF(源泉徴収票!I62=\"無\",0,INT(A62*VLOOKUP(A62, 給与所得計算, 3, TRUE)\n        +  VLOOKUP(A62, 給与所得計算, 4, TRUE) ))","v":0},0,0,{"$f":"源泉徴収票!P62+源泉徴収票!S62+源泉徴収票!V62","v":0},{"$f":"IF(源泉徴収票!I62=\"無\",0,源泉徴収票!CB62)","v":0},{"$f":"IF(源泉徴収票!I62=\"無\",0,源泉徴収票!CD62)","v":0},{"$f":"IF(源泉徴収票!I62=\"無\",0,MIN(120000,Z62+AA62+AE62))","v":0},{"$f":"IF(源泉徴収票!I62=\"無\",0,MIN(AF62+AG62,50000))","v":0},{"$f":"IF(源泉徴収票!I62=\"無\",0,IF(E62=\"○\",INDEX(H30配偶者控除・特別控除マスタ,F62,G62),0))","v":0},{"$f":"IF(源泉徴収票!I62=\"無\",0,IF(C62=\"○\",INDEX(H30配偶者控除・特別控除マスタ,F62,G62),0)+IF(D62=\"○\",INDEX(H30老人控除対象配偶者上乗せ,1,G62),0))","v":0},{"$f":"IF(源泉徴収票!I62=\"無\",0,COUNTIF(M62:Q62,\"一\")*380000+COUNTIF(M62:Q62,\"特\")*630000+COUNTIF(M62:Q62,\"老\")*480000+COUNTIF(M62:Q62,\"同\")*580000)","v":0},{"$f":"IF(源泉徴収票!I62=\"無\",0,(COUNTIF(源泉徴収票!BO62:BP62,\"一般\")+源泉徴収票!BQ62)*270000+(COUNTIF(源泉徴収票!BO62:BP62,\"特別\")+源泉徴収票!BR62)*400000+(COUNTIF(源泉徴収票!BP62,\"同居特別\")+源泉徴収票!BS62)*750000)","v":0},{"$f":"IF(源泉徴収票!I62=\"無\",0,IF(源泉徴収票!BT62<>\"\",IF(OR(源泉徴収票!BT62=\"特別の寡婦\",源泉徴収票!BT62=\"ひとり親\"),350000,270000),0))","v":0},{"$f":"IF(源泉徴収票!I62=\"無\",0,480000)","v":480000},{"$f":"IF(源泉徴収票!I62=\"無\",0,SUM(AO62:AY62))","v":480000},{"$f":"IF(源泉徴収票!I62=\"無\",AN62,FLOOR(MAX(AN62-AZ62,0),1000))","v":0},{"$f":"IF(源泉徴収票!I62=\"無\",AK62,BA62*VLOOKUP(BA62,所得税額計算,3,TRUE)+VLOOKUP(BA62,所得税額計算,4,TRUE))","v":0},{"$f":"IF(源泉徴収票!I62=\"無\",0,源泉徴収票!CZ62)","v":0},0,{"$f":"IF(源泉徴収票!I62=\"無\",BD62,FLOOR(BD62*102.1%,100))","v":0},0]
[0,{"$f":"IF(AND(源泉徴収票!I63=\"無\",源泉徴収票!AE63<>\"\"),\"○\",\"×\")","v":"×"},{"$f":"IF(AND(源泉徴収票!CO63<>\"\",源泉徴収票!CO63<=480000,AN63<=10000000),\"○\",\"×\")","v":"×"},{"$f":"IF(AND(C63=\"○\",源泉徴収票!CN63<>\"\",会社情報!$C$7-YEAR(MAX(源泉徴収票!CN63-1,0))>=70),\"○\",\"×\")","v":"×"},{"$f":"IF(AND(源泉徴収票!CO63<>\"\",源泉徴収票!CO63>480000,源泉徴収票!CO63<=1330000,AN63<=10000000),\"○\",\"×\")","v":"×"},{"$f":"MATCH(源泉徴収票!CO63,H30配偶者控除・特別控除マスタ_配偶者所得,1)","v":1},{"$f":"MATCH('源泉徴収票計算過程(非)'!AN63,H30配偶者控除・特別控除マスタ_所得者合計所得,1)","v":1},{"$f":"IF(源泉徴収票!AN63=\"\",-1,会社情報!$C$7-YEAR(源泉徴収票!AN63-1))","v":-1},{"$f":"IF(源泉徴収票!AT63=\"\",-1,会社情報!$C$7-YEAR(源泉徴収票!AT63-1))","v":-1},{"$f":"IF(源泉徴収票!AZ63=\"\",-1,会社情報!$C$7-YEAR(源泉徴収票!AZ63-1))","v":-1},{"$f":"IF(源泉徴収票!BF63=\"\",-1,会社情報!$C$7-YEAR(源泉徴収票!BF63-1))","v":-1},{"$f":"IF(源泉徴収票!BL63=\"\",-1,会社情報!$C$7-YEAR(源泉徴収票!BL63-1))","v":-1},{"$f":"IF(H63>=16,IF(AND(H63>=19,H63<23),\"特\",IF(H63>=70,IF(源泉徴収票!AO63=\"同居老親等\",\"同\",\"老\"),\"一\")),IF(H63>=0,\"未\",\"×\"))","v":"×"},{"$f":"IF(I63>=16,IF(AND(I63>=19,I63<23),\"特\",IF(I63>=70,IF(源泉徴収票!AU63=\"同居老親等\",\"同\",\"老\"),\"一\")),IF(I63>=0,\"未\",\"×\"))","v":"×"},{"$f":"IF(J63>=16,IF(AND(J63>=19,J63<23),\"特\",IF(J63>=70,IF(源泉徴収票!BA63=\"同居老親等\",\"同\",\"老\"),\"一\")),IF(J63>=0,\"未\",\"×\"))","v":"×"},{"$f":"IF(K63>=16,IF(AND(K63>=19,K63<23),\"特\",IF(K63>=70,IF(源泉徴収票!BG63=\"同居老親等\",\"同\",\"老\"),\"一\")),IF(K63>=0,\"未\",\"×\"))","v":"×"},{"$f":"IF(L63>=16,IF(AND(L63>=19,L63<23),\"特\",IF(L63>=70,IF(源泉徴収票!BM63=\"同居老親等\",\"同\",\"老\"),\"一\")),IF(L63>=0,\"未\",\"×\"))","v":"×"},"","","","","",{"$f":"IF(源泉徴収票!BU63<=20000, 源泉徴収票!BU63,\n  IF(源泉徴収票!BU63<=40000, 源泉徴収票!BU63*1/2+10000,\n   IF(源泉徴収票!BU63<=80000, 源泉徴収票!BU63*1/4+20000,\n                 40000)))","v":0},{"$f":"IF(源泉徴収票!BV63<=25000,源泉徴収票!BV63,\n  IF(源泉徴収票!BV63<=50000,源泉徴収票!BV63*1/2+12500,\n   IF(源泉徴収票!BV63<=100000,源泉徴収票!BV63*1/4+25000,\n                 50000)))","v":0},0,0,{"$f":"IF(源泉徴収票!BW63<=20000, 源泉徴収票!BW63,\n  IF(源泉徴収票!BW63<=40000, 源泉徴収票!BW63*1/2+10000,\n   IF(源泉徴収票!BW63<=80000, 源泉徴収票!BW63*1/4+20000,\n                 40000)))","v":0},{"$f":"IF(源泉徴収票!BX63<=20000, 源泉徴収票!BX63,\n  IF(源泉徴収票!BX63<=40000, 源泉徴収票!BX63*1/2+10000,\n   IF(源泉徴収票!BX63<=80000, 源泉徴収票!BX63*1/4+20000,\n                 40000)))","v":0},{"$f":"IF(源泉徴収票!BY63<=25000,源泉徴収票!BY63,\n  IF(源泉徴収票!BY63<=50000,源泉徴収票!BY63*1/2+12500,\n   IF(源泉徴収票!BY63<=100000,源泉徴収票!BY63*1/4+25000,\n                 50000)))","v":0},0,0,{"$f":"IF(源泉徴収票!BZ63<>\"\",MIN(源泉徴収票!BZ63,50000),0)","v":0},{"$f":"IF(源泉徴収票!CA63>=20000,15000,IF(源泉徴収票!CA63>=10000,源泉徴収票!CA63/2+5000,源泉徴収票!CA63))","v":0},{"$f":"IF(源泉徴収票!CS63<>\"\",\"〇\",\"×\")","v":"×"},null,{"$f":"源泉徴収票!O63+源泉徴収票!R63+源泉徴収票!U63","v":0},{"$f":"源泉徴収票!Q63+源泉徴収票!T63+源泉徴収票!W63","v":0},{"$f":"IF(源泉徴収票!I63=\"無\",0,INT(A63*VLOOKUP(A63, 給与所得計算, 3, TRUE)\n        +  VLOOKUP(A63, 給与所得計算, 4, TRUE) ))","v":0},0,0,{"$f":"源泉徴収票!P63+源泉徴収票!S63+源泉徴収票!V63","v":0},{"$f":"IF(源泉徴収票!I63=\"無\",0,源泉徴収票!CB63)","v":0},{"$f":"IF(源泉徴収票!I63=\"無\",0,源泉徴収票!CD63)","v":0},{"$f":"IF(源泉徴収票!I63=\"無\",0,MIN(120000,Z63+AA63+AE63))","v":0},{"$f":"IF(源泉徴収票!I63=\"無\",0,MIN(AF63+AG63,50000))","v":0},{"$f":"IF(源泉徴収票!I63=\"無\",0,IF(E63=\"○\",INDEX(H30配偶者控除・特別控除マスタ,F63,G63),0))","v":0},{"$f":"IF(源泉徴収票!I63=\"無\",0,IF(C63=\"○\",INDEX(H30配偶者控除・特別控除マスタ,F63,G63),0)+IF(D63=\"○\",INDEX(H30老人控除対象配偶者上乗せ,1,G63),0))","v":0},{"$f":"IF(源泉徴収票!I63=\"無\",0,COUNTIF(M63:Q63,\"一\")*380000+COUNTIF(M63:Q63,\"特\")*630000+COUNTIF(M63:Q63,\"老\")*480000+COUNTIF(M63:Q63,\"同\")*580000)","v":0},{"$f":"IF(源泉徴収票!I63=\"無\",0,(COUNTIF(源泉徴収票!BO63:BP63,\"一般\")+源泉徴収票!BQ63)*270000+(COUNTIF(源泉徴収票!BO63:BP63,\"特別\")+源泉徴収票!BR63)*400000+(COUNTIF(源泉徴収票!BP63,\"同居特別\")+源泉徴収票!BS63)*750000)","v":0},{"$f":"IF(源泉徴収票!I63=\"無\",0,IF(源泉徴収票!BT63<>\"\",IF(OR(源泉徴収票!BT63=\"特別の寡婦\",源泉徴収票!BT63=\"ひとり親\"),350000,270000),0))","v":0},{"$f":"IF(源泉徴収票!I63=\"無\",0,480000)","v":480000},{"$f":"IF(源泉徴収票!I63=\"無\",0,SUM(AO63:AY63))","v":480000},{"$f":"IF(源泉徴収票!I63=\"無\",AN63,FLOOR(MAX(AN63-AZ63,0),1000))","v":0},{"$f":"IF(源泉徴収票!I63=\"無\",AK63,BA63*VLOOKUP(BA63,所得税額計算,3,TRUE)+VLOOKUP(BA63,所得税額計算,4,TRUE))","v":0},{"$f":"IF(源泉徴収票!I63=\"無\",0,源泉徴収票!CZ63)","v":0},0,{"$f":"IF(源泉徴収票!I63=\"無\",BD63,FLOOR(BD63*102.1%,100))","v":0},0]
[0,{"$f":"IF(AND(源泉徴収票!I64=\"無\",源泉徴収票!AE64<>\"\"),\"○\",\"×\")","v":"×"},{"$f":"IF(AND(源泉徴収票!CO64<>\"\",源泉徴収票!CO64<=480000,AN64<=10000000),\"○\",\"×\")","v":"×"},{"$f":"IF(AND(C64=\"○\",源泉徴収票!CN64<>\"\",会社情報!$C$7-YEAR(MAX(源泉徴収票!CN64-1,0))>=70),\"○\",\"×\")","v":"×"},{"$f":"IF(AND(源泉徴収票!CO64<>\"\",源泉徴収票!CO64>480000,源泉徴収票!CO64<=1330000,AN64<=10000000),\"○\",\"×\")","v":"×"},{"$f":"MATCH(源泉徴収票!CO64,H30配偶者控除・特別控除マスタ_配偶者所得,1)","v":1},{"$f":"MATCH('源泉徴収票計算過程(非)'!AN64,H30配偶者控除・特別控除マスタ_所得者合計所得,1)","v":1},{"$f":"IF(源泉徴収票!AN64=\"\",-1,会社情報!$C$7-YEAR(源泉徴収票!AN64-1))","v":-1},{"$f":"IF(源泉徴収票!AT64=\"\",-1,会社情報!$C$7-YEAR(源泉徴収票!AT64-1))","v":-1},{"$f":"IF(源泉徴収票!AZ64=\"\",-1,会社情報!$C$7-YEAR(源泉徴収票!AZ64-1))","v":-1},{"$f":"IF(源泉徴収票!BF64=\"\",-1,会社情報!$C$7-YEAR(源泉徴収票!BF64-1))","v":-1},{"$f":"IF(源泉徴収票!BL64=\"\",-1,会社情報!$C$7-YEAR(源泉徴収票!BL64-1))","v":-1},{"$f":"IF(H64>=16,IF(AND(H64>=19,H64<23),\"特\",IF(H64>=70,IF(源泉徴収票!AO64=\"同居老親等\",\"同\",\"老\"),\"一\")),IF(H64>=0,\"未\",\"×\"))","v":"×"},{"$f":"IF(I64>=16,IF(AND(I64>=19,I64<23),\"特\",IF(I64>=70,IF(源泉徴収票!AU64=\"同居老親等\",\"同\",\"老\"),\"一\")),IF(I64>=0,\"未\",\"×\"))","v":"×"},{"$f":"IF(J64>=16,IF(AND(J64>=19,J64<23),\"特\",IF(J64>=70,IF(源泉徴収票!BA64=\"同居老親等\",\"同\",\"老\"),\"一\")),IF(J64>=0,\"未\",\"×\"))","v":"×"},{"$f":"IF(K64>=16,IF(AND(K64>=19,K64<23),\"特\",IF(K64>=70,IF(源泉徴収票!BG64=\"同居老親等\",\"同\",\"老\"),\"一\")),IF(K64>=0,\"未\",\"×\"))","v":"×"},{"$f":"IF(L64>=16,IF(AND(L64>=19,L64<23),\"特\",IF(L64>=70,IF(源泉徴収票!BM64=\"同居老親等\",\"同\",\"老\"),\"一\")),IF(L64>=0,\"未\",\"×\"))","v":"×"},"","","","","",{"$f":"IF(源泉徴収票!BU64<=20000, 源泉徴収票!BU64,\n  IF(源泉徴収票!BU64<=40000, 源泉徴収票!BU64*1/2+10000,\n   IF(源泉徴収票!BU64<=80000, 源泉徴収票!BU64*1/4+20000,\n                 40000)))","v":0},{"$f":"IF(源泉徴収票!BV64<=25000,源泉徴収票!BV64,\n  IF(源泉徴収票!BV64<=50000,源泉徴収票!BV64*1/2+12500,\n   IF(源泉徴収票!BV64<=100000,源泉徴収票!BV64*1/4+25000,\n                 50000)))","v":0},0,0,{"$f":"IF(源泉徴収票!BW64<=20000, 源泉徴収票!BW64,\n  IF(源泉徴収票!BW64<=40000, 源泉徴収票!BW64*1/2+10000,\n   IF(源泉徴収票!BW64<=80000, 源泉徴収票!BW64*1/4+20000,\n                 40000)))","v":0},{"$f":"IF(源泉徴収票!BX64<=20000, 源泉徴収票!BX64,\n  IF(源泉徴収票!BX64<=40000, 源泉徴収票!BX64*1/2+10000,\n   IF(源泉徴収票!BX64<=80000, 源泉徴収票!BX64*1/4+20000,\n                 40000)))","v":0},{"$f":"IF(源泉徴収票!BY64<=25000,源泉徴収票!BY64,\n  IF(源泉徴収票!BY64<=50000,源泉徴収票!BY64*1/2+12500,\n   IF(源泉徴収票!BY64<=100000,源泉徴収票!BY64*1/4+25000,\n                 50000)))","v":0},0,0,{"$f":"IF(源泉徴収票!BZ64<>\"\",MIN(源泉徴収票!BZ64,50000),0)","v":0},{"$f":"IF(源泉徴収票!CA64>=20000,15000,IF(源泉徴収票!CA64>=10000,源泉徴収票!CA64/2+5000,源泉徴収票!CA64))","v":0},{"$f":"IF(源泉徴収票!CS64<>\"\",\"〇\",\"×\")","v":"×"},null,{"$f":"源泉徴収票!O64+源泉徴収票!R64+源泉徴収票!U64","v":0},{"$f":"源泉徴収票!Q64+源泉徴収票!T64+源泉徴収票!W64","v":0},{"$f":"IF(源泉徴収票!I64=\"無\",0,INT(A64*VLOOKUP(A64, 給与所得計算, 3, TRUE)\n        +  VLOOKUP(A64, 給与所得計算, 4, TRUE) ))","v":0},0,0,{"$f":"源泉徴収票!P64+源泉徴収票!S64+源泉徴収票!V64","v":0},{"$f":"IF(源泉徴収票!I64=\"無\",0,源泉徴収票!CB64)","v":0},{"$f":"IF(源泉徴収票!I64=\"無\",0,源泉徴収票!CD64)","v":0},{"$f":"IF(源泉徴収票!I64=\"無\",0,MIN(120000,Z64+AA64+AE64))","v":0},{"$f":"IF(源泉徴収票!I64=\"無\",0,MIN(AF64+AG64,50000))","v":0},{"$f":"IF(源泉徴収票!I64=\"無\",0,IF(E64=\"○\",INDEX(H30配偶者控除・特別控除マスタ,F64,G64),0))","v":0},{"$f":"IF(源泉徴収票!I64=\"無\",0,IF(C64=\"○\",INDEX(H30配偶者控除・特別控除マスタ,F64,G64),0)+IF(D64=\"○\",INDEX(H30老人控除対象配偶者上乗せ,1,G64),0))","v":0},{"$f":"IF(源泉徴収票!I64=\"無\",0,COUNTIF(M64:Q64,\"一\")*380000+COUNTIF(M64:Q64,\"特\")*630000+COUNTIF(M64:Q64,\"老\")*480000+COUNTIF(M64:Q64,\"同\")*580000)","v":0},{"$f":"IF(源泉徴収票!I64=\"無\",0,(COUNTIF(源泉徴収票!BO64:BP64,\"一般\")+源泉徴収票!BQ64)*270000+(COUNTIF(源泉徴収票!BO64:BP64,\"特別\")+源泉徴収票!BR64)*400000+(COUNTIF(源泉徴収票!BP64,\"同居特別\")+源泉徴収票!BS64)*750000)","v":0},{"$f":"IF(源泉徴収票!I64=\"無\",0,IF(源泉徴収票!BT64<>\"\",IF(OR(源泉徴収票!BT64=\"特別の寡婦\",源泉徴収票!BT64=\"ひとり親\"),350000,270000),0))","v":0},{"$f":"IF(源泉徴収票!I64=\"無\",0,480000)","v":480000},{"$f":"IF(源泉徴収票!I64=\"無\",0,SUM(AO64:AY64))","v":480000},{"$f":"IF(源泉徴収票!I64=\"無\",AN64,FLOOR(MAX(AN64-AZ64,0),1000))","v":0},{"$f":"IF(源泉徴収票!I64=\"無\",AK64,BA64*VLOOKUP(BA64,所得税額計算,3,TRUE)+VLOOKUP(BA64,所得税額計算,4,TRUE))","v":0},{"$f":"IF(源泉徴収票!I64=\"無\",0,源泉徴収票!CZ64)","v":0},0,{"$f":"IF(源泉徴収票!I64=\"無\",BD64,FLOOR(BD64*102.1%,100))","v":0},0]
[0,{"$f":"IF(AND(源泉徴収票!I65=\"無\",源泉徴収票!AE65<>\"\"),\"○\",\"×\")","v":"×"},{"$f":"IF(AND(源泉徴収票!CO65<>\"\",源泉徴収票!CO65<=480000,AN65<=10000000),\"○\",\"×\")","v":"×"},{"$f":"IF(AND(C65=\"○\",源泉徴収票!CN65<>\"\",会社情報!$C$7-YEAR(MAX(源泉徴収票!CN65-1,0))>=70),\"○\",\"×\")","v":"×"},{"$f":"IF(AND(源泉徴収票!CO65<>\"\",源泉徴収票!CO65>480000,源泉徴収票!CO65<=1330000,AN65<=10000000),\"○\",\"×\")","v":"×"},{"$f":"MATCH(源泉徴収票!CO65,H30配偶者控除・特別控除マスタ_配偶者所得,1)","v":1},{"$f":"MATCH('源泉徴収票計算過程(非)'!AN65,H30配偶者控除・特別控除マスタ_所得者合計所得,1)","v":1},{"$f":"IF(源泉徴収票!AN65=\"\",-1,会社情報!$C$7-YEAR(源泉徴収票!AN65-1))","v":-1},{"$f":"IF(源泉徴収票!AT65=\"\",-1,会社情報!$C$7-YEAR(源泉徴収票!AT65-1))","v":-1},{"$f":"IF(源泉徴収票!AZ65=\"\",-1,会社情報!$C$7-YEAR(源泉徴収票!AZ65-1))","v":-1},{"$f":"IF(源泉徴収票!BF65=\"\",-1,会社情報!$C$7-YEAR(源泉徴収票!BF65-1))","v":-1},{"$f":"IF(源泉徴収票!BL65=\"\",-1,会社情報!$C$7-YEAR(源泉徴収票!BL65-1))","v":-1},{"$f":"IF(H65>=16,IF(AND(H65>=19,H65<23),\"特\",IF(H65>=70,IF(源泉徴収票!AO65=\"同居老親等\",\"同\",\"老\"),\"一\")),IF(H65>=0,\"未\",\"×\"))","v":"×"},{"$f":"IF(I65>=16,IF(AND(I65>=19,I65<23),\"特\",IF(I65>=70,IF(源泉徴収票!AU65=\"同居老親等\",\"同\",\"老\"),\"一\")),IF(I65>=0,\"未\",\"×\"))","v":"×"},{"$f":"IF(J65>=16,IF(AND(J65>=19,J65<23),\"特\",IF(J65>=70,IF(源泉徴収票!BA65=\"同居老親等\",\"同\",\"老\"),\"一\")),IF(J65>=0,\"未\",\"×\"))","v":"×"},{"$f":"IF(K65>=16,IF(AND(K65>=19,K65<23),\"特\",IF(K65>=70,IF(源泉徴収票!BG65=\"同居老親等\",\"同\",\"老\"),\"一\")),IF(K65>=0,\"未\",\"×\"))","v":"×"},{"$f":"IF(L65>=16,IF(AND(L65>=19,L65<23),\"特\",IF(L65>=70,IF(源泉徴収票!BM65=\"同居老親等\",\"同\",\"老\"),\"一\")),IF(L65>=0,\"未\",\"×\"))","v":"×"},"","","","","",{"$f":"IF(源泉徴収票!BU65<=20000, 源泉徴収票!BU65,\n  IF(源泉徴収票!BU65<=40000, 源泉徴収票!BU65*1/2+10000,\n   IF(源泉徴収票!BU65<=80000, 源泉徴収票!BU65*1/4+20000,\n                 40000)))","v":0},{"$f":"IF(源泉徴収票!BV65<=25000,源泉徴収票!BV65,\n  IF(源泉徴収票!BV65<=50000,源泉徴収票!BV65*1/2+12500,\n   IF(源泉徴収票!BV65<=100000,源泉徴収票!BV65*1/4+25000,\n                 50000)))","v":0},0,0,{"$f":"IF(源泉徴収票!BW65<=20000, 源泉徴収票!BW65,\n  IF(源泉徴収票!BW65<=40000, 源泉徴収票!BW65*1/2+10000,\n   IF(源泉徴収票!BW65<=80000, 源泉徴収票!BW65*1/4+20000,\n                 40000)))","v":0},{"$f":"IF(源泉徴収票!BX65<=20000, 源泉徴収票!BX65,\n  IF(源泉徴収票!BX65<=40000, 源泉徴収票!BX65*1/2+10000,\n   IF(源泉徴収票!BX65<=80000, 源泉徴収票!BX65*1/4+20000,\n                 40000)))","v":0},{"$f":"IF(源泉徴収票!BY65<=25000,源泉徴収票!BY65,\n  IF(源泉徴収票!BY65<=50000,源泉徴収票!BY65*1/2+12500,\n   IF(源泉徴収票!BY65<=100000,源泉徴収票!BY65*1/4+25000,\n                 50000)))","v":0},0,0,{"$f":"IF(源泉徴収票!BZ65<>\"\",MIN(源泉徴収票!BZ65,50000),0)","v":0},{"$f":"IF(源泉徴収票!CA65>=20000,15000,IF(源泉徴収票!CA65>=10000,源泉徴収票!CA65/2+5000,源泉徴収票!CA65))","v":0},{"$f":"IF(源泉徴収票!CS65<>\"\",\"〇\",\"×\")","v":"×"},null,{"$f":"源泉徴収票!O65+源泉徴収票!R65+源泉徴収票!U65","v":0},{"$f":"源泉徴収票!Q65+源泉徴収票!T65+源泉徴収票!W65","v":0},{"$f":"IF(源泉徴収票!I65=\"無\",0,INT(A65*VLOOKUP(A65, 給与所得計算, 3, TRUE)\n        +  VLOOKUP(A65, 給与所得計算, 4, TRUE) ))","v":0},0,0,{"$f":"源泉徴収票!P65+源泉徴収票!S65+源泉徴収票!V65","v":0},{"$f":"IF(源泉徴収票!I65=\"無\",0,源泉徴収票!CB65)","v":0},{"$f":"IF(源泉徴収票!I65=\"無\",0,源泉徴収票!CD65)","v":0},{"$f":"IF(源泉徴収票!I65=\"無\",0,MIN(120000,Z65+AA65+AE65))","v":0},{"$f":"IF(源泉徴収票!I65=\"無\",0,MIN(AF65+AG65,50000))","v":0},{"$f":"IF(源泉徴収票!I65=\"無\",0,IF(E65=\"○\",INDEX(H30配偶者控除・特別控除マスタ,F65,G65),0))","v":0},{"$f":"IF(源泉徴収票!I65=\"無\",0,IF(C65=\"○\",INDEX(H30配偶者控除・特別控除マスタ,F65,G65),0)+IF(D65=\"○\",INDEX(H30老人控除対象配偶者上乗せ,1,G65),0))","v":0},{"$f":"IF(源泉徴収票!I65=\"無\",0,COUNTIF(M65:Q65,\"一\")*380000+COUNTIF(M65:Q65,\"特\")*630000+COUNTIF(M65:Q65,\"老\")*480000+COUNTIF(M65:Q65,\"同\")*580000)","v":0},{"$f":"IF(源泉徴収票!I65=\"無\",0,(COUNTIF(源泉徴収票!BO65:BP65,\"一般\")+源泉徴収票!BQ65)*270000+(COUNTIF(源泉徴収票!BO65:BP65,\"特別\")+源泉徴収票!BR65)*400000+(COUNTIF(源泉徴収票!BP65,\"同居特別\")+源泉徴収票!BS65)*750000)","v":0},{"$f":"IF(源泉徴収票!I65=\"無\",0,IF(源泉徴収票!BT65<>\"\",IF(OR(源泉徴収票!BT65=\"特別の寡婦\",源泉徴収票!BT65=\"ひとり親\"),350000,270000),0))","v":0},{"$f":"IF(源泉徴収票!I65=\"無\",0,480000)","v":480000},{"$f":"IF(源泉徴収票!I65=\"無\",0,SUM(AO65:AY65))","v":480000},{"$f":"IF(源泉徴収票!I65=\"無\",AN65,FLOOR(MAX(AN65-AZ65,0),1000))","v":0},{"$f":"IF(源泉徴収票!I65=\"無\",AK65,BA65*VLOOKUP(BA65,所得税額計算,3,TRUE)+VLOOKUP(BA65,所得税額計算,4,TRUE))","v":0},{"$f":"IF(源泉徴収票!I65=\"無\",0,源泉徴収票!CZ65)","v":0},0,{"$f":"IF(源泉徴収票!I65=\"無\",BD65,FLOOR(BD65*102.1%,100))","v":0},0]
[0,{"$f":"IF(AND(源泉徴収票!I66=\"無\",源泉徴収票!AE66<>\"\"),\"○\",\"×\")","v":"×"},{"$f":"IF(AND(源泉徴収票!CO66<>\"\",源泉徴収票!CO66<=480000,AN66<=10000000),\"○\",\"×\")","v":"×"},{"$f":"IF(AND(C66=\"○\",源泉徴収票!CN66<>\"\",会社情報!$C$7-YEAR(MAX(源泉徴収票!CN66-1,0))>=70),\"○\",\"×\")","v":"×"},{"$f":"IF(AND(源泉徴収票!CO66<>\"\",源泉徴収票!CO66>480000,源泉徴収票!CO66<=1330000,AN66<=10000000),\"○\",\"×\")","v":"×"},{"$f":"MATCH(源泉徴収票!CO66,H30配偶者控除・特別控除マスタ_配偶者所得,1)","v":1},{"$f":"MATCH('源泉徴収票計算過程(非)'!AN66,H30配偶者控除・特別控除マスタ_所得者合計所得,1)","v":1},{"$f":"IF(源泉徴収票!AN66=\"\",-1,会社情報!$C$7-YEAR(源泉徴収票!AN66-1))","v":-1},{"$f":"IF(源泉徴収票!AT66=\"\",-1,会社情報!$C$7-YEAR(源泉徴収票!AT66-1))","v":-1},{"$f":"IF(源泉徴収票!AZ66=\"\",-1,会社情報!$C$7-YEAR(源泉徴収票!AZ66-1))","v":-1},{"$f":"IF(源泉徴収票!BF66=\"\",-1,会社情報!$C$7-YEAR(源泉徴収票!BF66-1))","v":-1},{"$f":"IF(源泉徴収票!BL66=\"\",-1,会社情報!$C$7-YEAR(源泉徴収票!BL66-1))","v":-1},{"$f":"IF(H66>=16,IF(AND(H66>=19,H66<23),\"特\",IF(H66>=70,IF(源泉徴収票!AO66=\"同居老親等\",\"同\",\"老\"),\"一\")),IF(H66>=0,\"未\",\"×\"))","v":"×"},{"$f":"IF(I66>=16,IF(AND(I66>=19,I66<23),\"特\",IF(I66>=70,IF(源泉徴収票!AU66=\"同居老親等\",\"同\",\"老\"),\"一\")),IF(I66>=0,\"未\",\"×\"))","v":"×"},{"$f":"IF(J66>=16,IF(AND(J66>=19,J66<23),\"特\",IF(J66>=70,IF(源泉徴収票!BA66=\"同居老親等\",\"同\",\"老\"),\"一\")),IF(J66>=0,\"未\",\"×\"))","v":"×"},{"$f":"IF(K66>=16,IF(AND(K66>=19,K66<23),\"特\",IF(K66>=70,IF(源泉徴収票!BG66=\"同居老親等\",\"同\",\"老\"),\"一\")),IF(K66>=0,\"未\",\"×\"))","v":"×"},{"$f":"IF(L66>=16,IF(AND(L66>=19,L66<23),\"特\",IF(L66>=70,IF(源泉徴収票!BM66=\"同居老親等\",\"同\",\"老\"),\"一\")),IF(L66>=0,\"未\",\"×\"))","v":"×"},"","","","","",{"$f":"IF(源泉徴収票!BU66<=20000, 源泉徴収票!BU66,\n  IF(源泉徴収票!BU66<=40000, 源泉徴収票!BU66*1/2+10000,\n   IF(源泉徴収票!BU66<=80000, 源泉徴収票!BU66*1/4+20000,\n                 40000)))","v":0},{"$f":"IF(源泉徴収票!BV66<=25000,源泉徴収票!BV66,\n  IF(源泉徴収票!BV66<=50000,源泉徴収票!BV66*1/2+12500,\n   IF(源泉徴収票!BV66<=100000,源泉徴収票!BV66*1/4+25000,\n                 50000)))","v":0},0,0,{"$f":"IF(源泉徴収票!BW66<=20000, 源泉徴収票!BW66,\n  IF(源泉徴収票!BW66<=40000, 源泉徴収票!BW66*1/2+10000,\n   IF(源泉徴収票!BW66<=80000, 源泉徴収票!BW66*1/4+20000,\n                 40000)))","v":0},{"$f":"IF(源泉徴収票!BX66<=20000, 源泉徴収票!BX66,\n  IF(源泉徴収票!BX66<=40000, 源泉徴収票!BX66*1/2+10000,\n   IF(源泉徴収票!BX66<=80000, 源泉徴収票!BX66*1/4+20000,\n                 40000)))","v":0},{"$f":"IF(源泉徴収票!BY66<=25000,源泉徴収票!BY66,\n  IF(源泉徴収票!BY66<=50000,源泉徴収票!BY66*1/2+12500,\n   IF(源泉徴収票!BY66<=100000,源泉徴収票!BY66*1/4+25000,\n                 50000)))","v":0},0,0,{"$f":"IF(源泉徴収票!BZ66<>\"\",MIN(源泉徴収票!BZ66,50000),0)","v":0},{"$f":"IF(源泉徴収票!CA66>=20000,15000,IF(源泉徴収票!CA66>=10000,源泉徴収票!CA66/2+5000,源泉徴収票!CA66))","v":0},{"$f":"IF(源泉徴収票!CS66<>\"\",\"〇\",\"×\")","v":"×"},null,{"$f":"源泉徴収票!O66+源泉徴収票!R66+源泉徴収票!U66","v":0},{"$f":"源泉徴収票!Q66+源泉徴収票!T66+源泉徴収票!W66","v":0},{"$f":"IF(源泉徴収票!I66=\"無\",0,INT(A66*VLOOKUP(A66, 給与所得計算, 3, TRUE)\n        +  VLOOKUP(A66, 給与所得計算, 4, TRUE) ))","v":0},0,0,{"$f":"源泉徴収票!P66+源泉徴収票!S66+源泉徴収票!V66","v":0},{"$f":"IF(源泉徴収票!I66=\"無\",0,源泉徴収票!CB66)","v":0},{"$f":"IF(源泉徴収票!I66=\"無\",0,源泉徴収票!CD66)","v":0},{"$f":"IF(源泉徴収票!I66=\"無\",0,MIN(120000,Z66+AA66+AE66))","v":0},{"$f":"IF(源泉徴収票!I66=\"無\",0,MIN(AF66+AG66,50000))","v":0},{"$f":"IF(源泉徴収票!I66=\"無\",0,IF(E66=\"○\",INDEX(H30配偶者控除・特別控除マスタ,F66,G66),0))","v":0},{"$f":"IF(源泉徴収票!I66=\"無\",0,IF(C66=\"○\",INDEX(H30配偶者控除・特別控除マスタ,F66,G66),0)+IF(D66=\"○\",INDEX(H30老人控除対象配偶者上乗せ,1,G66),0))","v":0},{"$f":"IF(源泉徴収票!I66=\"無\",0,COUNTIF(M66:Q66,\"一\")*380000+COUNTIF(M66:Q66,\"特\")*630000+COUNTIF(M66:Q66,\"老\")*480000+COUNTIF(M66:Q66,\"同\")*580000)","v":0},{"$f":"IF(源泉徴収票!I66=\"無\",0,(COUNTIF(源泉徴収票!BO66:BP66,\"一般\")+源泉徴収票!BQ66)*270000+(COUNTIF(源泉徴収票!BO66:BP66,\"特別\")+源泉徴収票!BR66)*400000+(COUNTIF(源泉徴収票!BP66,\"同居特別\")+源泉徴収票!BS66)*750000)","v":0},{"$f":"IF(源泉徴収票!I66=\"無\",0,IF(源泉徴収票!BT66<>\"\",IF(OR(源泉徴収票!BT66=\"特別の寡婦\",源泉徴収票!BT66=\"ひとり親\"),350000,270000),0))","v":0},{"$f":"IF(源泉徴収票!I66=\"無\",0,480000)","v":480000},{"$f":"IF(源泉徴収票!I66=\"無\",0,SUM(AO66:AY66))","v":480000},{"$f":"IF(源泉徴収票!I66=\"無\",AN66,FLOOR(MAX(AN66-AZ66,0),1000))","v":0},{"$f":"IF(源泉徴収票!I66=\"無\",AK66,BA66*VLOOKUP(BA66,所得税額計算,3,TRUE)+VLOOKUP(BA66,所得税額計算,4,TRUE))","v":0},{"$f":"IF(源泉徴収票!I66=\"無\",0,源泉徴収票!CZ66)","v":0},0,{"$f":"IF(源泉徴収票!I66=\"無\",BD66,FLOOR(BD66*102.1%,100))","v":0},0]
[0,{"$f":"IF(AND(源泉徴収票!I67=\"無\",源泉徴収票!AE67<>\"\"),\"○\",\"×\")","v":"×"},{"$f":"IF(AND(源泉徴収票!CO67<>\"\",源泉徴収票!CO67<=480000,AN67<=10000000),\"○\",\"×\")","v":"×"},{"$f":"IF(AND(C67=\"○\",源泉徴収票!CN67<>\"\",会社情報!$C$7-YEAR(MAX(源泉徴収票!CN67-1,0))>=70),\"○\",\"×\")","v":"×"},{"$f":"IF(AND(源泉徴収票!CO67<>\"\",源泉徴収票!CO67>480000,源泉徴収票!CO67<=1330000,AN67<=10000000),\"○\",\"×\")","v":"×"},{"$f":"MATCH(源泉徴収票!CO67,H30配偶者控除・特別控除マスタ_配偶者所得,1)","v":1},{"$f":"MATCH('源泉徴収票計算過程(非)'!AN67,H30配偶者控除・特別控除マスタ_所得者合計所得,1)","v":1},{"$f":"IF(源泉徴収票!AN67=\"\",-1,会社情報!$C$7-YEAR(源泉徴収票!AN67-1))","v":-1},{"$f":"IF(源泉徴収票!AT67=\"\",-1,会社情報!$C$7-YEAR(源泉徴収票!AT67-1))","v":-1},{"$f":"IF(源泉徴収票!AZ67=\"\",-1,会社情報!$C$7-YEAR(源泉徴収票!AZ67-1))","v":-1},{"$f":"IF(源泉徴収票!BF67=\"\",-1,会社情報!$C$7-YEAR(源泉徴収票!BF67-1))","v":-1},{"$f":"IF(源泉徴収票!BL67=\"\",-1,会社情報!$C$7-YEAR(源泉徴収票!BL67-1))","v":-1},{"$f":"IF(H67>=16,IF(AND(H67>=19,H67<23),\"特\",IF(H67>=70,IF(源泉徴収票!AO67=\"同居老親等\",\"同\",\"老\"),\"一\")),IF(H67>=0,\"未\",\"×\"))","v":"×"},{"$f":"IF(I67>=16,IF(AND(I67>=19,I67<23),\"特\",IF(I67>=70,IF(源泉徴収票!AU67=\"同居老親等\",\"同\",\"老\"),\"一\")),IF(I67>=0,\"未\",\"×\"))","v":"×"},{"$f":"IF(J67>=16,IF(AND(J67>=19,J67<23),\"特\",IF(J67>=70,IF(源泉徴収票!BA67=\"同居老親等\",\"同\",\"老\"),\"一\")),IF(J67>=0,\"未\",\"×\"))","v":"×"},{"$f":"IF(K67>=16,IF(AND(K67>=19,K67<23),\"特\",IF(K67>=70,IF(源泉徴収票!BG67=\"同居老親等\",\"同\",\"老\"),\"一\")),IF(K67>=0,\"未\",\"×\"))","v":"×"},{"$f":"IF(L67>=16,IF(AND(L67>=19,L67<23),\"特\",IF(L67>=70,IF(源泉徴収票!BM67=\"同居老親等\",\"同\",\"老\"),\"一\")),IF(L67>=0,\"未\",\"×\"))","v":"×"},"","","","","",{"$f":"IF(源泉徴収票!BU67<=20000, 源泉徴収票!BU67,\n  IF(源泉徴収票!BU67<=40000, 源泉徴収票!BU67*1/2+10000,\n   IF(源泉徴収票!BU67<=80000, 源泉徴収票!BU67*1/4+20000,\n                 40000)))","v":0},{"$f":"IF(源泉徴収票!BV67<=25000,源泉徴収票!BV67,\n  IF(源泉徴収票!BV67<=50000,源泉徴収票!BV67*1/2+12500,\n   IF(源泉徴収票!BV67<=100000,源泉徴収票!BV67*1/4+25000,\n                 50000)))","v":0},0,0,{"$f":"IF(源泉徴収票!BW67<=20000, 源泉徴収票!BW67,\n  IF(源泉徴収票!BW67<=40000, 源泉徴収票!BW67*1/2+10000,\n   IF(源泉徴収票!BW67<=80000, 源泉徴収票!BW67*1/4+20000,\n                 40000)))","v":0},{"$f":"IF(源泉徴収票!BX67<=20000, 源泉徴収票!BX67,\n  IF(源泉徴収票!BX67<=40000, 源泉徴収票!BX67*1/2+10000,\n   IF(源泉徴収票!BX67<=80000, 源泉徴収票!BX67*1/4+20000,\n                 40000)))","v":0},{"$f":"IF(源泉徴収票!BY67<=25000,源泉徴収票!BY67,\n  IF(源泉徴収票!BY67<=50000,源泉徴収票!BY67*1/2+12500,\n   IF(源泉徴収票!BY67<=100000,源泉徴収票!BY67*1/4+25000,\n                 50000)))","v":0},0,0,{"$f":"IF(源泉徴収票!BZ67<>\"\",MIN(源泉徴収票!BZ67,50000),0)","v":0},{"$f":"IF(源泉徴収票!CA67>=20000,15000,IF(源泉徴収票!CA67>=10000,源泉徴収票!CA67/2+5000,源泉徴収票!CA67))","v":0},{"$f":"IF(源泉徴収票!CS67<>\"\",\"〇\",\"×\")","v":"×"},null,{"$f":"源泉徴収票!O67+源泉徴収票!R67+源泉徴収票!U67","v":0},{"$f":"源泉徴収票!Q67+源泉徴収票!T67+源泉徴収票!W67","v":0},{"$f":"IF(源泉徴収票!I67=\"無\",0,INT(A67*VLOOKUP(A67, 給与所得計算, 3, TRUE)\n        +  VLOOKUP(A67, 給与所得計算, 4, TRUE) ))","v":0},0,0,{"$f":"源泉徴収票!P67+源泉徴収票!S67+源泉徴収票!V67","v":0},{"$f":"IF(源泉徴収票!I67=\"無\",0,源泉徴収票!CB67)","v":0},{"$f":"IF(源泉徴収票!I67=\"無\",0,源泉徴収票!CD67)","v":0},{"$f":"IF(源泉徴収票!I67=\"無\",0,MIN(120000,Z67+AA67+AE67))","v":0},{"$f":"IF(源泉徴収票!I67=\"無\",0,MIN(AF67+AG67,50000))","v":0},{"$f":"IF(源泉徴収票!I67=\"無\",0,IF(E67=\"○\",INDEX(H30配偶者控除・特別控除マスタ,F67,G67),0))","v":0},{"$f":"IF(源泉徴収票!I67=\"無\",0,IF(C67=\"○\",INDEX(H30配偶者控除・特別控除マスタ,F67,G67),0)+IF(D67=\"○\",INDEX(H30老人控除対象配偶者上乗せ,1,G67),0))","v":0},{"$f":"IF(源泉徴収票!I67=\"無\",0,COUNTIF(M67:Q67,\"一\")*380000+COUNTIF(M67:Q67,\"特\")*630000+COUNTIF(M67:Q67,\"老\")*480000+COUNTIF(M67:Q67,\"同\")*580000)","v":0},{"$f":"IF(源泉徴収票!I67=\"無\",0,(COUNTIF(源泉徴収票!BO67:BP67,\"一般\")+源泉徴収票!BQ67)*270000+(COUNTIF(源泉徴収票!BO67:BP67,\"特別\")+源泉徴収票!BR67)*400000+(COUNTIF(源泉徴収票!BP67,\"同居特別\")+源泉徴収票!BS67)*750000)","v":0},{"$f":"IF(源泉徴収票!I67=\"無\",0,IF(源泉徴収票!BT67<>\"\",IF(OR(源泉徴収票!BT67=\"特別の寡婦\",源泉徴収票!BT67=\"ひとり親\"),350000,270000),0))","v":0},{"$f":"IF(源泉徴収票!I67=\"無\",0,480000)","v":480000},{"$f":"IF(源泉徴収票!I67=\"無\",0,SUM(AO67:AY67))","v":480000},{"$f":"IF(源泉徴収票!I67=\"無\",AN67,FLOOR(MAX(AN67-AZ67,0),1000))","v":0},{"$f":"IF(源泉徴収票!I67=\"無\",AK67,BA67*VLOOKUP(BA67,所得税額計算,3,TRUE)+VLOOKUP(BA67,所得税額計算,4,TRUE))","v":0},{"$f":"IF(源泉徴収票!I67=\"無\",0,源泉徴収票!CZ67)","v":0},0,{"$f":"IF(源泉徴収票!I67=\"無\",BD67,FLOOR(BD67*102.1%,100))","v":0},0]
[0,{"$f":"IF(AND(源泉徴収票!I68=\"無\",源泉徴収票!AE68<>\"\"),\"○\",\"×\")","v":"×"},{"$f":"IF(AND(源泉徴収票!CO68<>\"\",源泉徴収票!CO68<=480000,AN68<=10000000),\"○\",\"×\")","v":"×"},{"$f":"IF(AND(C68=\"○\",源泉徴収票!CN68<>\"\",会社情報!$C$7-YEAR(MAX(源泉徴収票!CN68-1,0))>=70),\"○\",\"×\")","v":"×"},{"$f":"IF(AND(源泉徴収票!CO68<>\"\",源泉徴収票!CO68>480000,源泉徴収票!CO68<=1330000,AN68<=10000000),\"○\",\"×\")","v":"×"},{"$f":"MATCH(源泉徴収票!CO68,H30配偶者控除・特別控除マスタ_配偶者所得,1)","v":1},{"$f":"MATCH('源泉徴収票計算過程(非)'!AN68,H30配偶者控除・特別控除マスタ_所得者合計所得,1)","v":1},{"$f":"IF(源泉徴収票!AN68=\"\",-1,会社情報!$C$7-YEAR(源泉徴収票!AN68-1))","v":-1},{"$f":"IF(源泉徴収票!AT68=\"\",-1,会社情報!$C$7-YEAR(源泉徴収票!AT68-1))","v":-1},{"$f":"IF(源泉徴収票!AZ68=\"\",-1,会社情報!$C$7-YEAR(源泉徴収票!AZ68-1))","v":-1},{"$f":"IF(源泉徴収票!BF68=\"\",-1,会社情報!$C$7-YEAR(源泉徴収票!BF68-1))","v":-1},{"$f":"IF(源泉徴収票!BL68=\"\",-1,会社情報!$C$7-YEAR(源泉徴収票!BL68-1))","v":-1},{"$f":"IF(H68>=16,IF(AND(H68>=19,H68<23),\"特\",IF(H68>=70,IF(源泉徴収票!AO68=\"同居老親等\",\"同\",\"老\"),\"一\")),IF(H68>=0,\"未\",\"×\"))","v":"×"},{"$f":"IF(I68>=16,IF(AND(I68>=19,I68<23),\"特\",IF(I68>=70,IF(源泉徴収票!AU68=\"同居老親等\",\"同\",\"老\"),\"一\")),IF(I68>=0,\"未\",\"×\"))","v":"×"},{"$f":"IF(J68>=16,IF(AND(J68>=19,J68<23),\"特\",IF(J68>=70,IF(源泉徴収票!BA68=\"同居老親等\",\"同\",\"老\"),\"一\")),IF(J68>=0,\"未\",\"×\"))","v":"×"},{"$f":"IF(K68>=16,IF(AND(K68>=19,K68<23),\"特\",IF(K68>=70,IF(源泉徴収票!BG68=\"同居老親等\",\"同\",\"老\"),\"一\")),IF(K68>=0,\"未\",\"×\"))","v":"×"},{"$f":"IF(L68>=16,IF(AND(L68>=19,L68<23),\"特\",IF(L68>=70,IF(源泉徴収票!BM68=\"同居老親等\",\"同\",\"老\"),\"一\")),IF(L68>=0,\"未\",\"×\"))","v":"×"},"","","","","",{"$f":"IF(源泉徴収票!BU68<=20000, 源泉徴収票!BU68,\n  IF(源泉徴収票!BU68<=40000, 源泉徴収票!BU68*1/2+10000,\n   IF(源泉徴収票!BU68<=80000, 源泉徴収票!BU68*1/4+20000,\n                 40000)))","v":0},{"$f":"IF(源泉徴収票!BV68<=25000,源泉徴収票!BV68,\n  IF(源泉徴収票!BV68<=50000,源泉徴収票!BV68*1/2+12500,\n   IF(源泉徴収票!BV68<=100000,源泉徴収票!BV68*1/4+25000,\n                 50000)))","v":0},0,0,{"$f":"IF(源泉徴収票!BW68<=20000, 源泉徴収票!BW68,\n  IF(源泉徴収票!BW68<=40000, 源泉徴収票!BW68*1/2+10000,\n   IF(源泉徴収票!BW68<=80000, 源泉徴収票!BW68*1/4+20000,\n                 40000)))","v":0},{"$f":"IF(源泉徴収票!BX68<=20000, 源泉徴収票!BX68,\n  IF(源泉徴収票!BX68<=40000, 源泉徴収票!BX68*1/2+10000,\n   IF(源泉徴収票!BX68<=80000, 源泉徴収票!BX68*1/4+20000,\n                 40000)))","v":0},{"$f":"IF(源泉徴収票!BY68<=25000,源泉徴収票!BY68,\n  IF(源泉徴収票!BY68<=50000,源泉徴収票!BY68*1/2+12500,\n   IF(源泉徴収票!BY68<=100000,源泉徴収票!BY68*1/4+25000,\n                 50000)))","v":0},0,0,{"$f":"IF(源泉徴収票!BZ68<>\"\",MIN(源泉徴収票!BZ68,50000),0)","v":0},{"$f":"IF(源泉徴収票!CA68>=20000,15000,IF(源泉徴収票!CA68>=10000,源泉徴収票!CA68/2+5000,源泉徴収票!CA68))","v":0},{"$f":"IF(源泉徴収票!CS68<>\"\",\"〇\",\"×\")","v":"×"},null,{"$f":"源泉徴収票!O68+源泉徴収票!R68+源泉徴収票!U68","v":0},{"$f":"源泉徴収票!Q68+源泉徴収票!T68+源泉徴収票!W68","v":0},{"$f":"IF(源泉徴収票!I68=\"無\",0,INT(A68*VLOOKUP(A68, 給与所得計算, 3, TRUE)\n        +  VLOOKUP(A68, 給与所得計算, 4, TRUE) ))","v":0},0,0,{"$f":"源泉徴収票!P68+源泉徴収票!S68+源泉徴収票!V68","v":0},{"$f":"IF(源泉徴収票!I68=\"無\",0,源泉徴収票!CB68)","v":0},{"$f":"IF(源泉徴収票!I68=\"無\",0,源泉徴収票!CD68)","v":0},{"$f":"IF(源泉徴収票!I68=\"無\",0,MIN(120000,Z68+AA68+AE68))","v":0},{"$f":"IF(源泉徴収票!I68=\"無\",0,MIN(AF68+AG68,50000))","v":0},{"$f":"IF(源泉徴収票!I68=\"無\",0,IF(E68=\"○\",INDEX(H30配偶者控除・特別控除マスタ,F68,G68),0))","v":0},{"$f":"IF(源泉徴収票!I68=\"無\",0,IF(C68=\"○\",INDEX(H30配偶者控除・特別控除マスタ,F68,G68),0)+IF(D68=\"○\",INDEX(H30老人控除対象配偶者上乗せ,1,G68),0))","v":0},{"$f":"IF(源泉徴収票!I68=\"無\",0,COUNTIF(M68:Q68,\"一\")*380000+COUNTIF(M68:Q68,\"特\")*630000+COUNTIF(M68:Q68,\"老\")*480000+COUNTIF(M68:Q68,\"同\")*580000)","v":0},{"$f":"IF(源泉徴収票!I68=\"無\",0,(COUNTIF(源泉徴収票!BO68:BP68,\"一般\")+源泉徴収票!BQ68)*270000+(COUNTIF(源泉徴収票!BO68:BP68,\"特別\")+源泉徴収票!BR68)*400000+(COUNTIF(源泉徴収票!BP68,\"同居特別\")+源泉徴収票!BS68)*750000)","v":0},{"$f":"IF(源泉徴収票!I68=\"無\",0,IF(源泉徴収票!BT68<>\"\",IF(OR(源泉徴収票!BT68=\"特別の寡婦\",源泉徴収票!BT68=\"ひとり親\"),350000,270000),0))","v":0},{"$f":"IF(源泉徴収票!I68=\"無\",0,480000)","v":480000},{"$f":"IF(源泉徴収票!I68=\"無\",0,SUM(AO68:AY68))","v":480000},{"$f":"IF(源泉徴収票!I68=\"無\",AN68,FLOOR(MAX(AN68-AZ68,0),1000))","v":0},{"$f":"IF(源泉徴収票!I68=\"無\",AK68,BA68*VLOOKUP(BA68,所得税額計算,3,TRUE)+VLOOKUP(BA68,所得税額計算,4,TRUE))","v":0},{"$f":"IF(源泉徴収票!I68=\"無\",0,源泉徴収票!CZ68)","v":0},0,{"$f":"IF(源泉徴収票!I68=\"無\",BD68,FLOOR(BD68*102.1%,100))","v":0},0]
[0,{"$f":"IF(AND(源泉徴収票!I69=\"無\",源泉徴収票!AE69<>\"\"),\"○\",\"×\")","v":"×"},{"$f":"IF(AND(源泉徴収票!CO69<>\"\",源泉徴収票!CO69<=480000,AN69<=10000000),\"○\",\"×\")","v":"×"},{"$f":"IF(AND(C69=\"○\",源泉徴収票!CN69<>\"\",会社情報!$C$7-YEAR(MAX(源泉徴収票!CN69-1,0))>=70),\"○\",\"×\")","v":"×"},{"$f":"IF(AND(源泉徴収票!CO69<>\"\",源泉徴収票!CO69>480000,源泉徴収票!CO69<=1330000,AN69<=10000000),\"○\",\"×\")","v":"×"},{"$f":"MATCH(源泉徴収票!CO69,H30配偶者控除・特別控除マスタ_配偶者所得,1)","v":1},{"$f":"MATCH('源泉徴収票計算過程(非)'!AN69,H30配偶者控除・特別控除マスタ_所得者合計所得,1)","v":1},{"$f":"IF(源泉徴収票!AN69=\"\",-1,会社情報!$C$7-YEAR(源泉徴収票!AN69-1))","v":-1},{"$f":"IF(源泉徴収票!AT69=\"\",-1,会社情報!$C$7-YEAR(源泉徴収票!AT69-1))","v":-1},{"$f":"IF(源泉徴収票!AZ69=\"\",-1,会社情報!$C$7-YEAR(源泉徴収票!AZ69-1))","v":-1},{"$f":"IF(源泉徴収票!BF69=\"\",-1,会社情報!$C$7-YEAR(源泉徴収票!BF69-1))","v":-1},{"$f":"IF(源泉徴収票!BL69=\"\",-1,会社情報!$C$7-YEAR(源泉徴収票!BL69-1))","v":-1},{"$f":"IF(H69>=16,IF(AND(H69>=19,H69<23),\"特\",IF(H69>=70,IF(源泉徴収票!AO69=\"同居老親等\",\"同\",\"老\"),\"一\")),IF(H69>=0,\"未\",\"×\"))","v":"×"},{"$f":"IF(I69>=16,IF(AND(I69>=19,I69<23),\"特\",IF(I69>=70,IF(源泉徴収票!AU69=\"同居老親等\",\"同\",\"老\"),\"一\")),IF(I69>=0,\"未\",\"×\"))","v":"×"},{"$f":"IF(J69>=16,IF(AND(J69>=19,J69<23),\"特\",IF(J69>=70,IF(源泉徴収票!BA69=\"同居老親等\",\"同\",\"老\"),\"一\")),IF(J69>=0,\"未\",\"×\"))","v":"×"},{"$f":"IF(K69>=16,IF(AND(K69>=19,K69<23),\"特\",IF(K69>=70,IF(源泉徴収票!BG69=\"同居老親等\",\"同\",\"老\"),\"一\")),IF(K69>=0,\"未\",\"×\"))","v":"×"},{"$f":"IF(L69>=16,IF(AND(L69>=19,L69<23),\"特\",IF(L69>=70,IF(源泉徴収票!BM69=\"同居老親等\",\"同\",\"老\"),\"一\")),IF(L69>=0,\"未\",\"×\"))","v":"×"},"","","","","",{"$f":"IF(源泉徴収票!BU69<=20000, 源泉徴収票!BU69,\n  IF(源泉徴収票!BU69<=40000, 源泉徴収票!BU69*1/2+10000,\n   IF(源泉徴収票!BU69<=80000, 源泉徴収票!BU69*1/4+20000,\n                 40000)))","v":0},{"$f":"IF(源泉徴収票!BV69<=25000,源泉徴収票!BV69,\n  IF(源泉徴収票!BV69<=50000,源泉徴収票!BV69*1/2+12500,\n   IF(源泉徴収票!BV69<=100000,源泉徴収票!BV69*1/4+25000,\n                 50000)))","v":0},0,0,{"$f":"IF(源泉徴収票!BW69<=20000, 源泉徴収票!BW69,\n  IF(源泉徴収票!BW69<=40000, 源泉徴収票!BW69*1/2+10000,\n   IF(源泉徴収票!BW69<=80000, 源泉徴収票!BW69*1/4+20000,\n                 40000)))","v":0},{"$f":"IF(源泉徴収票!BX69<=20000, 源泉徴収票!BX69,\n  IF(源泉徴収票!BX69<=40000, 源泉徴収票!BX69*1/2+10000,\n   IF(源泉徴収票!BX69<=80000, 源泉徴収票!BX69*1/4+20000,\n                 40000)))","v":0},{"$f":"IF(源泉徴収票!BY69<=25000,源泉徴収票!BY69,\n  IF(源泉徴収票!BY69<=50000,源泉徴収票!BY69*1/2+12500,\n   IF(源泉徴収票!BY69<=100000,源泉徴収票!BY69*1/4+25000,\n                 50000)))","v":0},0,0,{"$f":"IF(源泉徴収票!BZ69<>\"\",MIN(源泉徴収票!BZ69,50000),0)","v":0},{"$f":"IF(源泉徴収票!CA69>=20000,15000,IF(源泉徴収票!CA69>=10000,源泉徴収票!CA69/2+5000,源泉徴収票!CA69))","v":0},{"$f":"IF(源泉徴収票!CS69<>\"\",\"〇\",\"×\")","v":"×"},null,{"$f":"源泉徴収票!O69+源泉徴収票!R69+源泉徴収票!U69","v":0},{"$f":"源泉徴収票!Q69+源泉徴収票!T69+源泉徴収票!W69","v":0},{"$f":"IF(源泉徴収票!I69=\"無\",0,INT(A69*VLOOKUP(A69, 給与所得計算, 3, TRUE)\n        +  VLOOKUP(A69, 給与所得計算, 4, TRUE) ))","v":0},0,0,{"$f":"源泉徴収票!P69+源泉徴収票!S69+源泉徴収票!V69","v":0},{"$f":"IF(源泉徴収票!I69=\"無\",0,源泉徴収票!CB69)","v":0},{"$f":"IF(源泉徴収票!I69=\"無\",0,源泉徴収票!CD69)","v":0},{"$f":"IF(源泉徴収票!I69=\"無\",0,MIN(120000,Z69+AA69+AE69))","v":0},{"$f":"IF(源泉徴収票!I69=\"無\",0,MIN(AF69+AG69,50000))","v":0},{"$f":"IF(源泉徴収票!I69=\"無\",0,IF(E69=\"○\",INDEX(H30配偶者控除・特別控除マスタ,F69,G69),0))","v":0},{"$f":"IF(源泉徴収票!I69=\"無\",0,IF(C69=\"○\",INDEX(H30配偶者控除・特別控除マスタ,F69,G69),0)+IF(D69=\"○\",INDEX(H30老人控除対象配偶者上乗せ,1,G69),0))","v":0},{"$f":"IF(源泉徴収票!I69=\"無\",0,COUNTIF(M69:Q69,\"一\")*380000+COUNTIF(M69:Q69,\"特\")*630000+COUNTIF(M69:Q69,\"老\")*480000+COUNTIF(M69:Q69,\"同\")*580000)","v":0},{"$f":"IF(源泉徴収票!I69=\"無\",0,(COUNTIF(源泉徴収票!BO69:BP69,\"一般\")+源泉徴収票!BQ69)*270000+(COUNTIF(源泉徴収票!BO69:BP69,\"特別\")+源泉徴収票!BR69)*400000+(COUNTIF(源泉徴収票!BP69,\"同居特別\")+源泉徴収票!BS69)*750000)","v":0},{"$f":"IF(源泉徴収票!I69=\"無\",0,IF(源泉徴収票!BT69<>\"\",IF(OR(源泉徴収票!BT69=\"特別の寡婦\",源泉徴収票!BT69=\"ひとり親\"),350000,270000),0))","v":0},{"$f":"IF(源泉徴収票!I69=\"無\",0,480000)","v":480000},{"$f":"IF(源泉徴収票!I69=\"無\",0,SUM(AO69:AY69))","v":480000},{"$f":"IF(源泉徴収票!I69=\"無\",AN69,FLOOR(MAX(AN69-AZ69,0),1000))","v":0},{"$f":"IF(源泉徴収票!I69=\"無\",AK69,BA69*VLOOKUP(BA69,所得税額計算,3,TRUE)+VLOOKUP(BA69,所得税額計算,4,TRUE))","v":0},{"$f":"IF(源泉徴収票!I69=\"無\",0,源泉徴収票!CZ69)","v":0},0,{"$f":"IF(源泉徴収票!I69=\"無\",BD69,FLOOR(BD69*102.1%,100))","v":0},0]
[0,{"$f":"IF(AND(源泉徴収票!I70=\"無\",源泉徴収票!AE70<>\"\"),\"○\",\"×\")","v":"×"},{"$f":"IF(AND(源泉徴収票!CO70<>\"\",源泉徴収票!CO70<=480000,AN70<=10000000),\"○\",\"×\")","v":"×"},{"$f":"IF(AND(C70=\"○\",源泉徴収票!CN70<>\"\",会社情報!$C$7-YEAR(MAX(源泉徴収票!CN70-1,0))>=70),\"○\",\"×\")","v":"×"},{"$f":"IF(AND(源泉徴収票!CO70<>\"\",源泉徴収票!CO70>480000,源泉徴収票!CO70<=1330000,AN70<=10000000),\"○\",\"×\")","v":"×"},{"$f":"MATCH(源泉徴収票!CO70,H30配偶者控除・特別控除マスタ_配偶者所得,1)","v":1},{"$f":"MATCH('源泉徴収票計算過程(非)'!AN70,H30配偶者控除・特別控除マスタ_所得者合計所得,1)","v":1},{"$f":"IF(源泉徴収票!AN70=\"\",-1,会社情報!$C$7-YEAR(源泉徴収票!AN70-1))","v":-1},{"$f":"IF(源泉徴収票!AT70=\"\",-1,会社情報!$C$7-YEAR(源泉徴収票!AT70-1))","v":-1},{"$f":"IF(源泉徴収票!AZ70=\"\",-1,会社情報!$C$7-YEAR(源泉徴収票!AZ70-1))","v":-1},{"$f":"IF(源泉徴収票!BF70=\"\",-1,会社情報!$C$7-YEAR(源泉徴収票!BF70-1))","v":-1},{"$f":"IF(源泉徴収票!BL70=\"\",-1,会社情報!$C$7-YEAR(源泉徴収票!BL70-1))","v":-1},{"$f":"IF(H70>=16,IF(AND(H70>=19,H70<23),\"特\",IF(H70>=70,IF(源泉徴収票!AO70=\"同居老親等\",\"同\",\"老\"),\"一\")),IF(H70>=0,\"未\",\"×\"))","v":"×"},{"$f":"IF(I70>=16,IF(AND(I70>=19,I70<23),\"特\",IF(I70>=70,IF(源泉徴収票!AU70=\"同居老親等\",\"同\",\"老\"),\"一\")),IF(I70>=0,\"未\",\"×\"))","v":"×"},{"$f":"IF(J70>=16,IF(AND(J70>=19,J70<23),\"特\",IF(J70>=70,IF(源泉徴収票!BA70=\"同居老親等\",\"同\",\"老\"),\"一\")),IF(J70>=0,\"未\",\"×\"))","v":"×"},{"$f":"IF(K70>=16,IF(AND(K70>=19,K70<23),\"特\",IF(K70>=70,IF(源泉徴収票!BG70=\"同居老親等\",\"同\",\"老\"),\"一\")),IF(K70>=0,\"未\",\"×\"))","v":"×"},{"$f":"IF(L70>=16,IF(AND(L70>=19,L70<23),\"特\",IF(L70>=70,IF(源泉徴収票!BM70=\"同居老親等\",\"同\",\"老\"),\"一\")),IF(L70>=0,\"未\",\"×\"))","v":"×"},"","","","","",{"$f":"IF(源泉徴収票!BU70<=20000, 源泉徴収票!BU70,\n  IF(源泉徴収票!BU70<=40000, 源泉徴収票!BU70*1/2+10000,\n   IF(源泉徴収票!BU70<=80000, 源泉徴収票!BU70*1/4+20000,\n                 40000)))","v":0},{"$f":"IF(源泉徴収票!BV70<=25000,源泉徴収票!BV70,\n  IF(源泉徴収票!BV70<=50000,源泉徴収票!BV70*1/2+12500,\n   IF(源泉徴収票!BV70<=100000,源泉徴収票!BV70*1/4+25000,\n                 50000)))","v":0},0,0,{"$f":"IF(源泉徴収票!BW70<=20000, 源泉徴収票!BW70,\n  IF(源泉徴収票!BW70<=40000, 源泉徴収票!BW70*1/2+10000,\n   IF(源泉徴収票!BW70<=80000, 源泉徴収票!BW70*1/4+20000,\n                 40000)))","v":0},{"$f":"IF(源泉徴収票!BX70<=20000, 源泉徴収票!BX70,\n  IF(源泉徴収票!BX70<=40000, 源泉徴収票!BX70*1/2+10000,\n   IF(源泉徴収票!BX70<=80000, 源泉徴収票!BX70*1/4+20000,\n                 40000)))","v":0},{"$f":"IF(源泉徴収票!BY70<=25000,源泉徴収票!BY70,\n  IF(源泉徴収票!BY70<=50000,源泉徴収票!BY70*1/2+12500,\n   IF(源泉徴収票!BY70<=100000,源泉徴収票!BY70*1/4+25000,\n                 50000)))","v":0},0,0,{"$f":"IF(源泉徴収票!BZ70<>\"\",MIN(源泉徴収票!BZ70,50000),0)","v":0},{"$f":"IF(源泉徴収票!CA70>=20000,15000,IF(源泉徴収票!CA70>=10000,源泉徴収票!CA70/2+5000,源泉徴収票!CA70))","v":0},{"$f":"IF(源泉徴収票!CS70<>\"\",\"〇\",\"×\")","v":"×"},null,{"$f":"源泉徴収票!O70+源泉徴収票!R70+源泉徴収票!U70","v":0},{"$f":"源泉徴収票!Q70+源泉徴収票!T70+源泉徴収票!W70","v":0},{"$f":"IF(源泉徴収票!I70=\"無\",0,INT(A70*VLOOKUP(A70, 給与所得計算, 3, TRUE)\n        +  VLOOKUP(A70, 給与所得計算, 4, TRUE) ))","v":0},0,0,{"$f":"源泉徴収票!P70+源泉徴収票!S70+源泉徴収票!V70","v":0},{"$f":"IF(源泉徴収票!I70=\"無\",0,源泉徴収票!CB70)","v":0},{"$f":"IF(源泉徴収票!I70=\"無\",0,源泉徴収票!CD70)","v":0},{"$f":"IF(源泉徴収票!I70=\"無\",0,MIN(120000,Z70+AA70+AE70))","v":0},{"$f":"IF(源泉徴収票!I70=\"無\",0,MIN(AF70+AG70,50000))","v":0},{"$f":"IF(源泉徴収票!I70=\"無\",0,IF(E70=\"○\",INDEX(H30配偶者控除・特別控除マスタ,F70,G70),0))","v":0},{"$f":"IF(源泉徴収票!I70=\"無\",0,IF(C70=\"○\",INDEX(H30配偶者控除・特別控除マスタ,F70,G70),0)+IF(D70=\"○\",INDEX(H30老人控除対象配偶者上乗せ,1,G70),0))","v":0},{"$f":"IF(源泉徴収票!I70=\"無\",0,COUNTIF(M70:Q70,\"一\")*380000+COUNTIF(M70:Q70,\"特\")*630000+COUNTIF(M70:Q70,\"老\")*480000+COUNTIF(M70:Q70,\"同\")*580000)","v":0},{"$f":"IF(源泉徴収票!I70=\"無\",0,(COUNTIF(源泉徴収票!BO70:BP70,\"一般\")+源泉徴収票!BQ70)*270000+(COUNTIF(源泉徴収票!BO70:BP70,\"特別\")+源泉徴収票!BR70)*400000+(COUNTIF(源泉徴収票!BP70,\"同居特別\")+源泉徴収票!BS70)*750000)","v":0},{"$f":"IF(源泉徴収票!I70=\"無\",0,IF(源泉徴収票!BT70<>\"\",IF(OR(源泉徴収票!BT70=\"特別の寡婦\",源泉徴収票!BT70=\"ひとり親\"),350000,270000),0))","v":0},{"$f":"IF(源泉徴収票!I70=\"無\",0,480000)","v":480000},{"$f":"IF(源泉徴収票!I70=\"無\",0,SUM(AO70:AY70))","v":480000},{"$f":"IF(源泉徴収票!I70=\"無\",AN70,FLOOR(MAX(AN70-AZ70,0),1000))","v":0},{"$f":"IF(源泉徴収票!I70=\"無\",AK70,BA70*VLOOKUP(BA70,所得税額計算,3,TRUE)+VLOOKUP(BA70,所得税額計算,4,TRUE))","v":0},{"$f":"IF(源泉徴収票!I70=\"無\",0,源泉徴収票!CZ70)","v":0},0,{"$f":"IF(源泉徴収票!I70=\"無\",BD70,FLOOR(BD70*102.1%,100))","v":0},0]
[0,{"$f":"IF(AND(源泉徴収票!I71=\"無\",源泉徴収票!AE71<>\"\"),\"○\",\"×\")","v":"×"},{"$f":"IF(AND(源泉徴収票!CO71<>\"\",源泉徴収票!CO71<=480000,AN71<=10000000),\"○\",\"×\")","v":"×"},{"$f":"IF(AND(C71=\"○\",源泉徴収票!CN71<>\"\",会社情報!$C$7-YEAR(MAX(源泉徴収票!CN71-1,0))>=70),\"○\",\"×\")","v":"×"},{"$f":"IF(AND(源泉徴収票!CO71<>\"\",源泉徴収票!CO71>480000,源泉徴収票!CO71<=1330000,AN71<=10000000),\"○\",\"×\")","v":"×"},{"$f":"MATCH(源泉徴収票!CO71,H30配偶者控除・特別控除マスタ_配偶者所得,1)","v":1},{"$f":"MATCH('源泉徴収票計算過程(非)'!AN71,H30配偶者控除・特別控除マスタ_所得者合計所得,1)","v":1},{"$f":"IF(源泉徴収票!AN71=\"\",-1,会社情報!$C$7-YEAR(源泉徴収票!AN71-1))","v":-1},{"$f":"IF(源泉徴収票!AT71=\"\",-1,会社情報!$C$7-YEAR(源泉徴収票!AT71-1))","v":-1},{"$f":"IF(源泉徴収票!AZ71=\"\",-1,会社情報!$C$7-YEAR(源泉徴収票!AZ71-1))","v":-1},{"$f":"IF(源泉徴収票!BF71=\"\",-1,会社情報!$C$7-YEAR(源泉徴収票!BF71-1))","v":-1},{"$f":"IF(源泉徴収票!BL71=\"\",-1,会社情報!$C$7-YEAR(源泉徴収票!BL71-1))","v":-1},{"$f":"IF(H71>=16,IF(AND(H71>=19,H71<23),\"特\",IF(H71>=70,IF(源泉徴収票!AO71=\"同居老親等\",\"同\",\"老\"),\"一\")),IF(H71>=0,\"未\",\"×\"))","v":"×"},{"$f":"IF(I71>=16,IF(AND(I71>=19,I71<23),\"特\",IF(I71>=70,IF(源泉徴収票!AU71=\"同居老親等\",\"同\",\"老\"),\"一\")),IF(I71>=0,\"未\",\"×\"))","v":"×"},{"$f":"IF(J71>=16,IF(AND(J71>=19,J71<23),\"特\",IF(J71>=70,IF(源泉徴収票!BA71=\"同居老親等\",\"同\",\"老\"),\"一\")),IF(J71>=0,\"未\",\"×\"))","v":"×"},{"$f":"IF(K71>=16,IF(AND(K71>=19,K71<23),\"特\",IF(K71>=70,IF(源泉徴収票!BG71=\"同居老親等\",\"同\",\"老\"),\"一\")),IF(K71>=0,\"未\",\"×\"))","v":"×"},{"$f":"IF(L71>=16,IF(AND(L71>=19,L71<23),\"特\",IF(L71>=70,IF(源泉徴収票!BM71=\"同居老親等\",\"同\",\"老\"),\"一\")),IF(L71>=0,\"未\",\"×\"))","v":"×"},"","","","","",{"$f":"IF(源泉徴収票!BU71<=20000, 源泉徴収票!BU71,\n  IF(源泉徴収票!BU71<=40000, 源泉徴収票!BU71*1/2+10000,\n   IF(源泉徴収票!BU71<=80000, 源泉徴収票!BU71*1/4+20000,\n                 40000)))","v":0},{"$f":"IF(源泉徴収票!BV71<=25000,源泉徴収票!BV71,\n  IF(源泉徴収票!BV71<=50000,源泉徴収票!BV71*1/2+12500,\n   IF(源泉徴収票!BV71<=100000,源泉徴収票!BV71*1/4+25000,\n                 50000)))","v":0},0,0,{"$f":"IF(源泉徴収票!BW71<=20000, 源泉徴収票!BW71,\n  IF(源泉徴収票!BW71<=40000, 源泉徴収票!BW71*1/2+10000,\n   IF(源泉徴収票!BW71<=80000, 源泉徴収票!BW71*1/4+20000,\n                 40000)))","v":0},{"$f":"IF(源泉徴収票!BX71<=20000, 源泉徴収票!BX71,\n  IF(源泉徴収票!BX71<=40000, 源泉徴収票!BX71*1/2+10000,\n   IF(源泉徴収票!BX71<=80000, 源泉徴収票!BX71*1/4+20000,\n                 40000)))","v":0},{"$f":"IF(源泉徴収票!BY71<=25000,源泉徴収票!BY71,\n  IF(源泉徴収票!BY71<=50000,源泉徴収票!BY71*1/2+12500,\n   IF(源泉徴収票!BY71<=100000,源泉徴収票!BY71*1/4+25000,\n                 50000)))","v":0},0,0,{"$f":"IF(源泉徴収票!BZ71<>\"\",MIN(源泉徴収票!BZ71,50000),0)","v":0},{"$f":"IF(源泉徴収票!CA71>=20000,15000,IF(源泉徴収票!CA71>=10000,源泉徴収票!CA71/2+5000,源泉徴収票!CA71))","v":0},{"$f":"IF(源泉徴収票!CS71<>\"\",\"〇\",\"×\")","v":"×"},null,{"$f":"源泉徴収票!O71+源泉徴収票!R71+源泉徴収票!U71","v":0},{"$f":"源泉徴収票!Q71+源泉徴収票!T71+源泉徴収票!W71","v":0},{"$f":"IF(源泉徴収票!I71=\"無\",0,INT(A71*VLOOKUP(A71, 給与所得計算, 3, TRUE)\n        +  VLOOKUP(A71, 給与所得計算, 4, TRUE) ))","v":0},0,0,{"$f":"源泉徴収票!P71+源泉徴収票!S71+源泉徴収票!V71","v":0},{"$f":"IF(源泉徴収票!I71=\"無\",0,源泉徴収票!CB71)","v":0},{"$f":"IF(源泉徴収票!I71=\"無\",0,源泉徴収票!CD71)","v":0},{"$f":"IF(源泉徴収票!I71=\"無\",0,MIN(120000,Z71+AA71+AE71))","v":0},{"$f":"IF(源泉徴収票!I71=\"無\",0,MIN(AF71+AG71,50000))","v":0},{"$f":"IF(源泉徴収票!I71=\"無\",0,IF(E71=\"○\",INDEX(H30配偶者控除・特別控除マスタ,F71,G71),0))","v":0},{"$f":"IF(源泉徴収票!I71=\"無\",0,IF(C71=\"○\",INDEX(H30配偶者控除・特別控除マスタ,F71,G71),0)+IF(D71=\"○\",INDEX(H30老人控除対象配偶者上乗せ,1,G71),0))","v":0},{"$f":"IF(源泉徴収票!I71=\"無\",0,COUNTIF(M71:Q71,\"一\")*380000+COUNTIF(M71:Q71,\"特\")*630000+COUNTIF(M71:Q71,\"老\")*480000+COUNTIF(M71:Q71,\"同\")*580000)","v":0},{"$f":"IF(源泉徴収票!I71=\"無\",0,(COUNTIF(源泉徴収票!BO71:BP71,\"一般\")+源泉徴収票!BQ71)*270000+(COUNTIF(源泉徴収票!BO71:BP71,\"特別\")+源泉徴収票!BR71)*400000+(COUNTIF(源泉徴収票!BP71,\"同居特別\")+源泉徴収票!BS71)*750000)","v":0},{"$f":"IF(源泉徴収票!I71=\"無\",0,IF(源泉徴収票!BT71<>\"\",IF(OR(源泉徴収票!BT71=\"特別の寡婦\",源泉徴収票!BT71=\"ひとり親\"),350000,270000),0))","v":0},{"$f":"IF(源泉徴収票!I71=\"無\",0,480000)","v":480000},{"$f":"IF(源泉徴収票!I71=\"無\",0,SUM(AO71:AY71))","v":480000},{"$f":"IF(源泉徴収票!I71=\"無\",AN71,FLOOR(MAX(AN71-AZ71,0),1000))","v":0},{"$f":"IF(源泉徴収票!I71=\"無\",AK71,BA71*VLOOKUP(BA71,所得税額計算,3,TRUE)+VLOOKUP(BA71,所得税額計算,4,TRUE))","v":0},{"$f":"IF(源泉徴収票!I71=\"無\",0,源泉徴収票!CZ71)","v":0},0,{"$f":"IF(源泉徴収票!I71=\"無\",BD71,FLOOR(BD71*102.1%,100))","v":0},0]
[{"$f":"FLOOR(AJ72,VLOOKUP(AJ72,年調給与計算,3,TRUE))","v":0},{"$f":"IF(AND(源泉徴収票!I72=\"無\",源泉徴収票!AE72<>\"\"),\"○\",\"×\")","v":"×"},{"$f":"IF(AND(源泉徴収票!CO72<>\"\",源泉徴収票!CO72<=480000,AN72<=10000000),\"○\",\"×\")","v":"×"},{"$f":"IF(AND(C72=\"○\",源泉徴収票!CN72<>\"\",会社情報!$C$7-YEAR(MAX(源泉徴収票!CN72-1,0))>=70),\"○\",\"×\")","v":"×"},{"$f":"IF(AND(源泉徴収票!CO72<>\"\",源泉徴収票!CO72>480000,源泉徴収票!CO72<=1330000,AN72<=10000000),\"○\",\"×\")","v":"×"},{"$f":"MATCH(源泉徴収票!CO72,H30配偶者控除・特別控除マスタ_配偶者所得,1)","v":1},{"$f":"MATCH('源泉徴収票計算過程(非)'!AN72,H30配偶者控除・特別控除マスタ_所得者合計所得,1)","v":1},{"$f":"IF(源泉徴収票!AN72=\"\",-1,会社情報!$C$7-YEAR(源泉徴収票!AN72-1))","v":-1},{"$f":"IF(源泉徴収票!AT72=\"\",-1,会社情報!$C$7-YEAR(源泉徴収票!AT72-1))","v":-1},{"$f":"IF(源泉徴収票!AZ72=\"\",-1,会社情報!$C$7-YEAR(源泉徴収票!AZ72-1))","v":-1},{"$f":"IF(源泉徴収票!BF72=\"\",-1,会社情報!$C$7-YEAR(源泉徴収票!BF72-1))","v":-1},{"$f":"IF(源泉徴収票!BL72=\"\",-1,会社情報!$C$7-YEAR(源泉徴収票!BL72-1))","v":-1},{"$f":"IF(H72>=16,IF(AND(H72>=19,H72<23),\"特\",IF(H72>=70,IF(源泉徴収票!AO72=\"同居老親等\",\"同\",\"老\"),\"一\")),IF(H72>=0,\"未\",\"×\"))","v":"×"},{"$f":"IF(I72>=16,IF(AND(I72>=19,I72<23),\"特\",IF(I72>=70,IF(源泉徴収票!AU72=\"同居老親等\",\"同\",\"老\"),\"一\")),IF(I72>=0,\"未\",\"×\"))","v":"×"},{"$f":"IF(J72>=16,IF(AND(J72>=19,J72<23),\"特\",IF(J72>=70,IF(源泉徴収票!BA72=\"同居老親等\",\"同\",\"老\"),\"一\")),IF(J72>=0,\"未\",\"×\"))","v":"×"},{"$f":"IF(K72>=16,IF(AND(K72>=19,K72<23),\"特\",IF(K72>=70,IF(源泉徴収票!BG72=\"同居老親等\",\"同\",\"老\"),\"一\")),IF(K72>=0,\"未\",\"×\"))","v":"×"},{"$f":"IF(L72>=16,IF(AND(L72>=19,L72<23),\"特\",IF(L72>=70,IF(源泉徴収票!BM72=\"同居老親等\",\"同\",\"老\"),\"一\")),IF(L72>=0,\"未\",\"×\"))","v":"×"},"","","","","",{"$f":"IF(源泉徴収票!BU72<=20000, 源泉徴収票!BU72,\n  IF(源泉徴収票!BU72<=40000, 源泉徴収票!BU72*1/2+10000,\n   IF(源泉徴収票!BU72<=80000, 源泉徴収票!BU72*1/4+20000,\n                 40000)))","v":0},{"$f":"IF(源泉徴収票!BV72<=25000,源泉徴収票!BV72,\n  IF(源泉徴収票!BV72<=50000,源泉徴収票!BV72*1/2+12500,\n   IF(源泉徴収票!BV72<=100000,源泉徴収票!BV72*1/4+25000,\n                 50000)))","v":0},0,0,{"$f":"IF(源泉徴収票!BW72<=20000, 源泉徴収票!BW72,\n  IF(源泉徴収票!BW72<=40000, 源泉徴収票!BW72*1/2+10000,\n   IF(源泉徴収票!BW72<=80000, 源泉徴収票!BW72*1/4+20000,\n                 40000)))","v":0},{"$f":"IF(源泉徴収票!BX72<=20000, 源泉徴収票!BX72,\n  IF(源泉徴収票!BX72<=40000, 源泉徴収票!BX72*1/2+10000,\n   IF(源泉徴収票!BX72<=80000, 源泉徴収票!BX72*1/4+20000,\n                 40000)))","v":0},{"$f":"IF(源泉徴収票!BY72<=25000,源泉徴収票!BY72,\n  IF(源泉徴収票!BY72<=50000,源泉徴収票!BY72*1/2+12500,\n   IF(源泉徴収票!BY72<=100000,源泉徴収票!BY72*1/4+25000,\n                 50000)))","v":0},0,0,{"$f":"IF(源泉徴収票!BZ72<>\"\",MIN(源泉徴収票!BZ72,50000),0)","v":0},{"$f":"IF(源泉徴収票!CA72>=20000,15000,IF(源泉徴収票!CA72>=10000,源泉徴収票!CA72/2+5000,源泉徴収票!CA72))","v":0},{"$f":"IF(源泉徴収票!CS72<>\"\",\"〇\",\"×\")","v":"×"},null,{"$f":"源泉徴収票!O72+源泉徴収票!R72+源泉徴収票!U72","v":0},{"$f":"源泉徴収票!Q72+源泉徴収票!T72+源泉徴収票!W72","v":0},{"$f":"IF(源泉徴収票!I72=\"無\",0,INT(A72*VLOOKUP(A72, 給与所得計算, 3, TRUE)\n        +  VLOOKUP(A72, 給与所得計算, 4, TRUE) ))","v":0},0,0,{"$f":"源泉徴収票!P72+源泉徴収票!S72+源泉徴収票!V72","v":0},{"$f":"IF(源泉徴収票!I72=\"無\",0,源泉徴収票!CB72)","v":0},{"$f":"IF(源泉徴収票!I72=\"無\",0,源泉徴収票!CD72)","v":0},{"$f":"IF(源泉徴収票!I72=\"無\",0,MIN(120000,Z72+AA72+AE72))","v":0},{"$f":"IF(源泉徴収票!I72=\"無\",0,MIN(AF72+AG72,50000))","v":0},{"$f":"IF(源泉徴収票!I72=\"無\",0,IF(E72=\"○\",INDEX(H30配偶者控除・特別控除マスタ,F72,G72),0))","v":0},{"$f":"IF(源泉徴収票!I72=\"無\",0,IF(C72=\"○\",INDEX(H30配偶者控除・特別控除マスタ,F72,G72),0)+IF(D72=\"○\",INDEX(H30老人控除対象配偶者上乗せ,1,G72),0))","v":0},{"$f":"IF(源泉徴収票!I72=\"無\",0,COUNTIF(M72:Q72,\"一\")*380000+COUNTIF(M72:Q72,\"特\")*630000+COUNTIF(M72:Q72,\"老\")*480000+COUNTIF(M72:Q72,\"同\")*580000)","v":0},{"$f":"IF(源泉徴収票!I72=\"無\",0,(COUNTIF(源泉徴収票!BO72:BP72,\"一般\")+源泉徴収票!BQ72)*270000+(COUNTIF(源泉徴収票!BO72:BP72,\"特別\")+源泉徴収票!BR72)*400000+(COUNTIF(源泉徴収票!BP72,\"同居特別\")+源泉徴収票!BS72)*750000)","v":0},{"$f":"IF(源泉徴収票!I72=\"無\",0,IF(源泉徴収票!BT72<>\"\",IF(OR(源泉徴収票!BT72=\"特別の寡婦\",源泉徴収票!BT72=\"ひとり親\"),350000,270000),0))","v":0},{"$f":"IF(源泉徴収票!I72=\"無\",0,480000)","v":480000},{"$f":"IF(源泉徴収票!I72=\"無\",0,SUM(AO72:AY72))","v":480000},{"$f":"IF(源泉徴収票!I72=\"無\",AN72,FLOOR(MAX(AN72-AZ72,0),1000))","v":0},{"$f":"IF(源泉徴収票!I72=\"無\",AK72,BA72*VLOOKUP(BA72,所得税額計算,3,TRUE)+VLOOKUP(BA72,所得税額計算,4,TRUE))","v":0},{"$f":"IF(源泉徴収票!I72=\"無\",0,源泉徴収票!CZ72)","v":0},0,{"$f":"IF(源泉徴収票!I72=\"無\",BD72,FLOOR(BD72*102.1%,100))","v":0},0]
[0,{"$f":"IF(AND(源泉徴収票!I73=\"無\",源泉徴収票!AE73<>\"\"),\"○\",\"×\")","v":"×"},{"$f":"IF(AND(源泉徴収票!CO73<>\"\",源泉徴収票!CO73<=480000,AN73<=10000000),\"○\",\"×\")","v":"×"},{"$f":"IF(AND(C73=\"○\",源泉徴収票!CN73<>\"\",会社情報!$C$7-YEAR(MAX(源泉徴収票!CN73-1,0))>=70),\"○\",\"×\")","v":"×"},{"$f":"IF(AND(源泉徴収票!CO73<>\"\",源泉徴収票!CO73>480000,源泉徴収票!CO73<=1330000,AN73<=10000000),\"○\",\"×\")","v":"×"},{"$f":"MATCH(源泉徴収票!CO73,H30配偶者控除・特別控除マスタ_配偶者所得,1)","v":1},{"$f":"MATCH('源泉徴収票計算過程(非)'!AN73,H30配偶者控除・特別控除マスタ_所得者合計所得,1)","v":1},{"$f":"IF(源泉徴収票!AN73=\"\",-1,会社情報!$C$7-YEAR(源泉徴収票!AN73-1))","v":-1},{"$f":"IF(源泉徴収票!AT73=\"\",-1,会社情報!$C$7-YEAR(源泉徴収票!AT73-1))","v":-1},{"$f":"IF(源泉徴収票!AZ73=\"\",-1,会社情報!$C$7-YEAR(源泉徴収票!AZ73-1))","v":-1},{"$f":"IF(源泉徴収票!BF73=\"\",-1,会社情報!$C$7-YEAR(源泉徴収票!BF73-1))","v":-1},{"$f":"IF(源泉徴収票!BL73=\"\",-1,会社情報!$C$7-YEAR(源泉徴収票!BL73-1))","v":-1},{"$f":"IF(H73>=16,IF(AND(H73>=19,H73<23),\"特\",IF(H73>=70,IF(源泉徴収票!AO73=\"同居老親等\",\"同\",\"老\"),\"一\")),IF(H73>=0,\"未\",\"×\"))","v":"×"},{"$f":"IF(I73>=16,IF(AND(I73>=19,I73<23),\"特\",IF(I73>=70,IF(源泉徴収票!AU73=\"同居老親等\",\"同\",\"老\"),\"一\")),IF(I73>=0,\"未\",\"×\"))","v":"×"},{"$f":"IF(J73>=16,IF(AND(J73>=19,J73<23),\"特\",IF(J73>=70,IF(源泉徴収票!BA73=\"同居老親等\",\"同\",\"老\"),\"一\")),IF(J73>=0,\"未\",\"×\"))","v":"×"},{"$f":"IF(K73>=16,IF(AND(K73>=19,K73<23),\"特\",IF(K73>=70,IF(源泉徴収票!BG73=\"同居老親等\",\"同\",\"老\"),\"一\")),IF(K73>=0,\"未\",\"×\"))","v":"×"},{"$f":"IF(L73>=16,IF(AND(L73>=19,L73<23),\"特\",IF(L73>=70,IF(源泉徴収票!BM73=\"同居老親等\",\"同\",\"老\"),\"一\")),IF(L73>=0,\"未\",\"×\"))","v":"×"},"","","","","",{"$f":"IF(源泉徴収票!BU73<=20000, 源泉徴収票!BU73,\n  IF(源泉徴収票!BU73<=40000, 源泉徴収票!BU73*1/2+10000,\n   IF(源泉徴収票!BU73<=80000, 源泉徴収票!BU73*1/4+20000,\n                 40000)))","v":0},{"$f":"IF(源泉徴収票!BV73<=25000,源泉徴収票!BV73,\n  IF(源泉徴収票!BV73<=50000,源泉徴収票!BV73*1/2+12500,\n   IF(源泉徴収票!BV73<=100000,源泉徴収票!BV73*1/4+25000,\n                 50000)))","v":0},0,0,{"$f":"IF(源泉徴収票!BW73<=20000, 源泉徴収票!BW73,\n  IF(源泉徴収票!BW73<=40000, 源泉徴収票!BW73*1/2+10000,\n   IF(源泉徴収票!BW73<=80000, 源泉徴収票!BW73*1/4+20000,\n                 40000)))","v":0},{"$f":"IF(源泉徴収票!BX73<=20000, 源泉徴収票!BX73,\n  IF(源泉徴収票!BX73<=40000, 源泉徴収票!BX73*1/2+10000,\n   IF(源泉徴収票!BX73<=80000, 源泉徴収票!BX73*1/4+20000,\n                 40000)))","v":0},{"$f":"IF(源泉徴収票!BY73<=25000,源泉徴収票!BY73,\n  IF(源泉徴収票!BY73<=50000,源泉徴収票!BY73*1/2+12500,\n   IF(源泉徴収票!BY73<=100000,源泉徴収票!BY73*1/4+25000,\n                 50000)))","v":0},0,0,{"$f":"IF(源泉徴収票!BZ73<>\"\",MIN(源泉徴収票!BZ73,50000),0)","v":0},{"$f":"IF(源泉徴収票!CA73>=20000,15000,IF(源泉徴収票!CA73>=10000,源泉徴収票!CA73/2+5000,源泉徴収票!CA73))","v":0},{"$f":"IF(源泉徴収票!CS73<>\"\",\"〇\",\"×\")","v":"×"},null,{"$f":"源泉徴収票!O73+源泉徴収票!R73+源泉徴収票!U73","v":0},{"$f":"源泉徴収票!Q73+源泉徴収票!T73+源泉徴収票!W73","v":0},{"$f":"IF(源泉徴収票!I73=\"無\",0,INT(A73*VLOOKUP(A73, 給与所得計算, 3, TRUE)\n        +  VLOOKUP(A73, 給与所得計算, 4, TRUE) ))","v":0},{"$f":"IF(AH73=\"〇\",MIN(150000,MAX(AJ73-8500000,0)*10%),0)","v":0},{"$f":"AL73-AM73","v":0},{"$f":"源泉徴収票!P73+源泉徴収票!S73+源泉徴収票!V73","v":0},{"$f":"IF(源泉徴収票!I73=\"無\",0,源泉徴収票!CB73)","v":0},{"$f":"IF(源泉徴収票!I73=\"無\",0,源泉徴収票!CD73)","v":0},{"$f":"IF(源泉徴収票!I73=\"無\",0,MIN(120000,Z73+AA73+AE73))","v":0},{"$f":"IF(源泉徴収票!I73=\"無\",0,MIN(AF73+AG73,50000))","v":0},{"$f":"IF(源泉徴収票!I73=\"無\",0,IF(E73=\"○\",INDEX(H30配偶者控除・特別控除マスタ,F73,G73),0))","v":0},{"$f":"IF(源泉徴収票!I73=\"無\",0,IF(C73=\"○\",INDEX(H30配偶者控除・特別控除マスタ,F73,G73),0)+IF(D73=\"○\",INDEX(H30老人控除対象配偶者上乗せ,1,G73),0))","v":0},{"$f":"IF(源泉徴収票!I73=\"無\",0,COUNTIF(M73:Q73,\"一\")*380000+COUNTIF(M73:Q73,\"特\")*630000+COUNTIF(M73:Q73,\"老\")*480000+COUNTIF(M73:Q73,\"同\")*580000)","v":0},{"$f":"IF(源泉徴収票!I73=\"無\",0,(COUNTIF(源泉徴収票!BO73:BP73,\"一般\")+源泉徴収票!BQ73)*270000+(COUNTIF(源泉徴収票!BO73:BP73,\"特別\")+源泉徴収票!BR73)*400000+(COUNTIF(源泉徴収票!BP73,\"同居特別\")+源泉徴収票!BS73)*750000)","v":0},{"$f":"IF(源泉徴収票!I73=\"無\",0,IF(源泉徴収票!BT73<>\"\",IF(OR(源泉徴収票!BT73=\"特別の寡婦\",源泉徴収票!BT73=\"ひとり親\"),350000,270000),0))","v":0},{"$f":"IF(源泉徴収票!I73=\"無\",0,480000)","v":480000},{"$f":"IF(源泉徴収票!I73=\"無\",0,SUM(AO73:AY73))","v":480000},{"$f":"IF(源泉徴収票!I73=\"無\",AN73,FLOOR(MAX(AN73-AZ73,0),1000))","v":0},{"$f":"IF(源泉徴収票!I73=\"無\",AK73,BA73*VLOOKUP(BA73,所得税額計算,3,TRUE)+VLOOKUP(BA73,所得税額計算,4,TRUE))","v":0},{"$f":"IF(源泉徴収票!I73=\"無\",0,源泉徴収票!CZ73)","v":0},0,{"$f":"IF(源泉徴収票!I73=\"無\",BD73,FLOOR(BD73*102.1%,100))","v":0},0]
[0,{"$f":"IF(AND(源泉徴収票!I74=\"無\",源泉徴収票!AE74<>\"\"),\"○\",\"×\")","v":"×"},{"$f":"IF(AND(源泉徴収票!CO74<>\"\",源泉徴収票!CO74<=480000,AN74<=10000000),\"○\",\"×\")","v":"×"},{"$f":"IF(AND(C74=\"○\",源泉徴収票!CN74<>\"\",会社情報!$C$7-YEAR(MAX(源泉徴収票!CN74-1,0))>=70),\"○\",\"×\")","v":"×"},{"$f":"IF(AND(源泉徴収票!CO74<>\"\",源泉徴収票!CO74>480000,源泉徴収票!CO74<=1330000,AN74<=10000000),\"○\",\"×\")","v":"×"},{"$f":"MATCH(源泉徴収票!CO74,H30配偶者控除・特別控除マスタ_配偶者所得,1)","v":1},{"$f":"MATCH('源泉徴収票計算過程(非)'!AN74,H30配偶者控除・特別控除マスタ_所得者合計所得,1)","v":1},{"$f":"IF(源泉徴収票!AN74=\"\",-1,会社情報!$C$7-YEAR(源泉徴収票!AN74-1))","v":-1},{"$f":"IF(源泉徴収票!AT74=\"\",-1,会社情報!$C$7-YEAR(源泉徴収票!AT74-1))","v":-1},{"$f":"IF(源泉徴収票!AZ74=\"\",-1,会社情報!$C$7-YEAR(源泉徴収票!AZ74-1))","v":-1},{"$f":"IF(源泉徴収票!BF74=\"\",-1,会社情報!$C$7-YEAR(源泉徴収票!BF74-1))","v":-1},{"$f":"IF(源泉徴収票!BL74=\"\",-1,会社情報!$C$7-YEAR(源泉徴収票!BL74-1))","v":-1},{"$f":"IF(H74>=16,IF(AND(H74>=19,H74<23),\"特\",IF(H74>=70,IF(源泉徴収票!AO74=\"同居老親等\",\"同\",\"老\"),\"一\")),IF(H74>=0,\"未\",\"×\"))","v":"×"},{"$f":"IF(I74>=16,IF(AND(I74>=19,I74<23),\"特\",IF(I74>=70,IF(源泉徴収票!AU74=\"同居老親等\",\"同\",\"老\"),\"一\")),IF(I74>=0,\"未\",\"×\"))","v":"×"},{"$f":"IF(J74>=16,IF(AND(J74>=19,J74<23),\"特\",IF(J74>=70,IF(源泉徴収票!BA74=\"同居老親等\",\"同\",\"老\"),\"一\")),IF(J74>=0,\"未\",\"×\"))","v":"×"},{"$f":"IF(K74>=16,IF(AND(K74>=19,K74<23),\"特\",IF(K74>=70,IF(源泉徴収票!BG74=\"同居老親等\",\"同\",\"老\"),\"一\")),IF(K74>=0,\"未\",\"×\"))","v":"×"},{"$f":"IF(L74>=16,IF(AND(L74>=19,L74<23),\"特\",IF(L74>=70,IF(源泉徴収票!BM74=\"同居老親等\",\"同\",\"老\"),\"一\")),IF(L74>=0,\"未\",\"×\"))","v":"×"},"","","","","",{"$f":"IF(源泉徴収票!BU74<=20000, 源泉徴収票!BU74,\n  IF(源泉徴収票!BU74<=40000, 源泉徴収票!BU74*1/2+10000,\n   IF(源泉徴収票!BU74<=80000, 源泉徴収票!BU74*1/4+20000,\n                 40000)))","v":0},{"$f":"IF(源泉徴収票!BV74<=25000,源泉徴収票!BV74,\n  IF(源泉徴収票!BV74<=50000,源泉徴収票!BV74*1/2+12500,\n   IF(源泉徴収票!BV74<=100000,源泉徴収票!BV74*1/4+25000,\n                 50000)))","v":0},0,0,{"$f":"IF(源泉徴収票!BW74<=20000, 源泉徴収票!BW74,\n  IF(源泉徴収票!BW74<=40000, 源泉徴収票!BW74*1/2+10000,\n   IF(源泉徴収票!BW74<=80000, 源泉徴収票!BW74*1/4+20000,\n                 40000)))","v":0},{"$f":"IF(源泉徴収票!BX74<=20000, 源泉徴収票!BX74,\n  IF(源泉徴収票!BX74<=40000, 源泉徴収票!BX74*1/2+10000,\n   IF(源泉徴収票!BX74<=80000, 源泉徴収票!BX74*1/4+20000,\n                 40000)))","v":0},{"$f":"IF(源泉徴収票!BY74<=25000,源泉徴収票!BY74,\n  IF(源泉徴収票!BY74<=50000,源泉徴収票!BY74*1/2+12500,\n   IF(源泉徴収票!BY74<=100000,源泉徴収票!BY74*1/4+25000,\n                 50000)))","v":0},0,0,{"$f":"IF(源泉徴収票!BZ74<>\"\",MIN(源泉徴収票!BZ74,50000),0)","v":0},{"$f":"IF(源泉徴収票!CA74>=20000,15000,IF(源泉徴収票!CA74>=10000,源泉徴収票!CA74/2+5000,源泉徴収票!CA74))","v":0},{"$f":"IF(源泉徴収票!CS74<>\"\",\"〇\",\"×\")","v":"×"},null,{"$f":"源泉徴収票!O74+源泉徴収票!R74+源泉徴収票!U74","v":0},{"$f":"源泉徴収票!Q74+源泉徴収票!T74+源泉徴収票!W74","v":0},{"$f":"IF(源泉徴収票!I74=\"無\",0,INT(A74*VLOOKUP(A74, 給与所得計算, 3, TRUE)\n        +  VLOOKUP(A74, 給与所得計算, 4, TRUE) ))","v":0},0,0,{"$f":"源泉徴収票!P74+源泉徴収票!S74+源泉徴収票!V74","v":0},{"$f":"IF(源泉徴収票!I74=\"無\",0,源泉徴収票!CB74)","v":0},{"$f":"IF(源泉徴収票!I74=\"無\",0,源泉徴収票!CD74)","v":0},{"$f":"IF(源泉徴収票!I74=\"無\",0,MIN(120000,Z74+AA74+AE74))","v":0},{"$f":"IF(源泉徴収票!I74=\"無\",0,MIN(AF74+AG74,50000))","v":0},{"$f":"IF(源泉徴収票!I74=\"無\",0,IF(E74=\"○\",INDEX(H30配偶者控除・特別控除マスタ,F74,G74),0))","v":0},{"$f":"IF(源泉徴収票!I74=\"無\",0,IF(C74=\"○\",INDEX(H30配偶者控除・特別控除マスタ,F74,G74),0)+IF(D74=\"○\",INDEX(H30老人控除対象配偶者上乗せ,1,G74),0))","v":0},{"$f":"IF(源泉徴収票!I74=\"無\",0,COUNTIF(M74:Q74,\"一\")*380000+COUNTIF(M74:Q74,\"特\")*630000+COUNTIF(M74:Q74,\"老\")*480000+COUNTIF(M74:Q74,\"同\")*580000)","v":0},{"$f":"IF(源泉徴収票!I74=\"無\",0,(COUNTIF(源泉徴収票!BO74:BP74,\"一般\")+源泉徴収票!BQ74)*270000+(COUNTIF(源泉徴収票!BO74:BP74,\"特別\")+源泉徴収票!BR74)*400000+(COUNTIF(源泉徴収票!BP74,\"同居特別\")+源泉徴収票!BS74)*750000)","v":0},{"$f":"IF(源泉徴収票!I74=\"無\",0,IF(源泉徴収票!BT74<>\"\",IF(OR(源泉徴収票!BT74=\"特別の寡婦\",源泉徴収票!BT74=\"ひとり親\"),350000,270000),0))","v":0},{"$f":"IF(源泉徴収票!I74=\"無\",0,480000)","v":480000},{"$f":"IF(源泉徴収票!I74=\"無\",0,SUM(AO74:AY74))","v":480000},{"$f":"IF(源泉徴収票!I74=\"無\",AN74,FLOOR(MAX(AN74-AZ74,0),1000))","v":0},{"$f":"IF(源泉徴収票!I74=\"無\",AK74,BA74*VLOOKUP(BA74,所得税額計算,3,TRUE)+VLOOKUP(BA74,所得税額計算,4,TRUE))","v":0},{"$f":"IF(源泉徴収票!I74=\"無\",0,源泉徴収票!CZ74)","v":0},0,{"$f":"IF(源泉徴収票!I74=\"無\",BD74,FLOOR(BD74*102.1%,100))","v":0},0]
[0,{"$f":"IF(AND(源泉徴収票!I75=\"無\",源泉徴収票!AE75<>\"\"),\"○\",\"×\")","v":"×"},{"$f":"IF(AND(源泉徴収票!CO75<>\"\",源泉徴収票!CO75<=480000,AN75<=10000000),\"○\",\"×\")","v":"×"},{"$f":"IF(AND(C75=\"○\",源泉徴収票!CN75<>\"\",会社情報!$C$7-YEAR(MAX(源泉徴収票!CN75-1,0))>=70),\"○\",\"×\")","v":"×"},{"$f":"IF(AND(源泉徴収票!CO75<>\"\",源泉徴収票!CO75>480000,源泉徴収票!CO75<=1330000,AN75<=10000000),\"○\",\"×\")","v":"×"},{"$f":"MATCH(源泉徴収票!CO75,H30配偶者控除・特別控除マスタ_配偶者所得,1)","v":1},{"$f":"MATCH('源泉徴収票計算過程(非)'!AN75,H30配偶者控除・特別控除マスタ_所得者合計所得,1)","v":1},{"$f":"IF(源泉徴収票!AN75=\"\",-1,会社情報!$C$7-YEAR(源泉徴収票!AN75-1))","v":-1},{"$f":"IF(源泉徴収票!AT75=\"\",-1,会社情報!$C$7-YEAR(源泉徴収票!AT75-1))","v":-1},{"$f":"IF(源泉徴収票!AZ75=\"\",-1,会社情報!$C$7-YEAR(源泉徴収票!AZ75-1))","v":-1},{"$f":"IF(源泉徴収票!BF75=\"\",-1,会社情報!$C$7-YEAR(源泉徴収票!BF75-1))","v":-1},{"$f":"IF(源泉徴収票!BL75=\"\",-1,会社情報!$C$7-YEAR(源泉徴収票!BL75-1))","v":-1},{"$f":"IF(H75>=16,IF(AND(H75>=19,H75<23),\"特\",IF(H75>=70,IF(源泉徴収票!AO75=\"同居老親等\",\"同\",\"老\"),\"一\")),IF(H75>=0,\"未\",\"×\"))","v":"×"},{"$f":"IF(I75>=16,IF(AND(I75>=19,I75<23),\"特\",IF(I75>=70,IF(源泉徴収票!AU75=\"同居老親等\",\"同\",\"老\"),\"一\")),IF(I75>=0,\"未\",\"×\"))","v":"×"},{"$f":"IF(J75>=16,IF(AND(J75>=19,J75<23),\"特\",IF(J75>=70,IF(源泉徴収票!BA75=\"同居老親等\",\"同\",\"老\"),\"一\")),IF(J75>=0,\"未\",\"×\"))","v":"×"},{"$f":"IF(K75>=16,IF(AND(K75>=19,K75<23),\"特\",IF(K75>=70,IF(源泉徴収票!BG75=\"同居老親等\",\"同\",\"老\"),\"一\")),IF(K75>=0,\"未\",\"×\"))","v":"×"},{"$f":"IF(L75>=16,IF(AND(L75>=19,L75<23),\"特\",IF(L75>=70,IF(源泉徴収票!BM75=\"同居老親等\",\"同\",\"老\"),\"一\")),IF(L75>=0,\"未\",\"×\"))","v":"×"},"","","","","",{"$f":"IF(源泉徴収票!BU75<=20000, 源泉徴収票!BU75,\n  IF(源泉徴収票!BU75<=40000, 源泉徴収票!BU75*1/2+10000,\n   IF(源泉徴収票!BU75<=80000, 源泉徴収票!BU75*1/4+20000,\n                 40000)))","v":0},{"$f":"IF(源泉徴収票!BV75<=25000,源泉徴収票!BV75,\n  IF(源泉徴収票!BV75<=50000,源泉徴収票!BV75*1/2+12500,\n   IF(源泉徴収票!BV75<=100000,源泉徴収票!BV75*1/4+25000,\n                 50000)))","v":0},0,0,{"$f":"IF(源泉徴収票!BW75<=20000, 源泉徴収票!BW75,\n  IF(源泉徴収票!BW75<=40000, 源泉徴収票!BW75*1/2+10000,\n   IF(源泉徴収票!BW75<=80000, 源泉徴収票!BW75*1/4+20000,\n                 40000)))","v":0},{"$f":"IF(源泉徴収票!BX75<=20000, 源泉徴収票!BX75,\n  IF(源泉徴収票!BX75<=40000, 源泉徴収票!BX75*1/2+10000,\n   IF(源泉徴収票!BX75<=80000, 源泉徴収票!BX75*1/4+20000,\n                 40000)))","v":0},{"$f":"IF(源泉徴収票!BY75<=25000,源泉徴収票!BY75,\n  IF(源泉徴収票!BY75<=50000,源泉徴収票!BY75*1/2+12500,\n   IF(源泉徴収票!BY75<=100000,源泉徴収票!BY75*1/4+25000,\n                 50000)))","v":0},0,0,{"$f":"IF(源泉徴収票!BZ75<>\"\",MIN(源泉徴収票!BZ75,50000),0)","v":0},{"$f":"IF(源泉徴収票!CA75>=20000,15000,IF(源泉徴収票!CA75>=10000,源泉徴収票!CA75/2+5000,源泉徴収票!CA75))","v":0},{"$f":"IF(源泉徴収票!CS75<>\"\",\"〇\",\"×\")","v":"×"},null,{"$f":"源泉徴収票!O75+源泉徴収票!R75+源泉徴収票!U75","v":0},{"$f":"源泉徴収票!Q75+源泉徴収票!T75+源泉徴収票!W75","v":0},{"$f":"IF(源泉徴収票!I75=\"無\",0,INT(A75*VLOOKUP(A75, 給与所得計算, 3, TRUE)\n        +  VLOOKUP(A75, 給与所得計算, 4, TRUE) ))","v":0},0,0,{"$f":"源泉徴収票!P75+源泉徴収票!S75+源泉徴収票!V75","v":0},{"$f":"IF(源泉徴収票!I75=\"無\",0,源泉徴収票!CB75)","v":0},{"$f":"IF(源泉徴収票!I75=\"無\",0,源泉徴収票!CD75)","v":0},{"$f":"IF(源泉徴収票!I75=\"無\",0,MIN(120000,Z75+AA75+AE75))","v":0},{"$f":"IF(源泉徴収票!I75=\"無\",0,MIN(AF75+AG75,50000))","v":0},{"$f":"IF(源泉徴収票!I75=\"無\",0,IF(E75=\"○\",INDEX(H30配偶者控除・特別控除マスタ,F75,G75),0))","v":0},{"$f":"IF(源泉徴収票!I75=\"無\",0,IF(C75=\"○\",INDEX(H30配偶者控除・特別控除マスタ,F75,G75),0)+IF(D75=\"○\",INDEX(H30老人控除対象配偶者上乗せ,1,G75),0))","v":0},{"$f":"IF(源泉徴収票!I75=\"無\",0,COUNTIF(M75:Q75,\"一\")*380000+COUNTIF(M75:Q75,\"特\")*630000+COUNTIF(M75:Q75,\"老\")*480000+COUNTIF(M75:Q75,\"同\")*580000)","v":0},{"$f":"IF(源泉徴収票!I75=\"無\",0,(COUNTIF(源泉徴収票!BO75:BP75,\"一般\")+源泉徴収票!BQ75)*270000+(COUNTIF(源泉徴収票!BO75:BP75,\"特別\")+源泉徴収票!BR75)*400000+(COUNTIF(源泉徴収票!BP75,\"同居特別\")+源泉徴収票!BS75)*750000)","v":0},{"$f":"IF(源泉徴収票!I75=\"無\",0,IF(源泉徴収票!BT75<>\"\",IF(OR(源泉徴収票!BT75=\"特別の寡婦\",源泉徴収票!BT75=\"ひとり親\"),350000,270000),0))","v":0},{"$f":"IF(源泉徴収票!I75=\"無\",0,480000)","v":480000},{"$f":"IF(源泉徴収票!I75=\"無\",0,SUM(AO75:AY75))","v":480000},{"$f":"IF(源泉徴収票!I75=\"無\",AN75,FLOOR(MAX(AN75-AZ75,0),1000))","v":0},{"$f":"IF(源泉徴収票!I75=\"無\",AK75,BA75*VLOOKUP(BA75,所得税額計算,3,TRUE)+VLOOKUP(BA75,所得税額計算,4,TRUE))","v":0},{"$f":"IF(源泉徴収票!I75=\"無\",0,源泉徴収票!CZ75)","v":0},0,{"$f":"IF(源泉徴収票!I75=\"無\",BD75,FLOOR(BD75*102.1%,100))","v":0},0]
[0,{"$f":"IF(AND(源泉徴収票!I76=\"無\",源泉徴収票!AE76<>\"\"),\"○\",\"×\")","v":"×"},{"$f":"IF(AND(源泉徴収票!CO76<>\"\",源泉徴収票!CO76<=480000,AN76<=10000000),\"○\",\"×\")","v":"×"},{"$f":"IF(AND(C76=\"○\",源泉徴収票!CN76<>\"\",会社情報!$C$7-YEAR(MAX(源泉徴収票!CN76-1,0))>=70),\"○\",\"×\")","v":"×"},{"$f":"IF(AND(源泉徴収票!CO76<>\"\",源泉徴収票!CO76>480000,源泉徴収票!CO76<=1330000,AN76<=10000000),\"○\",\"×\")","v":"×"},{"$f":"MATCH(源泉徴収票!CO76,H30配偶者控除・特別控除マスタ_配偶者所得,1)","v":1},{"$f":"MATCH('源泉徴収票計算過程(非)'!AN76,H30配偶者控除・特別控除マスタ_所得者合計所得,1)","v":1},{"$f":"IF(源泉徴収票!AN76=\"\",-1,会社情報!$C$7-YEAR(源泉徴収票!AN76-1))","v":-1},{"$f":"IF(源泉徴収票!AT76=\"\",-1,会社情報!$C$7-YEAR(源泉徴収票!AT76-1))","v":-1},{"$f":"IF(源泉徴収票!AZ76=\"\",-1,会社情報!$C$7-YEAR(源泉徴収票!AZ76-1))","v":-1},{"$f":"IF(源泉徴収票!BF76=\"\",-1,会社情報!$C$7-YEAR(源泉徴収票!BF76-1))","v":-1},{"$f":"IF(源泉徴収票!BL76=\"\",-1,会社情報!$C$7-YEAR(源泉徴収票!BL76-1))","v":-1},{"$f":"IF(H76>=16,IF(AND(H76>=19,H76<23),\"特\",IF(H76>=70,IF(源泉徴収票!AO76=\"同居老親等\",\"同\",\"老\"),\"一\")),IF(H76>=0,\"未\",\"×\"))","v":"×"},{"$f":"IF(I76>=16,IF(AND(I76>=19,I76<23),\"特\",IF(I76>=70,IF(源泉徴収票!AU76=\"同居老親等\",\"同\",\"老\"),\"一\")),IF(I76>=0,\"未\",\"×\"))","v":"×"},{"$f":"IF(J76>=16,IF(AND(J76>=19,J76<23),\"特\",IF(J76>=70,IF(源泉徴収票!BA76=\"同居老親等\",\"同\",\"老\"),\"一\")),IF(J76>=0,\"未\",\"×\"))","v":"×"},{"$f":"IF(K76>=16,IF(AND(K76>=19,K76<23),\"特\",IF(K76>=70,IF(源泉徴収票!BG76=\"同居老親等\",\"同\",\"老\"),\"一\")),IF(K76>=0,\"未\",\"×\"))","v":"×"},{"$f":"IF(L76>=16,IF(AND(L76>=19,L76<23),\"特\",IF(L76>=70,IF(源泉徴収票!BM76=\"同居老親等\",\"同\",\"老\"),\"一\")),IF(L76>=0,\"未\",\"×\"))","v":"×"},"","","","","",{"$f":"IF(源泉徴収票!BU76<=20000, 源泉徴収票!BU76,\n  IF(源泉徴収票!BU76<=40000, 源泉徴収票!BU76*1/2+10000,\n   IF(源泉徴収票!BU76<=80000, 源泉徴収票!BU76*1/4+20000,\n                 40000)))","v":0},{"$f":"IF(源泉徴収票!BV76<=25000,源泉徴収票!BV76,\n  IF(源泉徴収票!BV76<=50000,源泉徴収票!BV76*1/2+12500,\n   IF(源泉徴収票!BV76<=100000,源泉徴収票!BV76*1/4+25000,\n                 50000)))","v":0},0,0,{"$f":"IF(源泉徴収票!BW76<=20000, 源泉徴収票!BW76,\n  IF(源泉徴収票!BW76<=40000, 源泉徴収票!BW76*1/2+10000,\n   IF(源泉徴収票!BW76<=80000, 源泉徴収票!BW76*1/4+20000,\n                 40000)))","v":0},{"$f":"IF(源泉徴収票!BX76<=20000, 源泉徴収票!BX76,\n  IF(源泉徴収票!BX76<=40000, 源泉徴収票!BX76*1/2+10000,\n   IF(源泉徴収票!BX76<=80000, 源泉徴収票!BX76*1/4+20000,\n                 40000)))","v":0},{"$f":"IF(源泉徴収票!BY76<=25000,源泉徴収票!BY76,\n  IF(源泉徴収票!BY76<=50000,源泉徴収票!BY76*1/2+12500,\n   IF(源泉徴収票!BY76<=100000,源泉徴収票!BY76*1/4+25000,\n                 50000)))","v":0},0,0,{"$f":"IF(源泉徴収票!BZ76<>\"\",MIN(源泉徴収票!BZ76,50000),0)","v":0},{"$f":"IF(源泉徴収票!CA76>=20000,15000,IF(源泉徴収票!CA76>=10000,源泉徴収票!CA76/2+5000,源泉徴収票!CA76))","v":0},{"$f":"IF(源泉徴収票!CS76<>\"\",\"〇\",\"×\")","v":"×"},null,{"$f":"源泉徴収票!O76+源泉徴収票!R76+源泉徴収票!U76","v":0},{"$f":"源泉徴収票!Q76+源泉徴収票!T76+源泉徴収票!W76","v":0},{"$f":"IF(源泉徴収票!I76=\"無\",0,INT(A76*VLOOKUP(A76, 給与所得計算, 3, TRUE)\n        +  VLOOKUP(A76, 給与所得計算, 4, TRUE) ))","v":0},0,0,{"$f":"源泉徴収票!P76+源泉徴収票!S76+源泉徴収票!V76","v":0},{"$f":"IF(源泉徴収票!I76=\"無\",0,源泉徴収票!CB76)","v":0},{"$f":"IF(源泉徴収票!I76=\"無\",0,源泉徴収票!CD76)","v":0},{"$f":"IF(源泉徴収票!I76=\"無\",0,MIN(120000,Z76+AA76+AE76))","v":0},{"$f":"IF(源泉徴収票!I76=\"無\",0,MIN(AF76+AG76,50000))","v":0},{"$f":"IF(源泉徴収票!I76=\"無\",0,IF(E76=\"○\",INDEX(H30配偶者控除・特別控除マスタ,F76,G76),0))","v":0},{"$f":"IF(源泉徴収票!I76=\"無\",0,IF(C76=\"○\",INDEX(H30配偶者控除・特別控除マスタ,F76,G76),0)+IF(D76=\"○\",INDEX(H30老人控除対象配偶者上乗せ,1,G76),0))","v":0},{"$f":"IF(源泉徴収票!I76=\"無\",0,COUNTIF(M76:Q76,\"一\")*380000+COUNTIF(M76:Q76,\"特\")*630000+COUNTIF(M76:Q76,\"老\")*480000+COUNTIF(M76:Q76,\"同\")*580000)","v":0},{"$f":"IF(源泉徴収票!I76=\"無\",0,(COUNTIF(源泉徴収票!BO76:BP76,\"一般\")+源泉徴収票!BQ76)*270000+(COUNTIF(源泉徴収票!BO76:BP76,\"特別\")+源泉徴収票!BR76)*400000+(COUNTIF(源泉徴収票!BP76,\"同居特別\")+源泉徴収票!BS76)*750000)","v":0},{"$f":"IF(源泉徴収票!I76=\"無\",0,IF(源泉徴収票!BT76<>\"\",IF(OR(源泉徴収票!BT76=\"特別の寡婦\",源泉徴収票!BT76=\"ひとり親\"),350000,270000),0))","v":0},{"$f":"IF(源泉徴収票!I76=\"無\",0,480000)","v":480000},{"$f":"IF(源泉徴収票!I76=\"無\",0,SUM(AO76:AY76))","v":480000},{"$f":"IF(源泉徴収票!I76=\"無\",AN76,FLOOR(MAX(AN76-AZ76,0),1000))","v":0},{"$f":"IF(源泉徴収票!I76=\"無\",AK76,BA76*VLOOKUP(BA76,所得税額計算,3,TRUE)+VLOOKUP(BA76,所得税額計算,4,TRUE))","v":0},{"$f":"IF(源泉徴収票!I76=\"無\",0,源泉徴収票!CZ76)","v":0},0,{"$f":"IF(源泉徴収票!I76=\"無\",BD76,FLOOR(BD76*102.1%,100))","v":0},0]
[0,{"$f":"IF(AND(源泉徴収票!I77=\"無\",源泉徴収票!AE77<>\"\"),\"○\",\"×\")","v":"×"},{"$f":"IF(AND(源泉徴収票!CO77<>\"\",源泉徴収票!CO77<=480000,AN77<=10000000),\"○\",\"×\")","v":"×"},{"$f":"IF(AND(C77=\"○\",源泉徴収票!CN77<>\"\",会社情報!$C$7-YEAR(MAX(源泉徴収票!CN77-1,0))>=70),\"○\",\"×\")","v":"×"},{"$f":"IF(AND(源泉徴収票!CO77<>\"\",源泉徴収票!CO77>480000,源泉徴収票!CO77<=1330000,AN77<=10000000),\"○\",\"×\")","v":"×"},{"$f":"MATCH(源泉徴収票!CO77,H30配偶者控除・特別控除マスタ_配偶者所得,1)","v":1},{"$f":"MATCH('源泉徴収票計算過程(非)'!AN77,H30配偶者控除・特別控除マスタ_所得者合計所得,1)","v":1},{"$f":"IF(源泉徴収票!AN77=\"\",-1,会社情報!$C$7-YEAR(源泉徴収票!AN77-1))","v":-1},{"$f":"IF(源泉徴収票!AT77=\"\",-1,会社情報!$C$7-YEAR(源泉徴収票!AT77-1))","v":-1},{"$f":"IF(源泉徴収票!AZ77=\"\",-1,会社情報!$C$7-YEAR(源泉徴収票!AZ77-1))","v":-1},{"$f":"IF(源泉徴収票!BF77=\"\",-1,会社情報!$C$7-YEAR(源泉徴収票!BF77-1))","v":-1},{"$f":"IF(源泉徴収票!BL77=\"\",-1,会社情報!$C$7-YEAR(源泉徴収票!BL77-1))","v":-1},{"$f":"IF(H77>=16,IF(AND(H77>=19,H77<23),\"特\",IF(H77>=70,IF(源泉徴収票!AO77=\"同居老親等\",\"同\",\"老\"),\"一\")),IF(H77>=0,\"未\",\"×\"))","v":"×"},{"$f":"IF(I77>=16,IF(AND(I77>=19,I77<23),\"特\",IF(I77>=70,IF(源泉徴収票!AU77=\"同居老親等\",\"同\",\"老\"),\"一\")),IF(I77>=0,\"未\",\"×\"))","v":"×"},{"$f":"IF(J77>=16,IF(AND(J77>=19,J77<23),\"特\",IF(J77>=70,IF(源泉徴収票!BA77=\"同居老親等\",\"同\",\"老\"),\"一\")),IF(J77>=0,\"未\",\"×\"))","v":"×"},{"$f":"IF(K77>=16,IF(AND(K77>=19,K77<23),\"特\",IF(K77>=70,IF(源泉徴収票!BG77=\"同居老親等\",\"同\",\"老\"),\"一\")),IF(K77>=0,\"未\",\"×\"))","v":"×"},{"$f":"IF(L77>=16,IF(AND(L77>=19,L77<23),\"特\",IF(L77>=70,IF(源泉徴収票!BM77=\"同居老親等\",\"同\",\"老\"),\"一\")),IF(L77>=0,\"未\",\"×\"))","v":"×"},"","","","","",{"$f":"IF(源泉徴収票!BU77<=20000, 源泉徴収票!BU77,\n  IF(源泉徴収票!BU77<=40000, 源泉徴収票!BU77*1/2+10000,\n   IF(源泉徴収票!BU77<=80000, 源泉徴収票!BU77*1/4+20000,\n                 40000)))","v":0},{"$f":"IF(源泉徴収票!BV77<=25000,源泉徴収票!BV77,\n  IF(源泉徴収票!BV77<=50000,源泉徴収票!BV77*1/2+12500,\n   IF(源泉徴収票!BV77<=100000,源泉徴収票!BV77*1/4+25000,\n                 50000)))","v":0},0,0,{"$f":"IF(源泉徴収票!BW77<=20000, 源泉徴収票!BW77,\n  IF(源泉徴収票!BW77<=40000, 源泉徴収票!BW77*1/2+10000,\n   IF(源泉徴収票!BW77<=80000, 源泉徴収票!BW77*1/4+20000,\n                 40000)))","v":0},{"$f":"IF(源泉徴収票!BX77<=20000, 源泉徴収票!BX77,\n  IF(源泉徴収票!BX77<=40000, 源泉徴収票!BX77*1/2+10000,\n   IF(源泉徴収票!BX77<=80000, 源泉徴収票!BX77*1/4+20000,\n                 40000)))","v":0},{"$f":"IF(源泉徴収票!BY77<=25000,源泉徴収票!BY77,\n  IF(源泉徴収票!BY77<=50000,源泉徴収票!BY77*1/2+12500,\n   IF(源泉徴収票!BY77<=100000,源泉徴収票!BY77*1/4+25000,\n                 50000)))","v":0},0,0,{"$f":"IF(源泉徴収票!BZ77<>\"\",MIN(源泉徴収票!BZ77,50000),0)","v":0},{"$f":"IF(源泉徴収票!CA77>=20000,15000,IF(源泉徴収票!CA77>=10000,源泉徴収票!CA77/2+5000,源泉徴収票!CA77))","v":0},{"$f":"IF(源泉徴収票!CS77<>\"\",\"〇\",\"×\")","v":"×"},null,{"$f":"源泉徴収票!O77+源泉徴収票!R77+源泉徴収票!U77","v":0},{"$f":"源泉徴収票!Q77+源泉徴収票!T77+源泉徴収票!W77","v":0},{"$f":"IF(源泉徴収票!I77=\"無\",0,INT(A77*VLOOKUP(A77, 給与所得計算, 3, TRUE)\n        +  VLOOKUP(A77, 給与所得計算, 4, TRUE) ))","v":0},0,0,{"$f":"源泉徴収票!P77+源泉徴収票!S77+源泉徴収票!V77","v":0},{"$f":"IF(源泉徴収票!I77=\"無\",0,源泉徴収票!CB77)","v":0},{"$f":"IF(源泉徴収票!I77=\"無\",0,源泉徴収票!CD77)","v":0},{"$f":"IF(源泉徴収票!I77=\"無\",0,MIN(120000,Z77+AA77+AE77))","v":0},{"$f":"IF(源泉徴収票!I77=\"無\",0,MIN(AF77+AG77,50000))","v":0},{"$f":"IF(源泉徴収票!I77=\"無\",0,IF(E77=\"○\",INDEX(H30配偶者控除・特別控除マスタ,F77,G77),0))","v":0},{"$f":"IF(源泉徴収票!I77=\"無\",0,IF(C77=\"○\",INDEX(H30配偶者控除・特別控除マスタ,F77,G77),0)+IF(D77=\"○\",INDEX(H30老人控除対象配偶者上乗せ,1,G77),0))","v":0},{"$f":"IF(源泉徴収票!I77=\"無\",0,COUNTIF(M77:Q77,\"一\")*380000+COUNTIF(M77:Q77,\"特\")*630000+COUNTIF(M77:Q77,\"老\")*480000+COUNTIF(M77:Q77,\"同\")*580000)","v":0},{"$f":"IF(源泉徴収票!I77=\"無\",0,(COUNTIF(源泉徴収票!BO77:BP77,\"一般\")+源泉徴収票!BQ77)*270000+(COUNTIF(源泉徴収票!BO77:BP77,\"特別\")+源泉徴収票!BR77)*400000+(COUNTIF(源泉徴収票!BP77,\"同居特別\")+源泉徴収票!BS77)*750000)","v":0},{"$f":"IF(源泉徴収票!I77=\"無\",0,IF(源泉徴収票!BT77<>\"\",IF(OR(源泉徴収票!BT77=\"特別の寡婦\",源泉徴収票!BT77=\"ひとり親\"),350000,270000),0))","v":0},{"$f":"IF(源泉徴収票!I77=\"無\",0,480000)","v":480000},{"$f":"IF(源泉徴収票!I77=\"無\",0,SUM(AO77:AY77))","v":480000},{"$f":"IF(源泉徴収票!I77=\"無\",AN77,FLOOR(MAX(AN77-AZ77,0),1000))","v":0},{"$f":"IF(源泉徴収票!I77=\"無\",AK77,BA77*VLOOKUP(BA77,所得税額計算,3,TRUE)+VLOOKUP(BA77,所得税額計算,4,TRUE))","v":0},{"$f":"IF(源泉徴収票!I77=\"無\",0,源泉徴収票!CZ77)","v":0},0,{"$f":"IF(源泉徴収票!I77=\"無\",BD77,FLOOR(BD77*102.1%,100))","v":0},0]
[0,{"$f":"IF(AND(源泉徴収票!I78=\"無\",源泉徴収票!AE78<>\"\"),\"○\",\"×\")","v":"×"},{"$f":"IF(AND(源泉徴収票!CO78<>\"\",源泉徴収票!CO78<=480000,AN78<=10000000),\"○\",\"×\")","v":"×"},{"$f":"IF(AND(C78=\"○\",源泉徴収票!CN78<>\"\",会社情報!$C$7-YEAR(MAX(源泉徴収票!CN78-1,0))>=70),\"○\",\"×\")","v":"×"},{"$f":"IF(AND(源泉徴収票!CO78<>\"\",源泉徴収票!CO78>480000,源泉徴収票!CO78<=1330000,AN78<=10000000),\"○\",\"×\")","v":"×"},{"$f":"MATCH(源泉徴収票!CO78,H30配偶者控除・特別控除マスタ_配偶者所得,1)","v":1},{"$f":"MATCH('源泉徴収票計算過程(非)'!AN78,H30配偶者控除・特別控除マスタ_所得者合計所得,1)","v":1},{"$f":"IF(源泉徴収票!AN78=\"\",-1,会社情報!$C$7-YEAR(源泉徴収票!AN78-1))","v":-1},{"$f":"IF(源泉徴収票!AT78=\"\",-1,会社情報!$C$7-YEAR(源泉徴収票!AT78-1))","v":-1},{"$f":"IF(源泉徴収票!AZ78=\"\",-1,会社情報!$C$7-YEAR(源泉徴収票!AZ78-1))","v":-1},{"$f":"IF(源泉徴収票!BF78=\"\",-1,会社情報!$C$7-YEAR(源泉徴収票!BF78-1))","v":-1},{"$f":"IF(源泉徴収票!BL78=\"\",-1,会社情報!$C$7-YEAR(源泉徴収票!BL78-1))","v":-1},{"$f":"IF(H78>=16,IF(AND(H78>=19,H78<23),\"特\",IF(H78>=70,IF(源泉徴収票!AO78=\"同居老親等\",\"同\",\"老\"),\"一\")),IF(H78>=0,\"未\",\"×\"))","v":"×"},{"$f":"IF(I78>=16,IF(AND(I78>=19,I78<23),\"特\",IF(I78>=70,IF(源泉徴収票!AU78=\"同居老親等\",\"同\",\"老\"),\"一\")),IF(I78>=0,\"未\",\"×\"))","v":"×"},{"$f":"IF(J78>=16,IF(AND(J78>=19,J78<23),\"特\",IF(J78>=70,IF(源泉徴収票!BA78=\"同居老親等\",\"同\",\"老\"),\"一\")),IF(J78>=0,\"未\",\"×\"))","v":"×"},{"$f":"IF(K78>=16,IF(AND(K78>=19,K78<23),\"特\",IF(K78>=70,IF(源泉徴収票!BG78=\"同居老親等\",\"同\",\"老\"),\"一\")),IF(K78>=0,\"未\",\"×\"))","v":"×"},{"$f":"IF(L78>=16,IF(AND(L78>=19,L78<23),\"特\",IF(L78>=70,IF(源泉徴収票!BM78=\"同居老親等\",\"同\",\"老\"),\"一\")),IF(L78>=0,\"未\",\"×\"))","v":"×"},"","","","","",{"$f":"IF(源泉徴収票!BU78<=20000, 源泉徴収票!BU78,\n  IF(源泉徴収票!BU78<=40000, 源泉徴収票!BU78*1/2+10000,\n   IF(源泉徴収票!BU78<=80000, 源泉徴収票!BU78*1/4+20000,\n                 40000)))","v":0},{"$f":"IF(源泉徴収票!BV78<=25000,源泉徴収票!BV78,\n  IF(源泉徴収票!BV78<=50000,源泉徴収票!BV78*1/2+12500,\n   IF(源泉徴収票!BV78<=100000,源泉徴収票!BV78*1/4+25000,\n                 50000)))","v":0},0,0,{"$f":"IF(源泉徴収票!BW78<=20000, 源泉徴収票!BW78,\n  IF(源泉徴収票!BW78<=40000, 源泉徴収票!BW78*1/2+10000,\n   IF(源泉徴収票!BW78<=80000, 源泉徴収票!BW78*1/4+20000,\n                 40000)))","v":0},{"$f":"IF(源泉徴収票!BX78<=20000, 源泉徴収票!BX78,\n  IF(源泉徴収票!BX78<=40000, 源泉徴収票!BX78*1/2+10000,\n   IF(源泉徴収票!BX78<=80000, 源泉徴収票!BX78*1/4+20000,\n                 40000)))","v":0},{"$f":"IF(源泉徴収票!BY78<=25000,源泉徴収票!BY78,\n  IF(源泉徴収票!BY78<=50000,源泉徴収票!BY78*1/2+12500,\n   IF(源泉徴収票!BY78<=100000,源泉徴収票!BY78*1/4+25000,\n                 50000)))","v":0},0,0,{"$f":"IF(源泉徴収票!BZ78<>\"\",MIN(源泉徴収票!BZ78,50000),0)","v":0},{"$f":"IF(源泉徴収票!CA78>=20000,15000,IF(源泉徴収票!CA78>=10000,源泉徴収票!CA78/2+5000,源泉徴収票!CA78))","v":0},{"$f":"IF(源泉徴収票!CS78<>\"\",\"〇\",\"×\")","v":"×"},null,{"$f":"源泉徴収票!O78+源泉徴収票!R78+源泉徴収票!U78","v":0},{"$f":"源泉徴収票!Q78+源泉徴収票!T78+源泉徴収票!W78","v":0},{"$f":"IF(源泉徴収票!I78=\"無\",0,INT(A78*VLOOKUP(A78, 給与所得計算, 3, TRUE)\n        +  VLOOKUP(A78, 給与所得計算, 4, TRUE) ))","v":0},0,0,{"$f":"源泉徴収票!P78+源泉徴収票!S78+源泉徴収票!V78","v":0},{"$f":"IF(源泉徴収票!I78=\"無\",0,源泉徴収票!CB78)","v":0},{"$f":"IF(源泉徴収票!I78=\"無\",0,源泉徴収票!CD78)","v":0},{"$f":"IF(源泉徴収票!I78=\"無\",0,MIN(120000,Z78+AA78+AE78))","v":0},{"$f":"IF(源泉徴収票!I78=\"無\",0,MIN(AF78+AG78,50000))","v":0},{"$f":"IF(源泉徴収票!I78=\"無\",0,IF(E78=\"○\",INDEX(H30配偶者控除・特別控除マスタ,F78,G78),0))","v":0},{"$f":"IF(源泉徴収票!I78=\"無\",0,IF(C78=\"○\",INDEX(H30配偶者控除・特別控除マスタ,F78,G78),0)+IF(D78=\"○\",INDEX(H30老人控除対象配偶者上乗せ,1,G78),0))","v":0},{"$f":"IF(源泉徴収票!I78=\"無\",0,COUNTIF(M78:Q78,\"一\")*380000+COUNTIF(M78:Q78,\"特\")*630000+COUNTIF(M78:Q78,\"老\")*480000+COUNTIF(M78:Q78,\"同\")*580000)","v":0},{"$f":"IF(源泉徴収票!I78=\"無\",0,(COUNTIF(源泉徴収票!BO78:BP78,\"一般\")+源泉徴収票!BQ78)*270000+(COUNTIF(源泉徴収票!BO78:BP78,\"特別\")+源泉徴収票!BR78)*400000+(COUNTIF(源泉徴収票!BP78,\"同居特別\")+源泉徴収票!BS78)*750000)","v":0},{"$f":"IF(源泉徴収票!I78=\"無\",0,IF(源泉徴収票!BT78<>\"\",IF(OR(源泉徴収票!BT78=\"特別の寡婦\",源泉徴収票!BT78=\"ひとり親\"),350000,270000),0))","v":0},{"$f":"IF(源泉徴収票!I78=\"無\",0,480000)","v":480000},{"$f":"IF(源泉徴収票!I78=\"無\",0,SUM(AO78:AY78))","v":480000},{"$f":"IF(源泉徴収票!I78=\"無\",AN78,FLOOR(MAX(AN78-AZ78,0),1000))","v":0},{"$f":"IF(源泉徴収票!I78=\"無\",AK78,BA78*VLOOKUP(BA78,所得税額計算,3,TRUE)+VLOOKUP(BA78,所得税額計算,4,TRUE))","v":0},{"$f":"IF(源泉徴収票!I78=\"無\",0,源泉徴収票!CZ78)","v":0},0,{"$f":"IF(源泉徴収票!I78=\"無\",BD78,FLOOR(BD78*102.1%,100))","v":0},0]
[0,{"$f":"IF(AND(源泉徴収票!I79=\"無\",源泉徴収票!AE79<>\"\"),\"○\",\"×\")","v":"×"},{"$f":"IF(AND(源泉徴収票!CO79<>\"\",源泉徴収票!CO79<=480000,AN79<=10000000),\"○\",\"×\")","v":"×"},{"$f":"IF(AND(C79=\"○\",源泉徴収票!CN79<>\"\",会社情報!$C$7-YEAR(MAX(源泉徴収票!CN79-1,0))>=70),\"○\",\"×\")","v":"×"},{"$f":"IF(AND(源泉徴収票!CO79<>\"\",源泉徴収票!CO79>480000,源泉徴収票!CO79<=1330000,AN79<=10000000),\"○\",\"×\")","v":"×"},{"$f":"MATCH(源泉徴収票!CO79,H30配偶者控除・特別控除マスタ_配偶者所得,1)","v":1},{"$f":"MATCH('源泉徴収票計算過程(非)'!AN79,H30配偶者控除・特別控除マスタ_所得者合計所得,1)","v":1},{"$f":"IF(源泉徴収票!AN79=\"\",-1,会社情報!$C$7-YEAR(源泉徴収票!AN79-1))","v":-1},{"$f":"IF(源泉徴収票!AT79=\"\",-1,会社情報!$C$7-YEAR(源泉徴収票!AT79-1))","v":-1},{"$f":"IF(源泉徴収票!AZ79=\"\",-1,会社情報!$C$7-YEAR(源泉徴収票!AZ79-1))","v":-1},{"$f":"IF(源泉徴収票!BF79=\"\",-1,会社情報!$C$7-YEAR(源泉徴収票!BF79-1))","v":-1},{"$f":"IF(源泉徴収票!BL79=\"\",-1,会社情報!$C$7-YEAR(源泉徴収票!BL79-1))","v":-1},{"$f":"IF(H79>=16,IF(AND(H79>=19,H79<23),\"特\",IF(H79>=70,IF(源泉徴収票!AO79=\"同居老親等\",\"同\",\"老\"),\"一\")),IF(H79>=0,\"未\",\"×\"))","v":"×"},{"$f":"IF(I79>=16,IF(AND(I79>=19,I79<23),\"特\",IF(I79>=70,IF(源泉徴収票!AU79=\"同居老親等\",\"同\",\"老\"),\"一\")),IF(I79>=0,\"未\",\"×\"))","v":"×"},{"$f":"IF(J79>=16,IF(AND(J79>=19,J79<23),\"特\",IF(J79>=70,IF(源泉徴収票!BA79=\"同居老親等\",\"同\",\"老\"),\"一\")),IF(J79>=0,\"未\",\"×\"))","v":"×"},{"$f":"IF(K79>=16,IF(AND(K79>=19,K79<23),\"特\",IF(K79>=70,IF(源泉徴収票!BG79=\"同居老親等\",\"同\",\"老\"),\"一\")),IF(K79>=0,\"未\",\"×\"))","v":"×"},{"$f":"IF(L79>=16,IF(AND(L79>=19,L79<23),\"特\",IF(L79>=70,IF(源泉徴収票!BM79=\"同居老親等\",\"同\",\"老\"),\"一\")),IF(L79>=0,\"未\",\"×\"))","v":"×"},"","","","","",{"$f":"IF(源泉徴収票!BU79<=20000, 源泉徴収票!BU79,\n  IF(源泉徴収票!BU79<=40000, 源泉徴収票!BU79*1/2+10000,\n   IF(源泉徴収票!BU79<=80000, 源泉徴収票!BU79*1/4+20000,\n                 40000)))","v":0},{"$f":"IF(源泉徴収票!BV79<=25000,源泉徴収票!BV79,\n  IF(源泉徴収票!BV79<=50000,源泉徴収票!BV79*1/2+12500,\n   IF(源泉徴収票!BV79<=100000,源泉徴収票!BV79*1/4+25000,\n                 50000)))","v":0},0,0,{"$f":"IF(源泉徴収票!BW79<=20000, 源泉徴収票!BW79,\n  IF(源泉徴収票!BW79<=40000, 源泉徴収票!BW79*1/2+10000,\n   IF(源泉徴収票!BW79<=80000, 源泉徴収票!BW79*1/4+20000,\n                 40000)))","v":0},{"$f":"IF(源泉徴収票!BX79<=20000, 源泉徴収票!BX79,\n  IF(源泉徴収票!BX79<=40000, 源泉徴収票!BX79*1/2+10000,\n   IF(源泉徴収票!BX79<=80000, 源泉徴収票!BX79*1/4+20000,\n                 40000)))","v":0},{"$f":"IF(源泉徴収票!BY79<=25000,源泉徴収票!BY79,\n  IF(源泉徴収票!BY79<=50000,源泉徴収票!BY79*1/2+12500,\n   IF(源泉徴収票!BY79<=100000,源泉徴収票!BY79*1/4+25000,\n                 50000)))","v":0},0,0,{"$f":"IF(源泉徴収票!BZ79<>\"\",MIN(源泉徴収票!BZ79,50000),0)","v":0},{"$f":"IF(源泉徴収票!CA79>=20000,15000,IF(源泉徴収票!CA79>=10000,源泉徴収票!CA79/2+5000,源泉徴収票!CA79))","v":0},{"$f":"IF(源泉徴収票!CS79<>\"\",\"〇\",\"×\")","v":"×"},null,{"$f":"源泉徴収票!O79+源泉徴収票!R79+源泉徴収票!U79","v":0},{"$f":"源泉徴収票!Q79+源泉徴収票!T79+源泉徴収票!W79","v":0},{"$f":"IF(源泉徴収票!I79=\"無\",0,INT(A79*VLOOKUP(A79, 給与所得計算, 3, TRUE)\n        +  VLOOKUP(A79, 給与所得計算, 4, TRUE) ))","v":0},0,0,{"$f":"源泉徴収票!P79+源泉徴収票!S79+源泉徴収票!V79","v":0},{"$f":"IF(源泉徴収票!I79=\"無\",0,源泉徴収票!CB79)","v":0},{"$f":"IF(源泉徴収票!I79=\"無\",0,源泉徴収票!CD79)","v":0},{"$f":"IF(源泉徴収票!I79=\"無\",0,MIN(120000,Z79+AA79+AE79))","v":0},{"$f":"IF(源泉徴収票!I79=\"無\",0,MIN(AF79+AG79,50000))","v":0},{"$f":"IF(源泉徴収票!I79=\"無\",0,IF(E79=\"○\",INDEX(H30配偶者控除・特別控除マスタ,F79,G79),0))","v":0},{"$f":"IF(源泉徴収票!I79=\"無\",0,IF(C79=\"○\",INDEX(H30配偶者控除・特別控除マスタ,F79,G79),0)+IF(D79=\"○\",INDEX(H30老人控除対象配偶者上乗せ,1,G79),0))","v":0},{"$f":"IF(源泉徴収票!I79=\"無\",0,COUNTIF(M79:Q79,\"一\")*380000+COUNTIF(M79:Q79,\"特\")*630000+COUNTIF(M79:Q79,\"老\")*480000+COUNTIF(M79:Q79,\"同\")*580000)","v":0},{"$f":"IF(源泉徴収票!I79=\"無\",0,(COUNTIF(源泉徴収票!BO79:BP79,\"一般\")+源泉徴収票!BQ79)*270000+(COUNTIF(源泉徴収票!BO79:BP79,\"特別\")+源泉徴収票!BR79)*400000+(COUNTIF(源泉徴収票!BP79,\"同居特別\")+源泉徴収票!BS79)*750000)","v":0},{"$f":"IF(源泉徴収票!I79=\"無\",0,IF(源泉徴収票!BT79<>\"\",IF(OR(源泉徴収票!BT79=\"特別の寡婦\",源泉徴収票!BT79=\"ひとり親\"),350000,270000),0))","v":0},{"$f":"IF(源泉徴収票!I79=\"無\",0,480000)","v":480000},{"$f":"IF(源泉徴収票!I79=\"無\",0,SUM(AO79:AY79))","v":480000},{"$f":"IF(源泉徴収票!I79=\"無\",AN79,FLOOR(MAX(AN79-AZ79,0),1000))","v":0},{"$f":"IF(源泉徴収票!I79=\"無\",AK79,BA79*VLOOKUP(BA79,所得税額計算,3,TRUE)+VLOOKUP(BA79,所得税額計算,4,TRUE))","v":0},{"$f":"IF(源泉徴収票!I79=\"無\",0,源泉徴収票!CZ79)","v":0},0,{"$f":"IF(源泉徴収票!I79=\"無\",BD79,FLOOR(BD79*102.1%,100))","v":0},0]
[0,{"$f":"IF(AND(源泉徴収票!I80=\"無\",源泉徴収票!AE80<>\"\"),\"○\",\"×\")","v":"×"},{"$f":"IF(AND(源泉徴収票!CO80<>\"\",源泉徴収票!CO80<=480000,AN80<=10000000),\"○\",\"×\")","v":"×"},{"$f":"IF(AND(C80=\"○\",源泉徴収票!CN80<>\"\",会社情報!$C$7-YEAR(MAX(源泉徴収票!CN80-1,0))>=70),\"○\",\"×\")","v":"×"},{"$f":"IF(AND(源泉徴収票!CO80<>\"\",源泉徴収票!CO80>480000,源泉徴収票!CO80<=1330000,AN80<=10000000),\"○\",\"×\")","v":"×"},{"$f":"MATCH(源泉徴収票!CO80,H30配偶者控除・特別控除マスタ_配偶者所得,1)","v":1},{"$f":"MATCH('源泉徴収票計算過程(非)'!AN80,H30配偶者控除・特別控除マスタ_所得者合計所得,1)","v":1},{"$f":"IF(源泉徴収票!AN80=\"\",-1,会社情報!$C$7-YEAR(源泉徴収票!AN80-1))","v":-1},{"$f":"IF(源泉徴収票!AT80=\"\",-1,会社情報!$C$7-YEAR(源泉徴収票!AT80-1))","v":-1},{"$f":"IF(源泉徴収票!AZ80=\"\",-1,会社情報!$C$7-YEAR(源泉徴収票!AZ80-1))","v":-1},{"$f":"IF(源泉徴収票!BF80=\"\",-1,会社情報!$C$7-YEAR(源泉徴収票!BF80-1))","v":-1},{"$f":"IF(源泉徴収票!BL80=\"\",-1,会社情報!$C$7-YEAR(源泉徴収票!BL80-1))","v":-1},{"$f":"IF(H80>=16,IF(AND(H80>=19,H80<23),\"特\",IF(H80>=70,IF(源泉徴収票!AO80=\"同居老親等\",\"同\",\"老\"),\"一\")),IF(H80>=0,\"未\",\"×\"))","v":"×"},{"$f":"IF(I80>=16,IF(AND(I80>=19,I80<23),\"特\",IF(I80>=70,IF(源泉徴収票!AU80=\"同居老親等\",\"同\",\"老\"),\"一\")),IF(I80>=0,\"未\",\"×\"))","v":"×"},{"$f":"IF(J80>=16,IF(AND(J80>=19,J80<23),\"特\",IF(J80>=70,IF(源泉徴収票!BA80=\"同居老親等\",\"同\",\"老\"),\"一\")),IF(J80>=0,\"未\",\"×\"))","v":"×"},{"$f":"IF(K80>=16,IF(AND(K80>=19,K80<23),\"特\",IF(K80>=70,IF(源泉徴収票!BG80=\"同居老親等\",\"同\",\"老\"),\"一\")),IF(K80>=0,\"未\",\"×\"))","v":"×"},{"$f":"IF(L80>=16,IF(AND(L80>=19,L80<23),\"特\",IF(L80>=70,IF(源泉徴収票!BM80=\"同居老親等\",\"同\",\"老\"),\"一\")),IF(L80>=0,\"未\",\"×\"))","v":"×"},"","","","","",{"$f":"IF(源泉徴収票!BU80<=20000, 源泉徴収票!BU80,\n  IF(源泉徴収票!BU80<=40000, 源泉徴収票!BU80*1/2+10000,\n   IF(源泉徴収票!BU80<=80000, 源泉徴収票!BU80*1/4+20000,\n                 40000)))","v":0},{"$f":"IF(源泉徴収票!BV80<=25000,源泉徴収票!BV80,\n  IF(源泉徴収票!BV80<=50000,源泉徴収票!BV80*1/2+12500,\n   IF(源泉徴収票!BV80<=100000,源泉徴収票!BV80*1/4+25000,\n                 50000)))","v":0},0,0,{"$f":"IF(源泉徴収票!BW80<=20000, 源泉徴収票!BW80,\n  IF(源泉徴収票!BW80<=40000, 源泉徴収票!BW80*1/2+10000,\n   IF(源泉徴収票!BW80<=80000, 源泉徴収票!BW80*1/4+20000,\n                 40000)))","v":0},{"$f":"IF(源泉徴収票!BX80<=20000, 源泉徴収票!BX80,\n  IF(源泉徴収票!BX80<=40000, 源泉徴収票!BX80*1/2+10000,\n   IF(源泉徴収票!BX80<=80000, 源泉徴収票!BX80*1/4+20000,\n                 40000)))","v":0},{"$f":"IF(源泉徴収票!BY80<=25000,源泉徴収票!BY80,\n  IF(源泉徴収票!BY80<=50000,源泉徴収票!BY80*1/2+12500,\n   IF(源泉徴収票!BY80<=100000,源泉徴収票!BY80*1/4+25000,\n                 50000)))","v":0},0,0,{"$f":"IF(源泉徴収票!BZ80<>\"\",MIN(源泉徴収票!BZ80,50000),0)","v":0},{"$f":"IF(源泉徴収票!CA80>=20000,15000,IF(源泉徴収票!CA80>=10000,源泉徴収票!CA80/2+5000,源泉徴収票!CA80))","v":0},{"$f":"IF(源泉徴収票!CS80<>\"\",\"〇\",\"×\")","v":"×"},null,{"$f":"源泉徴収票!O80+源泉徴収票!R80+源泉徴収票!U80","v":0},{"$f":"源泉徴収票!Q80+源泉徴収票!T80+源泉徴収票!W80","v":0},{"$f":"IF(源泉徴収票!I80=\"無\",0,INT(A80*VLOOKUP(A80, 給与所得計算, 3, TRUE)\n        +  VLOOKUP(A80, 給与所得計算, 4, TRUE) ))","v":0},0,0,{"$f":"源泉徴収票!P80+源泉徴収票!S80+源泉徴収票!V80","v":0},{"$f":"IF(源泉徴収票!I80=\"無\",0,源泉徴収票!CB80)","v":0},{"$f":"IF(源泉徴収票!I80=\"無\",0,源泉徴収票!CD80)","v":0},{"$f":"IF(源泉徴収票!I80=\"無\",0,MIN(120000,Z80+AA80+AE80))","v":0},{"$f":"IF(源泉徴収票!I80=\"無\",0,MIN(AF80+AG80,50000))","v":0},{"$f":"IF(源泉徴収票!I80=\"無\",0,IF(E80=\"○\",INDEX(H30配偶者控除・特別控除マスタ,F80,G80),0))","v":0},{"$f":"IF(源泉徴収票!I80=\"無\",0,IF(C80=\"○\",INDEX(H30配偶者控除・特別控除マスタ,F80,G80),0)+IF(D80=\"○\",INDEX(H30老人控除対象配偶者上乗せ,1,G80),0))","v":0},{"$f":"IF(源泉徴収票!I80=\"無\",0,COUNTIF(M80:Q80,\"一\")*380000+COUNTIF(M80:Q80,\"特\")*630000+COUNTIF(M80:Q80,\"老\")*480000+COUNTIF(M80:Q80,\"同\")*580000)","v":0},{"$f":"IF(源泉徴収票!I80=\"無\",0,(COUNTIF(源泉徴収票!BO80:BP80,\"一般\")+源泉徴収票!BQ80)*270000+(COUNTIF(源泉徴収票!BO80:BP80,\"特別\")+源泉徴収票!BR80)*400000+(COUNTIF(源泉徴収票!BP80,\"同居特別\")+源泉徴収票!BS80)*750000)","v":0},{"$f":"IF(源泉徴収票!I80=\"無\",0,IF(源泉徴収票!BT80<>\"\",IF(OR(源泉徴収票!BT80=\"特別の寡婦\",源泉徴収票!BT80=\"ひとり親\"),350000,270000),0))","v":0},{"$f":"IF(源泉徴収票!I80=\"無\",0,480000)","v":480000},{"$f":"IF(源泉徴収票!I80=\"無\",0,SUM(AO80:AY80))","v":480000},{"$f":"IF(源泉徴収票!I80=\"無\",AN80,FLOOR(MAX(AN80-AZ80,0),1000))","v":0},{"$f":"IF(源泉徴収票!I80=\"無\",AK80,BA80*VLOOKUP(BA80,所得税額計算,3,TRUE)+VLOOKUP(BA80,所得税額計算,4,TRUE))","v":0},{"$f":"IF(源泉徴収票!I80=\"無\",0,源泉徴収票!CZ80)","v":0},0,{"$f":"IF(源泉徴収票!I80=\"無\",BD80,FLOOR(BD80*102.1%,100))","v":0},0]
[0,{"$f":"IF(AND(源泉徴収票!I81=\"無\",源泉徴収票!AE81<>\"\"),\"○\",\"×\")","v":"×"},{"$f":"IF(AND(源泉徴収票!CO81<>\"\",源泉徴収票!CO81<=480000,AN81<=10000000),\"○\",\"×\")","v":"×"},{"$f":"IF(AND(C81=\"○\",源泉徴収票!CN81<>\"\",会社情報!$C$7-YEAR(MAX(源泉徴収票!CN81-1,0))>=70),\"○\",\"×\")","v":"×"},{"$f":"IF(AND(源泉徴収票!CO81<>\"\",源泉徴収票!CO81>480000,源泉徴収票!CO81<=1330000,AN81<=10000000),\"○\",\"×\")","v":"×"},{"$f":"MATCH(源泉徴収票!CO81,H30配偶者控除・特別控除マスタ_配偶者所得,1)","v":1},{"$f":"MATCH('源泉徴収票計算過程(非)'!AN81,H30配偶者控除・特別控除マスタ_所得者合計所得,1)","v":1},{"$f":"IF(源泉徴収票!AN81=\"\",-1,会社情報!$C$7-YEAR(源泉徴収票!AN81-1))","v":-1},{"$f":"IF(源泉徴収票!AT81=\"\",-1,会社情報!$C$7-YEAR(源泉徴収票!AT81-1))","v":-1},{"$f":"IF(源泉徴収票!AZ81=\"\",-1,会社情報!$C$7-YEAR(源泉徴収票!AZ81-1))","v":-1},{"$f":"IF(源泉徴収票!BF81=\"\",-1,会社情報!$C$7-YEAR(源泉徴収票!BF81-1))","v":-1},{"$f":"IF(源泉徴収票!BL81=\"\",-1,会社情報!$C$7-YEAR(源泉徴収票!BL81-1))","v":-1},{"$f":"IF(H81>=16,IF(AND(H81>=19,H81<23),\"特\",IF(H81>=70,IF(源泉徴収票!AO81=\"同居老親等\",\"同\",\"老\"),\"一\")),IF(H81>=0,\"未\",\"×\"))","v":"×"},{"$f":"IF(I81>=16,IF(AND(I81>=19,I81<23),\"特\",IF(I81>=70,IF(源泉徴収票!AU81=\"同居老親等\",\"同\",\"老\"),\"一\")),IF(I81>=0,\"未\",\"×\"))","v":"×"},{"$f":"IF(J81>=16,IF(AND(J81>=19,J81<23),\"特\",IF(J81>=70,IF(源泉徴収票!BA81=\"同居老親等\",\"同\",\"老\"),\"一\")),IF(J81>=0,\"未\",\"×\"))","v":"×"},{"$f":"IF(K81>=16,IF(AND(K81>=19,K81<23),\"特\",IF(K81>=70,IF(源泉徴収票!BG81=\"同居老親等\",\"同\",\"老\"),\"一\")),IF(K81>=0,\"未\",\"×\"))","v":"×"},{"$f":"IF(L81>=16,IF(AND(L81>=19,L81<23),\"特\",IF(L81>=70,IF(源泉徴収票!BM81=\"同居老親等\",\"同\",\"老\"),\"一\")),IF(L81>=0,\"未\",\"×\"))","v":"×"},"","","","","",{"$f":"IF(源泉徴収票!BU81<=20000, 源泉徴収票!BU81,\n  IF(源泉徴収票!BU81<=40000, 源泉徴収票!BU81*1/2+10000,\n   IF(源泉徴収票!BU81<=80000, 源泉徴収票!BU81*1/4+20000,\n                 40000)))","v":0},{"$f":"IF(源泉徴収票!BV81<=25000,源泉徴収票!BV81,\n  IF(源泉徴収票!BV81<=50000,源泉徴収票!BV81*1/2+12500,\n   IF(源泉徴収票!BV81<=100000,源泉徴収票!BV81*1/4+25000,\n                 50000)))","v":0},0,0,{"$f":"IF(源泉徴収票!BW81<=20000, 源泉徴収票!BW81,\n  IF(源泉徴収票!BW81<=40000, 源泉徴収票!BW81*1/2+10000,\n   IF(源泉徴収票!BW81<=80000, 源泉徴収票!BW81*1/4+20000,\n                 40000)))","v":0},{"$f":"IF(源泉徴収票!BX81<=20000, 源泉徴収票!BX81,\n  IF(源泉徴収票!BX81<=40000, 源泉徴収票!BX81*1/2+10000,\n   IF(源泉徴収票!BX81<=80000, 源泉徴収票!BX81*1/4+20000,\n                 40000)))","v":0},{"$f":"IF(源泉徴収票!BY81<=25000,源泉徴収票!BY81,\n  IF(源泉徴収票!BY81<=50000,源泉徴収票!BY81*1/2+12500,\n   IF(源泉徴収票!BY81<=100000,源泉徴収票!BY81*1/4+25000,\n                 50000)))","v":0},0,0,{"$f":"IF(源泉徴収票!BZ81<>\"\",MIN(源泉徴収票!BZ81,50000),0)","v":0},{"$f":"IF(源泉徴収票!CA81>=20000,15000,IF(源泉徴収票!CA81>=10000,源泉徴収票!CA81/2+5000,源泉徴収票!CA81))","v":0},{"$f":"IF(源泉徴収票!CS81<>\"\",\"〇\",\"×\")","v":"×"},null,{"$f":"源泉徴収票!O81+源泉徴収票!R81+源泉徴収票!U81","v":0},{"$f":"源泉徴収票!Q81+源泉徴収票!T81+源泉徴収票!W81","v":0},{"$f":"IF(源泉徴収票!I81=\"無\",0,INT(A81*VLOOKUP(A81, 給与所得計算, 3, TRUE)\n        +  VLOOKUP(A81, 給与所得計算, 4, TRUE) ))","v":0},0,0,{"$f":"源泉徴収票!P81+源泉徴収票!S81+源泉徴収票!V81","v":0},{"$f":"IF(源泉徴収票!I81=\"無\",0,源泉徴収票!CB81)","v":0},{"$f":"IF(源泉徴収票!I81=\"無\",0,源泉徴収票!CD81)","v":0},{"$f":"IF(源泉徴収票!I81=\"無\",0,MIN(120000,Z81+AA81+AE81))","v":0},{"$f":"IF(源泉徴収票!I81=\"無\",0,MIN(AF81+AG81,50000))","v":0},{"$f":"IF(源泉徴収票!I81=\"無\",0,IF(E81=\"○\",INDEX(H30配偶者控除・特別控除マスタ,F81,G81),0))","v":0},{"$f":"IF(源泉徴収票!I81=\"無\",0,IF(C81=\"○\",INDEX(H30配偶者控除・特別控除マスタ,F81,G81),0)+IF(D81=\"○\",INDEX(H30老人控除対象配偶者上乗せ,1,G81),0))","v":0},{"$f":"IF(源泉徴収票!I81=\"無\",0,COUNTIF(M81:Q81,\"一\")*380000+COUNTIF(M81:Q81,\"特\")*630000+COUNTIF(M81:Q81,\"老\")*480000+COUNTIF(M81:Q81,\"同\")*580000)","v":0},{"$f":"IF(源泉徴収票!I81=\"無\",0,(COUNTIF(源泉徴収票!BO81:BP81,\"一般\")+源泉徴収票!BQ81)*270000+(COUNTIF(源泉徴収票!BO81:BP81,\"特別\")+源泉徴収票!BR81)*400000+(COUNTIF(源泉徴収票!BP81,\"同居特別\")+源泉徴収票!BS81)*750000)","v":0},{"$f":"IF(源泉徴収票!I81=\"無\",0,IF(源泉徴収票!BT81<>\"\",IF(OR(源泉徴収票!BT81=\"特別の寡婦\",源泉徴収票!BT81=\"ひとり親\"),350000,270000),0))","v":0},{"$f":"IF(源泉徴収票!I81=\"無\",0,480000)","v":480000},{"$f":"IF(源泉徴収票!I81=\"無\",0,SUM(AO81:AY81))","v":480000},{"$f":"IF(源泉徴収票!I81=\"無\",AN81,FLOOR(MAX(AN81-AZ81,0),1000))","v":0},{"$f":"IF(源泉徴収票!I81=\"無\",AK81,BA81*VLOOKUP(BA81,所得税額計算,3,TRUE)+VLOOKUP(BA81,所得税額計算,4,TRUE))","v":0},{"$f":"IF(源泉徴収票!I81=\"無\",0,源泉徴収票!CZ81)","v":0},0,{"$f":"IF(源泉徴収票!I81=\"無\",BD81,FLOOR(BD81*102.1%,100))","v":0},0]
[0,{"$f":"IF(AND(源泉徴収票!I82=\"無\",源泉徴収票!AE82<>\"\"),\"○\",\"×\")","v":"×"},{"$f":"IF(AND(源泉徴収票!CO82<>\"\",源泉徴収票!CO82<=480000,AN82<=10000000),\"○\",\"×\")","v":"×"},{"$f":"IF(AND(C82=\"○\",源泉徴収票!CN82<>\"\",会社情報!$C$7-YEAR(MAX(源泉徴収票!CN82-1,0))>=70),\"○\",\"×\")","v":"×"},{"$f":"IF(AND(源泉徴収票!CO82<>\"\",源泉徴収票!CO82>480000,源泉徴収票!CO82<=1330000,AN82<=10000000),\"○\",\"×\")","v":"×"},{"$f":"MATCH(源泉徴収票!CO82,H30配偶者控除・特別控除マスタ_配偶者所得,1)","v":1},{"$f":"MATCH('源泉徴収票計算過程(非)'!AN82,H30配偶者控除・特別控除マスタ_所得者合計所得,1)","v":1},{"$f":"IF(源泉徴収票!AN82=\"\",-1,会社情報!$C$7-YEAR(源泉徴収票!AN82-1))","v":-1},{"$f":"IF(源泉徴収票!AT82=\"\",-1,会社情報!$C$7-YEAR(源泉徴収票!AT82-1))","v":-1},{"$f":"IF(源泉徴収票!AZ82=\"\",-1,会社情報!$C$7-YEAR(源泉徴収票!AZ82-1))","v":-1},{"$f":"IF(源泉徴収票!BF82=\"\",-1,会社情報!$C$7-YEAR(源泉徴収票!BF82-1))","v":-1},{"$f":"IF(源泉徴収票!BL82=\"\",-1,会社情報!$C$7-YEAR(源泉徴収票!BL82-1))","v":-1},{"$f":"IF(H82>=16,IF(AND(H82>=19,H82<23),\"特\",IF(H82>=70,IF(源泉徴収票!AO82=\"同居老親等\",\"同\",\"老\"),\"一\")),IF(H82>=0,\"未\",\"×\"))","v":"×"},{"$f":"IF(I82>=16,IF(AND(I82>=19,I82<23),\"特\",IF(I82>=70,IF(源泉徴収票!AU82=\"同居老親等\",\"同\",\"老\"),\"一\")),IF(I82>=0,\"未\",\"×\"))","v":"×"},{"$f":"IF(J82>=16,IF(AND(J82>=19,J82<23),\"特\",IF(J82>=70,IF(源泉徴収票!BA82=\"同居老親等\",\"同\",\"老\"),\"一\")),IF(J82>=0,\"未\",\"×\"))","v":"×"},{"$f":"IF(K82>=16,IF(AND(K82>=19,K82<23),\"特\",IF(K82>=70,IF(源泉徴収票!BG82=\"同居老親等\",\"同\",\"老\"),\"一\")),IF(K82>=0,\"未\",\"×\"))","v":"×"},{"$f":"IF(L82>=16,IF(AND(L82>=19,L82<23),\"特\",IF(L82>=70,IF(源泉徴収票!BM82=\"同居老親等\",\"同\",\"老\"),\"一\")),IF(L82>=0,\"未\",\"×\"))","v":"×"},"","","","","",{"$f":"IF(源泉徴収票!BU82<=20000, 源泉徴収票!BU82,\n  IF(源泉徴収票!BU82<=40000, 源泉徴収票!BU82*1/2+10000,\n   IF(源泉徴収票!BU82<=80000, 源泉徴収票!BU82*1/4+20000,\n                 40000)))","v":0},{"$f":"IF(源泉徴収票!BV82<=25000,源泉徴収票!BV82,\n  IF(源泉徴収票!BV82<=50000,源泉徴収票!BV82*1/2+12500,\n   IF(源泉徴収票!BV82<=100000,源泉徴収票!BV82*1/4+25000,\n                 50000)))","v":0},0,0,{"$f":"IF(源泉徴収票!BW82<=20000, 源泉徴収票!BW82,\n  IF(源泉徴収票!BW82<=40000, 源泉徴収票!BW82*1/2+10000,\n   IF(源泉徴収票!BW82<=80000, 源泉徴収票!BW82*1/4+20000,\n                 40000)))","v":0},{"$f":"IF(源泉徴収票!BX82<=20000, 源泉徴収票!BX82,\n  IF(源泉徴収票!BX82<=40000, 源泉徴収票!BX82*1/2+10000,\n   IF(源泉徴収票!BX82<=80000, 源泉徴収票!BX82*1/4+20000,\n                 40000)))","v":0},{"$f":"IF(源泉徴収票!BY82<=25000,源泉徴収票!BY82,\n  IF(源泉徴収票!BY82<=50000,源泉徴収票!BY82*1/2+12500,\n   IF(源泉徴収票!BY82<=100000,源泉徴収票!BY82*1/4+25000,\n                 50000)))","v":0},0,0,{"$f":"IF(源泉徴収票!BZ82<>\"\",MIN(源泉徴収票!BZ82,50000),0)","v":0},{"$f":"IF(源泉徴収票!CA82>=20000,15000,IF(源泉徴収票!CA82>=10000,源泉徴収票!CA82/2+5000,源泉徴収票!CA82))","v":0},{"$f":"IF(源泉徴収票!CS82<>\"\",\"〇\",\"×\")","v":"×"},null,{"$f":"源泉徴収票!O82+源泉徴収票!R82+源泉徴収票!U82","v":0},{"$f":"源泉徴収票!Q82+源泉徴収票!T82+源泉徴収票!W82","v":0},{"$f":"IF(源泉徴収票!I82=\"無\",0,INT(A82*VLOOKUP(A82, 給与所得計算, 3, TRUE)\n        +  VLOOKUP(A82, 給与所得計算, 4, TRUE) ))","v":0},0,0,{"$f":"源泉徴収票!P82+源泉徴収票!S82+源泉徴収票!V82","v":0},{"$f":"IF(源泉徴収票!I82=\"無\",0,源泉徴収票!CB82)","v":0},{"$f":"IF(源泉徴収票!I82=\"無\",0,源泉徴収票!CD82)","v":0},{"$f":"IF(源泉徴収票!I82=\"無\",0,MIN(120000,Z82+AA82+AE82))","v":0},{"$f":"IF(源泉徴収票!I82=\"無\",0,MIN(AF82+AG82,50000))","v":0},{"$f":"IF(源泉徴収票!I82=\"無\",0,IF(E82=\"○\",INDEX(H30配偶者控除・特別控除マスタ,F82,G82),0))","v":0},{"$f":"IF(源泉徴収票!I82=\"無\",0,IF(C82=\"○\",INDEX(H30配偶者控除・特別控除マスタ,F82,G82),0)+IF(D82=\"○\",INDEX(H30老人控除対象配偶者上乗せ,1,G82),0))","v":0},{"$f":"IF(源泉徴収票!I82=\"無\",0,COUNTIF(M82:Q82,\"一\")*380000+COUNTIF(M82:Q82,\"特\")*630000+COUNTIF(M82:Q82,\"老\")*480000+COUNTIF(M82:Q82,\"同\")*580000)","v":0},{"$f":"IF(源泉徴収票!I82=\"無\",0,(COUNTIF(源泉徴収票!BO82:BP82,\"一般\")+源泉徴収票!BQ82)*270000+(COUNTIF(源泉徴収票!BO82:BP82,\"特別\")+源泉徴収票!BR82)*400000+(COUNTIF(源泉徴収票!BP82,\"同居特別\")+源泉徴収票!BS82)*750000)","v":0},{"$f":"IF(源泉徴収票!I82=\"無\",0,IF(源泉徴収票!BT82<>\"\",IF(OR(源泉徴収票!BT82=\"特別の寡婦\",源泉徴収票!BT82=\"ひとり親\"),350000,270000),0))","v":0},{"$f":"IF(源泉徴収票!I82=\"無\",0,480000)","v":480000},{"$f":"IF(源泉徴収票!I82=\"無\",0,SUM(AO82:AY82))","v":480000},{"$f":"IF(源泉徴収票!I82=\"無\",AN82,FLOOR(MAX(AN82-AZ82,0),1000))","v":0},{"$f":"IF(源泉徴収票!I82=\"無\",AK82,BA82*VLOOKUP(BA82,所得税額計算,3,TRUE)+VLOOKUP(BA82,所得税額計算,4,TRUE))","v":0},{"$f":"IF(源泉徴収票!I82=\"無\",0,源泉徴収票!CZ82)","v":0},0,{"$f":"IF(源泉徴収票!I82=\"無\",BD82,FLOOR(BD82*102.1%,100))","v":0},0]
[0,{"$f":"IF(AND(源泉徴収票!I83=\"無\",源泉徴収票!AE83<>\"\"),\"○\",\"×\")","v":"×"},{"$f":"IF(AND(源泉徴収票!CO83<>\"\",源泉徴収票!CO83<=480000,AN83<=10000000),\"○\",\"×\")","v":"×"},{"$f":"IF(AND(C83=\"○\",源泉徴収票!CN83<>\"\",会社情報!$C$7-YEAR(MAX(源泉徴収票!CN83-1,0))>=70),\"○\",\"×\")","v":"×"},{"$f":"IF(AND(源泉徴収票!CO83<>\"\",源泉徴収票!CO83>480000,源泉徴収票!CO83<=1330000,AN83<=10000000),\"○\",\"×\")","v":"×"},{"$f":"MATCH(源泉徴収票!CO83,H30配偶者控除・特別控除マスタ_配偶者所得,1)","v":1},{"$f":"MATCH('源泉徴収票計算過程(非)'!AN83,H30配偶者控除・特別控除マスタ_所得者合計所得,1)","v":1},{"$f":"IF(源泉徴収票!AN83=\"\",-1,会社情報!$C$7-YEAR(源泉徴収票!AN83-1))","v":-1},{"$f":"IF(源泉徴収票!AT83=\"\",-1,会社情報!$C$7-YEAR(源泉徴収票!AT83-1))","v":-1},{"$f":"IF(源泉徴収票!AZ83=\"\",-1,会社情報!$C$7-YEAR(源泉徴収票!AZ83-1))","v":-1},{"$f":"IF(源泉徴収票!BF83=\"\",-1,会社情報!$C$7-YEAR(源泉徴収票!BF83-1))","v":-1},{"$f":"IF(源泉徴収票!BL83=\"\",-1,会社情報!$C$7-YEAR(源泉徴収票!BL83-1))","v":-1},{"$f":"IF(H83>=16,IF(AND(H83>=19,H83<23),\"特\",IF(H83>=70,IF(源泉徴収票!AO83=\"同居老親等\",\"同\",\"老\"),\"一\")),IF(H83>=0,\"未\",\"×\"))","v":"×"},{"$f":"IF(I83>=16,IF(AND(I83>=19,I83<23),\"特\",IF(I83>=70,IF(源泉徴収票!AU83=\"同居老親等\",\"同\",\"老\"),\"一\")),IF(I83>=0,\"未\",\"×\"))","v":"×"},{"$f":"IF(J83>=16,IF(AND(J83>=19,J83<23),\"特\",IF(J83>=70,IF(源泉徴収票!BA83=\"同居老親等\",\"同\",\"老\"),\"一\")),IF(J83>=0,\"未\",\"×\"))","v":"×"},{"$f":"IF(K83>=16,IF(AND(K83>=19,K83<23),\"特\",IF(K83>=70,IF(源泉徴収票!BG83=\"同居老親等\",\"同\",\"老\"),\"一\")),IF(K83>=0,\"未\",\"×\"))","v":"×"},{"$f":"IF(L83>=16,IF(AND(L83>=19,L83<23),\"特\",IF(L83>=70,IF(源泉徴収票!BM83=\"同居老親等\",\"同\",\"老\"),\"一\")),IF(L83>=0,\"未\",\"×\"))","v":"×"},"","","","","",{"$f":"IF(源泉徴収票!BU83<=20000, 源泉徴収票!BU83,\n  IF(源泉徴収票!BU83<=40000, 源泉徴収票!BU83*1/2+10000,\n   IF(源泉徴収票!BU83<=80000, 源泉徴収票!BU83*1/4+20000,\n                 40000)))","v":0},{"$f":"IF(源泉徴収票!BV83<=25000,源泉徴収票!BV83,\n  IF(源泉徴収票!BV83<=50000,源泉徴収票!BV83*1/2+12500,\n   IF(源泉徴収票!BV83<=100000,源泉徴収票!BV83*1/4+25000,\n                 50000)))","v":0},0,0,{"$f":"IF(源泉徴収票!BW83<=20000, 源泉徴収票!BW83,\n  IF(源泉徴収票!BW83<=40000, 源泉徴収票!BW83*1/2+10000,\n   IF(源泉徴収票!BW83<=80000, 源泉徴収票!BW83*1/4+20000,\n                 40000)))","v":0},{"$f":"IF(源泉徴収票!BX83<=20000, 源泉徴収票!BX83,\n  IF(源泉徴収票!BX83<=40000, 源泉徴収票!BX83*1/2+10000,\n   IF(源泉徴収票!BX83<=80000, 源泉徴収票!BX83*1/4+20000,\n                 40000)))","v":0},{"$f":"IF(源泉徴収票!BY83<=25000,源泉徴収票!BY83,\n  IF(源泉徴収票!BY83<=50000,源泉徴収票!BY83*1/2+12500,\n   IF(源泉徴収票!BY83<=100000,源泉徴収票!BY83*1/4+25000,\n                 50000)))","v":0},0,0,{"$f":"IF(源泉徴収票!BZ83<>\"\",MIN(源泉徴収票!BZ83,50000),0)","v":0},{"$f":"IF(源泉徴収票!CA83>=20000,15000,IF(源泉徴収票!CA83>=10000,源泉徴収票!CA83/2+5000,源泉徴収票!CA83))","v":0},{"$f":"IF(源泉徴収票!CS83<>\"\",\"〇\",\"×\")","v":"×"},null,{"$f":"源泉徴収票!O83+源泉徴収票!R83+源泉徴収票!U83","v":0},{"$f":"源泉徴収票!Q83+源泉徴収票!T83+源泉徴収票!W83","v":0},{"$f":"IF(源泉徴収票!I83=\"無\",0,INT(A83*VLOOKUP(A83, 給与所得計算, 3, TRUE)\n        +  VLOOKUP(A83, 給与所得計算, 4, TRUE) ))","v":0},0,0,{"$f":"源泉徴収票!P83+源泉徴収票!S83+源泉徴収票!V83","v":0},{"$f":"IF(源泉徴収票!I83=\"無\",0,源泉徴収票!CB83)","v":0},{"$f":"IF(源泉徴収票!I83=\"無\",0,源泉徴収票!CD83)","v":0},{"$f":"IF(源泉徴収票!I83=\"無\",0,MIN(120000,Z83+AA83+AE83))","v":0},{"$f":"IF(源泉徴収票!I83=\"無\",0,MIN(AF83+AG83,50000))","v":0},{"$f":"IF(源泉徴収票!I83=\"無\",0,IF(E83=\"○\",INDEX(H30配偶者控除・特別控除マスタ,F83,G83),0))","v":0},{"$f":"IF(源泉徴収票!I83=\"無\",0,IF(C83=\"○\",INDEX(H30配偶者控除・特別控除マスタ,F83,G83),0)+IF(D83=\"○\",INDEX(H30老人控除対象配偶者上乗せ,1,G83),0))","v":0},{"$f":"IF(源泉徴収票!I83=\"無\",0,COUNTIF(M83:Q83,\"一\")*380000+COUNTIF(M83:Q83,\"特\")*630000+COUNTIF(M83:Q83,\"老\")*480000+COUNTIF(M83:Q83,\"同\")*580000)","v":0},{"$f":"IF(源泉徴収票!I83=\"無\",0,(COUNTIF(源泉徴収票!BO83:BP83,\"一般\")+源泉徴収票!BQ83)*270000+(COUNTIF(源泉徴収票!BO83:BP83,\"特別\")+源泉徴収票!BR83)*400000+(COUNTIF(源泉徴収票!BP83,\"同居特別\")+源泉徴収票!BS83)*750000)","v":0},{"$f":"IF(源泉徴収票!I83=\"無\",0,IF(源泉徴収票!BT83<>\"\",IF(OR(源泉徴収票!BT83=\"特別の寡婦\",源泉徴収票!BT83=\"ひとり親\"),350000,270000),0))","v":0},{"$f":"IF(源泉徴収票!I83=\"無\",0,480000)","v":480000},{"$f":"IF(源泉徴収票!I83=\"無\",0,SUM(AO83:AY83))","v":480000},{"$f":"IF(源泉徴収票!I83=\"無\",AN83,FLOOR(MAX(AN83-AZ83,0),1000))","v":0},{"$f":"IF(源泉徴収票!I83=\"無\",AK83,BA83*VLOOKUP(BA83,所得税額計算,3,TRUE)+VLOOKUP(BA83,所得税額計算,4,TRUE))","v":0},{"$f":"IF(源泉徴収票!I83=\"無\",0,源泉徴収票!CZ83)","v":0},0,{"$f":"IF(源泉徴収票!I83=\"無\",BD83,FLOOR(BD83*102.1%,100))","v":0},0]
[0,{"$f":"IF(AND(源泉徴収票!I84=\"無\",源泉徴収票!AE84<>\"\"),\"○\",\"×\")","v":"×"},{"$f":"IF(AND(源泉徴収票!CO84<>\"\",源泉徴収票!CO84<=480000,AN84<=10000000),\"○\",\"×\")","v":"×"},{"$f":"IF(AND(C84=\"○\",源泉徴収票!CN84<>\"\",会社情報!$C$7-YEAR(MAX(源泉徴収票!CN84-1,0))>=70),\"○\",\"×\")","v":"×"},{"$f":"IF(AND(源泉徴収票!CO84<>\"\",源泉徴収票!CO84>480000,源泉徴収票!CO84<=1330000,AN84<=10000000),\"○\",\"×\")","v":"×"},{"$f":"MATCH(源泉徴収票!CO84,H30配偶者控除・特別控除マスタ_配偶者所得,1)","v":1},{"$f":"MATCH('源泉徴収票計算過程(非)'!AN84,H30配偶者控除・特別控除マスタ_所得者合計所得,1)","v":1},{"$f":"IF(源泉徴収票!AN84=\"\",-1,会社情報!$C$7-YEAR(源泉徴収票!AN84-1))","v":-1},{"$f":"IF(源泉徴収票!AT84=\"\",-1,会社情報!$C$7-YEAR(源泉徴収票!AT84-1))","v":-1},{"$f":"IF(源泉徴収票!AZ84=\"\",-1,会社情報!$C$7-YEAR(源泉徴収票!AZ84-1))","v":-1},{"$f":"IF(源泉徴収票!BF84=\"\",-1,会社情報!$C$7-YEAR(源泉徴収票!BF84-1))","v":-1},{"$f":"IF(源泉徴収票!BL84=\"\",-1,会社情報!$C$7-YEAR(源泉徴収票!BL84-1))","v":-1},{"$f":"IF(H84>=16,IF(AND(H84>=19,H84<23),\"特\",IF(H84>=70,IF(源泉徴収票!AO84=\"同居老親等\",\"同\",\"老\"),\"一\")),IF(H84>=0,\"未\",\"×\"))","v":"×"},{"$f":"IF(I84>=16,IF(AND(I84>=19,I84<23),\"特\",IF(I84>=70,IF(源泉徴収票!AU84=\"同居老親等\",\"同\",\"老\"),\"一\")),IF(I84>=0,\"未\",\"×\"))","v":"×"},{"$f":"IF(J84>=16,IF(AND(J84>=19,J84<23),\"特\",IF(J84>=70,IF(源泉徴収票!BA84=\"同居老親等\",\"同\",\"老\"),\"一\")),IF(J84>=0,\"未\",\"×\"))","v":"×"},{"$f":"IF(K84>=16,IF(AND(K84>=19,K84<23),\"特\",IF(K84>=70,IF(源泉徴収票!BG84=\"同居老親等\",\"同\",\"老\"),\"一\")),IF(K84>=0,\"未\",\"×\"))","v":"×"},{"$f":"IF(L84>=16,IF(AND(L84>=19,L84<23),\"特\",IF(L84>=70,IF(源泉徴収票!BM84=\"同居老親等\",\"同\",\"老\"),\"一\")),IF(L84>=0,\"未\",\"×\"))","v":"×"},"","","","","",{"$f":"IF(源泉徴収票!BU84<=20000, 源泉徴収票!BU84,\n  IF(源泉徴収票!BU84<=40000, 源泉徴収票!BU84*1/2+10000,\n   IF(源泉徴収票!BU84<=80000, 源泉徴収票!BU84*1/4+20000,\n                 40000)))","v":0},{"$f":"IF(源泉徴収票!BV84<=25000,源泉徴収票!BV84,\n  IF(源泉徴収票!BV84<=50000,源泉徴収票!BV84*1/2+12500,\n   IF(源泉徴収票!BV84<=100000,源泉徴収票!BV84*1/4+25000,\n                 50000)))","v":0},0,0,{"$f":"IF(源泉徴収票!BW84<=20000, 源泉徴収票!BW84,\n  IF(源泉徴収票!BW84<=40000, 源泉徴収票!BW84*1/2+10000,\n   IF(源泉徴収票!BW84<=80000, 源泉徴収票!BW84*1/4+20000,\n                 40000)))","v":0},{"$f":"IF(源泉徴収票!BX84<=20000, 源泉徴収票!BX84,\n  IF(源泉徴収票!BX84<=40000, 源泉徴収票!BX84*1/2+10000,\n   IF(源泉徴収票!BX84<=80000, 源泉徴収票!BX84*1/4+20000,\n                 40000)))","v":0},{"$f":"IF(源泉徴収票!BY84<=25000,源泉徴収票!BY84,\n  IF(源泉徴収票!BY84<=50000,源泉徴収票!BY84*1/2+12500,\n   IF(源泉徴収票!BY84<=100000,源泉徴収票!BY84*1/4+25000,\n                 50000)))","v":0},0,0,{"$f":"IF(源泉徴収票!BZ84<>\"\",MIN(源泉徴収票!BZ84,50000),0)","v":0},{"$f":"IF(源泉徴収票!CA84>=20000,15000,IF(源泉徴収票!CA84>=10000,源泉徴収票!CA84/2+5000,源泉徴収票!CA84))","v":0},{"$f":"IF(源泉徴収票!CS84<>\"\",\"〇\",\"×\")","v":"×"},null,{"$f":"源泉徴収票!O84+源泉徴収票!R84+源泉徴収票!U84","v":0},{"$f":"源泉徴収票!Q84+源泉徴収票!T84+源泉徴収票!W84","v":0},{"$f":"IF(源泉徴収票!I84=\"無\",0,INT(A84*VLOOKUP(A84, 給与所得計算, 3, TRUE)\n        +  VLOOKUP(A84, 給与所得計算, 4, TRUE) ))","v":0},0,0,{"$f":"源泉徴収票!P84+源泉徴収票!S84+源泉徴収票!V84","v":0},{"$f":"IF(源泉徴収票!I84=\"無\",0,源泉徴収票!CB84)","v":0},{"$f":"IF(源泉徴収票!I84=\"無\",0,源泉徴収票!CD84)","v":0},{"$f":"IF(源泉徴収票!I84=\"無\",0,MIN(120000,Z84+AA84+AE84))","v":0},{"$f":"IF(源泉徴収票!I84=\"無\",0,MIN(AF84+AG84,50000))","v":0},{"$f":"IF(源泉徴収票!I84=\"無\",0,IF(E84=\"○\",INDEX(H30配偶者控除・特別控除マスタ,F84,G84),0))","v":0},{"$f":"IF(源泉徴収票!I84=\"無\",0,IF(C84=\"○\",INDEX(H30配偶者控除・特別控除マスタ,F84,G84),0)+IF(D84=\"○\",INDEX(H30老人控除対象配偶者上乗せ,1,G84),0))","v":0},{"$f":"IF(源泉徴収票!I84=\"無\",0,COUNTIF(M84:Q84,\"一\")*380000+COUNTIF(M84:Q84,\"特\")*630000+COUNTIF(M84:Q84,\"老\")*480000+COUNTIF(M84:Q84,\"同\")*580000)","v":0},{"$f":"IF(源泉徴収票!I84=\"無\",0,(COUNTIF(源泉徴収票!BO84:BP84,\"一般\")+源泉徴収票!BQ84)*270000+(COUNTIF(源泉徴収票!BO84:BP84,\"特別\")+源泉徴収票!BR84)*400000+(COUNTIF(源泉徴収票!BP84,\"同居特別\")+源泉徴収票!BS84)*750000)","v":0},{"$f":"IF(源泉徴収票!I84=\"無\",0,IF(源泉徴収票!BT84<>\"\",IF(OR(源泉徴収票!BT84=\"特別の寡婦\",源泉徴収票!BT84=\"ひとり親\"),350000,270000),0))","v":0},{"$f":"IF(源泉徴収票!I84=\"無\",0,480000)","v":480000},{"$f":"IF(源泉徴収票!I84=\"無\",0,SUM(AO84:AY84))","v":480000},{"$f":"IF(源泉徴収票!I84=\"無\",AN84,FLOOR(MAX(AN84-AZ84,0),1000))","v":0},{"$f":"IF(源泉徴収票!I84=\"無\",AK84,BA84*VLOOKUP(BA84,所得税額計算,3,TRUE)+VLOOKUP(BA84,所得税額計算,4,TRUE))","v":0},{"$f":"IF(源泉徴収票!I84=\"無\",0,源泉徴収票!CZ84)","v":0},0,{"$f":"IF(源泉徴収票!I84=\"無\",BD84,FLOOR(BD84*102.1%,100))","v":0},0]
[0,{"$f":"IF(AND(源泉徴収票!I85=\"無\",源泉徴収票!AE85<>\"\"),\"○\",\"×\")","v":"×"},{"$f":"IF(AND(源泉徴収票!CO85<>\"\",源泉徴収票!CO85<=480000,AN85<=10000000),\"○\",\"×\")","v":"×"},{"$f":"IF(AND(C85=\"○\",源泉徴収票!CN85<>\"\",会社情報!$C$7-YEAR(MAX(源泉徴収票!CN85-1,0))>=70),\"○\",\"×\")","v":"×"},{"$f":"IF(AND(源泉徴収票!CO85<>\"\",源泉徴収票!CO85>480000,源泉徴収票!CO85<=1330000,AN85<=10000000),\"○\",\"×\")","v":"×"},{"$f":"MATCH(源泉徴収票!CO85,H30配偶者控除・特別控除マスタ_配偶者所得,1)","v":1},{"$f":"MATCH('源泉徴収票計算過程(非)'!AN85,H30配偶者控除・特別控除マスタ_所得者合計所得,1)","v":1},{"$f":"IF(源泉徴収票!AN85=\"\",-1,会社情報!$C$7-YEAR(源泉徴収票!AN85-1))","v":-1},{"$f":"IF(源泉徴収票!AT85=\"\",-1,会社情報!$C$7-YEAR(源泉徴収票!AT85-1))","v":-1},{"$f":"IF(源泉徴収票!AZ85=\"\",-1,会社情報!$C$7-YEAR(源泉徴収票!AZ85-1))","v":-1},{"$f":"IF(源泉徴収票!BF85=\"\",-1,会社情報!$C$7-YEAR(源泉徴収票!BF85-1))","v":-1},{"$f":"IF(源泉徴収票!BL85=\"\",-1,会社情報!$C$7-YEAR(源泉徴収票!BL85-1))","v":-1},{"$f":"IF(H85>=16,IF(AND(H85>=19,H85<23),\"特\",IF(H85>=70,IF(源泉徴収票!AO85=\"同居老親等\",\"同\",\"老\"),\"一\")),IF(H85>=0,\"未\",\"×\"))","v":"×"},{"$f":"IF(I85>=16,IF(AND(I85>=19,I85<23),\"特\",IF(I85>=70,IF(源泉徴収票!AU85=\"同居老親等\",\"同\",\"老\"),\"一\")),IF(I85>=0,\"未\",\"×\"))","v":"×"},{"$f":"IF(J85>=16,IF(AND(J85>=19,J85<23),\"特\",IF(J85>=70,IF(源泉徴収票!BA85=\"同居老親等\",\"同\",\"老\"),\"一\")),IF(J85>=0,\"未\",\"×\"))","v":"×"},{"$f":"IF(K85>=16,IF(AND(K85>=19,K85<23),\"特\",IF(K85>=70,IF(源泉徴収票!BG85=\"同居老親等\",\"同\",\"老\"),\"一\")),IF(K85>=0,\"未\",\"×\"))","v":"×"},{"$f":"IF(L85>=16,IF(AND(L85>=19,L85<23),\"特\",IF(L85>=70,IF(源泉徴収票!BM85=\"同居老親等\",\"同\",\"老\"),\"一\")),IF(L85>=0,\"未\",\"×\"))","v":"×"},"","","","","",{"$f":"IF(源泉徴収票!BU85<=20000, 源泉徴収票!BU85,\n  IF(源泉徴収票!BU85<=40000, 源泉徴収票!BU85*1/2+10000,\n   IF(源泉徴収票!BU85<=80000, 源泉徴収票!BU85*1/4+20000,\n                 40000)))","v":0},{"$f":"IF(源泉徴収票!BV85<=25000,源泉徴収票!BV85,\n  IF(源泉徴収票!BV85<=50000,源泉徴収票!BV85*1/2+12500,\n   IF(源泉徴収票!BV85<=100000,源泉徴収票!BV85*1/4+25000,\n                 50000)))","v":0},0,0,{"$f":"IF(源泉徴収票!BW85<=20000, 源泉徴収票!BW85,\n  IF(源泉徴収票!BW85<=40000, 源泉徴収票!BW85*1/2+10000,\n   IF(源泉徴収票!BW85<=80000, 源泉徴収票!BW85*1/4+20000,\n                 40000)))","v":0},{"$f":"IF(源泉徴収票!BX85<=20000, 源泉徴収票!BX85,\n  IF(源泉徴収票!BX85<=40000, 源泉徴収票!BX85*1/2+10000,\n   IF(源泉徴収票!BX85<=80000, 源泉徴収票!BX85*1/4+20000,\n                 40000)))","v":0},{"$f":"IF(源泉徴収票!BY85<=25000,源泉徴収票!BY85,\n  IF(源泉徴収票!BY85<=50000,源泉徴収票!BY85*1/2+12500,\n   IF(源泉徴収票!BY85<=100000,源泉徴収票!BY85*1/4+25000,\n                 50000)))","v":0},0,0,{"$f":"IF(源泉徴収票!BZ85<>\"\",MIN(源泉徴収票!BZ85,50000),0)","v":0},{"$f":"IF(源泉徴収票!CA85>=20000,15000,IF(源泉徴収票!CA85>=10000,源泉徴収票!CA85/2+5000,源泉徴収票!CA85))","v":0},{"$f":"IF(源泉徴収票!CS85<>\"\",\"〇\",\"×\")","v":"×"},null,{"$f":"源泉徴収票!O85+源泉徴収票!R85+源泉徴収票!U85","v":0},{"$f":"源泉徴収票!Q85+源泉徴収票!T85+源泉徴収票!W85","v":0},{"$f":"IF(源泉徴収票!I85=\"無\",0,INT(A85*VLOOKUP(A85, 給与所得計算, 3, TRUE)\n        +  VLOOKUP(A85, 給与所得計算, 4, TRUE) ))","v":0},0,0,{"$f":"源泉徴収票!P85+源泉徴収票!S85+源泉徴収票!V85","v":0},{"$f":"IF(源泉徴収票!I85=\"無\",0,源泉徴収票!CB85)","v":0},{"$f":"IF(源泉徴収票!I85=\"無\",0,源泉徴収票!CD85)","v":0},{"$f":"IF(源泉徴収票!I85=\"無\",0,MIN(120000,Z85+AA85+AE85))","v":0},{"$f":"IF(源泉徴収票!I85=\"無\",0,MIN(AF85+AG85,50000))","v":0},{"$f":"IF(源泉徴収票!I85=\"無\",0,IF(E85=\"○\",INDEX(H30配偶者控除・特別控除マスタ,F85,G85),0))","v":0},{"$f":"IF(源泉徴収票!I85=\"無\",0,IF(C85=\"○\",INDEX(H30配偶者控除・特別控除マスタ,F85,G85),0)+IF(D85=\"○\",INDEX(H30老人控除対象配偶者上乗せ,1,G85),0))","v":0},{"$f":"IF(源泉徴収票!I85=\"無\",0,COUNTIF(M85:Q85,\"一\")*380000+COUNTIF(M85:Q85,\"特\")*630000+COUNTIF(M85:Q85,\"老\")*480000+COUNTIF(M85:Q85,\"同\")*580000)","v":0},{"$f":"IF(源泉徴収票!I85=\"無\",0,(COUNTIF(源泉徴収票!BO85:BP85,\"一般\")+源泉徴収票!BQ85)*270000+(COUNTIF(源泉徴収票!BO85:BP85,\"特別\")+源泉徴収票!BR85)*400000+(COUNTIF(源泉徴収票!BP85,\"同居特別\")+源泉徴収票!BS85)*750000)","v":0},{"$f":"IF(源泉徴収票!I85=\"無\",0,IF(源泉徴収票!BT85<>\"\",IF(OR(源泉徴収票!BT85=\"特別の寡婦\",源泉徴収票!BT85=\"ひとり親\"),350000,270000),0))","v":0},{"$f":"IF(源泉徴収票!I85=\"無\",0,480000)","v":480000},{"$f":"IF(源泉徴収票!I85=\"無\",0,SUM(AO85:AY85))","v":480000},{"$f":"IF(源泉徴収票!I85=\"無\",AN85,FLOOR(MAX(AN85-AZ85,0),1000))","v":0},{"$f":"IF(源泉徴収票!I85=\"無\",AK85,BA85*VLOOKUP(BA85,所得税額計算,3,TRUE)+VLOOKUP(BA85,所得税額計算,4,TRUE))","v":0},{"$f":"IF(源泉徴収票!I85=\"無\",0,源泉徴収票!CZ85)","v":0},0,{"$f":"IF(源泉徴収票!I85=\"無\",BD85,FLOOR(BD85*102.1%,100))","v":0},0]
[0,{"$f":"IF(AND(源泉徴収票!I86=\"無\",源泉徴収票!AE86<>\"\"),\"○\",\"×\")","v":"×"},{"$f":"IF(AND(源泉徴収票!CO86<>\"\",源泉徴収票!CO86<=480000,AN86<=10000000),\"○\",\"×\")","v":"×"},{"$f":"IF(AND(C86=\"○\",源泉徴収票!CN86<>\"\",会社情報!$C$7-YEAR(MAX(源泉徴収票!CN86-1,0))>=70),\"○\",\"×\")","v":"×"},{"$f":"IF(AND(源泉徴収票!CO86<>\"\",源泉徴収票!CO86>480000,源泉徴収票!CO86<=1330000,AN86<=10000000),\"○\",\"×\")","v":"×"},{"$f":"MATCH(源泉徴収票!CO86,H30配偶者控除・特別控除マスタ_配偶者所得,1)","v":1},{"$f":"MATCH('源泉徴収票計算過程(非)'!AN86,H30配偶者控除・特別控除マスタ_所得者合計所得,1)","v":1},{"$f":"IF(源泉徴収票!AN86=\"\",-1,会社情報!$C$7-YEAR(源泉徴収票!AN86-1))","v":-1},{"$f":"IF(源泉徴収票!AT86=\"\",-1,会社情報!$C$7-YEAR(源泉徴収票!AT86-1))","v":-1},{"$f":"IF(源泉徴収票!AZ86=\"\",-1,会社情報!$C$7-YEAR(源泉徴収票!AZ86-1))","v":-1},{"$f":"IF(源泉徴収票!BF86=\"\",-1,会社情報!$C$7-YEAR(源泉徴収票!BF86-1))","v":-1},{"$f":"IF(源泉徴収票!BL86=\"\",-1,会社情報!$C$7-YEAR(源泉徴収票!BL86-1))","v":-1},{"$f":"IF(H86>=16,IF(AND(H86>=19,H86<23),\"特\",IF(H86>=70,IF(源泉徴収票!AO86=\"同居老親等\",\"同\",\"老\"),\"一\")),IF(H86>=0,\"未\",\"×\"))","v":"×"},{"$f":"IF(I86>=16,IF(AND(I86>=19,I86<23),\"特\",IF(I86>=70,IF(源泉徴収票!AU86=\"同居老親等\",\"同\",\"老\"),\"一\")),IF(I86>=0,\"未\",\"×\"))","v":"×"},{"$f":"IF(J86>=16,IF(AND(J86>=19,J86<23),\"特\",IF(J86>=70,IF(源泉徴収票!BA86=\"同居老親等\",\"同\",\"老\"),\"一\")),IF(J86>=0,\"未\",\"×\"))","v":"×"},{"$f":"IF(K86>=16,IF(AND(K86>=19,K86<23),\"特\",IF(K86>=70,IF(源泉徴収票!BG86=\"同居老親等\",\"同\",\"老\"),\"一\")),IF(K86>=0,\"未\",\"×\"))","v":"×"},{"$f":"IF(L86>=16,IF(AND(L86>=19,L86<23),\"特\",IF(L86>=70,IF(源泉徴収票!BM86=\"同居老親等\",\"同\",\"老\"),\"一\")),IF(L86>=0,\"未\",\"×\"))","v":"×"},"","","","","",{"$f":"IF(源泉徴収票!BU86<=20000, 源泉徴収票!BU86,\n  IF(源泉徴収票!BU86<=40000, 源泉徴収票!BU86*1/2+10000,\n   IF(源泉徴収票!BU86<=80000, 源泉徴収票!BU86*1/4+20000,\n                 40000)))","v":0},{"$f":"IF(源泉徴収票!BV86<=25000,源泉徴収票!BV86,\n  IF(源泉徴収票!BV86<=50000,源泉徴収票!BV86*1/2+12500,\n   IF(源泉徴収票!BV86<=100000,源泉徴収票!BV86*1/4+25000,\n                 50000)))","v":0},0,0,{"$f":"IF(源泉徴収票!BW86<=20000, 源泉徴収票!BW86,\n  IF(源泉徴収票!BW86<=40000, 源泉徴収票!BW86*1/2+10000,\n   IF(源泉徴収票!BW86<=80000, 源泉徴収票!BW86*1/4+20000,\n                 40000)))","v":0},{"$f":"IF(源泉徴収票!BX86<=20000, 源泉徴収票!BX86,\n  IF(源泉徴収票!BX86<=40000, 源泉徴収票!BX86*1/2+10000,\n   IF(源泉徴収票!BX86<=80000, 源泉徴収票!BX86*1/4+20000,\n                 40000)))","v":0},{"$f":"IF(源泉徴収票!BY86<=25000,源泉徴収票!BY86,\n  IF(源泉徴収票!BY86<=50000,源泉徴収票!BY86*1/2+12500,\n   IF(源泉徴収票!BY86<=100000,源泉徴収票!BY86*1/4+25000,\n                 50000)))","v":0},0,0,{"$f":"IF(源泉徴収票!BZ86<>\"\",MIN(源泉徴収票!BZ86,50000),0)","v":0},{"$f":"IF(源泉徴収票!CA86>=20000,15000,IF(源泉徴収票!CA86>=10000,源泉徴収票!CA86/2+5000,源泉徴収票!CA86))","v":0},{"$f":"IF(源泉徴収票!CS86<>\"\",\"〇\",\"×\")","v":"×"},null,{"$f":"源泉徴収票!O86+源泉徴収票!R86+源泉徴収票!U86","v":0},{"$f":"源泉徴収票!Q86+源泉徴収票!T86+源泉徴収票!W86","v":0},{"$f":"IF(源泉徴収票!I86=\"無\",0,INT(A86*VLOOKUP(A86, 給与所得計算, 3, TRUE)\n        +  VLOOKUP(A86, 給与所得計算, 4, TRUE) ))","v":0},0,0,{"$f":"源泉徴収票!P86+源泉徴収票!S86+源泉徴収票!V86","v":0},{"$f":"IF(源泉徴収票!I86=\"無\",0,源泉徴収票!CB86)","v":0},{"$f":"IF(源泉徴収票!I86=\"無\",0,源泉徴収票!CD86)","v":0},{"$f":"IF(源泉徴収票!I86=\"無\",0,MIN(120000,Z86+AA86+AE86))","v":0},{"$f":"IF(源泉徴収票!I86=\"無\",0,MIN(AF86+AG86,50000))","v":0},{"$f":"IF(源泉徴収票!I86=\"無\",0,IF(E86=\"○\",INDEX(H30配偶者控除・特別控除マスタ,F86,G86),0))","v":0},{"$f":"IF(源泉徴収票!I86=\"無\",0,IF(C86=\"○\",INDEX(H30配偶者控除・特別控除マスタ,F86,G86),0)+IF(D86=\"○\",INDEX(H30老人控除対象配偶者上乗せ,1,G86),0))","v":0},{"$f":"IF(源泉徴収票!I86=\"無\",0,COUNTIF(M86:Q86,\"一\")*380000+COUNTIF(M86:Q86,\"特\")*630000+COUNTIF(M86:Q86,\"老\")*480000+COUNTIF(M86:Q86,\"同\")*580000)","v":0},{"$f":"IF(源泉徴収票!I86=\"無\",0,(COUNTIF(源泉徴収票!BO86:BP86,\"一般\")+源泉徴収票!BQ86)*270000+(COUNTIF(源泉徴収票!BO86:BP86,\"特別\")+源泉徴収票!BR86)*400000+(COUNTIF(源泉徴収票!BP86,\"同居特別\")+源泉徴収票!BS86)*750000)","v":0},{"$f":"IF(源泉徴収票!I86=\"無\",0,IF(源泉徴収票!BT86<>\"\",IF(OR(源泉徴収票!BT86=\"特別の寡婦\",源泉徴収票!BT86=\"ひとり親\"),350000,270000),0))","v":0},{"$f":"IF(源泉徴収票!I86=\"無\",0,480000)","v":480000},{"$f":"IF(源泉徴収票!I86=\"無\",0,SUM(AO86:AY86))","v":480000},{"$f":"IF(源泉徴収票!I86=\"無\",AN86,FLOOR(MAX(AN86-AZ86,0),1000))","v":0},{"$f":"IF(源泉徴収票!I86=\"無\",AK86,BA86*VLOOKUP(BA86,所得税額計算,3,TRUE)+VLOOKUP(BA86,所得税額計算,4,TRUE))","v":0},{"$f":"IF(源泉徴収票!I86=\"無\",0,源泉徴収票!CZ86)","v":0},0,{"$f":"IF(源泉徴収票!I86=\"無\",BD86,FLOOR(BD86*102.1%,100))","v":0},0]
[0,{"$f":"IF(AND(源泉徴収票!I87=\"無\",源泉徴収票!AE87<>\"\"),\"○\",\"×\")","v":"×"},{"$f":"IF(AND(源泉徴収票!CO87<>\"\",源泉徴収票!CO87<=480000,AN87<=10000000),\"○\",\"×\")","v":"×"},{"$f":"IF(AND(C87=\"○\",源泉徴収票!CN87<>\"\",会社情報!$C$7-YEAR(MAX(源泉徴収票!CN87-1,0))>=70),\"○\",\"×\")","v":"×"},{"$f":"IF(AND(源泉徴収票!CO87<>\"\",源泉徴収票!CO87>480000,源泉徴収票!CO87<=1330000,AN87<=10000000),\"○\",\"×\")","v":"×"},{"$f":"MATCH(源泉徴収票!CO87,H30配偶者控除・特別控除マスタ_配偶者所得,1)","v":1},{"$f":"MATCH('源泉徴収票計算過程(非)'!AN87,H30配偶者控除・特別控除マスタ_所得者合計所得,1)","v":1},{"$f":"IF(源泉徴収票!AN87=\"\",-1,会社情報!$C$7-YEAR(源泉徴収票!AN87-1))","v":-1},{"$f":"IF(源泉徴収票!AT87=\"\",-1,会社情報!$C$7-YEAR(源泉徴収票!AT87-1))","v":-1},{"$f":"IF(源泉徴収票!AZ87=\"\",-1,会社情報!$C$7-YEAR(源泉徴収票!AZ87-1))","v":-1},{"$f":"IF(源泉徴収票!BF87=\"\",-1,会社情報!$C$7-YEAR(源泉徴収票!BF87-1))","v":-1},{"$f":"IF(源泉徴収票!BL87=\"\",-1,会社情報!$C$7-YEAR(源泉徴収票!BL87-1))","v":-1},{"$f":"IF(H87>=16,IF(AND(H87>=19,H87<23),\"特\",IF(H87>=70,IF(源泉徴収票!AO87=\"同居老親等\",\"同\",\"老\"),\"一\")),IF(H87>=0,\"未\",\"×\"))","v":"×"},{"$f":"IF(I87>=16,IF(AND(I87>=19,I87<23),\"特\",IF(I87>=70,IF(源泉徴収票!AU87=\"同居老親等\",\"同\",\"老\"),\"一\")),IF(I87>=0,\"未\",\"×\"))","v":"×"},{"$f":"IF(J87>=16,IF(AND(J87>=19,J87<23),\"特\",IF(J87>=70,IF(源泉徴収票!BA87=\"同居老親等\",\"同\",\"老\"),\"一\")),IF(J87>=0,\"未\",\"×\"))","v":"×"},{"$f":"IF(K87>=16,IF(AND(K87>=19,K87<23),\"特\",IF(K87>=70,IF(源泉徴収票!BG87=\"同居老親等\",\"同\",\"老\"),\"一\")),IF(K87>=0,\"未\",\"×\"))","v":"×"},{"$f":"IF(L87>=16,IF(AND(L87>=19,L87<23),\"特\",IF(L87>=70,IF(源泉徴収票!BM87=\"同居老親等\",\"同\",\"老\"),\"一\")),IF(L87>=0,\"未\",\"×\"))","v":"×"},"","","","","",{"$f":"IF(源泉徴収票!BU87<=20000, 源泉徴収票!BU87,\n  IF(源泉徴収票!BU87<=40000, 源泉徴収票!BU87*1/2+10000,\n   IF(源泉徴収票!BU87<=80000, 源泉徴収票!BU87*1/4+20000,\n                 40000)))","v":0},{"$f":"IF(源泉徴収票!BV87<=25000,源泉徴収票!BV87,\n  IF(源泉徴収票!BV87<=50000,源泉徴収票!BV87*1/2+12500,\n   IF(源泉徴収票!BV87<=100000,源泉徴収票!BV87*1/4+25000,\n                 50000)))","v":0},0,0,{"$f":"IF(源泉徴収票!BW87<=20000, 源泉徴収票!BW87,\n  IF(源泉徴収票!BW87<=40000, 源泉徴収票!BW87*1/2+10000,\n   IF(源泉徴収票!BW87<=80000, 源泉徴収票!BW87*1/4+20000,\n                 40000)))","v":0},{"$f":"IF(源泉徴収票!BX87<=20000, 源泉徴収票!BX87,\n  IF(源泉徴収票!BX87<=40000, 源泉徴収票!BX87*1/2+10000,\n   IF(源泉徴収票!BX87<=80000, 源泉徴収票!BX87*1/4+20000,\n                 40000)))","v":0},{"$f":"IF(源泉徴収票!BY87<=25000,源泉徴収票!BY87,\n  IF(源泉徴収票!BY87<=50000,源泉徴収票!BY87*1/2+12500,\n   IF(源泉徴収票!BY87<=100000,源泉徴収票!BY87*1/4+25000,\n                 50000)))","v":0},0,0,{"$f":"IF(源泉徴収票!BZ87<>\"\",MIN(源泉徴収票!BZ87,50000),0)","v":0},{"$f":"IF(源泉徴収票!CA87>=20000,15000,IF(源泉徴収票!CA87>=10000,源泉徴収票!CA87/2+5000,源泉徴収票!CA87))","v":0},{"$f":"IF(源泉徴収票!CS87<>\"\",\"〇\",\"×\")","v":"×"},null,{"$f":"源泉徴収票!O87+源泉徴収票!R87+源泉徴収票!U87","v":0},{"$f":"源泉徴収票!Q87+源泉徴収票!T87+源泉徴収票!W87","v":0},{"$f":"IF(源泉徴収票!I87=\"無\",0,INT(A87*VLOOKUP(A87, 給与所得計算, 3, TRUE)\n        +  VLOOKUP(A87, 給与所得計算, 4, TRUE) ))","v":0},0,0,{"$f":"源泉徴収票!P87+源泉徴収票!S87+源泉徴収票!V87","v":0},{"$f":"IF(源泉徴収票!I87=\"無\",0,源泉徴収票!CB87)","v":0},{"$f":"IF(源泉徴収票!I87=\"無\",0,源泉徴収票!CD87)","v":0},{"$f":"IF(源泉徴収票!I87=\"無\",0,MIN(120000,Z87+AA87+AE87))","v":0},{"$f":"IF(源泉徴収票!I87=\"無\",0,MIN(AF87+AG87,50000))","v":0},{"$f":"IF(源泉徴収票!I87=\"無\",0,IF(E87=\"○\",INDEX(H30配偶者控除・特別控除マスタ,F87,G87),0))","v":0},{"$f":"IF(源泉徴収票!I87=\"無\",0,IF(C87=\"○\",INDEX(H30配偶者控除・特別控除マスタ,F87,G87),0)+IF(D87=\"○\",INDEX(H30老人控除対象配偶者上乗せ,1,G87),0))","v":0},{"$f":"IF(源泉徴収票!I87=\"無\",0,COUNTIF(M87:Q87,\"一\")*380000+COUNTIF(M87:Q87,\"特\")*630000+COUNTIF(M87:Q87,\"老\")*480000+COUNTIF(M87:Q87,\"同\")*580000)","v":0},{"$f":"IF(源泉徴収票!I87=\"無\",0,(COUNTIF(源泉徴収票!BO87:BP87,\"一般\")+源泉徴収票!BQ87)*270000+(COUNTIF(源泉徴収票!BO87:BP87,\"特別\")+源泉徴収票!BR87)*400000+(COUNTIF(源泉徴収票!BP87,\"同居特別\")+源泉徴収票!BS87)*750000)","v":0},{"$f":"IF(源泉徴収票!I87=\"無\",0,IF(源泉徴収票!BT87<>\"\",IF(OR(源泉徴収票!BT87=\"特別の寡婦\",源泉徴収票!BT87=\"ひとり親\"),350000,270000),0))","v":0},{"$f":"IF(源泉徴収票!I87=\"無\",0,480000)","v":480000},{"$f":"IF(源泉徴収票!I87=\"無\",0,SUM(AO87:AY87))","v":480000},{"$f":"IF(源泉徴収票!I87=\"無\",AN87,FLOOR(MAX(AN87-AZ87,0),1000))","v":0},{"$f":"IF(源泉徴収票!I87=\"無\",AK87,BA87*VLOOKUP(BA87,所得税額計算,3,TRUE)+VLOOKUP(BA87,所得税額計算,4,TRUE))","v":0},{"$f":"IF(源泉徴収票!I87=\"無\",0,源泉徴収票!CZ87)","v":0},0,{"$f":"IF(源泉徴収票!I87=\"無\",BD87,FLOOR(BD87*102.1%,100))","v":0},0]
[0,{"$f":"IF(AND(源泉徴収票!I88=\"無\",源泉徴収票!AE88<>\"\"),\"○\",\"×\")","v":"×"},{"$f":"IF(AND(源泉徴収票!CO88<>\"\",源泉徴収票!CO88<=480000,AN88<=10000000),\"○\",\"×\")","v":"×"},{"$f":"IF(AND(C88=\"○\",源泉徴収票!CN88<>\"\",会社情報!$C$7-YEAR(MAX(源泉徴収票!CN88-1,0))>=70),\"○\",\"×\")","v":"×"},{"$f":"IF(AND(源泉徴収票!CO88<>\"\",源泉徴収票!CO88>480000,源泉徴収票!CO88<=1330000,AN88<=10000000),\"○\",\"×\")","v":"×"},{"$f":"MATCH(源泉徴収票!CO88,H30配偶者控除・特別控除マスタ_配偶者所得,1)","v":1},{"$f":"MATCH('源泉徴収票計算過程(非)'!AN88,H30配偶者控除・特別控除マスタ_所得者合計所得,1)","v":1},{"$f":"IF(源泉徴収票!AN88=\"\",-1,会社情報!$C$7-YEAR(源泉徴収票!AN88-1))","v":-1},{"$f":"IF(源泉徴収票!AT88=\"\",-1,会社情報!$C$7-YEAR(源泉徴収票!AT88-1))","v":-1},{"$f":"IF(源泉徴収票!AZ88=\"\",-1,会社情報!$C$7-YEAR(源泉徴収票!AZ88-1))","v":-1},{"$f":"IF(源泉徴収票!BF88=\"\",-1,会社情報!$C$7-YEAR(源泉徴収票!BF88-1))","v":-1},{"$f":"IF(源泉徴収票!BL88=\"\",-1,会社情報!$C$7-YEAR(源泉徴収票!BL88-1))","v":-1},{"$f":"IF(H88>=16,IF(AND(H88>=19,H88<23),\"特\",IF(H88>=70,IF(源泉徴収票!AO88=\"同居老親等\",\"同\",\"老\"),\"一\")),IF(H88>=0,\"未\",\"×\"))","v":"×"},{"$f":"IF(I88>=16,IF(AND(I88>=19,I88<23),\"特\",IF(I88>=70,IF(源泉徴収票!AU88=\"同居老親等\",\"同\",\"老\"),\"一\")),IF(I88>=0,\"未\",\"×\"))","v":"×"},{"$f":"IF(J88>=16,IF(AND(J88>=19,J88<23),\"特\",IF(J88>=70,IF(源泉徴収票!BA88=\"同居老親等\",\"同\",\"老\"),\"一\")),IF(J88>=0,\"未\",\"×\"))","v":"×"},{"$f":"IF(K88>=16,IF(AND(K88>=19,K88<23),\"特\",IF(K88>=70,IF(源泉徴収票!BG88=\"同居老親等\",\"同\",\"老\"),\"一\")),IF(K88>=0,\"未\",\"×\"))","v":"×"},{"$f":"IF(L88>=16,IF(AND(L88>=19,L88<23),\"特\",IF(L88>=70,IF(源泉徴収票!BM88=\"同居老親等\",\"同\",\"老\"),\"一\")),IF(L88>=0,\"未\",\"×\"))","v":"×"},"","","","","",{"$f":"IF(源泉徴収票!BU88<=20000, 源泉徴収票!BU88,\n  IF(源泉徴収票!BU88<=40000, 源泉徴収票!BU88*1/2+10000,\n   IF(源泉徴収票!BU88<=80000, 源泉徴収票!BU88*1/4+20000,\n                 40000)))","v":0},{"$f":"IF(源泉徴収票!BV88<=25000,源泉徴収票!BV88,\n  IF(源泉徴収票!BV88<=50000,源泉徴収票!BV88*1/2+12500,\n   IF(源泉徴収票!BV88<=100000,源泉徴収票!BV88*1/4+25000,\n                 50000)))","v":0},0,0,{"$f":"IF(源泉徴収票!BW88<=20000, 源泉徴収票!BW88,\n  IF(源泉徴収票!BW88<=40000, 源泉徴収票!BW88*1/2+10000,\n   IF(源泉徴収票!BW88<=80000, 源泉徴収票!BW88*1/4+20000,\n                 40000)))","v":0},{"$f":"IF(源泉徴収票!BX88<=20000, 源泉徴収票!BX88,\n  IF(源泉徴収票!BX88<=40000, 源泉徴収票!BX88*1/2+10000,\n   IF(源泉徴収票!BX88<=80000, 源泉徴収票!BX88*1/4+20000,\n                 40000)))","v":0},{"$f":"IF(源泉徴収票!BY88<=25000,源泉徴収票!BY88,\n  IF(源泉徴収票!BY88<=50000,源泉徴収票!BY88*1/2+12500,\n   IF(源泉徴収票!BY88<=100000,源泉徴収票!BY88*1/4+25000,\n                 50000)))","v":0},0,0,{"$f":"IF(源泉徴収票!BZ88<>\"\",MIN(源泉徴収票!BZ88,50000),0)","v":0},{"$f":"IF(源泉徴収票!CA88>=20000,15000,IF(源泉徴収票!CA88>=10000,源泉徴収票!CA88/2+5000,源泉徴収票!CA88))","v":0},{"$f":"IF(源泉徴収票!CS88<>\"\",\"〇\",\"×\")","v":"×"},null,{"$f":"源泉徴収票!O88+源泉徴収票!R88+源泉徴収票!U88","v":0},{"$f":"源泉徴収票!Q88+源泉徴収票!T88+源泉徴収票!W88","v":0},{"$f":"IF(源泉徴収票!I88=\"無\",0,INT(A88*VLOOKUP(A88, 給与所得計算, 3, TRUE)\n        +  VLOOKUP(A88, 給与所得計算, 4, TRUE) ))","v":0},0,0,{"$f":"源泉徴収票!P88+源泉徴収票!S88+源泉徴収票!V88","v":0},{"$f":"IF(源泉徴収票!I88=\"無\",0,源泉徴収票!CB88)","v":0},{"$f":"IF(源泉徴収票!I88=\"無\",0,源泉徴収票!CD88)","v":0},{"$f":"IF(源泉徴収票!I88=\"無\",0,MIN(120000,Z88+AA88+AE88))","v":0},{"$f":"IF(源泉徴収票!I88=\"無\",0,MIN(AF88+AG88,50000))","v":0},{"$f":"IF(源泉徴収票!I88=\"無\",0,IF(E88=\"○\",INDEX(H30配偶者控除・特別控除マスタ,F88,G88),0))","v":0},{"$f":"IF(源泉徴収票!I88=\"無\",0,IF(C88=\"○\",INDEX(H30配偶者控除・特別控除マスタ,F88,G88),0)+IF(D88=\"○\",INDEX(H30老人控除対象配偶者上乗せ,1,G88),0))","v":0},{"$f":"IF(源泉徴収票!I88=\"無\",0,COUNTIF(M88:Q88,\"一\")*380000+COUNTIF(M88:Q88,\"特\")*630000+COUNTIF(M88:Q88,\"老\")*480000+COUNTIF(M88:Q88,\"同\")*580000)","v":0},{"$f":"IF(源泉徴収票!I88=\"無\",0,(COUNTIF(源泉徴収票!BO88:BP88,\"一般\")+源泉徴収票!BQ88)*270000+(COUNTIF(源泉徴収票!BO88:BP88,\"特別\")+源泉徴収票!BR88)*400000+(COUNTIF(源泉徴収票!BP88,\"同居特別\")+源泉徴収票!BS88)*750000)","v":0},{"$f":"IF(源泉徴収票!I88=\"無\",0,IF(源泉徴収票!BT88<>\"\",IF(OR(源泉徴収票!BT88=\"特別の寡婦\",源泉徴収票!BT88=\"ひとり親\"),350000,270000),0))","v":0},{"$f":"IF(源泉徴収票!I88=\"無\",0,480000)","v":480000},{"$f":"IF(源泉徴収票!I88=\"無\",0,SUM(AO88:AY88))","v":480000},{"$f":"IF(源泉徴収票!I88=\"無\",AN88,FLOOR(MAX(AN88-AZ88,0),1000))","v":0},{"$f":"IF(源泉徴収票!I88=\"無\",AK88,BA88*VLOOKUP(BA88,所得税額計算,3,TRUE)+VLOOKUP(BA88,所得税額計算,4,TRUE))","v":0},{"$f":"IF(源泉徴収票!I88=\"無\",0,源泉徴収票!CZ88)","v":0},0,{"$f":"IF(源泉徴収票!I88=\"無\",BD88,FLOOR(BD88*102.1%,100))","v":0},0]
[0,{"$f":"IF(AND(源泉徴収票!I89=\"無\",源泉徴収票!AE89<>\"\"),\"○\",\"×\")","v":"×"},{"$f":"IF(AND(源泉徴収票!CO89<>\"\",源泉徴収票!CO89<=480000,AN89<=10000000),\"○\",\"×\")","v":"×"},{"$f":"IF(AND(C89=\"○\",源泉徴収票!CN89<>\"\",会社情報!$C$7-YEAR(MAX(源泉徴収票!CN89-1,0))>=70),\"○\",\"×\")","v":"×"},{"$f":"IF(AND(源泉徴収票!CO89<>\"\",源泉徴収票!CO89>480000,源泉徴収票!CO89<=1330000,AN89<=10000000),\"○\",\"×\")","v":"×"},{"$f":"MATCH(源泉徴収票!CO89,H30配偶者控除・特別控除マスタ_配偶者所得,1)","v":1},{"$f":"MATCH('源泉徴収票計算過程(非)'!AN89,H30配偶者控除・特別控除マスタ_所得者合計所得,1)","v":1},{"$f":"IF(源泉徴収票!AN89=\"\",-1,会社情報!$C$7-YEAR(源泉徴収票!AN89-1))","v":-1},{"$f":"IF(源泉徴収票!AT89=\"\",-1,会社情報!$C$7-YEAR(源泉徴収票!AT89-1))","v":-1},{"$f":"IF(源泉徴収票!AZ89=\"\",-1,会社情報!$C$7-YEAR(源泉徴収票!AZ89-1))","v":-1},{"$f":"IF(源泉徴収票!BF89=\"\",-1,会社情報!$C$7-YEAR(源泉徴収票!BF89-1))","v":-1},{"$f":"IF(源泉徴収票!BL89=\"\",-1,会社情報!$C$7-YEAR(源泉徴収票!BL89-1))","v":-1},{"$f":"IF(H89>=16,IF(AND(H89>=19,H89<23),\"特\",IF(H89>=70,IF(源泉徴収票!AO89=\"同居老親等\",\"同\",\"老\"),\"一\")),IF(H89>=0,\"未\",\"×\"))","v":"×"},{"$f":"IF(I89>=16,IF(AND(I89>=19,I89<23),\"特\",IF(I89>=70,IF(源泉徴収票!AU89=\"同居老親等\",\"同\",\"老\"),\"一\")),IF(I89>=0,\"未\",\"×\"))","v":"×"},{"$f":"IF(J89>=16,IF(AND(J89>=19,J89<23),\"特\",IF(J89>=70,IF(源泉徴収票!BA89=\"同居老親等\",\"同\",\"老\"),\"一\")),IF(J89>=0,\"未\",\"×\"))","v":"×"},{"$f":"IF(K89>=16,IF(AND(K89>=19,K89<23),\"特\",IF(K89>=70,IF(源泉徴収票!BG89=\"同居老親等\",\"同\",\"老\"),\"一\")),IF(K89>=0,\"未\",\"×\"))","v":"×"},{"$f":"IF(L89>=16,IF(AND(L89>=19,L89<23),\"特\",IF(L89>=70,IF(源泉徴収票!BM89=\"同居老親等\",\"同\",\"老\"),\"一\")),IF(L89>=0,\"未\",\"×\"))","v":"×"},"","","","","",{"$f":"IF(源泉徴収票!BU89<=20000, 源泉徴収票!BU89,\n  IF(源泉徴収票!BU89<=40000, 源泉徴収票!BU89*1/2+10000,\n   IF(源泉徴収票!BU89<=80000, 源泉徴収票!BU89*1/4+20000,\n                 40000)))","v":0},{"$f":"IF(源泉徴収票!BV89<=25000,源泉徴収票!BV89,\n  IF(源泉徴収票!BV89<=50000,源泉徴収票!BV89*1/2+12500,\n   IF(源泉徴収票!BV89<=100000,源泉徴収票!BV89*1/4+25000,\n                 50000)))","v":0},0,0,{"$f":"IF(源泉徴収票!BW89<=20000, 源泉徴収票!BW89,\n  IF(源泉徴収票!BW89<=40000, 源泉徴収票!BW89*1/2+10000,\n   IF(源泉徴収票!BW89<=80000, 源泉徴収票!BW89*1/4+20000,\n                 40000)))","v":0},{"$f":"IF(源泉徴収票!BX89<=20000, 源泉徴収票!BX89,\n  IF(源泉徴収票!BX89<=40000, 源泉徴収票!BX89*1/2+10000,\n   IF(源泉徴収票!BX89<=80000, 源泉徴収票!BX89*1/4+20000,\n                 40000)))","v":0},{"$f":"IF(源泉徴収票!BY89<=25000,源泉徴収票!BY89,\n  IF(源泉徴収票!BY89<=50000,源泉徴収票!BY89*1/2+12500,\n   IF(源泉徴収票!BY89<=100000,源泉徴収票!BY89*1/4+25000,\n                 50000)))","v":0},0,0,{"$f":"IF(源泉徴収票!BZ89<>\"\",MIN(源泉徴収票!BZ89,50000),0)","v":0},{"$f":"IF(源泉徴収票!CA89>=20000,15000,IF(源泉徴収票!CA89>=10000,源泉徴収票!CA89/2+5000,源泉徴収票!CA89))","v":0},{"$f":"IF(源泉徴収票!CS89<>\"\",\"〇\",\"×\")","v":"×"},null,{"$f":"源泉徴収票!O89+源泉徴収票!R89+源泉徴収票!U89","v":0},{"$f":"源泉徴収票!Q89+源泉徴収票!T89+源泉徴収票!W89","v":0},{"$f":"IF(源泉徴収票!I89=\"無\",0,INT(A89*VLOOKUP(A89, 給与所得計算, 3, TRUE)\n        +  VLOOKUP(A89, 給与所得計算, 4, TRUE) ))","v":0},0,0,{"$f":"源泉徴収票!P89+源泉徴収票!S89+源泉徴収票!V89","v":0},{"$f":"IF(源泉徴収票!I89=\"無\",0,源泉徴収票!CB89)","v":0},{"$f":"IF(源泉徴収票!I89=\"無\",0,源泉徴収票!CD89)","v":0},{"$f":"IF(源泉徴収票!I89=\"無\",0,MIN(120000,Z89+AA89+AE89))","v":0},{"$f":"IF(源泉徴収票!I89=\"無\",0,MIN(AF89+AG89,50000))","v":0},{"$f":"IF(源泉徴収票!I89=\"無\",0,IF(E89=\"○\",INDEX(H30配偶者控除・特別控除マスタ,F89,G89),0))","v":0},{"$f":"IF(源泉徴収票!I89=\"無\",0,IF(C89=\"○\",INDEX(H30配偶者控除・特別控除マスタ,F89,G89),0)+IF(D89=\"○\",INDEX(H30老人控除対象配偶者上乗せ,1,G89),0))","v":0},{"$f":"IF(源泉徴収票!I89=\"無\",0,COUNTIF(M89:Q89,\"一\")*380000+COUNTIF(M89:Q89,\"特\")*630000+COUNTIF(M89:Q89,\"老\")*480000+COUNTIF(M89:Q89,\"同\")*580000)","v":0},{"$f":"IF(源泉徴収票!I89=\"無\",0,(COUNTIF(源泉徴収票!BO89:BP89,\"一般\")+源泉徴収票!BQ89)*270000+(COUNTIF(源泉徴収票!BO89:BP89,\"特別\")+源泉徴収票!BR89)*400000+(COUNTIF(源泉徴収票!BP89,\"同居特別\")+源泉徴収票!BS89)*750000)","v":0},{"$f":"IF(源泉徴収票!I89=\"無\",0,IF(源泉徴収票!BT89<>\"\",IF(OR(源泉徴収票!BT89=\"特別の寡婦\",源泉徴収票!BT89=\"ひとり親\"),350000,270000),0))","v":0},{"$f":"IF(源泉徴収票!I89=\"無\",0,480000)","v":480000},{"$f":"IF(源泉徴収票!I89=\"無\",0,SUM(AO89:AY89))","v":480000},{"$f":"IF(源泉徴収票!I89=\"無\",AN89,FLOOR(MAX(AN89-AZ89,0),1000))","v":0},{"$f":"IF(源泉徴収票!I89=\"無\",AK89,BA89*VLOOKUP(BA89,所得税額計算,3,TRUE)+VLOOKUP(BA89,所得税額計算,4,TRUE))","v":0},{"$f":"IF(源泉徴収票!I89=\"無\",0,源泉徴収票!CZ89)","v":0},0,{"$f":"IF(源泉徴収票!I89=\"無\",BD89,FLOOR(BD89*102.1%,100))","v":0},0]
[0,{"$f":"IF(AND(源泉徴収票!I90=\"無\",源泉徴収票!AE90<>\"\"),\"○\",\"×\")","v":"×"},{"$f":"IF(AND(源泉徴収票!CO90<>\"\",源泉徴収票!CO90<=480000,AN90<=10000000),\"○\",\"×\")","v":"×"},{"$f":"IF(AND(C90=\"○\",源泉徴収票!CN90<>\"\",会社情報!$C$7-YEAR(MAX(源泉徴収票!CN90-1,0))>=70),\"○\",\"×\")","v":"×"},{"$f":"IF(AND(源泉徴収票!CO90<>\"\",源泉徴収票!CO90>480000,源泉徴収票!CO90<=1330000,AN90<=10000000),\"○\",\"×\")","v":"×"},{"$f":"MATCH(源泉徴収票!CO90,H30配偶者控除・特別控除マスタ_配偶者所得,1)","v":1},{"$f":"MATCH('源泉徴収票計算過程(非)'!AN90,H30配偶者控除・特別控除マスタ_所得者合計所得,1)","v":1},{"$f":"IF(源泉徴収票!AN90=\"\",-1,会社情報!$C$7-YEAR(源泉徴収票!AN90-1))","v":-1},{"$f":"IF(源泉徴収票!AT90=\"\",-1,会社情報!$C$7-YEAR(源泉徴収票!AT90-1))","v":-1},{"$f":"IF(源泉徴収票!AZ90=\"\",-1,会社情報!$C$7-YEAR(源泉徴収票!AZ90-1))","v":-1},{"$f":"IF(源泉徴収票!BF90=\"\",-1,会社情報!$C$7-YEAR(源泉徴収票!BF90-1))","v":-1},{"$f":"IF(源泉徴収票!BL90=\"\",-1,会社情報!$C$7-YEAR(源泉徴収票!BL90-1))","v":-1},{"$f":"IF(H90>=16,IF(AND(H90>=19,H90<23),\"特\",IF(H90>=70,IF(源泉徴収票!AO90=\"同居老親等\",\"同\",\"老\"),\"一\")),IF(H90>=0,\"未\",\"×\"))","v":"×"},{"$f":"IF(I90>=16,IF(AND(I90>=19,I90<23),\"特\",IF(I90>=70,IF(源泉徴収票!AU90=\"同居老親等\",\"同\",\"老\"),\"一\")),IF(I90>=0,\"未\",\"×\"))","v":"×"},{"$f":"IF(J90>=16,IF(AND(J90>=19,J90<23),\"特\",IF(J90>=70,IF(源泉徴収票!BA90=\"同居老親等\",\"同\",\"老\"),\"一\")),IF(J90>=0,\"未\",\"×\"))","v":"×"},{"$f":"IF(K90>=16,IF(AND(K90>=19,K90<23),\"特\",IF(K90>=70,IF(源泉徴収票!BG90=\"同居老親等\",\"同\",\"老\"),\"一\")),IF(K90>=0,\"未\",\"×\"))","v":"×"},{"$f":"IF(L90>=16,IF(AND(L90>=19,L90<23),\"特\",IF(L90>=70,IF(源泉徴収票!BM90=\"同居老親等\",\"同\",\"老\"),\"一\")),IF(L90>=0,\"未\",\"×\"))","v":"×"},"","","","","",{"$f":"IF(源泉徴収票!BU90<=20000, 源泉徴収票!BU90,\n  IF(源泉徴収票!BU90<=40000, 源泉徴収票!BU90*1/2+10000,\n   IF(源泉徴収票!BU90<=80000, 源泉徴収票!BU90*1/4+20000,\n                 40000)))","v":0},{"$f":"IF(源泉徴収票!BV90<=25000,源泉徴収票!BV90,\n  IF(源泉徴収票!BV90<=50000,源泉徴収票!BV90*1/2+12500,\n   IF(源泉徴収票!BV90<=100000,源泉徴収票!BV90*1/4+25000,\n                 50000)))","v":0},0,0,{"$f":"IF(源泉徴収票!BW90<=20000, 源泉徴収票!BW90,\n  IF(源泉徴収票!BW90<=40000, 源泉徴収票!BW90*1/2+10000,\n   IF(源泉徴収票!BW90<=80000, 源泉徴収票!BW90*1/4+20000,\n                 40000)))","v":0},{"$f":"IF(源泉徴収票!BX90<=20000, 源泉徴収票!BX90,\n  IF(源泉徴収票!BX90<=40000, 源泉徴収票!BX90*1/2+10000,\n   IF(源泉徴収票!BX90<=80000, 源泉徴収票!BX90*1/4+20000,\n                 40000)))","v":0},{"$f":"IF(源泉徴収票!BY90<=25000,源泉徴収票!BY90,\n  IF(源泉徴収票!BY90<=50000,源泉徴収票!BY90*1/2+12500,\n   IF(源泉徴収票!BY90<=100000,源泉徴収票!BY90*1/4+25000,\n                 50000)))","v":0},0,0,{"$f":"IF(源泉徴収票!BZ90<>\"\",MIN(源泉徴収票!BZ90,50000),0)","v":0},{"$f":"IF(源泉徴収票!CA90>=20000,15000,IF(源泉徴収票!CA90>=10000,源泉徴収票!CA90/2+5000,源泉徴収票!CA90))","v":0},{"$f":"IF(源泉徴収票!CS90<>\"\",\"〇\",\"×\")","v":"×"},null,{"$f":"源泉徴収票!O90+源泉徴収票!R90+源泉徴収票!U90","v":0},{"$f":"源泉徴収票!Q90+源泉徴収票!T90+源泉徴収票!W90","v":0},{"$f":"IF(源泉徴収票!I90=\"無\",0,INT(A90*VLOOKUP(A90, 給与所得計算, 3, TRUE)\n        +  VLOOKUP(A90, 給与所得計算, 4, TRUE) ))","v":0},0,0,{"$f":"源泉徴収票!P90+源泉徴収票!S90+源泉徴収票!V90","v":0},{"$f":"IF(源泉徴収票!I90=\"無\",0,源泉徴収票!CB90)","v":0},{"$f":"IF(源泉徴収票!I90=\"無\",0,源泉徴収票!CD90)","v":0},{"$f":"IF(源泉徴収票!I90=\"無\",0,MIN(120000,Z90+AA90+AE90))","v":0},{"$f":"IF(源泉徴収票!I90=\"無\",0,MIN(AF90+AG90,50000))","v":0},{"$f":"IF(源泉徴収票!I90=\"無\",0,IF(E90=\"○\",INDEX(H30配偶者控除・特別控除マスタ,F90,G90),0))","v":0},{"$f":"IF(源泉徴収票!I90=\"無\",0,IF(C90=\"○\",INDEX(H30配偶者控除・特別控除マスタ,F90,G90),0)+IF(D90=\"○\",INDEX(H30老人控除対象配偶者上乗せ,1,G90),0))","v":0},{"$f":"IF(源泉徴収票!I90=\"無\",0,COUNTIF(M90:Q90,\"一\")*380000+COUNTIF(M90:Q90,\"特\")*630000+COUNTIF(M90:Q90,\"老\")*480000+COUNTIF(M90:Q90,\"同\")*580000)","v":0},{"$f":"IF(源泉徴収票!I90=\"無\",0,(COUNTIF(源泉徴収票!BO90:BP90,\"一般\")+源泉徴収票!BQ90)*270000+(COUNTIF(源泉徴収票!BO90:BP90,\"特別\")+源泉徴収票!BR90)*400000+(COUNTIF(源泉徴収票!BP90,\"同居特別\")+源泉徴収票!BS90)*750000)","v":0},{"$f":"IF(源泉徴収票!I90=\"無\",0,IF(源泉徴収票!BT90<>\"\",IF(OR(源泉徴収票!BT90=\"特別の寡婦\",源泉徴収票!BT90=\"ひとり親\"),350000,270000),0))","v":0},{"$f":"IF(源泉徴収票!I90=\"無\",0,480000)","v":480000},{"$f":"IF(源泉徴収票!I90=\"無\",0,SUM(AO90:AY90))","v":480000},{"$f":"IF(源泉徴収票!I90=\"無\",AN90,FLOOR(MAX(AN90-AZ90,0),1000))","v":0},{"$f":"IF(源泉徴収票!I90=\"無\",AK90,BA90*VLOOKUP(BA90,所得税額計算,3,TRUE)+VLOOKUP(BA90,所得税額計算,4,TRUE))","v":0},{"$f":"IF(源泉徴収票!I90=\"無\",0,源泉徴収票!CZ90)","v":0},0,{"$f":"IF(源泉徴収票!I90=\"無\",BD90,FLOOR(BD90*102.1%,100))","v":0},0]
[0,{"$f":"IF(AND(源泉徴収票!I91=\"無\",源泉徴収票!AE91<>\"\"),\"○\",\"×\")","v":"×"},{"$f":"IF(AND(源泉徴収票!CO91<>\"\",源泉徴収票!CO91<=480000,AN91<=10000000),\"○\",\"×\")","v":"×"},{"$f":"IF(AND(C91=\"○\",源泉徴収票!CN91<>\"\",会社情報!$C$7-YEAR(MAX(源泉徴収票!CN91-1,0))>=70),\"○\",\"×\")","v":"×"},{"$f":"IF(AND(源泉徴収票!CO91<>\"\",源泉徴収票!CO91>480000,源泉徴収票!CO91<=1330000,AN91<=10000000),\"○\",\"×\")","v":"×"},{"$f":"MATCH(源泉徴収票!CO91,H30配偶者控除・特別控除マスタ_配偶者所得,1)","v":1},{"$f":"MATCH('源泉徴収票計算過程(非)'!AN91,H30配偶者控除・特別控除マスタ_所得者合計所得,1)","v":1},{"$f":"IF(源泉徴収票!AN91=\"\",-1,会社情報!$C$7-YEAR(源泉徴収票!AN91-1))","v":-1},{"$f":"IF(源泉徴収票!AT91=\"\",-1,会社情報!$C$7-YEAR(源泉徴収票!AT91-1))","v":-1},{"$f":"IF(源泉徴収票!AZ91=\"\",-1,会社情報!$C$7-YEAR(源泉徴収票!AZ91-1))","v":-1},{"$f":"IF(源泉徴収票!BF91=\"\",-1,会社情報!$C$7-YEAR(源泉徴収票!BF91-1))","v":-1},{"$f":"IF(源泉徴収票!BL91=\"\",-1,会社情報!$C$7-YEAR(源泉徴収票!BL91-1))","v":-1},{"$f":"IF(H91>=16,IF(AND(H91>=19,H91<23),\"特\",IF(H91>=70,IF(源泉徴収票!AO91=\"同居老親等\",\"同\",\"老\"),\"一\")),IF(H91>=0,\"未\",\"×\"))","v":"×"},{"$f":"IF(I91>=16,IF(AND(I91>=19,I91<23),\"特\",IF(I91>=70,IF(源泉徴収票!AU91=\"同居老親等\",\"同\",\"老\"),\"一\")),IF(I91>=0,\"未\",\"×\"))","v":"×"},{"$f":"IF(J91>=16,IF(AND(J91>=19,J91<23),\"特\",IF(J91>=70,IF(源泉徴収票!BA91=\"同居老親等\",\"同\",\"老\"),\"一\")),IF(J91>=0,\"未\",\"×\"))","v":"×"},{"$f":"IF(K91>=16,IF(AND(K91>=19,K91<23),\"特\",IF(K91>=70,IF(源泉徴収票!BG91=\"同居老親等\",\"同\",\"老\"),\"一\")),IF(K91>=0,\"未\",\"×\"))","v":"×"},{"$f":"IF(L91>=16,IF(AND(L91>=19,L91<23),\"特\",IF(L91>=70,IF(源泉徴収票!BM91=\"同居老親等\",\"同\",\"老\"),\"一\")),IF(L91>=0,\"未\",\"×\"))","v":"×"},"","","","","",{"$f":"IF(源泉徴収票!BU91<=20000, 源泉徴収票!BU91,\n  IF(源泉徴収票!BU91<=40000, 源泉徴収票!BU91*1/2+10000,\n   IF(源泉徴収票!BU91<=80000, 源泉徴収票!BU91*1/4+20000,\n                 40000)))","v":0},{"$f":"IF(源泉徴収票!BV91<=25000,源泉徴収票!BV91,\n  IF(源泉徴収票!BV91<=50000,源泉徴収票!BV91*1/2+12500,\n   IF(源泉徴収票!BV91<=100000,源泉徴収票!BV91*1/4+25000,\n                 50000)))","v":0},0,0,{"$f":"IF(源泉徴収票!BW91<=20000, 源泉徴収票!BW91,\n  IF(源泉徴収票!BW91<=40000, 源泉徴収票!BW91*1/2+10000,\n   IF(源泉徴収票!BW91<=80000, 源泉徴収票!BW91*1/4+20000,\n                 40000)))","v":0},{"$f":"IF(源泉徴収票!BX91<=20000, 源泉徴収票!BX91,\n  IF(源泉徴収票!BX91<=40000, 源泉徴収票!BX91*1/2+10000,\n   IF(源泉徴収票!BX91<=80000, 源泉徴収票!BX91*1/4+20000,\n                 40000)))","v":0},{"$f":"IF(源泉徴収票!BY91<=25000,源泉徴収票!BY91,\n  IF(源泉徴収票!BY91<=50000,源泉徴収票!BY91*1/2+12500,\n   IF(源泉徴収票!BY91<=100000,源泉徴収票!BY91*1/4+25000,\n                 50000)))","v":0},0,0,{"$f":"IF(源泉徴収票!BZ91<>\"\",MIN(源泉徴収票!BZ91,50000),0)","v":0},{"$f":"IF(源泉徴収票!CA91>=20000,15000,IF(源泉徴収票!CA91>=10000,源泉徴収票!CA91/2+5000,源泉徴収票!CA91))","v":0},{"$f":"IF(源泉徴収票!CS91<>\"\",\"〇\",\"×\")","v":"×"},null,{"$f":"源泉徴収票!O91+源泉徴収票!R91+源泉徴収票!U91","v":0},{"$f":"源泉徴収票!Q91+源泉徴収票!T91+源泉徴収票!W91","v":0},{"$f":"IF(源泉徴収票!I91=\"無\",0,INT(A91*VLOOKUP(A91, 給与所得計算, 3, TRUE)\n        +  VLOOKUP(A91, 給与所得計算, 4, TRUE) ))","v":0},0,0,{"$f":"源泉徴収票!P91+源泉徴収票!S91+源泉徴収票!V91","v":0},{"$f":"IF(源泉徴収票!I91=\"無\",0,源泉徴収票!CB91)","v":0},{"$f":"IF(源泉徴収票!I91=\"無\",0,源泉徴収票!CD91)","v":0},{"$f":"IF(源泉徴収票!I91=\"無\",0,MIN(120000,Z91+AA91+AE91))","v":0},{"$f":"IF(源泉徴収票!I91=\"無\",0,MIN(AF91+AG91,50000))","v":0},{"$f":"IF(源泉徴収票!I91=\"無\",0,IF(E91=\"○\",INDEX(H30配偶者控除・特別控除マスタ,F91,G91),0))","v":0},{"$f":"IF(源泉徴収票!I91=\"無\",0,IF(C91=\"○\",INDEX(H30配偶者控除・特別控除マスタ,F91,G91),0)+IF(D91=\"○\",INDEX(H30老人控除対象配偶者上乗せ,1,G91),0))","v":0},{"$f":"IF(源泉徴収票!I91=\"無\",0,COUNTIF(M91:Q91,\"一\")*380000+COUNTIF(M91:Q91,\"特\")*630000+COUNTIF(M91:Q91,\"老\")*480000+COUNTIF(M91:Q91,\"同\")*580000)","v":0},{"$f":"IF(源泉徴収票!I91=\"無\",0,(COUNTIF(源泉徴収票!BO91:BP91,\"一般\")+源泉徴収票!BQ91)*270000+(COUNTIF(源泉徴収票!BO91:BP91,\"特別\")+源泉徴収票!BR91)*400000+(COUNTIF(源泉徴収票!BP91,\"同居特別\")+源泉徴収票!BS91)*750000)","v":0},{"$f":"IF(源泉徴収票!I91=\"無\",0,IF(源泉徴収票!BT91<>\"\",IF(OR(源泉徴収票!BT91=\"特別の寡婦\",源泉徴収票!BT91=\"ひとり親\"),350000,270000),0))","v":0},{"$f":"IF(源泉徴収票!I91=\"無\",0,480000)","v":480000},{"$f":"IF(源泉徴収票!I91=\"無\",0,SUM(AO91:AY91))","v":480000},{"$f":"IF(源泉徴収票!I91=\"無\",AN91,FLOOR(MAX(AN91-AZ91,0),1000))","v":0},{"$f":"IF(源泉徴収票!I91=\"無\",AK91,BA91*VLOOKUP(BA91,所得税額計算,3,TRUE)+VLOOKUP(BA91,所得税額計算,4,TRUE))","v":0},{"$f":"IF(源泉徴収票!I91=\"無\",0,源泉徴収票!CZ91)","v":0},0,{"$f":"IF(源泉徴収票!I91=\"無\",BD91,FLOOR(BD91*102.1%,100))","v":0},0]
[0,{"$f":"IF(AND(源泉徴収票!I92=\"無\",源泉徴収票!AE92<>\"\"),\"○\",\"×\")","v":"×"},{"$f":"IF(AND(源泉徴収票!CO92<>\"\",源泉徴収票!CO92<=480000,AN92<=10000000),\"○\",\"×\")","v":"×"},{"$f":"IF(AND(C92=\"○\",源泉徴収票!CN92<>\"\",会社情報!$C$7-YEAR(MAX(源泉徴収票!CN92-1,0))>=70),\"○\",\"×\")","v":"×"},{"$f":"IF(AND(源泉徴収票!CO92<>\"\",源泉徴収票!CO92>480000,源泉徴収票!CO92<=1330000,AN92<=10000000),\"○\",\"×\")","v":"×"},{"$f":"MATCH(源泉徴収票!CO92,H30配偶者控除・特別控除マスタ_配偶者所得,1)","v":1},{"$f":"MATCH('源泉徴収票計算過程(非)'!AN92,H30配偶者控除・特別控除マスタ_所得者合計所得,1)","v":1},{"$f":"IF(源泉徴収票!AN92=\"\",-1,会社情報!$C$7-YEAR(源泉徴収票!AN92-1))","v":-1},{"$f":"IF(源泉徴収票!AT92=\"\",-1,会社情報!$C$7-YEAR(源泉徴収票!AT92-1))","v":-1},{"$f":"IF(源泉徴収票!AZ92=\"\",-1,会社情報!$C$7-YEAR(源泉徴収票!AZ92-1))","v":-1},{"$f":"IF(源泉徴収票!BF92=\"\",-1,会社情報!$C$7-YEAR(源泉徴収票!BF92-1))","v":-1},{"$f":"IF(源泉徴収票!BL92=\"\",-1,会社情報!$C$7-YEAR(源泉徴収票!BL92-1))","v":-1},{"$f":"IF(H92>=16,IF(AND(H92>=19,H92<23),\"特\",IF(H92>=70,IF(源泉徴収票!AO92=\"同居老親等\",\"同\",\"老\"),\"一\")),IF(H92>=0,\"未\",\"×\"))","v":"×"},{"$f":"IF(I92>=16,IF(AND(I92>=19,I92<23),\"特\",IF(I92>=70,IF(源泉徴収票!AU92=\"同居老親等\",\"同\",\"老\"),\"一\")),IF(I92>=0,\"未\",\"×\"))","v":"×"},{"$f":"IF(J92>=16,IF(AND(J92>=19,J92<23),\"特\",IF(J92>=70,IF(源泉徴収票!BA92=\"同居老親等\",\"同\",\"老\"),\"一\")),IF(J92>=0,\"未\",\"×\"))","v":"×"},{"$f":"IF(K92>=16,IF(AND(K92>=19,K92<23),\"特\",IF(K92>=70,IF(源泉徴収票!BG92=\"同居老親等\",\"同\",\"老\"),\"一\")),IF(K92>=0,\"未\",\"×\"))","v":"×"},{"$f":"IF(L92>=16,IF(AND(L92>=19,L92<23),\"特\",IF(L92>=70,IF(源泉徴収票!BM92=\"同居老親等\",\"同\",\"老\"),\"一\")),IF(L92>=0,\"未\",\"×\"))","v":"×"},{"$f":"IF(M92=\"未\",\"未\",IF(M92<>\"×\",\"一\",\"\"))","v":""},{"$f":"IF(N92=\"未\",\"未\",IF(N92<>\"×\",\"一\",\"\"))","v":""},{"$f":"IF(O92=\"未\",\"未\",IF(O92<>\"×\",\"一\",\"\"))","v":""},{"$f":"IF(P92=\"未\",\"未\",IF(P92<>\"×\",\"一\",\"\"))","v":""},{"$f":"IF(Q92=\"未\",\"未\",IF(Q92<>\"×\",\"一\",\"\"))","v":""},{"$f":"IF(源泉徴収票!BU92<=20000, 源泉徴収票!BU92,\n  IF(源泉徴収票!BU92<=40000, 源泉徴収票!BU92*1/2+10000,\n   IF(源泉徴収票!BU92<=80000, 源泉徴収票!BU92*1/4+20000,\n                 40000)))","v":0},{"$f":"IF(源泉徴収票!BV92<=25000,源泉徴収票!BV92,\n  IF(源泉徴収票!BV92<=50000,源泉徴収票!BV92*1/2+12500,\n   IF(源泉徴収票!BV92<=100000,源泉徴収票!BV92*1/4+25000,\n                 50000)))","v":0},{"$f":"MIN(W92+X92,40000)","v":0},{"$f":"MAX(X92,Y92)","v":0},{"$f":"IF(源泉徴収票!BW92<=20000, 源泉徴収票!BW92,\n  IF(源泉徴収票!BW92<=40000, 源泉徴収票!BW92*1/2+10000,\n   IF(源泉徴収票!BW92<=80000, 源泉徴収票!BW92*1/4+20000,\n                 40000)))","v":0},{"$f":"IF(源泉徴収票!BX92<=20000, 源泉徴収票!BX92,\n  IF(源泉徴収票!BX92<=40000, 源泉徴収票!BX92*1/2+10000,\n   IF(源泉徴収票!BX92<=80000, 源泉徴収票!BX92*1/4+20000,\n                 40000)))","v":0},{"$f":"IF(源泉徴収票!BY92<=25000,源泉徴収票!BY92,\n  IF(源泉徴収票!BY92<=50000,源泉徴収票!BY92*1/2+12500,\n   IF(源泉徴収票!BY92<=100000,源泉徴収票!BY92*1/4+25000,\n                 50000)))","v":0},{"$f":"MIN(AB92+AC92,40000)","v":0},{"$f":"MAX(AC92,AD92)","v":0},{"$f":"IF(源泉徴収票!BZ92<>\"\",MIN(源泉徴収票!BZ92,50000),0)","v":0},{"$f":"IF(源泉徴収票!CA92>=20000,15000,IF(源泉徴収票!CA92>=10000,源泉徴収票!CA92/2+5000,源泉徴収票!CA92))","v":0},{"$f":"IF(源泉徴収票!CS92<>\"\",\"〇\",\"×\")","v":"×"},null,{"$f":"源泉徴収票!O92+源泉徴収票!R92+源泉徴収票!U92","v":0},{"$f":"源泉徴収票!Q92+源泉徴収票!T92+源泉徴収票!W92","v":0},{"$f":"IF(源泉徴収票!I92=\"無\",0,INT(A92*VLOOKUP(A92, 給与所得計算, 3, TRUE)\n        +  VLOOKUP(A92, 給与所得計算, 4, TRUE) ))","v":0},0,0,{"$f":"源泉徴収票!P92+源泉徴収票!S92+源泉徴収票!V92","v":0},{"$f":"IF(源泉徴収票!I92=\"無\",0,源泉徴収票!CB92)","v":0},{"$f":"IF(源泉徴収票!I92=\"無\",0,源泉徴収票!CD92)","v":0},{"$f":"IF(源泉徴収票!I92=\"無\",0,MIN(120000,Z92+AA92+AE92))","v":0},{"$f":"IF(源泉徴収票!I92=\"無\",0,MIN(AF92+AG92,50000))","v":0},{"$f":"IF(源泉徴収票!I92=\"無\",0,IF(E92=\"○\",INDEX(H30配偶者控除・特別控除マスタ,F92,G92),0))","v":0},{"$f":"IF(源泉徴収票!I92=\"無\",0,IF(C92=\"○\",INDEX(H30配偶者控除・特別控除マスタ,F92,G92),0)+IF(D92=\"○\",INDEX(H30老人控除対象配偶者上乗せ,1,G92),0))","v":0},{"$f":"IF(源泉徴収票!I92=\"無\",0,COUNTIF(M92:Q92,\"一\")*380000+COUNTIF(M92:Q92,\"特\")*630000+COUNTIF(M92:Q92,\"老\")*480000+COUNTIF(M92:Q92,\"同\")*580000)","v":0},{"$f":"IF(源泉徴収票!I92=\"無\",0,(COUNTIF(源泉徴収票!BO92:BP92,\"一般\")+源泉徴収票!BQ92)*270000+(COUNTIF(源泉徴収票!BO92:BP92,\"特別\")+源泉徴収票!BR92)*400000+(COUNTIF(源泉徴収票!BP92,\"同居特別\")+源泉徴収票!BS92)*750000)","v":0},{"$f":"IF(源泉徴収票!I92=\"無\",0,IF(源泉徴収票!BT92<>\"\",IF(OR(源泉徴収票!BT92=\"特別の寡婦\",源泉徴収票!BT92=\"ひとり親\"),350000,270000),0))","v":0},{"$f":"IF(源泉徴収票!I92=\"無\",0,480000)","v":480000},{"$f":"IF(源泉徴収票!I92=\"無\",0,SUM(AO92:AY92))","v":480000},{"$f":"IF(源泉徴収票!I92=\"無\",AN92,FLOOR(MAX(AN92-AZ92,0),1000))","v":0},{"$f":"IF(源泉徴収票!I92=\"無\",AK92,BA92*VLOOKUP(BA92,所得税額計算,3,TRUE)+VLOOKUP(BA92,所得税額計算,4,TRUE))","v":0},{"$f":"IF(源泉徴収票!I92=\"無\",0,源泉徴収票!CZ92)","v":0},{"$f":"MAX(BB92-BC92,0)","v":0},{"$f":"IF(源泉徴収票!I92=\"無\",BD92,FLOOR(BD92*102.1%,100))","v":0},{"$f":"BE92-AK92","v":0}]
[0,{"$f":"IF(AND(源泉徴収票!I93=\"無\",源泉徴収票!AE93<>\"\"),\"○\",\"×\")","v":"×"},{"$f":"IF(AND(源泉徴収票!CO93<>\"\",源泉徴収票!CO93<=480000,AN93<=10000000),\"○\",\"×\")","v":"×"},{"$f":"IF(AND(C93=\"○\",源泉徴収票!CN93<>\"\",会社情報!$C$7-YEAR(MAX(源泉徴収票!CN93-1,0))>=70),\"○\",\"×\")","v":"×"},{"$f":"IF(AND(源泉徴収票!CO93<>\"\",源泉徴収票!CO93>480000,源泉徴収票!CO93<=1330000,AN93<=10000000),\"○\",\"×\")","v":"×"},{"$f":"MATCH(源泉徴収票!CO93,H30配偶者控除・特別控除マスタ_配偶者所得,1)","v":1},{"$f":"MATCH('源泉徴収票計算過程(非)'!AN93,H30配偶者控除・特別控除マスタ_所得者合計所得,1)","v":1},{"$f":"IF(源泉徴収票!AN93=\"\",-1,会社情報!$C$7-YEAR(源泉徴収票!AN93-1))","v":-1},{"$f":"IF(源泉徴収票!AT93=\"\",-1,会社情報!$C$7-YEAR(源泉徴収票!AT93-1))","v":-1},{"$f":"IF(源泉徴収票!AZ93=\"\",-1,会社情報!$C$7-YEAR(源泉徴収票!AZ93-1))","v":-1},{"$f":"IF(源泉徴収票!BF93=\"\",-1,会社情報!$C$7-YEAR(源泉徴収票!BF93-1))","v":-1},{"$f":"IF(源泉徴収票!BL93=\"\",-1,会社情報!$C$7-YEAR(源泉徴収票!BL93-1))","v":-1},{"$f":"IF(H93>=16,IF(AND(H93>=19,H93<23),\"特\",IF(H93>=70,IF(源泉徴収票!AO93=\"同居老親等\",\"同\",\"老\"),\"一\")),IF(H93>=0,\"未\",\"×\"))","v":"×"},{"$f":"IF(I93>=16,IF(AND(I93>=19,I93<23),\"特\",IF(I93>=70,IF(源泉徴収票!AU93=\"同居老親等\",\"同\",\"老\"),\"一\")),IF(I93>=0,\"未\",\"×\"))","v":"×"},{"$f":"IF(J93>=16,IF(AND(J93>=19,J93<23),\"特\",IF(J93>=70,IF(源泉徴収票!BA93=\"同居老親等\",\"同\",\"老\"),\"一\")),IF(J93>=0,\"未\",\"×\"))","v":"×"},{"$f":"IF(K93>=16,IF(AND(K93>=19,K93<23),\"特\",IF(K93>=70,IF(源泉徴収票!BG93=\"同居老親等\",\"同\",\"老\"),\"一\")),IF(K93>=0,\"未\",\"×\"))","v":"×"},{"$f":"IF(L93>=16,IF(AND(L93>=19,L93<23),\"特\",IF(L93>=70,IF(源泉徴収票!BM93=\"同居老親等\",\"同\",\"老\"),\"一\")),IF(L93>=0,\"未\",\"×\"))","v":"×"},"","","","","",{"$f":"IF(源泉徴収票!BU93<=20000, 源泉徴収票!BU93,\n  IF(源泉徴収票!BU93<=40000, 源泉徴収票!BU93*1/2+10000,\n   IF(源泉徴収票!BU93<=80000, 源泉徴収票!BU93*1/4+20000,\n                 40000)))","v":0},{"$f":"IF(源泉徴収票!BV93<=25000,源泉徴収票!BV93,\n  IF(源泉徴収票!BV93<=50000,源泉徴収票!BV93*1/2+12500,\n   IF(源泉徴収票!BV93<=100000,源泉徴収票!BV93*1/4+25000,\n                 50000)))","v":0},0,0,{"$f":"IF(源泉徴収票!BW93<=20000, 源泉徴収票!BW93,\n  IF(源泉徴収票!BW93<=40000, 源泉徴収票!BW93*1/2+10000,\n   IF(源泉徴収票!BW93<=80000, 源泉徴収票!BW93*1/4+20000,\n                 40000)))","v":0},{"$f":"IF(源泉徴収票!BX93<=20000, 源泉徴収票!BX93,\n  IF(源泉徴収票!BX93<=40000, 源泉徴収票!BX93*1/2+10000,\n   IF(源泉徴収票!BX93<=80000, 源泉徴収票!BX93*1/4+20000,\n                 40000)))","v":0},{"$f":"IF(源泉徴収票!BY93<=25000,源泉徴収票!BY93,\n  IF(源泉徴収票!BY93<=50000,源泉徴収票!BY93*1/2+12500,\n   IF(源泉徴収票!BY93<=100000,源泉徴収票!BY93*1/4+25000,\n                 50000)))","v":0},0,0,{"$f":"IF(源泉徴収票!BZ93<>\"\",MIN(源泉徴収票!BZ93,50000),0)","v":0},{"$f":"IF(源泉徴収票!CA93>=20000,15000,IF(源泉徴収票!CA93>=10000,源泉徴収票!CA93/2+5000,源泉徴収票!CA93))","v":0},{"$f":"IF(源泉徴収票!CS93<>\"\",\"〇\",\"×\")","v":"×"},null,{"$f":"源泉徴収票!O93+源泉徴収票!R93+源泉徴収票!U93","v":0},{"$f":"源泉徴収票!Q93+源泉徴収票!T93+源泉徴収票!W93","v":0},{"$f":"IF(源泉徴収票!I93=\"無\",0,INT(A93*VLOOKUP(A93, 給与所得計算, 3, TRUE)\n        +  VLOOKUP(A93, 給与所得計算, 4, TRUE) ))","v":0},0,0,{"$f":"源泉徴収票!P93+源泉徴収票!S93+源泉徴収票!V93","v":0},{"$f":"IF(源泉徴収票!I93=\"無\",0,源泉徴収票!CB93)","v":0},{"$f":"IF(源泉徴収票!I93=\"無\",0,源泉徴収票!CD93)","v":0},{"$f":"IF(源泉徴収票!I93=\"無\",0,MIN(120000,Z93+AA93+AE93))","v":0},{"$f":"IF(源泉徴収票!I93=\"無\",0,MIN(AF93+AG93,50000))","v":0},{"$f":"IF(源泉徴収票!I93=\"無\",0,IF(E93=\"○\",INDEX(H30配偶者控除・特別控除マスタ,F93,G93),0))","v":0},{"$f":"IF(源泉徴収票!I93=\"無\",0,IF(C93=\"○\",INDEX(H30配偶者控除・特別控除マスタ,F93,G93),0)+IF(D93=\"○\",INDEX(H30老人控除対象配偶者上乗せ,1,G93),0))","v":0},{"$f":"IF(源泉徴収票!I93=\"無\",0,COUNTIF(M93:Q93,\"一\")*380000+COUNTIF(M93:Q93,\"特\")*630000+COUNTIF(M93:Q93,\"老\")*480000+COUNTIF(M93:Q93,\"同\")*580000)","v":0},{"$f":"IF(源泉徴収票!I93=\"無\",0,(COUNTIF(源泉徴収票!BO93:BP93,\"一般\")+源泉徴収票!BQ93)*270000+(COUNTIF(源泉徴収票!BO93:BP93,\"特別\")+源泉徴収票!BR93)*400000+(COUNTIF(源泉徴収票!BP93,\"同居特別\")+源泉徴収票!BS93)*750000)","v":0},{"$f":"IF(源泉徴収票!I93=\"無\",0,IF(源泉徴収票!BT93<>\"\",IF(OR(源泉徴収票!BT93=\"特別の寡婦\",源泉徴収票!BT93=\"ひとり親\"),350000,270000),0))","v":0},{"$f":"IF(源泉徴収票!I93=\"無\",0,480000)","v":480000},{"$f":"IF(源泉徴収票!I93=\"無\",0,SUM(AO93:AY93))","v":480000},{"$f":"IF(源泉徴収票!I93=\"無\",AN93,FLOOR(MAX(AN93-AZ93,0),1000))","v":0},{"$f":"IF(源泉徴収票!I93=\"無\",AK93,BA93*VLOOKUP(BA93,所得税額計算,3,TRUE)+VLOOKUP(BA93,所得税額計算,4,TRUE))","v":0},{"$f":"IF(源泉徴収票!I93=\"無\",0,源泉徴収票!CZ93)","v":0},0,{"$f":"IF(源泉徴収票!I93=\"無\",BD93,FLOOR(BD93*102.1%,100))","v":0},0]
[0,{"$f":"IF(AND(源泉徴収票!I94=\"無\",源泉徴収票!AE94<>\"\"),\"○\",\"×\")","v":"×"},{"$f":"IF(AND(源泉徴収票!CO94<>\"\",源泉徴収票!CO94<=480000,AN94<=10000000),\"○\",\"×\")","v":"×"},{"$f":"IF(AND(C94=\"○\",源泉徴収票!CN94<>\"\",会社情報!$C$7-YEAR(MAX(源泉徴収票!CN94-1,0))>=70),\"○\",\"×\")","v":"×"},{"$f":"IF(AND(源泉徴収票!CO94<>\"\",源泉徴収票!CO94>480000,源泉徴収票!CO94<=1330000,AN94<=10000000),\"○\",\"×\")","v":"×"},{"$f":"MATCH(源泉徴収票!CO94,H30配偶者控除・特別控除マスタ_配偶者所得,1)","v":1},{"$f":"MATCH('源泉徴収票計算過程(非)'!AN94,H30配偶者控除・特別控除マスタ_所得者合計所得,1)","v":1},{"$f":"IF(源泉徴収票!AN94=\"\",-1,会社情報!$C$7-YEAR(源泉徴収票!AN94-1))","v":-1},{"$f":"IF(源泉徴収票!AT94=\"\",-1,会社情報!$C$7-YEAR(源泉徴収票!AT94-1))","v":-1},{"$f":"IF(源泉徴収票!AZ94=\"\",-1,会社情報!$C$7-YEAR(源泉徴収票!AZ94-1))","v":-1},{"$f":"IF(源泉徴収票!BF94=\"\",-1,会社情報!$C$7-YEAR(源泉徴収票!BF94-1))","v":-1},{"$f":"IF(源泉徴収票!BL94=\"\",-1,会社情報!$C$7-YEAR(源泉徴収票!BL94-1))","v":-1},{"$f":"IF(H94>=16,IF(AND(H94>=19,H94<23),\"特\",IF(H94>=70,IF(源泉徴収票!AO94=\"同居老親等\",\"同\",\"老\"),\"一\")),IF(H94>=0,\"未\",\"×\"))","v":"×"},{"$f":"IF(I94>=16,IF(AND(I94>=19,I94<23),\"特\",IF(I94>=70,IF(源泉徴収票!AU94=\"同居老親等\",\"同\",\"老\"),\"一\")),IF(I94>=0,\"未\",\"×\"))","v":"×"},{"$f":"IF(J94>=16,IF(AND(J94>=19,J94<23),\"特\",IF(J94>=70,IF(源泉徴収票!BA94=\"同居老親等\",\"同\",\"老\"),\"一\")),IF(J94>=0,\"未\",\"×\"))","v":"×"},{"$f":"IF(K94>=16,IF(AND(K94>=19,K94<23),\"特\",IF(K94>=70,IF(源泉徴収票!BG94=\"同居老親等\",\"同\",\"老\"),\"一\")),IF(K94>=0,\"未\",\"×\"))","v":"×"},{"$f":"IF(L94>=16,IF(AND(L94>=19,L94<23),\"特\",IF(L94>=70,IF(源泉徴収票!BM94=\"同居老親等\",\"同\",\"老\"),\"一\")),IF(L94>=0,\"未\",\"×\"))","v":"×"},"","","","","",{"$f":"IF(源泉徴収票!BU94<=20000, 源泉徴収票!BU94,\n  IF(源泉徴収票!BU94<=40000, 源泉徴収票!BU94*1/2+10000,\n   IF(源泉徴収票!BU94<=80000, 源泉徴収票!BU94*1/4+20000,\n                 40000)))","v":0},{"$f":"IF(源泉徴収票!BV94<=25000,源泉徴収票!BV94,\n  IF(源泉徴収票!BV94<=50000,源泉徴収票!BV94*1/2+12500,\n   IF(源泉徴収票!BV94<=100000,源泉徴収票!BV94*1/4+25000,\n                 50000)))","v":0},0,0,{"$f":"IF(源泉徴収票!BW94<=20000, 源泉徴収票!BW94,\n  IF(源泉徴収票!BW94<=40000, 源泉徴収票!BW94*1/2+10000,\n   IF(源泉徴収票!BW94<=80000, 源泉徴収票!BW94*1/4+20000,\n                 40000)))","v":0},{"$f":"IF(源泉徴収票!BX94<=20000, 源泉徴収票!BX94,\n  IF(源泉徴収票!BX94<=40000, 源泉徴収票!BX94*1/2+10000,\n   IF(源泉徴収票!BX94<=80000, 源泉徴収票!BX94*1/4+20000,\n                 40000)))","v":0},{"$f":"IF(源泉徴収票!BY94<=25000,源泉徴収票!BY94,\n  IF(源泉徴収票!BY94<=50000,源泉徴収票!BY94*1/2+12500,\n   IF(源泉徴収票!BY94<=100000,源泉徴収票!BY94*1/4+25000,\n                 50000)))","v":0},0,0,{"$f":"IF(源泉徴収票!BZ94<>\"\",MIN(源泉徴収票!BZ94,50000),0)","v":0},{"$f":"IF(源泉徴収票!CA94>=20000,15000,IF(源泉徴収票!CA94>=10000,源泉徴収票!CA94/2+5000,源泉徴収票!CA94))","v":0},{"$f":"IF(源泉徴収票!CS94<>\"\",\"〇\",\"×\")","v":"×"},null,{"$f":"源泉徴収票!O94+源泉徴収票!R94+源泉徴収票!U94","v":0},{"$f":"源泉徴収票!Q94+源泉徴収票!T94+源泉徴収票!W94","v":0},{"$f":"IF(源泉徴収票!I94=\"無\",0,INT(A94*VLOOKUP(A94, 給与所得計算, 3, TRUE)\n        +  VLOOKUP(A94, 給与所得計算, 4, TRUE) ))","v":0},0,0,{"$f":"源泉徴収票!P94+源泉徴収票!S94+源泉徴収票!V94","v":0},{"$f":"IF(源泉徴収票!I94=\"無\",0,源泉徴収票!CB94)","v":0},{"$f":"IF(源泉徴収票!I94=\"無\",0,源泉徴収票!CD94)","v":0},{"$f":"IF(源泉徴収票!I94=\"無\",0,MIN(120000,Z94+AA94+AE94))","v":0},{"$f":"IF(源泉徴収票!I94=\"無\",0,MIN(AF94+AG94,50000))","v":0},{"$f":"IF(源泉徴収票!I94=\"無\",0,IF(E94=\"○\",INDEX(H30配偶者控除・特別控除マスタ,F94,G94),0))","v":0},{"$f":"IF(源泉徴収票!I94=\"無\",0,IF(C94=\"○\",INDEX(H30配偶者控除・特別控除マスタ,F94,G94),0)+IF(D94=\"○\",INDEX(H30老人控除対象配偶者上乗せ,1,G94),0))","v":0},{"$f":"IF(源泉徴収票!I94=\"無\",0,COUNTIF(M94:Q94,\"一\")*380000+COUNTIF(M94:Q94,\"特\")*630000+COUNTIF(M94:Q94,\"老\")*480000+COUNTIF(M94:Q94,\"同\")*580000)","v":0},{"$f":"IF(源泉徴収票!I94=\"無\",0,(COUNTIF(源泉徴収票!BO94:BP94,\"一般\")+源泉徴収票!BQ94)*270000+(COUNTIF(源泉徴収票!BO94:BP94,\"特別\")+源泉徴収票!BR94)*400000+(COUNTIF(源泉徴収票!BP94,\"同居特別\")+源泉徴収票!BS94)*750000)","v":0},{"$f":"IF(源泉徴収票!I94=\"無\",0,IF(源泉徴収票!BT94<>\"\",IF(OR(源泉徴収票!BT94=\"特別の寡婦\",源泉徴収票!BT94=\"ひとり親\"),350000,270000),0))","v":0},{"$f":"IF(源泉徴収票!I94=\"無\",0,480000)","v":480000},{"$f":"IF(源泉徴収票!I94=\"無\",0,SUM(AO94:AY94))","v":480000},{"$f":"IF(源泉徴収票!I94=\"無\",AN94,FLOOR(MAX(AN94-AZ94,0),1000))","v":0},{"$f":"IF(源泉徴収票!I94=\"無\",AK94,BA94*VLOOKUP(BA94,所得税額計算,3,TRUE)+VLOOKUP(BA94,所得税額計算,4,TRUE))","v":0},{"$f":"IF(源泉徴収票!I94=\"無\",0,源泉徴収票!CZ94)","v":0},0,{"$f":"IF(源泉徴収票!I94=\"無\",BD94,FLOOR(BD94*102.1%,100))","v":0},0]
[0,{"$f":"IF(AND(源泉徴収票!I95=\"無\",源泉徴収票!AE95<>\"\"),\"○\",\"×\")","v":"×"},{"$f":"IF(AND(源泉徴収票!CO95<>\"\",源泉徴収票!CO95<=480000,AN95<=10000000),\"○\",\"×\")","v":"×"},{"$f":"IF(AND(C95=\"○\",源泉徴収票!CN95<>\"\",会社情報!$C$7-YEAR(MAX(源泉徴収票!CN95-1,0))>=70),\"○\",\"×\")","v":"×"},{"$f":"IF(AND(源泉徴収票!CO95<>\"\",源泉徴収票!CO95>480000,源泉徴収票!CO95<=1330000,AN95<=10000000),\"○\",\"×\")","v":"×"},{"$f":"MATCH(源泉徴収票!CO95,H30配偶者控除・特別控除マスタ_配偶者所得,1)","v":1},{"$f":"MATCH('源泉徴収票計算過程(非)'!AN95,H30配偶者控除・特別控除マスタ_所得者合計所得,1)","v":1},{"$f":"IF(源泉徴収票!AN95=\"\",-1,会社情報!$C$7-YEAR(源泉徴収票!AN95-1))","v":-1},{"$f":"IF(源泉徴収票!AT95=\"\",-1,会社情報!$C$7-YEAR(源泉徴収票!AT95-1))","v":-1},{"$f":"IF(源泉徴収票!AZ95=\"\",-1,会社情報!$C$7-YEAR(源泉徴収票!AZ95-1))","v":-1},{"$f":"IF(源泉徴収票!BF95=\"\",-1,会社情報!$C$7-YEAR(源泉徴収票!BF95-1))","v":-1},{"$f":"IF(源泉徴収票!BL95=\"\",-1,会社情報!$C$7-YEAR(源泉徴収票!BL95-1))","v":-1},{"$f":"IF(H95>=16,IF(AND(H95>=19,H95<23),\"特\",IF(H95>=70,IF(源泉徴収票!AO95=\"同居老親等\",\"同\",\"老\"),\"一\")),IF(H95>=0,\"未\",\"×\"))","v":"×"},{"$f":"IF(I95>=16,IF(AND(I95>=19,I95<23),\"特\",IF(I95>=70,IF(源泉徴収票!AU95=\"同居老親等\",\"同\",\"老\"),\"一\")),IF(I95>=0,\"未\",\"×\"))","v":"×"},{"$f":"IF(J95>=16,IF(AND(J95>=19,J95<23),\"特\",IF(J95>=70,IF(源泉徴収票!BA95=\"同居老親等\",\"同\",\"老\"),\"一\")),IF(J95>=0,\"未\",\"×\"))","v":"×"},{"$f":"IF(K95>=16,IF(AND(K95>=19,K95<23),\"特\",IF(K95>=70,IF(源泉徴収票!BG95=\"同居老親等\",\"同\",\"老\"),\"一\")),IF(K95>=0,\"未\",\"×\"))","v":"×"},{"$f":"IF(L95>=16,IF(AND(L95>=19,L95<23),\"特\",IF(L95>=70,IF(源泉徴収票!BM95=\"同居老親等\",\"同\",\"老\"),\"一\")),IF(L95>=0,\"未\",\"×\"))","v":"×"},"","","","","",{"$f":"IF(源泉徴収票!BU95<=20000, 源泉徴収票!BU95,\n  IF(源泉徴収票!BU95<=40000, 源泉徴収票!BU95*1/2+10000,\n   IF(源泉徴収票!BU95<=80000, 源泉徴収票!BU95*1/4+20000,\n                 40000)))","v":0},{"$f":"IF(源泉徴収票!BV95<=25000,源泉徴収票!BV95,\n  IF(源泉徴収票!BV95<=50000,源泉徴収票!BV95*1/2+12500,\n   IF(源泉徴収票!BV95<=100000,源泉徴収票!BV95*1/4+25000,\n                 50000)))","v":0},0,0,{"$f":"IF(源泉徴収票!BW95<=20000, 源泉徴収票!BW95,\n  IF(源泉徴収票!BW95<=40000, 源泉徴収票!BW95*1/2+10000,\n   IF(源泉徴収票!BW95<=80000, 源泉徴収票!BW95*1/4+20000,\n                 40000)))","v":0},{"$f":"IF(源泉徴収票!BX95<=20000, 源泉徴収票!BX95,\n  IF(源泉徴収票!BX95<=40000, 源泉徴収票!BX95*1/2+10000,\n   IF(源泉徴収票!BX95<=80000, 源泉徴収票!BX95*1/4+20000,\n                 40000)))","v":0},{"$f":"IF(源泉徴収票!BY95<=25000,源泉徴収票!BY95,\n  IF(源泉徴収票!BY95<=50000,源泉徴収票!BY95*1/2+12500,\n   IF(源泉徴収票!BY95<=100000,源泉徴収票!BY95*1/4+25000,\n                 50000)))","v":0},0,0,{"$f":"IF(源泉徴収票!BZ95<>\"\",MIN(源泉徴収票!BZ95,50000),0)","v":0},{"$f":"IF(源泉徴収票!CA95>=20000,15000,IF(源泉徴収票!CA95>=10000,源泉徴収票!CA95/2+5000,源泉徴収票!CA95))","v":0},{"$f":"IF(源泉徴収票!CS95<>\"\",\"〇\",\"×\")","v":"×"},null,{"$f":"源泉徴収票!O95+源泉徴収票!R95+源泉徴収票!U95","v":0},{"$f":"源泉徴収票!Q95+源泉徴収票!T95+源泉徴収票!W95","v":0},{"$f":"IF(源泉徴収票!I95=\"無\",0,INT(A95*VLOOKUP(A95, 給与所得計算, 3, TRUE)\n        +  VLOOKUP(A95, 給与所得計算, 4, TRUE) ))","v":0},0,0,{"$f":"源泉徴収票!P95+源泉徴収票!S95+源泉徴収票!V95","v":0},{"$f":"IF(源泉徴収票!I95=\"無\",0,源泉徴収票!CB95)","v":0},{"$f":"IF(源泉徴収票!I95=\"無\",0,源泉徴収票!CD95)","v":0},{"$f":"IF(源泉徴収票!I95=\"無\",0,MIN(120000,Z95+AA95+AE95))","v":0},{"$f":"IF(源泉徴収票!I95=\"無\",0,MIN(AF95+AG95,50000))","v":0},{"$f":"IF(源泉徴収票!I95=\"無\",0,IF(E95=\"○\",INDEX(H30配偶者控除・特別控除マスタ,F95,G95),0))","v":0},{"$f":"IF(源泉徴収票!I95=\"無\",0,IF(C95=\"○\",INDEX(H30配偶者控除・特別控除マスタ,F95,G95),0)+IF(D95=\"○\",INDEX(H30老人控除対象配偶者上乗せ,1,G95),0))","v":0},{"$f":"IF(源泉徴収票!I95=\"無\",0,COUNTIF(M95:Q95,\"一\")*380000+COUNTIF(M95:Q95,\"特\")*630000+COUNTIF(M95:Q95,\"老\")*480000+COUNTIF(M95:Q95,\"同\")*580000)","v":0},{"$f":"IF(源泉徴収票!I95=\"無\",0,(COUNTIF(源泉徴収票!BO95:BP95,\"一般\")+源泉徴収票!BQ95)*270000+(COUNTIF(源泉徴収票!BO95:BP95,\"特別\")+源泉徴収票!BR95)*400000+(COUNTIF(源泉徴収票!BP95,\"同居特別\")+源泉徴収票!BS95)*750000)","v":0},{"$f":"IF(源泉徴収票!I95=\"無\",0,IF(源泉徴収票!BT95<>\"\",IF(OR(源泉徴収票!BT95=\"特別の寡婦\",源泉徴収票!BT95=\"ひとり親\"),350000,270000),0))","v":0},{"$f":"IF(源泉徴収票!I95=\"無\",0,480000)","v":480000},{"$f":"IF(源泉徴収票!I95=\"無\",0,SUM(AO95:AY95))","v":480000},{"$f":"IF(源泉徴収票!I95=\"無\",AN95,FLOOR(MAX(AN95-AZ95,0),1000))","v":0},{"$f":"IF(源泉徴収票!I95=\"無\",AK95,BA95*VLOOKUP(BA95,所得税額計算,3,TRUE)+VLOOKUP(BA95,所得税額計算,4,TRUE))","v":0},{"$f":"IF(源泉徴収票!I95=\"無\",0,源泉徴収票!CZ95)","v":0},0,{"$f":"IF(源泉徴収票!I95=\"無\",BD95,FLOOR(BD95*102.1%,100))","v":0},0]
[0,{"$f":"IF(AND(源泉徴収票!I96=\"無\",源泉徴収票!AE96<>\"\"),\"○\",\"×\")","v":"×"},{"$f":"IF(AND(源泉徴収票!CO96<>\"\",源泉徴収票!CO96<=480000,AN96<=10000000),\"○\",\"×\")","v":"×"},{"$f":"IF(AND(C96=\"○\",源泉徴収票!CN96<>\"\",会社情報!$C$7-YEAR(MAX(源泉徴収票!CN96-1,0))>=70),\"○\",\"×\")","v":"×"},{"$f":"IF(AND(源泉徴収票!CO96<>\"\",源泉徴収票!CO96>480000,源泉徴収票!CO96<=1330000,AN96<=10000000),\"○\",\"×\")","v":"×"},{"$f":"MATCH(源泉徴収票!CO96,H30配偶者控除・特別控除マスタ_配偶者所得,1)","v":1},{"$f":"MATCH('源泉徴収票計算過程(非)'!AN96,H30配偶者控除・特別控除マスタ_所得者合計所得,1)","v":1},{"$f":"IF(源泉徴収票!AN96=\"\",-1,会社情報!$C$7-YEAR(源泉徴収票!AN96-1))","v":-1},{"$f":"IF(源泉徴収票!AT96=\"\",-1,会社情報!$C$7-YEAR(源泉徴収票!AT96-1))","v":-1},{"$f":"IF(源泉徴収票!AZ96=\"\",-1,会社情報!$C$7-YEAR(源泉徴収票!AZ96-1))","v":-1},{"$f":"IF(源泉徴収票!BF96=\"\",-1,会社情報!$C$7-YEAR(源泉徴収票!BF96-1))","v":-1},{"$f":"IF(源泉徴収票!BL96=\"\",-1,会社情報!$C$7-YEAR(源泉徴収票!BL96-1))","v":-1},{"$f":"IF(H96>=16,IF(AND(H96>=19,H96<23),\"特\",IF(H96>=70,IF(源泉徴収票!AO96=\"同居老親等\",\"同\",\"老\"),\"一\")),IF(H96>=0,\"未\",\"×\"))","v":"×"},{"$f":"IF(I96>=16,IF(AND(I96>=19,I96<23),\"特\",IF(I96>=70,IF(源泉徴収票!AU96=\"同居老親等\",\"同\",\"老\"),\"一\")),IF(I96>=0,\"未\",\"×\"))","v":"×"},{"$f":"IF(J96>=16,IF(AND(J96>=19,J96<23),\"特\",IF(J96>=70,IF(源泉徴収票!BA96=\"同居老親等\",\"同\",\"老\"),\"一\")),IF(J96>=0,\"未\",\"×\"))","v":"×"},{"$f":"IF(K96>=16,IF(AND(K96>=19,K96<23),\"特\",IF(K96>=70,IF(源泉徴収票!BG96=\"同居老親等\",\"同\",\"老\"),\"一\")),IF(K96>=0,\"未\",\"×\"))","v":"×"},{"$f":"IF(L96>=16,IF(AND(L96>=19,L96<23),\"特\",IF(L96>=70,IF(源泉徴収票!BM96=\"同居老親等\",\"同\",\"老\"),\"一\")),IF(L96>=0,\"未\",\"×\"))","v":"×"},"","","","","",{"$f":"IF(源泉徴収票!BU96<=20000, 源泉徴収票!BU96,\n  IF(源泉徴収票!BU96<=40000, 源泉徴収票!BU96*1/2+10000,\n   IF(源泉徴収票!BU96<=80000, 源泉徴収票!BU96*1/4+20000,\n                 40000)))","v":0},{"$f":"IF(源泉徴収票!BV96<=25000,源泉徴収票!BV96,\n  IF(源泉徴収票!BV96<=50000,源泉徴収票!BV96*1/2+12500,\n   IF(源泉徴収票!BV96<=100000,源泉徴収票!BV96*1/4+25000,\n                 50000)))","v":0},0,0,{"$f":"IF(源泉徴収票!BW96<=20000, 源泉徴収票!BW96,\n  IF(源泉徴収票!BW96<=40000, 源泉徴収票!BW96*1/2+10000,\n   IF(源泉徴収票!BW96<=80000, 源泉徴収票!BW96*1/4+20000,\n                 40000)))","v":0},{"$f":"IF(源泉徴収票!BX96<=20000, 源泉徴収票!BX96,\n  IF(源泉徴収票!BX96<=40000, 源泉徴収票!BX96*1/2+10000,\n   IF(源泉徴収票!BX96<=80000, 源泉徴収票!BX96*1/4+20000,\n                 40000)))","v":0},{"$f":"IF(源泉徴収票!BY96<=25000,源泉徴収票!BY96,\n  IF(源泉徴収票!BY96<=50000,源泉徴収票!BY96*1/2+12500,\n   IF(源泉徴収票!BY96<=100000,源泉徴収票!BY96*1/4+25000,\n                 50000)))","v":0},0,0,{"$f":"IF(源泉徴収票!BZ96<>\"\",MIN(源泉徴収票!BZ96,50000),0)","v":0},{"$f":"IF(源泉徴収票!CA96>=20000,15000,IF(源泉徴収票!CA96>=10000,源泉徴収票!CA96/2+5000,源泉徴収票!CA96))","v":0},{"$f":"IF(源泉徴収票!CS96<>\"\",\"〇\",\"×\")","v":"×"},null,{"$f":"源泉徴収票!O96+源泉徴収票!R96+源泉徴収票!U96","v":0},{"$f":"源泉徴収票!Q96+源泉徴収票!T96+源泉徴収票!W96","v":0},{"$f":"IF(源泉徴収票!I96=\"無\",0,INT(A96*VLOOKUP(A96, 給与所得計算, 3, TRUE)\n        +  VLOOKUP(A96, 給与所得計算, 4, TRUE) ))","v":0},0,0,{"$f":"源泉徴収票!P96+源泉徴収票!S96+源泉徴収票!V96","v":0},{"$f":"IF(源泉徴収票!I96=\"無\",0,源泉徴収票!CB96)","v":0},{"$f":"IF(源泉徴収票!I96=\"無\",0,源泉徴収票!CD96)","v":0},{"$f":"IF(源泉徴収票!I96=\"無\",0,MIN(120000,Z96+AA96+AE96))","v":0},{"$f":"IF(源泉徴収票!I96=\"無\",0,MIN(AF96+AG96,50000))","v":0},{"$f":"IF(源泉徴収票!I96=\"無\",0,IF(E96=\"○\",INDEX(H30配偶者控除・特別控除マスタ,F96,G96),0))","v":0},{"$f":"IF(源泉徴収票!I96=\"無\",0,IF(C96=\"○\",INDEX(H30配偶者控除・特別控除マスタ,F96,G96),0)+IF(D96=\"○\",INDEX(H30老人控除対象配偶者上乗せ,1,G96),0))","v":0},{"$f":"IF(源泉徴収票!I96=\"無\",0,COUNTIF(M96:Q96,\"一\")*380000+COUNTIF(M96:Q96,\"特\")*630000+COUNTIF(M96:Q96,\"老\")*480000+COUNTIF(M96:Q96,\"同\")*580000)","v":0},{"$f":"IF(源泉徴収票!I96=\"無\",0,(COUNTIF(源泉徴収票!BO96:BP96,\"一般\")+源泉徴収票!BQ96)*270000+(COUNTIF(源泉徴収票!BO96:BP96,\"特別\")+源泉徴収票!BR96)*400000+(COUNTIF(源泉徴収票!BP96,\"同居特別\")+源泉徴収票!BS96)*750000)","v":0},{"$f":"IF(源泉徴収票!I96=\"無\",0,IF(源泉徴収票!BT96<>\"\",IF(OR(源泉徴収票!BT96=\"特別の寡婦\",源泉徴収票!BT96=\"ひとり親\"),350000,270000),0))","v":0},{"$f":"IF(源泉徴収票!I96=\"無\",0,480000)","v":480000},{"$f":"IF(源泉徴収票!I96=\"無\",0,SUM(AO96:AY96))","v":480000},{"$f":"IF(源泉徴収票!I96=\"無\",AN96,FLOOR(MAX(AN96-AZ96,0),1000))","v":0},{"$f":"IF(源泉徴収票!I96=\"無\",AK96,BA96*VLOOKUP(BA96,所得税額計算,3,TRUE)+VLOOKUP(BA96,所得税額計算,4,TRUE))","v":0},{"$f":"IF(源泉徴収票!I96=\"無\",0,源泉徴収票!CZ96)","v":0},0,{"$f":"IF(源泉徴収票!I96=\"無\",BD96,FLOOR(BD96*102.1%,100))","v":0},0]
[0,{"$f":"IF(AND(源泉徴収票!I97=\"無\",源泉徴収票!AE97<>\"\"),\"○\",\"×\")","v":"×"},{"$f":"IF(AND(源泉徴収票!CO97<>\"\",源泉徴収票!CO97<=480000,AN97<=10000000),\"○\",\"×\")","v":"×"},{"$f":"IF(AND(C97=\"○\",源泉徴収票!CN97<>\"\",会社情報!$C$7-YEAR(MAX(源泉徴収票!CN97-1,0))>=70),\"○\",\"×\")","v":"×"},{"$f":"IF(AND(源泉徴収票!CO97<>\"\",源泉徴収票!CO97>480000,源泉徴収票!CO97<=1330000,AN97<=10000000),\"○\",\"×\")","v":"×"},{"$f":"MATCH(源泉徴収票!CO97,H30配偶者控除・特別控除マスタ_配偶者所得,1)","v":1},{"$f":"MATCH('源泉徴収票計算過程(非)'!AN97,H30配偶者控除・特別控除マスタ_所得者合計所得,1)","v":1},{"$f":"IF(源泉徴収票!AN97=\"\",-1,会社情報!$C$7-YEAR(源泉徴収票!AN97-1))","v":-1},{"$f":"IF(源泉徴収票!AT97=\"\",-1,会社情報!$C$7-YEAR(源泉徴収票!AT97-1))","v":-1},{"$f":"IF(源泉徴収票!AZ97=\"\",-1,会社情報!$C$7-YEAR(源泉徴収票!AZ97-1))","v":-1},{"$f":"IF(源泉徴収票!BF97=\"\",-1,会社情報!$C$7-YEAR(源泉徴収票!BF97-1))","v":-1},{"$f":"IF(源泉徴収票!BL97=\"\",-1,会社情報!$C$7-YEAR(源泉徴収票!BL97-1))","v":-1},{"$f":"IF(H97>=16,IF(AND(H97>=19,H97<23),\"特\",IF(H97>=70,IF(源泉徴収票!AO97=\"同居老親等\",\"同\",\"老\"),\"一\")),IF(H97>=0,\"未\",\"×\"))","v":"×"},{"$f":"IF(I97>=16,IF(AND(I97>=19,I97<23),\"特\",IF(I97>=70,IF(源泉徴収票!AU97=\"同居老親等\",\"同\",\"老\"),\"一\")),IF(I97>=0,\"未\",\"×\"))","v":"×"},{"$f":"IF(J97>=16,IF(AND(J97>=19,J97<23),\"特\",IF(J97>=70,IF(源泉徴収票!BA97=\"同居老親等\",\"同\",\"老\"),\"一\")),IF(J97>=0,\"未\",\"×\"))","v":"×"},{"$f":"IF(K97>=16,IF(AND(K97>=19,K97<23),\"特\",IF(K97>=70,IF(源泉徴収票!BG97=\"同居老親等\",\"同\",\"老\"),\"一\")),IF(K97>=0,\"未\",\"×\"))","v":"×"},{"$f":"IF(L97>=16,IF(AND(L97>=19,L97<23),\"特\",IF(L97>=70,IF(源泉徴収票!BM97=\"同居老親等\",\"同\",\"老\"),\"一\")),IF(L97>=0,\"未\",\"×\"))","v":"×"},"","","","","",{"$f":"IF(源泉徴収票!BU97<=20000, 源泉徴収票!BU97,\n  IF(源泉徴収票!BU97<=40000, 源泉徴収票!BU97*1/2+10000,\n   IF(源泉徴収票!BU97<=80000, 源泉徴収票!BU97*1/4+20000,\n                 40000)))","v":0},{"$f":"IF(源泉徴収票!BV97<=25000,源泉徴収票!BV97,\n  IF(源泉徴収票!BV97<=50000,源泉徴収票!BV97*1/2+12500,\n   IF(源泉徴収票!BV97<=100000,源泉徴収票!BV97*1/4+25000,\n                 50000)))","v":0},0,0,{"$f":"IF(源泉徴収票!BW97<=20000, 源泉徴収票!BW97,\n  IF(源泉徴収票!BW97<=40000, 源泉徴収票!BW97*1/2+10000,\n   IF(源泉徴収票!BW97<=80000, 源泉徴収票!BW97*1/4+20000,\n                 40000)))","v":0},{"$f":"IF(源泉徴収票!BX97<=20000, 源泉徴収票!BX97,\n  IF(源泉徴収票!BX97<=40000, 源泉徴収票!BX97*1/2+10000,\n   IF(源泉徴収票!BX97<=80000, 源泉徴収票!BX97*1/4+20000,\n                 40000)))","v":0},{"$f":"IF(源泉徴収票!BY97<=25000,源泉徴収票!BY97,\n  IF(源泉徴収票!BY97<=50000,源泉徴収票!BY97*1/2+12500,\n   IF(源泉徴収票!BY97<=100000,源泉徴収票!BY97*1/4+25000,\n                 50000)))","v":0},0,0,{"$f":"IF(源泉徴収票!BZ97<>\"\",MIN(源泉徴収票!BZ97,50000),0)","v":0},{"$f":"IF(源泉徴収票!CA97>=20000,15000,IF(源泉徴収票!CA97>=10000,源泉徴収票!CA97/2+5000,源泉徴収票!CA97))","v":0},{"$f":"IF(源泉徴収票!CS97<>\"\",\"〇\",\"×\")","v":"×"},null,{"$f":"源泉徴収票!O97+源泉徴収票!R97+源泉徴収票!U97","v":0},{"$f":"源泉徴収票!Q97+源泉徴収票!T97+源泉徴収票!W97","v":0},{"$f":"IF(源泉徴収票!I97=\"無\",0,INT(A97*VLOOKUP(A97, 給与所得計算, 3, TRUE)\n        +  VLOOKUP(A97, 給与所得計算, 4, TRUE) ))","v":0},0,0,{"$f":"源泉徴収票!P97+源泉徴収票!S97+源泉徴収票!V97","v":0},{"$f":"IF(源泉徴収票!I97=\"無\",0,源泉徴収票!CB97)","v":0},{"$f":"IF(源泉徴収票!I97=\"無\",0,源泉徴収票!CD97)","v":0},{"$f":"IF(源泉徴収票!I97=\"無\",0,MIN(120000,Z97+AA97+AE97))","v":0},{"$f":"IF(源泉徴収票!I97=\"無\",0,MIN(AF97+AG97,50000))","v":0},{"$f":"IF(源泉徴収票!I97=\"無\",0,IF(E97=\"○\",INDEX(H30配偶者控除・特別控除マスタ,F97,G97),0))","v":0},{"$f":"IF(源泉徴収票!I97=\"無\",0,IF(C97=\"○\",INDEX(H30配偶者控除・特別控除マスタ,F97,G97),0)+IF(D97=\"○\",INDEX(H30老人控除対象配偶者上乗せ,1,G97),0))","v":0},{"$f":"IF(源泉徴収票!I97=\"無\",0,COUNTIF(M97:Q97,\"一\")*380000+COUNTIF(M97:Q97,\"特\")*630000+COUNTIF(M97:Q97,\"老\")*480000+COUNTIF(M97:Q97,\"同\")*580000)","v":0},{"$f":"IF(源泉徴収票!I97=\"無\",0,(COUNTIF(源泉徴収票!BO97:BP97,\"一般\")+源泉徴収票!BQ97)*270000+(COUNTIF(源泉徴収票!BO97:BP97,\"特別\")+源泉徴収票!BR97)*400000+(COUNTIF(源泉徴収票!BP97,\"同居特別\")+源泉徴収票!BS97)*750000)","v":0},{"$f":"IF(源泉徴収票!I97=\"無\",0,IF(源泉徴収票!BT97<>\"\",IF(OR(源泉徴収票!BT97=\"特別の寡婦\",源泉徴収票!BT97=\"ひとり親\"),350000,270000),0))","v":0},{"$f":"IF(源泉徴収票!I97=\"無\",0,480000)","v":480000},{"$f":"IF(源泉徴収票!I97=\"無\",0,SUM(AO97:AY97))","v":480000},{"$f":"IF(源泉徴収票!I97=\"無\",AN97,FLOOR(MAX(AN97-AZ97,0),1000))","v":0},{"$f":"IF(源泉徴収票!I97=\"無\",AK97,BA97*VLOOKUP(BA97,所得税額計算,3,TRUE)+VLOOKUP(BA97,所得税額計算,4,TRUE))","v":0},{"$f":"IF(源泉徴収票!I97=\"無\",0,源泉徴収票!CZ97)","v":0},0,{"$f":"IF(源泉徴収票!I97=\"無\",BD97,FLOOR(BD97*102.1%,100))","v":0},0]
[0,{"$f":"IF(AND(源泉徴収票!I98=\"無\",源泉徴収票!AE98<>\"\"),\"○\",\"×\")","v":"×"},{"$f":"IF(AND(源泉徴収票!CO98<>\"\",源泉徴収票!CO98<=480000,AN98<=10000000),\"○\",\"×\")","v":"×"},{"$f":"IF(AND(C98=\"○\",源泉徴収票!CN98<>\"\",会社情報!$C$7-YEAR(MAX(源泉徴収票!CN98-1,0))>=70),\"○\",\"×\")","v":"×"},{"$f":"IF(AND(源泉徴収票!CO98<>\"\",源泉徴収票!CO98>480000,源泉徴収票!CO98<=1330000,AN98<=10000000),\"○\",\"×\")","v":"×"},{"$f":"MATCH(源泉徴収票!CO98,H30配偶者控除・特別控除マスタ_配偶者所得,1)","v":1},{"$f":"MATCH('源泉徴収票計算過程(非)'!AN98,H30配偶者控除・特別控除マスタ_所得者合計所得,1)","v":1},{"$f":"IF(源泉徴収票!AN98=\"\",-1,会社情報!$C$7-YEAR(源泉徴収票!AN98-1))","v":-1},{"$f":"IF(源泉徴収票!AT98=\"\",-1,会社情報!$C$7-YEAR(源泉徴収票!AT98-1))","v":-1},{"$f":"IF(源泉徴収票!AZ98=\"\",-1,会社情報!$C$7-YEAR(源泉徴収票!AZ98-1))","v":-1},{"$f":"IF(源泉徴収票!BF98=\"\",-1,会社情報!$C$7-YEAR(源泉徴収票!BF98-1))","v":-1},{"$f":"IF(源泉徴収票!BL98=\"\",-1,会社情報!$C$7-YEAR(源泉徴収票!BL98-1))","v":-1},{"$f":"IF(H98>=16,IF(AND(H98>=19,H98<23),\"特\",IF(H98>=70,IF(源泉徴収票!AO98=\"同居老親等\",\"同\",\"老\"),\"一\")),IF(H98>=0,\"未\",\"×\"))","v":"×"},{"$f":"IF(I98>=16,IF(AND(I98>=19,I98<23),\"特\",IF(I98>=70,IF(源泉徴収票!AU98=\"同居老親等\",\"同\",\"老\"),\"一\")),IF(I98>=0,\"未\",\"×\"))","v":"×"},{"$f":"IF(J98>=16,IF(AND(J98>=19,J98<23),\"特\",IF(J98>=70,IF(源泉徴収票!BA98=\"同居老親等\",\"同\",\"老\"),\"一\")),IF(J98>=0,\"未\",\"×\"))","v":"×"},{"$f":"IF(K98>=16,IF(AND(K98>=19,K98<23),\"特\",IF(K98>=70,IF(源泉徴収票!BG98=\"同居老親等\",\"同\",\"老\"),\"一\")),IF(K98>=0,\"未\",\"×\"))","v":"×"},{"$f":"IF(L98>=16,IF(AND(L98>=19,L98<23),\"特\",IF(L98>=70,IF(源泉徴収票!BM98=\"同居老親等\",\"同\",\"老\"),\"一\")),IF(L98>=0,\"未\",\"×\"))","v":"×"},"","","","","",{"$f":"IF(源泉徴収票!BU98<=20000, 源泉徴収票!BU98,\n  IF(源泉徴収票!BU98<=40000, 源泉徴収票!BU98*1/2+10000,\n   IF(源泉徴収票!BU98<=80000, 源泉徴収票!BU98*1/4+20000,\n                 40000)))","v":0},{"$f":"IF(源泉徴収票!BV98<=25000,源泉徴収票!BV98,\n  IF(源泉徴収票!BV98<=50000,源泉徴収票!BV98*1/2+12500,\n   IF(源泉徴収票!BV98<=100000,源泉徴収票!BV98*1/4+25000,\n                 50000)))","v":0},0,0,{"$f":"IF(源泉徴収票!BW98<=20000, 源泉徴収票!BW98,\n  IF(源泉徴収票!BW98<=40000, 源泉徴収票!BW98*1/2+10000,\n   IF(源泉徴収票!BW98<=80000, 源泉徴収票!BW98*1/4+20000,\n                 40000)))","v":0},{"$f":"IF(源泉徴収票!BX98<=20000, 源泉徴収票!BX98,\n  IF(源泉徴収票!BX98<=40000, 源泉徴収票!BX98*1/2+10000,\n   IF(源泉徴収票!BX98<=80000, 源泉徴収票!BX98*1/4+20000,\n                 40000)))","v":0},{"$f":"IF(源泉徴収票!BY98<=25000,源泉徴収票!BY98,\n  IF(源泉徴収票!BY98<=50000,源泉徴収票!BY98*1/2+12500,\n   IF(源泉徴収票!BY98<=100000,源泉徴収票!BY98*1/4+25000,\n                 50000)))","v":0},0,0,{"$f":"IF(源泉徴収票!BZ98<>\"\",MIN(源泉徴収票!BZ98,50000),0)","v":0},{"$f":"IF(源泉徴収票!CA98>=20000,15000,IF(源泉徴収票!CA98>=10000,源泉徴収票!CA98/2+5000,源泉徴収票!CA98))","v":0},{"$f":"IF(源泉徴収票!CS98<>\"\",\"〇\",\"×\")","v":"×"},null,{"$f":"源泉徴収票!O98+源泉徴収票!R98+源泉徴収票!U98","v":0},{"$f":"源泉徴収票!Q98+源泉徴収票!T98+源泉徴収票!W98","v":0},{"$f":"IF(源泉徴収票!I98=\"無\",0,INT(A98*VLOOKUP(A98, 給与所得計算, 3, TRUE)\n        +  VLOOKUP(A98, 給与所得計算, 4, TRUE) ))","v":0},0,0,{"$f":"源泉徴収票!P98+源泉徴収票!S98+源泉徴収票!V98","v":0},{"$f":"IF(源泉徴収票!I98=\"無\",0,源泉徴収票!CB98)","v":0},{"$f":"IF(源泉徴収票!I98=\"無\",0,源泉徴収票!CD98)","v":0},{"$f":"IF(源泉徴収票!I98=\"無\",0,MIN(120000,Z98+AA98+AE98))","v":0},{"$f":"IF(源泉徴収票!I98=\"無\",0,MIN(AF98+AG98,50000))","v":0},{"$f":"IF(源泉徴収票!I98=\"無\",0,IF(E98=\"○\",INDEX(H30配偶者控除・特別控除マスタ,F98,G98),0))","v":0},{"$f":"IF(源泉徴収票!I98=\"無\",0,IF(C98=\"○\",INDEX(H30配偶者控除・特別控除マスタ,F98,G98),0)+IF(D98=\"○\",INDEX(H30老人控除対象配偶者上乗せ,1,G98),0))","v":0},{"$f":"IF(源泉徴収票!I98=\"無\",0,COUNTIF(M98:Q98,\"一\")*380000+COUNTIF(M98:Q98,\"特\")*630000+COUNTIF(M98:Q98,\"老\")*480000+COUNTIF(M98:Q98,\"同\")*580000)","v":0},{"$f":"IF(源泉徴収票!I98=\"無\",0,(COUNTIF(源泉徴収票!BO98:BP98,\"一般\")+源泉徴収票!BQ98)*270000+(COUNTIF(源泉徴収票!BO98:BP98,\"特別\")+源泉徴収票!BR98)*400000+(COUNTIF(源泉徴収票!BP98,\"同居特別\")+源泉徴収票!BS98)*750000)","v":0},{"$f":"IF(源泉徴収票!I98=\"無\",0,IF(源泉徴収票!BT98<>\"\",IF(OR(源泉徴収票!BT98=\"特別の寡婦\",源泉徴収票!BT98=\"ひとり親\"),350000,270000),0))","v":0},{"$f":"IF(源泉徴収票!I98=\"無\",0,480000)","v":480000},{"$f":"IF(源泉徴収票!I98=\"無\",0,SUM(AO98:AY98))","v":480000},{"$f":"IF(源泉徴収票!I98=\"無\",AN98,FLOOR(MAX(AN98-AZ98,0),1000))","v":0},{"$f":"IF(源泉徴収票!I98=\"無\",AK98,BA98*VLOOKUP(BA98,所得税額計算,3,TRUE)+VLOOKUP(BA98,所得税額計算,4,TRUE))","v":0},{"$f":"IF(源泉徴収票!I98=\"無\",0,源泉徴収票!CZ98)","v":0},0,{"$f":"IF(源泉徴収票!I98=\"無\",BD98,FLOOR(BD98*102.1%,100))","v":0},0]
[0,{"$f":"IF(AND(源泉徴収票!I99=\"無\",源泉徴収票!AE99<>\"\"),\"○\",\"×\")","v":"×"},{"$f":"IF(AND(源泉徴収票!CO99<>\"\",源泉徴収票!CO99<=480000,AN99<=10000000),\"○\",\"×\")","v":"×"},{"$f":"IF(AND(C99=\"○\",源泉徴収票!CN99<>\"\",会社情報!$C$7-YEAR(MAX(源泉徴収票!CN99-1,0))>=70),\"○\",\"×\")","v":"×"},{"$f":"IF(AND(源泉徴収票!CO99<>\"\",源泉徴収票!CO99>480000,源泉徴収票!CO99<=1330000,AN99<=10000000),\"○\",\"×\")","v":"×"},{"$f":"MATCH(源泉徴収票!CO99,H30配偶者控除・特別控除マスタ_配偶者所得,1)","v":1},{"$f":"MATCH('源泉徴収票計算過程(非)'!AN99,H30配偶者控除・特別控除マスタ_所得者合計所得,1)","v":1},{"$f":"IF(源泉徴収票!AN99=\"\",-1,会社情報!$C$7-YEAR(源泉徴収票!AN99-1))","v":-1},{"$f":"IF(源泉徴収票!AT99=\"\",-1,会社情報!$C$7-YEAR(源泉徴収票!AT99-1))","v":-1},{"$f":"IF(源泉徴収票!AZ99=\"\",-1,会社情報!$C$7-YEAR(源泉徴収票!AZ99-1))","v":-1},{"$f":"IF(源泉徴収票!BF99=\"\",-1,会社情報!$C$7-YEAR(源泉徴収票!BF99-1))","v":-1},{"$f":"IF(源泉徴収票!BL99=\"\",-1,会社情報!$C$7-YEAR(源泉徴収票!BL99-1))","v":-1},{"$f":"IF(H99>=16,IF(AND(H99>=19,H99<23),\"特\",IF(H99>=70,IF(源泉徴収票!AO99=\"同居老親等\",\"同\",\"老\"),\"一\")),IF(H99>=0,\"未\",\"×\"))","v":"×"},{"$f":"IF(I99>=16,IF(AND(I99>=19,I99<23),\"特\",IF(I99>=70,IF(源泉徴収票!AU99=\"同居老親等\",\"同\",\"老\"),\"一\")),IF(I99>=0,\"未\",\"×\"))","v":"×"},{"$f":"IF(J99>=16,IF(AND(J99>=19,J99<23),\"特\",IF(J99>=70,IF(源泉徴収票!BA99=\"同居老親等\",\"同\",\"老\"),\"一\")),IF(J99>=0,\"未\",\"×\"))","v":"×"},{"$f":"IF(K99>=16,IF(AND(K99>=19,K99<23),\"特\",IF(K99>=70,IF(源泉徴収票!BG99=\"同居老親等\",\"同\",\"老\"),\"一\")),IF(K99>=0,\"未\",\"×\"))","v":"×"},{"$f":"IF(L99>=16,IF(AND(L99>=19,L99<23),\"特\",IF(L99>=70,IF(源泉徴収票!BM99=\"同居老親等\",\"同\",\"老\"),\"一\")),IF(L99>=0,\"未\",\"×\"))","v":"×"},"","","","","",{"$f":"IF(源泉徴収票!BU99<=20000, 源泉徴収票!BU99,\n  IF(源泉徴収票!BU99<=40000, 源泉徴収票!BU99*1/2+10000,\n   IF(源泉徴収票!BU99<=80000, 源泉徴収票!BU99*1/4+20000,\n                 40000)))","v":0},{"$f":"IF(源泉徴収票!BV99<=25000,源泉徴収票!BV99,\n  IF(源泉徴収票!BV99<=50000,源泉徴収票!BV99*1/2+12500,\n   IF(源泉徴収票!BV99<=100000,源泉徴収票!BV99*1/4+25000,\n                 50000)))","v":0},0,0,{"$f":"IF(源泉徴収票!BW99<=20000, 源泉徴収票!BW99,\n  IF(源泉徴収票!BW99<=40000, 源泉徴収票!BW99*1/2+10000,\n   IF(源泉徴収票!BW99<=80000, 源泉徴収票!BW99*1/4+20000,\n                 40000)))","v":0},{"$f":"IF(源泉徴収票!BX99<=20000, 源泉徴収票!BX99,\n  IF(源泉徴収票!BX99<=40000, 源泉徴収票!BX99*1/2+10000,\n   IF(源泉徴収票!BX99<=80000, 源泉徴収票!BX99*1/4+20000,\n                 40000)))","v":0},{"$f":"IF(源泉徴収票!BY99<=25000,源泉徴収票!BY99,\n  IF(源泉徴収票!BY99<=50000,源泉徴収票!BY99*1/2+12500,\n   IF(源泉徴収票!BY99<=100000,源泉徴収票!BY99*1/4+25000,\n                 50000)))","v":0},0,0,{"$f":"IF(源泉徴収票!BZ99<>\"\",MIN(源泉徴収票!BZ99,50000),0)","v":0},{"$f":"IF(源泉徴収票!CA99>=20000,15000,IF(源泉徴収票!CA99>=10000,源泉徴収票!CA99/2+5000,源泉徴収票!CA99))","v":0},{"$f":"IF(源泉徴収票!CS99<>\"\",\"〇\",\"×\")","v":"×"},null,{"$f":"源泉徴収票!O99+源泉徴収票!R99+源泉徴収票!U99","v":0},{"$f":"源泉徴収票!Q99+源泉徴収票!T99+源泉徴収票!W99","v":0},{"$f":"IF(源泉徴収票!I99=\"無\",0,INT(A99*VLOOKUP(A99, 給与所得計算, 3, TRUE)\n        +  VLOOKUP(A99, 給与所得計算, 4, TRUE) ))","v":0},0,0,{"$f":"源泉徴収票!P99+源泉徴収票!S99+源泉徴収票!V99","v":0},{"$f":"IF(源泉徴収票!I99=\"無\",0,源泉徴収票!CB99)","v":0},{"$f":"IF(源泉徴収票!I99=\"無\",0,源泉徴収票!CD99)","v":0},{"$f":"IF(源泉徴収票!I99=\"無\",0,MIN(120000,Z99+AA99+AE99))","v":0},{"$f":"IF(源泉徴収票!I99=\"無\",0,MIN(AF99+AG99,50000))","v":0},{"$f":"IF(源泉徴収票!I99=\"無\",0,IF(E99=\"○\",INDEX(H30配偶者控除・特別控除マスタ,F99,G99),0))","v":0},{"$f":"IF(源泉徴収票!I99=\"無\",0,IF(C99=\"○\",INDEX(H30配偶者控除・特別控除マスタ,F99,G99),0)+IF(D99=\"○\",INDEX(H30老人控除対象配偶者上乗せ,1,G99),0))","v":0},{"$f":"IF(源泉徴収票!I99=\"無\",0,COUNTIF(M99:Q99,\"一\")*380000+COUNTIF(M99:Q99,\"特\")*630000+COUNTIF(M99:Q99,\"老\")*480000+COUNTIF(M99:Q99,\"同\")*580000)","v":0},{"$f":"IF(源泉徴収票!I99=\"無\",0,(COUNTIF(源泉徴収票!BO99:BP99,\"一般\")+源泉徴収票!BQ99)*270000+(COUNTIF(源泉徴収票!BO99:BP99,\"特別\")+源泉徴収票!BR99)*400000+(COUNTIF(源泉徴収票!BP99,\"同居特別\")+源泉徴収票!BS99)*750000)","v":0},{"$f":"IF(源泉徴収票!I99=\"無\",0,IF(源泉徴収票!BT99<>\"\",IF(OR(源泉徴収票!BT99=\"特別の寡婦\",源泉徴収票!BT99=\"ひとり親\"),350000,270000),0))","v":0},{"$f":"IF(源泉徴収票!I99=\"無\",0,480000)","v":480000},{"$f":"IF(源泉徴収票!I99=\"無\",0,SUM(AO99:AY99))","v":480000},{"$f":"IF(源泉徴収票!I99=\"無\",AN99,FLOOR(MAX(AN99-AZ99,0),1000))","v":0},{"$f":"IF(源泉徴収票!I99=\"無\",AK99,BA99*VLOOKUP(BA99,所得税額計算,3,TRUE)+VLOOKUP(BA99,所得税額計算,4,TRUE))","v":0},{"$f":"IF(源泉徴収票!I99=\"無\",0,源泉徴収票!CZ99)","v":0},0,{"$f":"IF(源泉徴収票!I99=\"無\",BD99,FLOOR(BD99*102.1%,100))","v":0},0]
[0,{"$f":"IF(AND(源泉徴収票!I100=\"無\",源泉徴収票!AE100<>\"\"),\"○\",\"×\")","v":"×"},{"$f":"IF(AND(源泉徴収票!CO100<>\"\",源泉徴収票!CO100<=480000,AN100<=10000000),\"○\",\"×\")","v":"×"},{"$f":"IF(AND(C100=\"○\",源泉徴収票!CN100<>\"\",会社情報!$C$7-YEAR(MAX(源泉徴収票!CN100-1,0))>=70),\"○\",\"×\")","v":"×"},{"$f":"IF(AND(源泉徴収票!CO100<>\"\",源泉徴収票!CO100>480000,源泉徴収票!CO100<=1330000,AN100<=10000000),\"○\",\"×\")","v":"×"},{"$f":"MATCH(源泉徴収票!CO100,H30配偶者控除・特別控除マスタ_配偶者所得,1)","v":1},{"$f":"MATCH('源泉徴収票計算過程(非)'!AN100,H30配偶者控除・特別控除マスタ_所得者合計所得,1)","v":1},{"$f":"IF(源泉徴収票!AN100=\"\",-1,会社情報!$C$7-YEAR(源泉徴収票!AN100-1))","v":-1},{"$f":"IF(源泉徴収票!AT100=\"\",-1,会社情報!$C$7-YEAR(源泉徴収票!AT100-1))","v":-1},{"$f":"IF(源泉徴収票!AZ100=\"\",-1,会社情報!$C$7-YEAR(源泉徴収票!AZ100-1))","v":-1},{"$f":"IF(源泉徴収票!BF100=\"\",-1,会社情報!$C$7-YEAR(源泉徴収票!BF100-1))","v":-1},{"$f":"IF(源泉徴収票!BL100=\"\",-1,会社情報!$C$7-YEAR(源泉徴収票!BL100-1))","v":-1},{"$f":"IF(H100>=16,IF(AND(H100>=19,H100<23),\"特\",IF(H100>=70,IF(源泉徴収票!AO100=\"同居老親等\",\"同\",\"老\"),\"一\")),IF(H100>=0,\"未\",\"×\"))","v":"×"},{"$f":"IF(I100>=16,IF(AND(I100>=19,I100<23),\"特\",IF(I100>=70,IF(源泉徴収票!AU100=\"同居老親等\",\"同\",\"老\"),\"一\")),IF(I100>=0,\"未\",\"×\"))","v":"×"},{"$f":"IF(J100>=16,IF(AND(J100>=19,J100<23),\"特\",IF(J100>=70,IF(源泉徴収票!BA100=\"同居老親等\",\"同\",\"老\"),\"一\")),IF(J100>=0,\"未\",\"×\"))","v":"×"},{"$f":"IF(K100>=16,IF(AND(K100>=19,K100<23),\"特\",IF(K100>=70,IF(源泉徴収票!BG100=\"同居老親等\",\"同\",\"老\"),\"一\")),IF(K100>=0,\"未\",\"×\"))","v":"×"},{"$f":"IF(L100>=16,IF(AND(L100>=19,L100<23),\"特\",IF(L100>=70,IF(源泉徴収票!BM100=\"同居老親等\",\"同\",\"老\"),\"一\")),IF(L100>=0,\"未\",\"×\"))","v":"×"},"","","","","",{"$f":"IF(源泉徴収票!BU100<=20000, 源泉徴収票!BU100,\n  IF(源泉徴収票!BU100<=40000, 源泉徴収票!BU100*1/2+10000,\n   IF(源泉徴収票!BU100<=80000, 源泉徴収票!BU100*1/4+20000,\n                 40000)))","v":0},{"$f":"IF(源泉徴収票!BV100<=25000,源泉徴収票!BV100,\n  IF(源泉徴収票!BV100<=50000,源泉徴収票!BV100*1/2+12500,\n   IF(源泉徴収票!BV100<=100000,源泉徴収票!BV100*1/4+25000,\n                 50000)))","v":0},0,0,{"$f":"IF(源泉徴収票!BW100<=20000, 源泉徴収票!BW100,\n  IF(源泉徴収票!BW100<=40000, 源泉徴収票!BW100*1/2+10000,\n   IF(源泉徴収票!BW100<=80000, 源泉徴収票!BW100*1/4+20000,\n                 40000)))","v":0},{"$f":"IF(源泉徴収票!BX100<=20000, 源泉徴収票!BX100,\n  IF(源泉徴収票!BX100<=40000, 源泉徴収票!BX100*1/2+10000,\n   IF(源泉徴収票!BX100<=80000, 源泉徴収票!BX100*1/4+20000,\n                 40000)))","v":0},{"$f":"IF(源泉徴収票!BY100<=25000,源泉徴収票!BY100,\n  IF(源泉徴収票!BY100<=50000,源泉徴収票!BY100*1/2+12500,\n   IF(源泉徴収票!BY100<=100000,源泉徴収票!BY100*1/4+25000,\n                 50000)))","v":0},0,0,{"$f":"IF(源泉徴収票!BZ100<>\"\",MIN(源泉徴収票!BZ100,50000),0)","v":0},{"$f":"IF(源泉徴収票!CA100>=20000,15000,IF(源泉徴収票!CA100>=10000,源泉徴収票!CA100/2+5000,源泉徴収票!CA100))","v":0},{"$f":"IF(源泉徴収票!CS100<>\"\",\"〇\",\"×\")","v":"×"},null,{"$f":"源泉徴収票!O100+源泉徴収票!R100+源泉徴収票!U100","v":0},{"$f":"源泉徴収票!Q100+源泉徴収票!T100+源泉徴収票!W100","v":0},{"$f":"IF(源泉徴収票!I100=\"無\",0,INT(A100*VLOOKUP(A100, 給与所得計算, 3, TRUE)\n        +  VLOOKUP(A100, 給与所得計算, 4, TRUE) ))","v":0},0,0,{"$f":"源泉徴収票!P100+源泉徴収票!S100+源泉徴収票!V100","v":0},{"$f":"IF(源泉徴収票!I100=\"無\",0,源泉徴収票!CB100)","v":0},{"$f":"IF(源泉徴収票!I100=\"無\",0,源泉徴収票!CD100)","v":0},{"$f":"IF(源泉徴収票!I100=\"無\",0,MIN(120000,Z100+AA100+AE100))","v":0},{"$f":"IF(源泉徴収票!I100=\"無\",0,MIN(AF100+AG100,50000))","v":0},{"$f":"IF(源泉徴収票!I100=\"無\",0,IF(E100=\"○\",INDEX(H30配偶者控除・特別控除マスタ,F100,G100),0))","v":0},{"$f":"IF(源泉徴収票!I100=\"無\",0,IF(C100=\"○\",INDEX(H30配偶者控除・特別控除マスタ,F100,G100),0)+IF(D100=\"○\",INDEX(H30老人控除対象配偶者上乗せ,1,G100),0))","v":0},{"$f":"IF(源泉徴収票!I100=\"無\",0,COUNTIF(M100:Q100,\"一\")*380000+COUNTIF(M100:Q100,\"特\")*630000+COUNTIF(M100:Q100,\"老\")*480000+COUNTIF(M100:Q100,\"同\")*580000)","v":0},{"$f":"IF(源泉徴収票!I100=\"無\",0,(COUNTIF(源泉徴収票!BO100:BP100,\"一般\")+源泉徴収票!BQ100)*270000+(COUNTIF(源泉徴収票!BO100:BP100,\"特別\")+源泉徴収票!BR100)*400000+(COUNTIF(源泉徴収票!BP100,\"同居特別\")+源泉徴収票!BS100)*750000)","v":0},{"$f":"IF(源泉徴収票!I100=\"無\",0,IF(源泉徴収票!BT100<>\"\",IF(OR(源泉徴収票!BT100=\"特別の寡婦\",源泉徴収票!BT100=\"ひとり親\"),350000,270000),0))","v":0},{"$f":"IF(源泉徴収票!I100=\"無\",0,480000)","v":480000},{"$f":"IF(源泉徴収票!I100=\"無\",0,SUM(AO100:AY100))","v":480000},{"$f":"IF(源泉徴収票!I100=\"無\",AN100,FLOOR(MAX(AN100-AZ100,0),1000))","v":0},{"$f":"IF(源泉徴収票!I100=\"無\",AK100,BA100*VLOOKUP(BA100,所得税額計算,3,TRUE)+VLOOKUP(BA100,所得税額計算,4,TRUE))","v":0},{"$f":"IF(源泉徴収票!I100=\"無\",0,源泉徴収票!CZ100)","v":0},0,{"$f":"IF(源泉徴収票!I100=\"無\",BD100,FLOOR(BD100*102.1%,100))","v":0},0]
[0,{"$f":"IF(AND(源泉徴収票!I101=\"無\",源泉徴収票!AE101<>\"\"),\"○\",\"×\")","v":"×"},{"$f":"IF(AND(源泉徴収票!CO101<>\"\",源泉徴収票!CO101<=480000,AN101<=10000000),\"○\",\"×\")","v":"×"},{"$f":"IF(AND(C101=\"○\",源泉徴収票!CN101<>\"\",会社情報!$C$7-YEAR(MAX(源泉徴収票!CN101-1,0))>=70),\"○\",\"×\")","v":"×"},{"$f":"IF(AND(源泉徴収票!CO101<>\"\",源泉徴収票!CO101>480000,源泉徴収票!CO101<=1330000,AN101<=10000000),\"○\",\"×\")","v":"×"},{"$f":"MATCH(源泉徴収票!CO101,H30配偶者控除・特別控除マスタ_配偶者所得,1)","v":1},{"$f":"MATCH('源泉徴収票計算過程(非)'!AN101,H30配偶者控除・特別控除マスタ_所得者合計所得,1)","v":1},{"$f":"IF(源泉徴収票!AN101=\"\",-1,会社情報!$C$7-YEAR(源泉徴収票!AN101-1))","v":-1},{"$f":"IF(源泉徴収票!AT101=\"\",-1,会社情報!$C$7-YEAR(源泉徴収票!AT101-1))","v":-1},{"$f":"IF(源泉徴収票!AZ101=\"\",-1,会社情報!$C$7-YEAR(源泉徴収票!AZ101-1))","v":-1},{"$f":"IF(源泉徴収票!BF101=\"\",-1,会社情報!$C$7-YEAR(源泉徴収票!BF101-1))","v":-1},{"$f":"IF(源泉徴収票!BL101=\"\",-1,会社情報!$C$7-YEAR(源泉徴収票!BL101-1))","v":-1},{"$f":"IF(H101>=16,IF(AND(H101>=19,H101<23),\"特\",IF(H101>=70,IF(源泉徴収票!AO101=\"同居老親等\",\"同\",\"老\"),\"一\")),IF(H101>=0,\"未\",\"×\"))","v":"×"},{"$f":"IF(I101>=16,IF(AND(I101>=19,I101<23),\"特\",IF(I101>=70,IF(源泉徴収票!AU101=\"同居老親等\",\"同\",\"老\"),\"一\")),IF(I101>=0,\"未\",\"×\"))","v":"×"},{"$f":"IF(J101>=16,IF(AND(J101>=19,J101<23),\"特\",IF(J101>=70,IF(源泉徴収票!BA101=\"同居老親等\",\"同\",\"老\"),\"一\")),IF(J101>=0,\"未\",\"×\"))","v":"×"},{"$f":"IF(K101>=16,IF(AND(K101>=19,K101<23),\"特\",IF(K101>=70,IF(源泉徴収票!BG101=\"同居老親等\",\"同\",\"老\"),\"一\")),IF(K101>=0,\"未\",\"×\"))","v":"×"},{"$f":"IF(L101>=16,IF(AND(L101>=19,L101<23),\"特\",IF(L101>=70,IF(源泉徴収票!BM101=\"同居老親等\",\"同\",\"老\"),\"一\")),IF(L101>=0,\"未\",\"×\"))","v":"×"},"","","","","",{"$f":"IF(源泉徴収票!BU101<=20000, 源泉徴収票!BU101,\n  IF(源泉徴収票!BU101<=40000, 源泉徴収票!BU101*1/2+10000,\n   IF(源泉徴収票!BU101<=80000, 源泉徴収票!BU101*1/4+20000,\n                 40000)))","v":0},{"$f":"IF(源泉徴収票!BV101<=25000,源泉徴収票!BV101,\n  IF(源泉徴収票!BV101<=50000,源泉徴収票!BV101*1/2+12500,\n   IF(源泉徴収票!BV101<=100000,源泉徴収票!BV101*1/4+25000,\n                 50000)))","v":0},0,0,{"$f":"IF(源泉徴収票!BW101<=20000, 源泉徴収票!BW101,\n  IF(源泉徴収票!BW101<=40000, 源泉徴収票!BW101*1/2+10000,\n   IF(源泉徴収票!BW101<=80000, 源泉徴収票!BW101*1/4+20000,\n                 40000)))","v":0},{"$f":"IF(源泉徴収票!BX101<=20000, 源泉徴収票!BX101,\n  IF(源泉徴収票!BX101<=40000, 源泉徴収票!BX101*1/2+10000,\n   IF(源泉徴収票!BX101<=80000, 源泉徴収票!BX101*1/4+20000,\n                 40000)))","v":0},{"$f":"IF(源泉徴収票!BY101<=25000,源泉徴収票!BY101,\n  IF(源泉徴収票!BY101<=50000,源泉徴収票!BY101*1/2+12500,\n   IF(源泉徴収票!BY101<=100000,源泉徴収票!BY101*1/4+25000,\n                 50000)))","v":0},0,0,{"$f":"IF(源泉徴収票!BZ101<>\"\",MIN(源泉徴収票!BZ101,50000),0)","v":0},{"$f":"IF(源泉徴収票!CA101>=20000,15000,IF(源泉徴収票!CA101>=10000,源泉徴収票!CA101/2+5000,源泉徴収票!CA101))","v":0},{"$f":"IF(源泉徴収票!CS101<>\"\",\"〇\",\"×\")","v":"×"},null,{"$f":"源泉徴収票!O101+源泉徴収票!R101+源泉徴収票!U101","v":0},{"$f":"源泉徴収票!Q101+源泉徴収票!T101+源泉徴収票!W101","v":0},{"$f":"IF(源泉徴収票!I101=\"無\",0,INT(A101*VLOOKUP(A101, 給与所得計算, 3, TRUE)\n        +  VLOOKUP(A101, 給与所得計算, 4, TRUE) ))","v":0},0,0,{"$f":"源泉徴収票!P101+源泉徴収票!S101+源泉徴収票!V101","v":0},{"$f":"IF(源泉徴収票!I101=\"無\",0,源泉徴収票!CB101)","v":0},{"$f":"IF(源泉徴収票!I101=\"無\",0,源泉徴収票!CD101)","v":0},{"$f":"IF(源泉徴収票!I101=\"無\",0,MIN(120000,Z101+AA101+AE101))","v":0},{"$f":"IF(源泉徴収票!I101=\"無\",0,MIN(AF101+AG101,50000))","v":0},{"$f":"IF(源泉徴収票!I101=\"無\",0,IF(E101=\"○\",INDEX(H30配偶者控除・特別控除マスタ,F101,G101),0))","v":0},{"$f":"IF(源泉徴収票!I101=\"無\",0,IF(C101=\"○\",INDEX(H30配偶者控除・特別控除マスタ,F101,G101),0)+IF(D101=\"○\",INDEX(H30老人控除対象配偶者上乗せ,1,G101),0))","v":0},{"$f":"IF(源泉徴収票!I101=\"無\",0,COUNTIF(M101:Q101,\"一\")*380000+COUNTIF(M101:Q101,\"特\")*630000+COUNTIF(M101:Q101,\"老\")*480000+COUNTIF(M101:Q101,\"同\")*580000)","v":0},{"$f":"IF(源泉徴収票!I101=\"無\",0,(COUNTIF(源泉徴収票!BO101:BP101,\"一般\")+源泉徴収票!BQ101)*270000+(COUNTIF(源泉徴収票!BO101:BP101,\"特別\")+源泉徴収票!BR101)*400000+(COUNTIF(源泉徴収票!BP101,\"同居特別\")+源泉徴収票!BS101)*750000)","v":0},{"$f":"IF(源泉徴収票!I101=\"無\",0,IF(源泉徴収票!BT101<>\"\",IF(OR(源泉徴収票!BT101=\"特別の寡婦\",源泉徴収票!BT101=\"ひとり親\"),350000,270000),0))","v":0},{"$f":"IF(源泉徴収票!I101=\"無\",0,480000)","v":480000},{"$f":"IF(源泉徴収票!I101=\"無\",0,SUM(AO101:AY101))","v":480000},{"$f":"IF(源泉徴収票!I101=\"無\",AN101,FLOOR(MAX(AN101-AZ101,0),1000))","v":0},{"$f":"IF(源泉徴収票!I101=\"無\",AK101,BA101*VLOOKUP(BA101,所得税額計算,3,TRUE)+VLOOKUP(BA101,所得税額計算,4,TRUE))","v":0},{"$f":"IF(源泉徴収票!I101=\"無\",0,源泉徴収票!CZ101)","v":0},0,{"$f":"IF(源泉徴収票!I101=\"無\",BD101,FLOOR(BD101*102.1%,100))","v":0},0]
[0,{"$f":"IF(AND(源泉徴収票!I102=\"無\",源泉徴収票!AE102<>\"\"),\"○\",\"×\")","v":"×"},{"$f":"IF(AND(源泉徴収票!CO102<>\"\",源泉徴収票!CO102<=480000,AN102<=10000000),\"○\",\"×\")","v":"×"},{"$f":"IF(AND(C102=\"○\",源泉徴収票!CN102<>\"\",会社情報!$C$7-YEAR(MAX(源泉徴収票!CN102-1,0))>=70),\"○\",\"×\")","v":"×"},{"$f":"IF(AND(源泉徴収票!CO102<>\"\",源泉徴収票!CO102>480000,源泉徴収票!CO102<=1330000,AN102<=10000000),\"○\",\"×\")","v":"×"},{"$f":"MATCH(源泉徴収票!CO102,H30配偶者控除・特別控除マスタ_配偶者所得,1)","v":1},{"$f":"MATCH('源泉徴収票計算過程(非)'!AN102,H30配偶者控除・特別控除マスタ_所得者合計所得,1)","v":1},{"$f":"IF(源泉徴収票!AN102=\"\",-1,会社情報!$C$7-YEAR(源泉徴収票!AN102-1))","v":-1},{"$f":"IF(源泉徴収票!AT102=\"\",-1,会社情報!$C$7-YEAR(源泉徴収票!AT102-1))","v":-1},{"$f":"IF(源泉徴収票!AZ102=\"\",-1,会社情報!$C$7-YEAR(源泉徴収票!AZ102-1))","v":-1},{"$f":"IF(源泉徴収票!BF102=\"\",-1,会社情報!$C$7-YEAR(源泉徴収票!BF102-1))","v":-1},{"$f":"IF(源泉徴収票!BL102=\"\",-1,会社情報!$C$7-YEAR(源泉徴収票!BL102-1))","v":-1},{"$f":"IF(H102>=16,IF(AND(H102>=19,H102<23),\"特\",IF(H102>=70,IF(源泉徴収票!AO102=\"同居老親等\",\"同\",\"老\"),\"一\")),IF(H102>=0,\"未\",\"×\"))","v":"×"},{"$f":"IF(I102>=16,IF(AND(I102>=19,I102<23),\"特\",IF(I102>=70,IF(源泉徴収票!AU102=\"同居老親等\",\"同\",\"老\"),\"一\")),IF(I102>=0,\"未\",\"×\"))","v":"×"},{"$f":"IF(J102>=16,IF(AND(J102>=19,J102<23),\"特\",IF(J102>=70,IF(源泉徴収票!BA102=\"同居老親等\",\"同\",\"老\"),\"一\")),IF(J102>=0,\"未\",\"×\"))","v":"×"},{"$f":"IF(K102>=16,IF(AND(K102>=19,K102<23),\"特\",IF(K102>=70,IF(源泉徴収票!BG102=\"同居老親等\",\"同\",\"老\"),\"一\")),IF(K102>=0,\"未\",\"×\"))","v":"×"},{"$f":"IF(L102>=16,IF(AND(L102>=19,L102<23),\"特\",IF(L102>=70,IF(源泉徴収票!BM102=\"同居老親等\",\"同\",\"老\"),\"一\")),IF(L102>=0,\"未\",\"×\"))","v":"×"},"","","","","",{"$f":"IF(源泉徴収票!BU102<=20000, 源泉徴収票!BU102,\n  IF(源泉徴収票!BU102<=40000, 源泉徴収票!BU102*1/2+10000,\n   IF(源泉徴収票!BU102<=80000, 源泉徴収票!BU102*1/4+20000,\n                 40000)))","v":0},{"$f":"IF(源泉徴収票!BV102<=25000,源泉徴収票!BV102,\n  IF(源泉徴収票!BV102<=50000,源泉徴収票!BV102*1/2+12500,\n   IF(源泉徴収票!BV102<=100000,源泉徴収票!BV102*1/4+25000,\n                 50000)))","v":0},0,0,{"$f":"IF(源泉徴収票!BW102<=20000, 源泉徴収票!BW102,\n  IF(源泉徴収票!BW102<=40000, 源泉徴収票!BW102*1/2+10000,\n   IF(源泉徴収票!BW102<=80000, 源泉徴収票!BW102*1/4+20000,\n                 40000)))","v":0},{"$f":"IF(源泉徴収票!BX102<=20000, 源泉徴収票!BX102,\n  IF(源泉徴収票!BX102<=40000, 源泉徴収票!BX102*1/2+10000,\n   IF(源泉徴収票!BX102<=80000, 源泉徴収票!BX102*1/4+20000,\n                 40000)))","v":0},{"$f":"IF(源泉徴収票!BY102<=25000,源泉徴収票!BY102,\n  IF(源泉徴収票!BY102<=50000,源泉徴収票!BY102*1/2+12500,\n   IF(源泉徴収票!BY102<=100000,源泉徴収票!BY102*1/4+25000,\n                 50000)))","v":0},0,0,{"$f":"IF(源泉徴収票!BZ102<>\"\",MIN(源泉徴収票!BZ102,50000),0)","v":0},{"$f":"IF(源泉徴収票!CA102>=20000,15000,IF(源泉徴収票!CA102>=10000,源泉徴収票!CA102/2+5000,源泉徴収票!CA102))","v":0},{"$f":"IF(源泉徴収票!CS102<>\"\",\"〇\",\"×\")","v":"×"},null,{"$f":"源泉徴収票!O102+源泉徴収票!R102+源泉徴収票!U102","v":0},{"$f":"源泉徴収票!Q102+源泉徴収票!T102+源泉徴収票!W102","v":0},{"$f":"IF(源泉徴収票!I102=\"無\",0,INT(A102*VLOOKUP(A102, 給与所得計算, 3, TRUE)\n        +  VLOOKUP(A102, 給与所得計算, 4, TRUE) ))","v":0},0,0,{"$f":"源泉徴収票!P102+源泉徴収票!S102+源泉徴収票!V102","v":0},{"$f":"IF(源泉徴収票!I102=\"無\",0,源泉徴収票!CB102)","v":0},{"$f":"IF(源泉徴収票!I102=\"無\",0,源泉徴収票!CD102)","v":0},{"$f":"IF(源泉徴収票!I102=\"無\",0,MIN(120000,Z102+AA102+AE102))","v":0},{"$f":"IF(源泉徴収票!I102=\"無\",0,MIN(AF102+AG102,50000))","v":0},{"$f":"IF(源泉徴収票!I102=\"無\",0,IF(E102=\"○\",INDEX(H30配偶者控除・特別控除マスタ,F102,G102),0))","v":0},{"$f":"IF(源泉徴収票!I102=\"無\",0,IF(C102=\"○\",INDEX(H30配偶者控除・特別控除マスタ,F102,G102),0)+IF(D102=\"○\",INDEX(H30老人控除対象配偶者上乗せ,1,G102),0))","v":0},{"$f":"IF(源泉徴収票!I102=\"無\",0,COUNTIF(M102:Q102,\"一\")*380000+COUNTIF(M102:Q102,\"特\")*630000+COUNTIF(M102:Q102,\"老\")*480000+COUNTIF(M102:Q102,\"同\")*580000)","v":0},{"$f":"IF(源泉徴収票!I102=\"無\",0,(COUNTIF(源泉徴収票!BO102:BP102,\"一般\")+源泉徴収票!BQ102)*270000+(COUNTIF(源泉徴収票!BO102:BP102,\"特別\")+源泉徴収票!BR102)*400000+(COUNTIF(源泉徴収票!BP102,\"同居特別\")+源泉徴収票!BS102)*750000)","v":0},{"$f":"IF(源泉徴収票!I102=\"無\",0,IF(源泉徴収票!BT102<>\"\",IF(OR(源泉徴収票!BT102=\"特別の寡婦\",源泉徴収票!BT102=\"ひとり親\"),350000,270000),0))","v":0},{"$f":"IF(源泉徴収票!I102=\"無\",0,480000)","v":480000},{"$f":"IF(源泉徴収票!I102=\"無\",0,SUM(AO102:AY102))","v":480000},{"$f":"IF(源泉徴収票!I102=\"無\",AN102,FLOOR(MAX(AN102-AZ102,0),1000))","v":0},{"$f":"IF(源泉徴収票!I102=\"無\",AK102,BA102*VLOOKUP(BA102,所得税額計算,3,TRUE)+VLOOKUP(BA102,所得税額計算,4,TRUE))","v":0},{"$f":"IF(源泉徴収票!I102=\"無\",0,源泉徴収票!CZ102)","v":0},0,{"$f":"IF(源泉徴収票!I102=\"無\",BD102,FLOOR(BD102*102.1%,100))","v":0},0]
[0,{"$f":"IF(AND(源泉徴収票!I103=\"無\",源泉徴収票!AE103<>\"\"),\"○\",\"×\")","v":"×"},{"$f":"IF(AND(源泉徴収票!CO103<>\"\",源泉徴収票!CO103<=480000,AN103<=10000000),\"○\",\"×\")","v":"×"},{"$f":"IF(AND(C103=\"○\",源泉徴収票!CN103<>\"\",会社情報!$C$7-YEAR(MAX(源泉徴収票!CN103-1,0))>=70),\"○\",\"×\")","v":"×"},{"$f":"IF(AND(源泉徴収票!CO103<>\"\",源泉徴収票!CO103>480000,源泉徴収票!CO103<=1330000,AN103<=10000000),\"○\",\"×\")","v":"×"},{"$f":"MATCH(源泉徴収票!CO103,H30配偶者控除・特別控除マスタ_配偶者所得,1)","v":1},{"$f":"MATCH('源泉徴収票計算過程(非)'!AN103,H30配偶者控除・特別控除マスタ_所得者合計所得,1)","v":1},{"$f":"IF(源泉徴収票!AN103=\"\",-1,会社情報!$C$7-YEAR(源泉徴収票!AN103-1))","v":-1},{"$f":"IF(源泉徴収票!AT103=\"\",-1,会社情報!$C$7-YEAR(源泉徴収票!AT103-1))","v":-1},{"$f":"IF(源泉徴収票!AZ103=\"\",-1,会社情報!$C$7-YEAR(源泉徴収票!AZ103-1))","v":-1},{"$f":"IF(源泉徴収票!BF103=\"\",-1,会社情報!$C$7-YEAR(源泉徴収票!BF103-1))","v":-1},{"$f":"IF(源泉徴収票!BL103=\"\",-1,会社情報!$C$7-YEAR(源泉徴収票!BL103-1))","v":-1},{"$f":"IF(H103>=16,IF(AND(H103>=19,H103<23),\"特\",IF(H103>=70,IF(源泉徴収票!AO103=\"同居老親等\",\"同\",\"老\"),\"一\")),IF(H103>=0,\"未\",\"×\"))","v":"×"},{"$f":"IF(I103>=16,IF(AND(I103>=19,I103<23),\"特\",IF(I103>=70,IF(源泉徴収票!AU103=\"同居老親等\",\"同\",\"老\"),\"一\")),IF(I103>=0,\"未\",\"×\"))","v":"×"},{"$f":"IF(J103>=16,IF(AND(J103>=19,J103<23),\"特\",IF(J103>=70,IF(源泉徴収票!BA103=\"同居老親等\",\"同\",\"老\"),\"一\")),IF(J103>=0,\"未\",\"×\"))","v":"×"},{"$f":"IF(K103>=16,IF(AND(K103>=19,K103<23),\"特\",IF(K103>=70,IF(源泉徴収票!BG103=\"同居老親等\",\"同\",\"老\"),\"一\")),IF(K103>=0,\"未\",\"×\"))","v":"×"},{"$f":"IF(L103>=16,IF(AND(L103>=19,L103<23),\"特\",IF(L103>=70,IF(源泉徴収票!BM103=\"同居老親等\",\"同\",\"老\"),\"一\")),IF(L103>=0,\"未\",\"×\"))","v":"×"},"","","","","",{"$f":"IF(源泉徴収票!BU103<=20000, 源泉徴収票!BU103,\n  IF(源泉徴収票!BU103<=40000, 源泉徴収票!BU103*1/2+10000,\n   IF(源泉徴収票!BU103<=80000, 源泉徴収票!BU103*1/4+20000,\n                 40000)))","v":0},{"$f":"IF(源泉徴収票!BV103<=25000,源泉徴収票!BV103,\n  IF(源泉徴収票!BV103<=50000,源泉徴収票!BV103*1/2+12500,\n   IF(源泉徴収票!BV103<=100000,源泉徴収票!BV103*1/4+25000,\n                 50000)))","v":0},0,0,{"$f":"IF(源泉徴収票!BW103<=20000, 源泉徴収票!BW103,\n  IF(源泉徴収票!BW103<=40000, 源泉徴収票!BW103*1/2+10000,\n   IF(源泉徴収票!BW103<=80000, 源泉徴収票!BW103*1/4+20000,\n                 40000)))","v":0},{"$f":"IF(源泉徴収票!BX103<=20000, 源泉徴収票!BX103,\n  IF(源泉徴収票!BX103<=40000, 源泉徴収票!BX103*1/2+10000,\n   IF(源泉徴収票!BX103<=80000, 源泉徴収票!BX103*1/4+20000,\n                 40000)))","v":0},{"$f":"IF(源泉徴収票!BY103<=25000,源泉徴収票!BY103,\n  IF(源泉徴収票!BY103<=50000,源泉徴収票!BY103*1/2+12500,\n   IF(源泉徴収票!BY103<=100000,源泉徴収票!BY103*1/4+25000,\n                 50000)))","v":0},0,0,{"$f":"IF(源泉徴収票!BZ103<>\"\",MIN(源泉徴収票!BZ103,50000),0)","v":0},{"$f":"IF(源泉徴収票!CA103>=20000,15000,IF(源泉徴収票!CA103>=10000,源泉徴収票!CA103/2+5000,源泉徴収票!CA103))","v":0},{"$f":"IF(源泉徴収票!CS103<>\"\",\"〇\",\"×\")","v":"×"},null,{"$f":"源泉徴収票!O103+源泉徴収票!R103+源泉徴収票!U103","v":0},{"$f":"源泉徴収票!Q103+源泉徴収票!T103+源泉徴収票!W103","v":0},{"$f":"IF(源泉徴収票!I103=\"無\",0,INT(A103*VLOOKUP(A103, 給与所得計算, 3, TRUE)\n        +  VLOOKUP(A103, 給与所得計算, 4, TRUE) ))","v":0},0,0,{"$f":"源泉徴収票!P103+源泉徴収票!S103+源泉徴収票!V103","v":0},{"$f":"IF(源泉徴収票!I103=\"無\",0,源泉徴収票!CB103)","v":0},{"$f":"IF(源泉徴収票!I103=\"無\",0,源泉徴収票!CD103)","v":0},{"$f":"IF(源泉徴収票!I103=\"無\",0,MIN(120000,Z103+AA103+AE103))","v":0},{"$f":"IF(源泉徴収票!I103=\"無\",0,MIN(AF103+AG103,50000))","v":0},{"$f":"IF(源泉徴収票!I103=\"無\",0,IF(E103=\"○\",INDEX(H30配偶者控除・特別控除マスタ,F103,G103),0))","v":0},{"$f":"IF(源泉徴収票!I103=\"無\",0,IF(C103=\"○\",INDEX(H30配偶者控除・特別控除マスタ,F103,G103),0)+IF(D103=\"○\",INDEX(H30老人控除対象配偶者上乗せ,1,G103),0))","v":0},{"$f":"IF(源泉徴収票!I103=\"無\",0,COUNTIF(M103:Q103,\"一\")*380000+COUNTIF(M103:Q103,\"特\")*630000+COUNTIF(M103:Q103,\"老\")*480000+COUNTIF(M103:Q103,\"同\")*580000)","v":0},{"$f":"IF(源泉徴収票!I103=\"無\",0,(COUNTIF(源泉徴収票!BO103:BP103,\"一般\")+源泉徴収票!BQ103)*270000+(COUNTIF(源泉徴収票!BO103:BP103,\"特別\")+源泉徴収票!BR103)*400000+(COUNTIF(源泉徴収票!BP103,\"同居特別\")+源泉徴収票!BS103)*750000)","v":0},{"$f":"IF(源泉徴収票!I103=\"無\",0,IF(源泉徴収票!BT103<>\"\",IF(OR(源泉徴収票!BT103=\"特別の寡婦\",源泉徴収票!BT103=\"ひとり親\"),350000,270000),0))","v":0},{"$f":"IF(源泉徴収票!I103=\"無\",0,480000)","v":480000},{"$f":"IF(源泉徴収票!I103=\"無\",0,SUM(AO103:AY103))","v":480000},{"$f":"IF(源泉徴収票!I103=\"無\",AN103,FLOOR(MAX(AN103-AZ103,0),1000))","v":0},{"$f":"IF(源泉徴収票!I103=\"無\",AK103,BA103*VLOOKUP(BA103,所得税額計算,3,TRUE)+VLOOKUP(BA103,所得税額計算,4,TRUE))","v":0},{"$f":"IF(源泉徴収票!I103=\"無\",0,源泉徴収票!CZ103)","v":0},0,{"$f":"IF(源泉徴収票!I103=\"無\",BD103,FLOOR(BD103*102.1%,100))","v":0},0]
[0,{"$f":"IF(AND(源泉徴収票!I104=\"無\",源泉徴収票!AE104<>\"\"),\"○\",\"×\")","v":"×"},{"$f":"IF(AND(源泉徴収票!CO104<>\"\",源泉徴収票!CO104<=480000,AN104<=10000000),\"○\",\"×\")","v":"×"},{"$f":"IF(AND(C104=\"○\",源泉徴収票!CN104<>\"\",会社情報!$C$7-YEAR(MAX(源泉徴収票!CN104-1,0))>=70),\"○\",\"×\")","v":"×"},{"$f":"IF(AND(源泉徴収票!CO104<>\"\",源泉徴収票!CO104>480000,源泉徴収票!CO104<=1330000,AN104<=10000000),\"○\",\"×\")","v":"×"},{"$f":"MATCH(源泉徴収票!CO104,H30配偶者控除・特別控除マスタ_配偶者所得,1)","v":1},{"$f":"MATCH('源泉徴収票計算過程(非)'!AN104,H30配偶者控除・特別控除マスタ_所得者合計所得,1)","v":1},{"$f":"IF(源泉徴収票!AN104=\"\",-1,会社情報!$C$7-YEAR(源泉徴収票!AN104-1))","v":-1},{"$f":"IF(源泉徴収票!AT104=\"\",-1,会社情報!$C$7-YEAR(源泉徴収票!AT104-1))","v":-1},{"$f":"IF(源泉徴収票!AZ104=\"\",-1,会社情報!$C$7-YEAR(源泉徴収票!AZ104-1))","v":-1},{"$f":"IF(源泉徴収票!BF104=\"\",-1,会社情報!$C$7-YEAR(源泉徴収票!BF104-1))","v":-1},{"$f":"IF(源泉徴収票!BL104=\"\",-1,会社情報!$C$7-YEAR(源泉徴収票!BL104-1))","v":-1},{"$f":"IF(H104>=16,IF(AND(H104>=19,H104<23),\"特\",IF(H104>=70,IF(源泉徴収票!AO104=\"同居老親等\",\"同\",\"老\"),\"一\")),IF(H104>=0,\"未\",\"×\"))","v":"×"},{"$f":"IF(I104>=16,IF(AND(I104>=19,I104<23),\"特\",IF(I104>=70,IF(源泉徴収票!AU104=\"同居老親等\",\"同\",\"老\"),\"一\")),IF(I104>=0,\"未\",\"×\"))","v":"×"},{"$f":"IF(J104>=16,IF(AND(J104>=19,J104<23),\"特\",IF(J104>=70,IF(源泉徴収票!BA104=\"同居老親等\",\"同\",\"老\"),\"一\")),IF(J104>=0,\"未\",\"×\"))","v":"×"},{"$f":"IF(K104>=16,IF(AND(K104>=19,K104<23),\"特\",IF(K104>=70,IF(源泉徴収票!BG104=\"同居老親等\",\"同\",\"老\"),\"一\")),IF(K104>=0,\"未\",\"×\"))","v":"×"},{"$f":"IF(L104>=16,IF(AND(L104>=19,L104<23),\"特\",IF(L104>=70,IF(源泉徴収票!BM104=\"同居老親等\",\"同\",\"老\"),\"一\")),IF(L104>=0,\"未\",\"×\"))","v":"×"},"","","","","",{"$f":"IF(源泉徴収票!BU104<=20000, 源泉徴収票!BU104,\n  IF(源泉徴収票!BU104<=40000, 源泉徴収票!BU104*1/2+10000,\n   IF(源泉徴収票!BU104<=80000, 源泉徴収票!BU104*1/4+20000,\n                 40000)))","v":0},{"$f":"IF(源泉徴収票!BV104<=25000,源泉徴収票!BV104,\n  IF(源泉徴収票!BV104<=50000,源泉徴収票!BV104*1/2+12500,\n   IF(源泉徴収票!BV104<=100000,源泉徴収票!BV104*1/4+25000,\n                 50000)))","v":0},0,0,{"$f":"IF(源泉徴収票!BW104<=20000, 源泉徴収票!BW104,\n  IF(源泉徴収票!BW104<=40000, 源泉徴収票!BW104*1/2+10000,\n   IF(源泉徴収票!BW104<=80000, 源泉徴収票!BW104*1/4+20000,\n                 40000)))","v":0},{"$f":"IF(源泉徴収票!BX104<=20000, 源泉徴収票!BX104,\n  IF(源泉徴収票!BX104<=40000, 源泉徴収票!BX104*1/2+10000,\n   IF(源泉徴収票!BX104<=80000, 源泉徴収票!BX104*1/4+20000,\n                 40000)))","v":0},{"$f":"IF(源泉徴収票!BY104<=25000,源泉徴収票!BY104,\n  IF(源泉徴収票!BY104<=50000,源泉徴収票!BY104*1/2+12500,\n   IF(源泉徴収票!BY104<=100000,源泉徴収票!BY104*1/4+25000,\n                 50000)))","v":0},0,0,{"$f":"IF(源泉徴収票!BZ104<>\"\",MIN(源泉徴収票!BZ104,50000),0)","v":0},{"$f":"IF(源泉徴収票!CA104>=20000,15000,IF(源泉徴収票!CA104>=10000,源泉徴収票!CA104/2+5000,源泉徴収票!CA104))","v":0},{"$f":"IF(源泉徴収票!CS104<>\"\",\"〇\",\"×\")","v":"×"},null,{"$f":"源泉徴収票!O104+源泉徴収票!R104+源泉徴収票!U104","v":0},{"$f":"源泉徴収票!Q104+源泉徴収票!T104+源泉徴収票!W104","v":0},{"$f":"IF(源泉徴収票!I104=\"無\",0,INT(A104*VLOOKUP(A104, 給与所得計算, 3, TRUE)\n        +  VLOOKUP(A104, 給与所得計算, 4, TRUE) ))","v":0},0,0,{"$f":"源泉徴収票!P104+源泉徴収票!S104+源泉徴収票!V104","v":0},{"$f":"IF(源泉徴収票!I104=\"無\",0,源泉徴収票!CB104)","v":0},{"$f":"IF(源泉徴収票!I104=\"無\",0,源泉徴収票!CD104)","v":0},{"$f":"IF(源泉徴収票!I104=\"無\",0,MIN(120000,Z104+AA104+AE104))","v":0},{"$f":"IF(源泉徴収票!I104=\"無\",0,MIN(AF104+AG104,50000))","v":0},{"$f":"IF(源泉徴収票!I104=\"無\",0,IF(E104=\"○\",INDEX(H30配偶者控除・特別控除マスタ,F104,G104),0))","v":0},{"$f":"IF(源泉徴収票!I104=\"無\",0,IF(C104=\"○\",INDEX(H30配偶者控除・特別控除マスタ,F104,G104),0)+IF(D104=\"○\",INDEX(H30老人控除対象配偶者上乗せ,1,G104),0))","v":0},{"$f":"IF(源泉徴収票!I104=\"無\",0,COUNTIF(M104:Q104,\"一\")*380000+COUNTIF(M104:Q104,\"特\")*630000+COUNTIF(M104:Q104,\"老\")*480000+COUNTIF(M104:Q104,\"同\")*580000)","v":0},{"$f":"IF(源泉徴収票!I104=\"無\",0,(COUNTIF(源泉徴収票!BO104:BP104,\"一般\")+源泉徴収票!BQ104)*270000+(COUNTIF(源泉徴収票!BO104:BP104,\"特別\")+源泉徴収票!BR104)*400000+(COUNTIF(源泉徴収票!BP104,\"同居特別\")+源泉徴収票!BS104)*750000)","v":0},{"$f":"IF(源泉徴収票!I104=\"無\",0,IF(源泉徴収票!BT104<>\"\",IF(OR(源泉徴収票!BT104=\"特別の寡婦\",源泉徴収票!BT104=\"ひとり親\"),350000,270000),0))","v":0},{"$f":"IF(源泉徴収票!I104=\"無\",0,480000)","v":480000},{"$f":"IF(源泉徴収票!I104=\"無\",0,SUM(AO104:AY104))","v":480000},{"$f":"IF(源泉徴収票!I104=\"無\",AN104,FLOOR(MAX(AN104-AZ104,0),1000))","v":0},{"$f":"IF(源泉徴収票!I104=\"無\",AK104,BA104*VLOOKUP(BA104,所得税額計算,3,TRUE)+VLOOKUP(BA104,所得税額計算,4,TRUE))","v":0},{"$f":"IF(源泉徴収票!I104=\"無\",0,源泉徴収票!CZ104)","v":0},0,{"$f":"IF(源泉徴収票!I104=\"無\",BD104,FLOOR(BD104*102.1%,100))","v":0},0]
[0,{"$f":"IF(AND(源泉徴収票!I105=\"無\",源泉徴収票!AE105<>\"\"),\"○\",\"×\")","v":"×"},{"$f":"IF(AND(源泉徴収票!CO105<>\"\",源泉徴収票!CO105<=480000,AN105<=10000000),\"○\",\"×\")","v":"×"},{"$f":"IF(AND(C105=\"○\",源泉徴収票!CN105<>\"\",会社情報!$C$7-YEAR(MAX(源泉徴収票!CN105-1,0))>=70),\"○\",\"×\")","v":"×"},{"$f":"IF(AND(源泉徴収票!CO105<>\"\",源泉徴収票!CO105>480000,源泉徴収票!CO105<=1330000,AN105<=10000000),\"○\",\"×\")","v":"×"},{"$f":"MATCH(源泉徴収票!CO105,H30配偶者控除・特別控除マスタ_配偶者所得,1)","v":1},{"$f":"MATCH('源泉徴収票計算過程(非)'!AN105,H30配偶者控除・特別控除マスタ_所得者合計所得,1)","v":1},{"$f":"IF(源泉徴収票!AN105=\"\",-1,会社情報!$C$7-YEAR(源泉徴収票!AN105-1))","v":-1},{"$f":"IF(源泉徴収票!AT105=\"\",-1,会社情報!$C$7-YEAR(源泉徴収票!AT105-1))","v":-1},{"$f":"IF(源泉徴収票!AZ105=\"\",-1,会社情報!$C$7-YEAR(源泉徴収票!AZ105-1))","v":-1},{"$f":"IF(源泉徴収票!BF105=\"\",-1,会社情報!$C$7-YEAR(源泉徴収票!BF105-1))","v":-1},{"$f":"IF(源泉徴収票!BL105=\"\",-1,会社情報!$C$7-YEAR(源泉徴収票!BL105-1))","v":-1},{"$f":"IF(H105>=16,IF(AND(H105>=19,H105<23),\"特\",IF(H105>=70,IF(源泉徴収票!AO105=\"同居老親等\",\"同\",\"老\"),\"一\")),IF(H105>=0,\"未\",\"×\"))","v":"×"},{"$f":"IF(I105>=16,IF(AND(I105>=19,I105<23),\"特\",IF(I105>=70,IF(源泉徴収票!AU105=\"同居老親等\",\"同\",\"老\"),\"一\")),IF(I105>=0,\"未\",\"×\"))","v":"×"},{"$f":"IF(J105>=16,IF(AND(J105>=19,J105<23),\"特\",IF(J105>=70,IF(源泉徴収票!BA105=\"同居老親等\",\"同\",\"老\"),\"一\")),IF(J105>=0,\"未\",\"×\"))","v":"×"},{"$f":"IF(K105>=16,IF(AND(K105>=19,K105<23),\"特\",IF(K105>=70,IF(源泉徴収票!BG105=\"同居老親等\",\"同\",\"老\"),\"一\")),IF(K105>=0,\"未\",\"×\"))","v":"×"},{"$f":"IF(L105>=16,IF(AND(L105>=19,L105<23),\"特\",IF(L105>=70,IF(源泉徴収票!BM105=\"同居老親等\",\"同\",\"老\"),\"一\")),IF(L105>=0,\"未\",\"×\"))","v":"×"},"","","","","",{"$f":"IF(源泉徴収票!BU105<=20000, 源泉徴収票!BU105,\n  IF(源泉徴収票!BU105<=40000, 源泉徴収票!BU105*1/2+10000,\n   IF(源泉徴収票!BU105<=80000, 源泉徴収票!BU105*1/4+20000,\n                 40000)))","v":0},{"$f":"IF(源泉徴収票!BV105<=25000,源泉徴収票!BV105,\n  IF(源泉徴収票!BV105<=50000,源泉徴収票!BV105*1/2+12500,\n   IF(源泉徴収票!BV105<=100000,源泉徴収票!BV105*1/4+25000,\n                 50000)))","v":0},0,0,{"$f":"IF(源泉徴収票!BW105<=20000, 源泉徴収票!BW105,\n  IF(源泉徴収票!BW105<=40000, 源泉徴収票!BW105*1/2+10000,\n   IF(源泉徴収票!BW105<=80000, 源泉徴収票!BW105*1/4+20000,\n                 40000)))","v":0},{"$f":"IF(源泉徴収票!BX105<=20000, 源泉徴収票!BX105,\n  IF(源泉徴収票!BX105<=40000, 源泉徴収票!BX105*1/2+10000,\n   IF(源泉徴収票!BX105<=80000, 源泉徴収票!BX105*1/4+20000,\n                 40000)))","v":0},{"$f":"IF(源泉徴収票!BY105<=25000,源泉徴収票!BY105,\n  IF(源泉徴収票!BY105<=50000,源泉徴収票!BY105*1/2+12500,\n   IF(源泉徴収票!BY105<=100000,源泉徴収票!BY105*1/4+25000,\n                 50000)))","v":0},0,0,{"$f":"IF(源泉徴収票!BZ105<>\"\",MIN(源泉徴収票!BZ105,50000),0)","v":0},{"$f":"IF(源泉徴収票!CA105>=20000,15000,IF(源泉徴収票!CA105>=10000,源泉徴収票!CA105/2+5000,源泉徴収票!CA105))","v":0},{"$f":"IF(源泉徴収票!CS105<>\"\",\"〇\",\"×\")","v":"×"},null,{"$f":"源泉徴収票!O105+源泉徴収票!R105+源泉徴収票!U105","v":0},{"$f":"源泉徴収票!Q105+源泉徴収票!T105+源泉徴収票!W105","v":0},{"$f":"IF(源泉徴収票!I105=\"無\",0,INT(A105*VLOOKUP(A105, 給与所得計算, 3, TRUE)\n        +  VLOOKUP(A105, 給与所得計算, 4, TRUE) ))","v":0},0,0,{"$f":"源泉徴収票!P105+源泉徴収票!S105+源泉徴収票!V105","v":0},{"$f":"IF(源泉徴収票!I105=\"無\",0,源泉徴収票!CB105)","v":0},{"$f":"IF(源泉徴収票!I105=\"無\",0,源泉徴収票!CD105)","v":0},{"$f":"IF(源泉徴収票!I105=\"無\",0,MIN(120000,Z105+AA105+AE105))","v":0},{"$f":"IF(源泉徴収票!I105=\"無\",0,MIN(AF105+AG105,50000))","v":0},{"$f":"IF(源泉徴収票!I105=\"無\",0,IF(E105=\"○\",INDEX(H30配偶者控除・特別控除マスタ,F105,G105),0))","v":0},{"$f":"IF(源泉徴収票!I105=\"無\",0,IF(C105=\"○\",INDEX(H30配偶者控除・特別控除マスタ,F105,G105),0)+IF(D105=\"○\",INDEX(H30老人控除対象配偶者上乗せ,1,G105),0))","v":0},{"$f":"IF(源泉徴収票!I105=\"無\",0,COUNTIF(M105:Q105,\"一\")*380000+COUNTIF(M105:Q105,\"特\")*630000+COUNTIF(M105:Q105,\"老\")*480000+COUNTIF(M105:Q105,\"同\")*580000)","v":0},{"$f":"IF(源泉徴収票!I105=\"無\",0,(COUNTIF(源泉徴収票!BO105:BP105,\"一般\")+源泉徴収票!BQ105)*270000+(COUNTIF(源泉徴収票!BO105:BP105,\"特別\")+源泉徴収票!BR105)*400000+(COUNTIF(源泉徴収票!BP105,\"同居特別\")+源泉徴収票!BS105)*750000)","v":0},{"$f":"IF(源泉徴収票!I105=\"無\",0,IF(源泉徴収票!BT105<>\"\",IF(OR(源泉徴収票!BT105=\"特別の寡婦\",源泉徴収票!BT105=\"ひとり親\"),350000,270000),0))","v":0},{"$f":"IF(源泉徴収票!I105=\"無\",0,480000)","v":480000},{"$f":"IF(源泉徴収票!I105=\"無\",0,SUM(AO105:AY105))","v":480000},{"$f":"IF(源泉徴収票!I105=\"無\",AN105,FLOOR(MAX(AN105-AZ105,0),1000))","v":0},{"$f":"IF(源泉徴収票!I105=\"無\",AK105,BA105*VLOOKUP(BA105,所得税額計算,3,TRUE)+VLOOKUP(BA105,所得税額計算,4,TRUE))","v":0},{"$f":"IF(源泉徴収票!I105=\"無\",0,源泉徴収票!CZ105)","v":0},0,{"$f":"IF(源泉徴収票!I105=\"無\",BD105,FLOOR(BD105*102.1%,100))","v":0},0]
[0,{"$f":"IF(AND(源泉徴収票!I106=\"無\",源泉徴収票!AE106<>\"\"),\"○\",\"×\")","v":"×"},{"$f":"IF(AND(源泉徴収票!CO106<>\"\",源泉徴収票!CO106<=480000,AN106<=10000000),\"○\",\"×\")","v":"×"},{"$f":"IF(AND(C106=\"○\",源泉徴収票!CN106<>\"\",会社情報!$C$7-YEAR(MAX(源泉徴収票!CN106-1,0))>=70),\"○\",\"×\")","v":"×"},{"$f":"IF(AND(源泉徴収票!CO106<>\"\",源泉徴収票!CO106>480000,源泉徴収票!CO106<=1330000,AN106<=10000000),\"○\",\"×\")","v":"×"},{"$f":"MATCH(源泉徴収票!CO106,H30配偶者控除・特別控除マスタ_配偶者所得,1)","v":1},{"$f":"MATCH('源泉徴収票計算過程(非)'!AN106,H30配偶者控除・特別控除マスタ_所得者合計所得,1)","v":1},{"$f":"IF(源泉徴収票!AN106=\"\",-1,会社情報!$C$7-YEAR(源泉徴収票!AN106-1))","v":-1},{"$f":"IF(源泉徴収票!AT106=\"\",-1,会社情報!$C$7-YEAR(源泉徴収票!AT106-1))","v":-1},{"$f":"IF(源泉徴収票!AZ106=\"\",-1,会社情報!$C$7-YEAR(源泉徴収票!AZ106-1))","v":-1},{"$f":"IF(源泉徴収票!BF106=\"\",-1,会社情報!$C$7-YEAR(源泉徴収票!BF106-1))","v":-1},{"$f":"IF(源泉徴収票!BL106=\"\",-1,会社情報!$C$7-YEAR(源泉徴収票!BL106-1))","v":-1},{"$f":"IF(H106>=16,IF(AND(H106>=19,H106<23),\"特\",IF(H106>=70,IF(源泉徴収票!AO106=\"同居老親等\",\"同\",\"老\"),\"一\")),IF(H106>=0,\"未\",\"×\"))","v":"×"},{"$f":"IF(I106>=16,IF(AND(I106>=19,I106<23),\"特\",IF(I106>=70,IF(源泉徴収票!AU106=\"同居老親等\",\"同\",\"老\"),\"一\")),IF(I106>=0,\"未\",\"×\"))","v":"×"},{"$f":"IF(J106>=16,IF(AND(J106>=19,J106<23),\"特\",IF(J106>=70,IF(源泉徴収票!BA106=\"同居老親等\",\"同\",\"老\"),\"一\")),IF(J106>=0,\"未\",\"×\"))","v":"×"},{"$f":"IF(K106>=16,IF(AND(K106>=19,K106<23),\"特\",IF(K106>=70,IF(源泉徴収票!BG106=\"同居老親等\",\"同\",\"老\"),\"一\")),IF(K106>=0,\"未\",\"×\"))","v":"×"},{"$f":"IF(L106>=16,IF(AND(L106>=19,L106<23),\"特\",IF(L106>=70,IF(源泉徴収票!BM106=\"同居老親等\",\"同\",\"老\"),\"一\")),IF(L106>=0,\"未\",\"×\"))","v":"×"},"","","","","",{"$f":"IF(源泉徴収票!BU106<=20000, 源泉徴収票!BU106,\n  IF(源泉徴収票!BU106<=40000, 源泉徴収票!BU106*1/2+10000,\n   IF(源泉徴収票!BU106<=80000, 源泉徴収票!BU106*1/4+20000,\n                 40000)))","v":0},{"$f":"IF(源泉徴収票!BV106<=25000,源泉徴収票!BV106,\n  IF(源泉徴収票!BV106<=50000,源泉徴収票!BV106*1/2+12500,\n   IF(源泉徴収票!BV106<=100000,源泉徴収票!BV106*1/4+25000,\n                 50000)))","v":0},0,0,{"$f":"IF(源泉徴収票!BW106<=20000, 源泉徴収票!BW106,\n  IF(源泉徴収票!BW106<=40000, 源泉徴収票!BW106*1/2+10000,\n   IF(源泉徴収票!BW106<=80000, 源泉徴収票!BW106*1/4+20000,\n                 40000)))","v":0},{"$f":"IF(源泉徴収票!BX106<=20000, 源泉徴収票!BX106,\n  IF(源泉徴収票!BX106<=40000, 源泉徴収票!BX106*1/2+10000,\n   IF(源泉徴収票!BX106<=80000, 源泉徴収票!BX106*1/4+20000,\n                 40000)))","v":0},{"$f":"IF(源泉徴収票!BY106<=25000,源泉徴収票!BY106,\n  IF(源泉徴収票!BY106<=50000,源泉徴収票!BY106*1/2+12500,\n   IF(源泉徴収票!BY106<=100000,源泉徴収票!BY106*1/4+25000,\n                 50000)))","v":0},0,0,{"$f":"IF(源泉徴収票!BZ106<>\"\",MIN(源泉徴収票!BZ106,50000),0)","v":0},{"$f":"IF(源泉徴収票!CA106>=20000,15000,IF(源泉徴収票!CA106>=10000,源泉徴収票!CA106/2+5000,源泉徴収票!CA106))","v":0},{"$f":"IF(源泉徴収票!CS106<>\"\",\"〇\",\"×\")","v":"×"},null,{"$f":"源泉徴収票!O106+源泉徴収票!R106+源泉徴収票!U106","v":0},{"$f":"源泉徴収票!Q106+源泉徴収票!T106+源泉徴収票!W106","v":0},{"$f":"IF(源泉徴収票!I106=\"無\",0,INT(A106*VLOOKUP(A106, 給与所得計算, 3, TRUE)\n        +  VLOOKUP(A106, 給与所得計算, 4, TRUE) ))","v":0},0,0,{"$f":"源泉徴収票!P106+源泉徴収票!S106+源泉徴収票!V106","v":0},{"$f":"IF(源泉徴収票!I106=\"無\",0,源泉徴収票!CB106)","v":0},{"$f":"IF(源泉徴収票!I106=\"無\",0,源泉徴収票!CD106)","v":0},{"$f":"IF(源泉徴収票!I106=\"無\",0,MIN(120000,Z106+AA106+AE106))","v":0},{"$f":"IF(源泉徴収票!I106=\"無\",0,MIN(AF106+AG106,50000))","v":0},{"$f":"IF(源泉徴収票!I106=\"無\",0,IF(E106=\"○\",INDEX(H30配偶者控除・特別控除マスタ,F106,G106),0))","v":0},{"$f":"IF(源泉徴収票!I106=\"無\",0,IF(C106=\"○\",INDEX(H30配偶者控除・特別控除マスタ,F106,G106),0)+IF(D106=\"○\",INDEX(H30老人控除対象配偶者上乗せ,1,G106),0))","v":0},{"$f":"IF(源泉徴収票!I106=\"無\",0,COUNTIF(M106:Q106,\"一\")*380000+COUNTIF(M106:Q106,\"特\")*630000+COUNTIF(M106:Q106,\"老\")*480000+COUNTIF(M106:Q106,\"同\")*580000)","v":0},{"$f":"IF(源泉徴収票!I106=\"無\",0,(COUNTIF(源泉徴収票!BO106:BP106,\"一般\")+源泉徴収票!BQ106)*270000+(COUNTIF(源泉徴収票!BO106:BP106,\"特別\")+源泉徴収票!BR106)*400000+(COUNTIF(源泉徴収票!BP106,\"同居特別\")+源泉徴収票!BS106)*750000)","v":0},{"$f":"IF(源泉徴収票!I106=\"無\",0,IF(源泉徴収票!BT106<>\"\",IF(OR(源泉徴収票!BT106=\"特別の寡婦\",源泉徴収票!BT106=\"ひとり親\"),350000,270000),0))","v":0},{"$f":"IF(源泉徴収票!I106=\"無\",0,480000)","v":480000},{"$f":"IF(源泉徴収票!I106=\"無\",0,SUM(AO106:AY106))","v":480000},{"$f":"IF(源泉徴収票!I106=\"無\",AN106,FLOOR(MAX(AN106-AZ106,0),1000))","v":0},{"$f":"IF(源泉徴収票!I106=\"無\",AK106,BA106*VLOOKUP(BA106,所得税額計算,3,TRUE)+VLOOKUP(BA106,所得税額計算,4,TRUE))","v":0},{"$f":"IF(源泉徴収票!I106=\"無\",0,源泉徴収票!CZ106)","v":0},0,{"$f":"IF(源泉徴収票!I106=\"無\",BD106,FLOOR(BD106*102.1%,100))","v":0},0]
[0,{"$f":"IF(AND(源泉徴収票!I107=\"無\",源泉徴収票!AE107<>\"\"),\"○\",\"×\")","v":"×"},{"$f":"IF(AND(源泉徴収票!CO107<>\"\",源泉徴収票!CO107<=480000,AN107<=10000000),\"○\",\"×\")","v":"×"},{"$f":"IF(AND(C107=\"○\",源泉徴収票!CN107<>\"\",会社情報!$C$7-YEAR(MAX(源泉徴収票!CN107-1,0))>=70),\"○\",\"×\")","v":"×"},{"$f":"IF(AND(源泉徴収票!CO107<>\"\",源泉徴収票!CO107>480000,源泉徴収票!CO107<=1330000,AN107<=10000000),\"○\",\"×\")","v":"×"},{"$f":"MATCH(源泉徴収票!CO107,H30配偶者控除・特別控除マスタ_配偶者所得,1)","v":1},{"$f":"MATCH('源泉徴収票計算過程(非)'!AN107,H30配偶者控除・特別控除マスタ_所得者合計所得,1)","v":1},{"$f":"IF(源泉徴収票!AN107=\"\",-1,会社情報!$C$7-YEAR(源泉徴収票!AN107-1))","v":-1},{"$f":"IF(源泉徴収票!AT107=\"\",-1,会社情報!$C$7-YEAR(源泉徴収票!AT107-1))","v":-1},{"$f":"IF(源泉徴収票!AZ107=\"\",-1,会社情報!$C$7-YEAR(源泉徴収票!AZ107-1))","v":-1},{"$f":"IF(源泉徴収票!BF107=\"\",-1,会社情報!$C$7-YEAR(源泉徴収票!BF107-1))","v":-1},{"$f":"IF(源泉徴収票!BL107=\"\",-1,会社情報!$C$7-YEAR(源泉徴収票!BL107-1))","v":-1},{"$f":"IF(H107>=16,IF(AND(H107>=19,H107<23),\"特\",IF(H107>=70,IF(源泉徴収票!AO107=\"同居老親等\",\"同\",\"老\"),\"一\")),IF(H107>=0,\"未\",\"×\"))","v":"×"},{"$f":"IF(I107>=16,IF(AND(I107>=19,I107<23),\"特\",IF(I107>=70,IF(源泉徴収票!AU107=\"同居老親等\",\"同\",\"老\"),\"一\")),IF(I107>=0,\"未\",\"×\"))","v":"×"},{"$f":"IF(J107>=16,IF(AND(J107>=19,J107<23),\"特\",IF(J107>=70,IF(源泉徴収票!BA107=\"同居老親等\",\"同\",\"老\"),\"一\")),IF(J107>=0,\"未\",\"×\"))","v":"×"},{"$f":"IF(K107>=16,IF(AND(K107>=19,K107<23),\"特\",IF(K107>=70,IF(源泉徴収票!BG107=\"同居老親等\",\"同\",\"老\"),\"一\")),IF(K107>=0,\"未\",\"×\"))","v":"×"},{"$f":"IF(L107>=16,IF(AND(L107>=19,L107<23),\"特\",IF(L107>=70,IF(源泉徴収票!BM107=\"同居老親等\",\"同\",\"老\"),\"一\")),IF(L107>=0,\"未\",\"×\"))","v":"×"},"","","","","",{"$f":"IF(源泉徴収票!BU107<=20000, 源泉徴収票!BU107,\n  IF(源泉徴収票!BU107<=40000, 源泉徴収票!BU107*1/2+10000,\n   IF(源泉徴収票!BU107<=80000, 源泉徴収票!BU107*1/4+20000,\n                 40000)))","v":0},{"$f":"IF(源泉徴収票!BV107<=25000,源泉徴収票!BV107,\n  IF(源泉徴収票!BV107<=50000,源泉徴収票!BV107*1/2+12500,\n   IF(源泉徴収票!BV107<=100000,源泉徴収票!BV107*1/4+25000,\n                 50000)))","v":0},0,0,{"$f":"IF(源泉徴収票!BW107<=20000, 源泉徴収票!BW107,\n  IF(源泉徴収票!BW107<=40000, 源泉徴収票!BW107*1/2+10000,\n   IF(源泉徴収票!BW107<=80000, 源泉徴収票!BW107*1/4+20000,\n                 40000)))","v":0},{"$f":"IF(源泉徴収票!BX107<=20000, 源泉徴収票!BX107,\n  IF(源泉徴収票!BX107<=40000, 源泉徴収票!BX107*1/2+10000,\n   IF(源泉徴収票!BX107<=80000, 源泉徴収票!BX107*1/4+20000,\n                 40000)))","v":0},{"$f":"IF(源泉徴収票!BY107<=25000,源泉徴収票!BY107,\n  IF(源泉徴収票!BY107<=50000,源泉徴収票!BY107*1/2+12500,\n   IF(源泉徴収票!BY107<=100000,源泉徴収票!BY107*1/4+25000,\n                 50000)))","v":0},0,0,{"$f":"IF(源泉徴収票!BZ107<>\"\",MIN(源泉徴収票!BZ107,50000),0)","v":0},{"$f":"IF(源泉徴収票!CA107>=20000,15000,IF(源泉徴収票!CA107>=10000,源泉徴収票!CA107/2+5000,源泉徴収票!CA107))","v":0},{"$f":"IF(源泉徴収票!CS107<>\"\",\"〇\",\"×\")","v":"×"},null,{"$f":"源泉徴収票!O107+源泉徴収票!R107+源泉徴収票!U107","v":0},{"$f":"源泉徴収票!Q107+源泉徴収票!T107+源泉徴収票!W107","v":0},{"$f":"IF(源泉徴収票!I107=\"無\",0,INT(A107*VLOOKUP(A107, 給与所得計算, 3, TRUE)\n        +  VLOOKUP(A107, 給与所得計算, 4, TRUE) ))","v":0},0,0,{"$f":"源泉徴収票!P107+源泉徴収票!S107+源泉徴収票!V107","v":0},{"$f":"IF(源泉徴収票!I107=\"無\",0,源泉徴収票!CB107)","v":0},{"$f":"IF(源泉徴収票!I107=\"無\",0,源泉徴収票!CD107)","v":0},{"$f":"IF(源泉徴収票!I107=\"無\",0,MIN(120000,Z107+AA107+AE107))","v":0},{"$f":"IF(源泉徴収票!I107=\"無\",0,MIN(AF107+AG107,50000))","v":0},{"$f":"IF(源泉徴収票!I107=\"無\",0,IF(E107=\"○\",INDEX(H30配偶者控除・特別控除マスタ,F107,G107),0))","v":0},{"$f":"IF(源泉徴収票!I107=\"無\",0,IF(C107=\"○\",INDEX(H30配偶者控除・特別控除マスタ,F107,G107),0)+IF(D107=\"○\",INDEX(H30老人控除対象配偶者上乗せ,1,G107),0))","v":0},{"$f":"IF(源泉徴収票!I107=\"無\",0,COUNTIF(M107:Q107,\"一\")*380000+COUNTIF(M107:Q107,\"特\")*630000+COUNTIF(M107:Q107,\"老\")*480000+COUNTIF(M107:Q107,\"同\")*580000)","v":0},{"$f":"IF(源泉徴収票!I107=\"無\",0,(COUNTIF(源泉徴収票!BO107:BP107,\"一般\")+源泉徴収票!BQ107)*270000+(COUNTIF(源泉徴収票!BO107:BP107,\"特別\")+源泉徴収票!BR107)*400000+(COUNTIF(源泉徴収票!BP107,\"同居特別\")+源泉徴収票!BS107)*750000)","v":0},{"$f":"IF(源泉徴収票!I107=\"無\",0,IF(源泉徴収票!BT107<>\"\",IF(OR(源泉徴収票!BT107=\"特別の寡婦\",源泉徴収票!BT107=\"ひとり親\"),350000,270000),0))","v":0},{"$f":"IF(源泉徴収票!I107=\"無\",0,480000)","v":480000},{"$f":"IF(源泉徴収票!I107=\"無\",0,SUM(AO107:AY107))","v":480000},{"$f":"IF(源泉徴収票!I107=\"無\",AN107,FLOOR(MAX(AN107-AZ107,0),1000))","v":0},{"$f":"IF(源泉徴収票!I107=\"無\",AK107,BA107*VLOOKUP(BA107,所得税額計算,3,TRUE)+VLOOKUP(BA107,所得税額計算,4,TRUE))","v":0},{"$f":"IF(源泉徴収票!I107=\"無\",0,源泉徴収票!CZ107)","v":0},0,{"$f":"IF(源泉徴収票!I107=\"無\",BD107,FLOOR(BD107*102.1%,100))","v":0},0]

{"sheet":"源泉徴収票各種マスタ(非)","index":11,"n_rows":56,"n_cols":11,"rows_kept":56,"cut":false,"hidden":true,"merged":[]}
["配偶者特別控除（旧）",null,null,null,null,null,"配偶者控除・配偶者特別控除（新）"]
["以上","未満","配偶者特別控除の控除額",null,null,null,null,"所得者の合計所得金額（円以上）"]
[0,{"$f":"A4-1","v":380000},0,null,null,null,"所得",0,9000001,9500001,10000001]
[380001,399999,380000,null,null,"配偶者控除",0,380000,260000,130000,0]
[400000,449999,360000,null,null,"配偶者特別控除",480001,380000,260000,130000,0]
[450000,499999,310000,null,null,null,950001,360000,240000,120000,0]
[500000,549999,260000,null,null,null,1000001,310000,210000,110000,0]
[550000,599999,210000,null,null,null,1050001,260000,180000,90000,0]
[600000,649999,160000,null,null,null,1100001,210000,140000,70000,0]
[650000,699999,110000,null,null,null,1150001,160000,110000,60000,0]
[700000,749999,60000,null,null,null,1200001,110000,80000,40000,0]
[750000,759999,30000,null,null,null,1250001,60000,40000,20000,0]
[760000,null,0,null,null,null,1300001,30000,20000,10000,0]
[null,null,null,null,null,null,1330001,0,0,0,0]
[]
[null,null,null,null,null,"配偶者控除・老人（上乗せ）",null,100000,60000,30000,0]
["給与等の収入金額→年調給与額計算用"]
["給与等の収入金額",null,"階差"]
["から","まで"]
[]
[0,1618999,1]
[1619000,1619999,1000]
[1620000,1623999,2000]
[1624000,6599999,4000]
[6600000,null,1]
[]
[]
[]
["年調給与額→給与所得計算用"]
["年調給与額",null,"給与所得"]
["から","まで","割合","調整金額"]
[]
[0,{"$f":"A34-1","v":550999},0,0]
[551000,1618999,1,-550000]
[1619000,1619999,0.6,97600]
[1620000,1621999,0.6,98000]
[1622000,1623999,0.6,98800]
[1624000,1627999,0.6,99600]
[1628000,1799999,0.6,100000]
[1800000,3599999,0.7,-80000]
[3600000,6599999,0.8,-440000]
[6600000,{"$f":"A43-1","v":8499999},0.9,-1100000]
[8500000,null,1,-1950000]
[]
[]
[]
[]
[]
["所得税額計算用"]
["給与所得控除後給与",null,"所得税額"]
["から","まで","税率","控除額"]
[0,{"$f":"A53-1","v":1950000},0.05]
[1950001,{"$f":"A54-1","v":3300000},0.1,-97500]
[3300001,{"$f":"A55-1","v":6950000},0.2,-427500]
[6950001,{"$f":"A56-1","v":9000000},0.23,-636000]
[9000001,null,0.33,-1536000]

{"sheet":"源泉徴収票(非)","index":12,"n_rows":49,"n_cols":181,"rows_kept":49,"cut":false,"hidden":true,"merged":[[24,146,25,153],[24,154,25,161],[24,164,25,172],[24,173,25,179],[26,146,27,153],[26,154,27,161],[26,164,27,172],[26,173,27,179],[42,60,42,77],[42,151,42,168],[24,132,27,138],[34,94,36,95],[39,96,39,131],[32,96,32,100],[31,126,32,131],[34,126,35,131],[35,101,35,122],[28,101,28,122],[29,101,29,122],[28,123,29,125],[31,123,32,125],[31,96,31,100],[28,126,29,131],[42,179,42,180],[24,32,26,34],[24,35,26,40],[25,10,26,31],[25,5,26,9],[24,123,26,125],[24,126,26,131],[25,96,26,100],[25,101,26,122],[27,96,27,100],[27,101,27,131],[24,55,25,62],[26,55,27,62],[24,63,25,70],[26,63,27,70],[24,73,25,81],[26,73,27,81],[24,82,25,88],[26,82,27,88],[24,10,24,31],[23,128,23,132],[22,114,22,119],[22,128,22,132],[22,103,22,113],[22,120,22,125],[23,97,23,102],[24,101,24,122],[24,41,27,47],[24,96,24,100],[23,120,23,125],[24,93,27,95],[21,132,21,137],[21,73,21,79],[18,6,20,89],[37,32,38,34],[23,73,23,88],[31,35,32,40],[34,35,35,40],[37,35,38,40],[31,45,31,49],[31,71,32,73],[32,45,32,49],[29,50,29,70],[31,50,31,70],[32,50,32,70],[28,45,28,49],[23,48,23,54],[23,63,23,72],[30,79,34,89],[37,45,37,49],[22,73,22,88],[27,10,27,40],[22,63,22,72],[38,10,38,31],[21,29,21,38],[21,138,21,144],[9,131,9,142],[9,111,9,124],[14,108,14,117],[16,94,16,110],[17,94,17,110],[17,117,17,133],[15,137,15,156],[18,97,20,180],[21,93,21,96],[21,146,21,151],[17,161,17,178],[15,157,15,180],[14,157,14,163],[14,164,14,169],[14,140,14,142],[14,148,14,150],[13,148,13,150],[10,93,10,105],[10,106,12,119],[13,96,13,99],[13,126,13,130],[17,140,17,153],[21,97,21,102],[37,10,37,31],[28,71,29,73],[28,50,28,70],[30,45,30,78],[33,45,33,78],[36,45,36,78],[39,45,39,78],[37,50,37,70],[38,50,38,70],[28,74,29,78],[39,10,39,40],[33,10,33,40],[31,32,32,34],[34,32,35,34],[28,35,29,40],[28,32,29,34],[35,10,35,31],[31,10,31,31],[32,10,32,31],[28,10,28,31],[29,10,29,31],[30,10,30,40],[37,74,38,78],[35,79,39,89],[28,44,30,44],[31,44,33,44],[34,44,36,44],[37,44,39,44],[23,55,23,62],[22,55,22,62],[22,48,22,54],[29,45,29,49],[24,48,27,53],[23,43,23,46],[28,41,39,43],[22,43,22,46],[38,45,38,49],[34,50,34,70],[35,50,35,70],[28,165,29,169],[34,10,34,31],[17,70,17,87],[28,93,39,93],[32,101,32,122],[37,101,37,122],[38,101,38,122],[28,96,28,100],[31,101,31,122],[23,114,23,119],[37,94,39,95],[37,96,37,100],[37,71,38,73],[22,93,23,96],[22,97,22,102],[21,103,21,111],[21,120,21,129],[21,80,21,88],[21,114,21,119],[28,94,30,95],[23,103,23,111],[43,83,43,87],[43,78,43,82],[43,117,43,120],[43,109,43,112],[43,113,43,116],[43,14,43,17],[45,14,45,89],[43,105,43,108],[43,60,43,77],[40,109,40,116],[40,98,42,100],[40,101,42,104],[41,30,42,33],[40,60,41,89],[40,14,42,17],[41,18,42,21],[41,22,42,25],[41,26,42,29],[42,88,42,89],[40,95,42,97],[40,93,42,94],[48,93,48,104],[44,92,46,92],[44,93,46,94],[45,95,45,104],[46,95,46,104],[44,95,44,180],[45,105,45,180],[46,105,46,146],[43,144,43,147],[43,148,43,150],[43,138,43,140],[43,141,43,143],[43,121,43,124],[43,179,43,180],[46,151,46,180],[43,174,43,178],[43,125,43,129],[43,130,43,133],[43,151,43,168],[43,134,43,137],[31,135,33,135],[36,96,36,131],[33,96,33,131],[30,96,30,131],[29,96,29,100],[31,136,31,140],[32,136,32,140],[28,135,30,135],[37,136,37,140],[38,136,38,140],[34,101,34,122],[34,135,36,135],[38,96,38,100],[34,96,34,100],[35,96,35,100],[30,136,30,169],[42,144,42,147],[42,148,42,150],[37,135,39,135],[28,132,39,134],[43,169,43,173],[40,105,42,108],[40,117,40,124],[15,93,15,113],[9,147,9,159],[12,120,12,130],[0,116,0,119],[2,93,6,95],[2,96,6,98],[9,93,9,108],[11,93,12,99],[11,100,12,105],[4,150,4,180],[3,142,3,180],[7,145,7,162],[7,163,7,180],[0,110,0,115],[14,120,14,125],[14,126,14,130],[7,93,7,108],[7,109,7,127],[7,128,7,144],[5,143,6,143],[2,99,6,141],[13,140,13,142],[12,131,12,142],[13,93,13,95],[14,135,14,139],[14,143,14,147],[14,93,14,95],[14,100,14,105],[48,2,48,13],[44,4,44,13],[45,4,45,13],[46,4,46,13],[42,78,42,82],[42,83,42,87],[43,18,43,21],[43,22,43,25],[43,26,43,29],[43,30,43,33],[42,57,42,59],[42,53,42,56],[40,2,42,3],[40,4,42,6],[40,7,42,9],[40,10,42,13],[40,34,42,38],[40,39,42,42],[40,18,40,25],[40,26,40,33],[46,14,46,55],[46,60,46,89],[44,14,44,45],[43,88,43,89],[44,1,46,1],[0,25,0,28],[2,5,6,7],[2,8,6,50],[43,43,43,46],[44,2,46,3],[40,43,41,59],[42,43,42,46],[42,47,42,49],[42,50,42,52],[43,34,43,38],[43,39,43,42],[43,57,43,59],[43,50,43,52],[43,47,43,49],[43,53,43,56],[16,3,16,19],[36,10,36,40],[28,2,39,2],[28,3,30,4],[31,3,33,4],[34,3,36,4],[37,3,39,4],[36,5,36,9],[37,5,37,9],[38,5,38,9],[39,5,39,9],[32,5,32,9],[33,5,33,9],[34,5,34,9],[35,5,35,9],[24,2,27,4],[24,5,24,9],[27,5,27,9],[28,5,28,9],[29,5,29,9],[30,5,30,9],[31,5,31,9],[22,2,23,5],[23,37,23,41],[22,37,22,41],[22,29,22,34],[22,6,22,11],[22,23,22,28],[23,6,23,11],[23,12,23,20],[22,12,22,22],[23,23,23,28],[23,29,23,34],[13,2,13,4],[13,5,13,8],[13,35,13,39],[14,40,14,43],[14,2,14,4],[21,2,21,5],[21,6,21,11],[21,23,21,28],[21,41,21,46],[21,12,21,20],[15,2,15,22],[15,23,15,45],[14,17,14,26],[15,46,15,65],[17,49,17,62],[21,55,21,60],[17,3,17,19],[17,26,17,42],[21,47,21,53],[21,61,21,70],[2,2,6,4],[5,52,6,52],[7,72,7,89],[3,59,3,89],[34,45,34,49],[34,71,35,73],[35,45,35,49],[31,74,32,78],[34,74,35,78],[9,2,9,17],[6,59,6,89],[10,66,11,85],[10,86,12,89],[12,79,12,85],[12,66,12,78],[7,2,7,17],[7,18,7,36],[7,37,7,53],[10,2,10,14],[14,9,14,14],[14,35,14,39],[14,29,14,34],[11,2,12,8],[11,9,12,14],[13,49,13,51],[13,57,13,59],[14,57,14,59],[15,66,15,89],[0,19,0,24],[10,15,12,28],[10,29,11,59],[12,29,12,39],[12,40,12,51],[12,52,12,59],[14,44,14,48],[14,66,14,72],[14,73,14,78],[14,79,14,85],[14,86,14,89],[14,52,14,56],[14,49,14,51],[9,75,9,88],[9,56,9,68],[9,40,9,51],[9,20,9,33],[10,60,12,65],[14,60,14,65],[5,59,5,89],[4,59,4,89],[22,134,22,137],[23,146,23,153],[32,141,32,161],[31,165,32,169],[31,162,32,164],[28,162,29,164],[24,139,27,144],[31,141,31,161],[5,150,5,180],[6,150,6,180],[14,151,14,156],[10,177,12,180],[12,143,12,150],[12,157,12,169],[12,170,12,176],[10,157,11,176],[10,151,12,156],[10,120,11,150],[14,170,14,176],[14,131,14,134],[7,54,7,71],[15,114,15,136],[14,177,14,180],[9,166,9,179],[42,174,42,178],[34,162,35,164],[35,141,35,161],[34,165,35,169],[21,171,21,179],[22,146,22,153],[37,141,37,161],[37,162,38,164],[38,141,38,161],[28,170,39,180],[23,164,23,179],[23,154,23,163],[22,154,22,163],[22,164,22,179],[21,152,21,161],[22,139,22,145],[23,139,23,145],[21,164,21,170],[33,136,33,169],[40,134,41,150],[28,141,28,161],[29,141,29,161],[23,134,23,137],[29,136,29,140],[31,94,33,95],[39,136,39,169],[36,136,36,169],[34,141,34,161],[35,136,35,140],[40,125,42,129],[42,138,42,140],[37,126,38,131],[37,165,38,169],[40,130,42,133],[42,134,42,137],[42,169,42,173],[42,141,42,143],[34,123,35,125],[34,136,34,140],[40,151,41,180],[28,136,28,140],[37,123,38,125],[41,109,42,112],[41,113,42,116],[41,117,42,120],[41,121,42,124]]}
[null,null,null,null,null,null,null,null,null,null,null,null,null,null,null,null,null,null,null,"令和",null,null,null,null,null,{"$f":"'源泉徴収票計算(非)'!Z1","v":"03"},null,null,null,null,"年分",null,null,null,null,null,null,null,null,null,null,null,"給与所得の源泉徴収票",null,null,null,null,null,null,null,null,null,null,null,null,null,null,null,null,null,null,null,null,null,null,null,null,null,null,null,null,null,null,null,null,null,null,null,null,null,null,null,null,null,null,null,null,null,null,null,null,null,null,null,null,null,null,null,null,null,null,null,null,null,null,null,null,null,null,null,"令和",null,null,null,null,null,{"$f":"Z1","v":"03"},null,null,null,null,"年分",null,null,null,null,null,null,null,null,null,null,null,"給与所得の源泉徴収票"]
[]
[null,null,"支　払\nを受け\nる　者",null,null,"住所又は居所",null,null,{"$f":"'源泉徴収票計算(非)'!I3","v":""},null,null,null,null,null,null,null,null,null,null,null,null,null,null,null,null,null,null,null,null,null,null,null,null,null,null,null,null,null,null,null,null,null,null,null,null,null,null,null,null,null,null,"(受給者番号)",null,null,null,null,null,null,null,null,null,null,null,null,null,null,null,null,null,null,null,null,null,null,null,null,null,null,null,null,null,null,null,null,null,null,null,null,null,null,null,null,null,"支　払\nを受け\nる　者",null,null,"住所又は居所",null,null,{"$f":"I3","v":""},null,null,null,null,null,null,null,null,null,null,null,null,null,null,null,null,null,null,null,null,null,null,null,null,null,null,null,null,null,null,null,null,null,null,null,null,null,null,null,null,null,null,"(受給者番号)"]
[null,null,null,null,null,null,null,null,null,null,null,null,null,null,null,null,null,null,null,null,null,null,null,null,null,null,null,null,null,null,null,null,null,null,null,null,null,null,null,null,null,null,null,null,null,null,null,null,null,null,null,"(個人番号)",null,null,null,null,null,null,null,{"$f":"'源泉徴収票計算(非)'!BH4","v":""}]
[null,null,null,null,null,null,null,null,null,null,null,null,null,null,null,null,null,null,null,null,null,null,null,null,null,null,null,null,null,null,null,null,null,null,null,null,null,null,null,null,null,null,null,null,null,null,null,null,null,null,null,"(役職名)",null,null,null,null,null,null,null,{"$f":"'源泉徴収票計算(非)'!BH5","v":""},null,null,null,null,null,null,null,null,null,null,null,null,null,null,null,null,null,null,null,null,null,null,null,null,null,null,null,null,null,null,null,null,null,null,null,null,null,null,null,null,null,null,null,null,null,null,null,null,null,null,null,null,null,null,null,null,null,null,null,null,null,null,null,null,null,null,null,null,null,null,null,null,null,null,null,null,null,null,null,null,null,null,"(役職名)",null,null,null,null,null,null,null,{"$f":"BH5","v":""}]
[null,null,null,null,null,null,null,null,null,null,null,null,null,null,null,null,null,null,null,null,null,null,null,null,null,null,null,null,null,null,null,null,null,null,null,null,null,null,null,null,null,null,null,null,null,null,null,null,null,null,null,null,"氏　名",null,"(フリガナ)",null,null,null,null,{"$f":"'源泉徴収票計算(非)'!BH6","v":""},null,null,null,null,null,null,null,null,null,null,null,null,null,null,null,null,null,null,null,null,null,null,null,null,null,null,null,null,null,null,null,null,null,null,null,null,null,null,null,null,null,null,null,null,null,null,null,null,null,null,null,null,null,null,null,null,null,null,null,null,null,null,null,null,null,null,null,null,null,null,null,null,null,null,null,null,null,null,null,null,null,null,null,"氏　名",null,"(フリガナ)",null,null,null,null,{"$f":"BH6","v":""}]
[null,null,null,null,null,null,null,null,null,null,null,null,null,null,null,null,null,null,null,null,null,null,null,null,null,null,null,null,null,null,null,null,null,null,null,null,null,null,null,null,null,null,null,null,null,null,null,null,null,null,null,null,null,null,null,null,null,null,null,{"$f":"'源泉徴収票計算(非)'!BH7","v":""},null,null,null,null,null,null,null,null,null,null,null,null,null,null,null,null,null,null,null,null,null,null,null,null,null,null,null,null,null,null,null,null,null,null,null,null,null,null,null,null,null,null,null,null,null,null,null,null,null,null,null,null,null,null,null,null,null,null,null,null,null,null,null,null,null,null,null,null,null,null,null,null,null,null,null,null,null,null,null,null,null,null,null,null,null,null,null,null,null,null,{"$f":"BH7","v":""}]
[null,null,"種別",null,null,null,null,null,null,null,null,null,null,null,null,null,null,null,"支払金額",null,null,null,null,null,null,null,null,null,null,null,null,null,null,null,null,null,null,"給与所得控除後の金額\n（調整控除後）",null,null,null,null,null,null,null,null,null,null,null,null,null,null,null,null,"所得控除の額の合計額",null,null,null,null,null,null,null,null,null,null,null,null,null,null,null,null,null,"源泉徴収税額",null,null,null,null,null,null,null,null,null,null,null,null,null,null,null,null,null,null,null,null,"種別",null,null,null,null,null,null,null,null,null,null,null,null,null,null,null,"支払金額",null,null,null,null,null,null,null,null,null,null,null,null,null,null,null,null,null,null,"給与所得控除後の金額\n（調整控除後）",null,null,null,null,null,null,null,null,null,null,null,null,null,null,null,null,"所得控除の額の合計額",null,null,null,null,null,null,null,null,null,null,null,null,null,null,null,null,null,"源泉徴収税額"]
[null,null,null,null,null,null,null,null,null,null,null,null,null,null,null,null,null,null,"内",null,null,null,null,null,null,null,null,null,null,null,null,null,null,null,null,null,"円",null,null,null,null,null,null,null,null,null,null,null,null,null,null,null,null,"円",null,null,null,null,null,null,null,null,null,null,null,null,null,null,null,null,null,"円","内",null,null,null,null,null,null,null,null,null,null,null,null,null,null,null,null,"円",null,null,null,null,null,null,null,null,null,null,null,null,null,null,null,null,null,null,null,"内",null,null,null,null,null,null,null,null,null,null,null,null,null,null,null,null,null,"円",null,null,null,null,null,null,null,null,null,null,null,null,null,null,null,null,"円",null,null,null,null,null,null,null,null,null,null,null,null,null,null,null,null,null,"円","内",null,null,null,null,null,null,null,null,null,null,null,null,null,null,null,null,"円"]
[null,null,{"$f":"'源泉徴収票計算(非)'!C10","v":"給料・賞与"},null,null,null,null,null,null,null,null,null,null,null,null,null,null,null,null,null,{"$f":"'源泉徴収票計算(非)'!U10","v":0},null,null,null,null,null,null,null,null,null,null,null,null,null,null,null,null,null,null,null,{"$f":"'源泉徴収票計算(非)'!AO10","v":0},null,null,null,null,null,null,null,null,null,null,null,null,null,null,null,{"$f":"'源泉徴収票計算(非)'!BE10","v":0},null,null,null,null,null,null,null,null,null,null,null,null,null,null,null,null,null,null,{"$f":"'源泉徴収票計算(非)'!BX10","v":0},null,null,null,null,null,null,null,null,null,null,null,null,null,null,null,null,null,{"$f":"C10","v":"給料・賞与"},null,null,null,null,null,null,null,null,null,null,null,null,null,null,null,null,null,{"$f":"U10","v":0},null,null,null,null,null,null,null,null,null,null,null,null,null,null,null,null,null,null,null,{"$f":"AO10","v":0},null,null,null,null,null,null,null,null,null,null,null,null,null,null,null,{"$f":"BE10","v":0},null,null,null,null,null,null,null,null,null,null,null,null,null,null,null,null,null,null,{"$f":"BX10","v":0}]
[null,null,"（源泉）控除対象配偶者",null,null,null,null,null,null,null,null,null,null,null,null,"配偶者（特別）\n控除の額",null,null,null,null,null,null,null,null,null,null,null,null,null,"控除対象扶養親族の数\n（配偶者を除く。）",null,null,null,null,null,null,null,null,null,null,null,null,null,null,null,null,null,null,null,null,null,null,null,null,null,null,null,null,null,null,"16歳未満\n扶養親族\nの数",null,null,null,null,null,"障害者の数\n（本人を除く。）",null,null,null,null,null,null,null,null,null,null,null,null,null,null,null,null,null,null,null,"非居住者\nである\n親族の数",null,null,null,null,null,null,"（源泉）控除対象配偶者",null,null,null,null,null,null,null,null,null,null,null,null,"配偶者（特別）\n控除の額",null,null,null,null,null,null,null,null,null,null,null,null,null,"控除対象扶養親族の数\n（配偶者を除く。）",null,null,null,null,null,null,null,null,null,null,null,null,null,null,null,null,null,null,null,null,null,null,null,null,null,null,null,null,null,"16歳未満\n扶養親族\nの数","16歳未満\n扶養親族\nの数",null,null,null,null,null,"障害者の数\n（本人を除く。）",null,null,null,null,null,null,null,null,null,null,null,null,null,null,null,null,null,null,null,"非居住者\nである\n親族の数"]
[null,null,"の有無等",null,null,null,null,null,null,"老人",null,null,null,null,null,null,null,null,null,null,null,null,null,null,null,null,null,null,null,null,null,null,null,null,null,null,null,null,null,null,null,null,null,null,null,null,null,null,null,null,null,null,null,null,null,null,null,null,null,null,null,null,null,null,null,null,null,null,null,null,null,null,null,null,null,null,null,null,null,null,null,null,null,null,null,null,null,null,null,null,null,null,null,"の有無等",null,null,null,null,null,null,"老人"]
[null,null,null,null,null,null,null,null,null,null,null,null,null,null,null,null,null,null,null,null,null,null,null,null,null,null,null,null,null,"特定",null,null,null,null,null,null,null,null,null,null,"老人",null,null,null,null,null,null,null,null,null,null,null,"その他",null,null,null,null,null,null,null,null,null,null,null,null,null,"特別",null,null,null,null,null,null,null,null,null,null,null,null,"その他",null,null,null,null,null,null,null,null,null,null,null,null,null,null,null,null,null,null,null,null,null,null,null,null,null,null,null,null,null,null,null,null,null,null,null,null,null,null,null,null,"特定",null,null,null,null,null,null,null,null,null,null,"老人",null,null,null,null,null,null,null,null,null,null,null,"その他",null,null,null,null,null,null,null,null,null,null,null,null,null,"特別",null,null,null,null,null,null,null,null,null,null,null,null,"その他"]
[null,null,"有",null,null,"従有",null,null,null,null,null,null,null,null,null,null,null,null,null,null,null,null,null,null,null,null,null,null,"円",null,null,null,null,null,"人","従人",null,null,null,null,null,null,null,"内",null,null,null,null,"人","従人",null,null,null,null,null,null,"人","従人",null,null,null,null,null,null,null,"人",null,null,null,null,null,null,"内",null,null,null,null,null,"人",null,null,null,null,null,null,"人",null,null,null,"人",null,null,null,"有",null,null,"従有",null,null,null,null,null,null,null,null,null,null,null,null,null,null,null,null,null,null,null,null,null,null,"円",null,null,null,null,null,"人","従人",null,null,null,null,null,null,null,"内",null,null,null,null,"人","従人",null,null,null,null,null,null,"人","従人",null,null,null,null,null,null,null,"人",null,null,null,null,null,null,"内",null,null,null,null,null,"人",null,null,null,null,null,null,"人",null,null,null,"人"]
[null,null,{"$f":"'源泉徴収票計算(非)'!C15","v":""},null,null,null,null,null,null,{"$f":"'源泉徴収票計算(非)'!J15","v":""},null,null,null,null,null,null,null,{"$f":"'源泉徴収票計算(非)'!R15","v":0},null,null,null,null,null,null,null,null,null,null,null,{"$f":"'源泉徴収票計算(非)'!AD15","v":0},null,null,null,null,null,null,null,null,null,null,{"$f":"'源泉徴収票計算(非)'!AO15","v":0},null,null,null,{"$f":"'源泉徴収票計算(非)'!AS15","v":0},null,null,null,null,{"$f":"'源泉徴収票計算(非)'!AX15","v":0},null,null,{"$f":"'源泉徴収票計算(非)'!BA15","v":0},null,null,null,null,null,null,null,{"$f":"'源泉徴収票計算(非)'!BI15","v":0},null,null,null,null,null,{"$f":"'源泉徴収票計算(非)'!BO15","v":0},null,null,null,null,null,null,{"$f":"'源泉徴収票計算(非)'!BV15","v":0},null,null,null,null,null,{"$f":"'源泉徴収票計算(非)'!CB15","v":0},null,null,null,null,null,null,null,null,null,null,null,null,null,{"$f":"C15","v":""},null,null,null,null,null,null,{"$f":"J15","v":""},null,null,null,null,null,null,null,{"$f":"R15","v":0},null,null,null,null,null,null,null,null,null,null,null,{"$f":"AD15","v":0},null,null,null,null,null,null,null,null,null,null,{"$f":"AO15","v":0},null,null,null,{"$f":"AS15","v":0},null,null,null,null,{"$f":"AX15","v":0},null,null,{"$f":"BA15","v":0},null,null,null,null,null,null,null,{"$f":"BI15","v":0},null,null,null,null,null,{"$f":"BO15","v":0},null,null,null,null,null,null,{"$f":"BV15","v":0},null,null,null,null,null,{"$f":"CB15","v":0}]
[null,null,"社会保険料等の金額",null,null,null,null,null,null,null,null,null,null,null,null,null,null,null,null,null,null,null,null,"生命保険料の控除額",null,null,null,null,null,null,null,null,null,null,null,null,null,null,null,null,null,null,null,null,null,null,"地震保険料の控除額",null,null,null,null,null,null,null,null,null,null,null,null,null,null,null,null,null,null,null,"住宅借入金等特別控除の額",null,null,null,null,null,null,null,null,null,null,null,null,null,null,null,null,null,null,null,null,null,null,null,null,null,null,"社会保険料等の金額",null,null,null,null,null,null,null,null,null,null,null,null,null,null,null,null,null,null,null,null,"生命保険料の控除額",null,null,null,null,null,null,null,null,null,null,null,null,null,null,null,null,null,null,null,null,null,null,"地震保険料の控除額",null,null,null,null,null,null,null,null,null,null,null,null,null,null,null,null,null,null,null,"住宅借入金等特別控除の額"]
[null,null,"内",{"$f":"'源泉徴収票計算(非)'!D17","v":0},null,null,null,null,null,null,null,null,null,null,null,null,null,null,null,null,null,null,"円",null,null,null,null,null,null,null,null,null,null,null,null,null,null,null,null,null,null,null,null,null,null,"円",null,null,null,null,null,null,null,null,null,null,null,null,null,null,null,null,null,null,null,"円",null,null,null,null,null,null,null,null,null,null,null,null,null,null,null,null,null,null,null,null,null,null,null,"円",null,null,null,"内",{"$f":"D17","v":0},null,null,null,null,null,null,null,null,null,null,null,null,null,null,null,null,null,null,"円",null,null,null,null,null,null,null,null,null,null,null,null,null,null,null,null,null,null,null,null,null,null,"円",null,null,null,null,null,null,null,null,null,null,null,null,null,null,null,null,null,null,null,"円",null,null,null,null,null,null,null,null,null,null,null,null,null,null,null,null,null,null,null,null,null,null,null,"円"]
[null,null,null,{"$f":"'源泉徴収票計算(非)'!D18","v":0},null,null,null,null,null,null,null,null,null,null,null,null,null,null,null,null,null,null,null,null,null,null,{"$f":"'源泉徴収票計算(非)'!AA18","v":0},null,null,null,null,null,null,null,null,null,null,null,null,null,null,null,null,null,null,null,null,null,null,{"$f":"'源泉徴収票計算(非)'!AX18","v":0},null,null,null,null,null,null,null,null,null,null,null,null,null,null,null,null,null,null,null,null,{"$f":"'源泉徴収票計算(非)'!BS18","v":0},null,null,null,null,null,null,null,null,null,null,null,null,null,null,null,null,null,null,null,null,null,null,null,{"$f":"D18","v":0},null,null,null,null,null,null,null,null,null,null,null,null,null,null,null,null,null,null,null,null,null,null,{"$f":"AA18","v":0},null,null,null,null,null,null,null,null,null,null,null,null,null,null,null,null,null,null,null,null,null,null,{"$f":"AX18","v":0},null,null,null,null,null,null,null,null,null,null,null,null,null,null,null,null,null,null,null,null,{"$f":"BS18","v":0}]
[null,null,"（摘要）",null,null,null,{"$f":"'源泉徴収票計算(非)'!G19","v":""},null,null,null,null,null,null,null,null,null,null,null,null,null,null,null,null,null,null,null,null,null,null,null,null,null,null,null,null,null,null,null,null,null,null,null,null,null,null,null,null,null,null,null,null,null,null,null,null,null,null,null,null,null,null,null,null,null,null,null,null,null,null,null,null,null,null,null,null,null,null,null,null,null,null,null,null,null,null,null,null,null,null,null,null,null,null,"（摘要）",null,null,null,{"$f":"G19","v":""}]
[]
[]
[null,null,"生命保険料の金額の\n内訳",null,null,null,"新生命保険料の金額",null,null,null,null,null,{"$f":"'源泉徴収票計算(非)'!M22","v":""},null,null,null,null,null,null,null,null,null,"円","旧生命保険料\nの金額",null,null,null,null,null,{"$f":"'源泉徴収票計算(非)'!AD22","v":""},null,null,null,null,null,null,null,null,null,null,"円","介護医療保\n険料の金額",null,null,null,null,null,{"$f":"'源泉徴収票計算(非)'!AV22","v":""},null,null,null,null,null,null,"円","新個人年金\n保険料の金額",null,null,null,null,null,{"$f":"'源泉徴収票計算(非)'!BJ22","v":""},null,null,null,null,null,null,null,null,null,null,"円","旧個人年金\n保険料の金額",null,null,null,null,null,null,{"$f":"'源泉徴収票計算(非)'!CC22","v":""},null,null,null,null,null,null,null,null,"円",null,null,null,"生命保険料の金額の\n内訳",null,null,null,"新生命保険料の金額",null,null,null,null,null,{"$f":"M22","v":""},null,null,null,null,null,null,null,null,null,"円","旧生命保険料\nの金額",null,null,null,null,null,{"$f":"AD22","v":""},null,null,null,null,null,null,null,null,null,null,"円","介護医療保\n険料の金額",null,null,null,null,null,{"$f":"AV22","v":""},0,0,0,0,0,0,"円","新個人年金\n保険料の金額",null,null,null,null,null,{"$f":"BJ22","v":""},0,0,0,0,0,0,0,0,0,null,"円","旧個人年金\n保険料の金額",null,null,null,null,null,null,{"$f":"CC22","v":""},0,0,0,0,0,0,0,0,"円"]
[null,null,"住宅借入金等特別控除の額の内訳",null,null,null,"住宅借入金等\n特別控除適用数",null,null,null,null,null,{"$f":"'源泉徴収票計算(非)'!M23","v":""},null,null,null,null,null,null,null,null,null,null,"居住開始年月日\n（１回目）",null,null,null,null,null,{"$f":"'源泉徴収票計算(非)'!AD23","v":""},null,null,null,null,null,null,"年",{"$f":"'源泉徴収票計算(非)'!AL23","v":""},null,null,null,null,"月",{"$f":"'源泉徴収票計算(非)'!AR23","v":""},null,null,null,"日","住宅借入金等特別控除区分（1回目）",null,null,null,null,null,null,{"$f":"'源泉徴収票計算(非)'!BD23","v":""},null,null,null,null,null,null,null,"住宅借入金等\n年末残高（1回目）",null,null,null,null,null,null,null,null,null,{"$f":"'源泉徴収票計算(非)'!BV23","v":""},null,null,null,null,null,null,null,null,null,null,null,null,null,null,null,"円",null,null,null,"住宅借入金等特別控除の額の内訳",null,null,null,"住宅借入金等\n特別控除適用数",null,null,null,null,null,{"$f":"M23","v":""},null,null,null,null,null,null,null,null,null,null,"居住開始年月日\n（１回目）",null,null,null,null,null,{"$f":"AD23","v":""},null,null,null,null,null,null,"年",{"$f":"AL23","v":""},null,null,null,null,"月",{"$f":"AR23","v":""},null,null,null,"日","住宅借入金等特別控除区分（1回目）",null,null,null,null,null,null,{"$f":"BD23","v":""},0,0,0,0,0,0,0,"住宅借入金等\n年末残高（1回目）",null,null,null,null,null,null,null,null,null,{"$f":"BV23","v":""},0,0,0,0,0,0,0,0,0,0,0,0,0,0,0,"円"]
[null,null,null,null,null,null,"住宅借入金等\n特別控除可能額",null,null,null,null,null,{"$f":"'源泉徴収票計算(非)'!M24","v":""},null,null,null,null,null,null,null,null,null,"円","居住開始年月日\n（2回目）",null,null,null,null,null,{"$f":"'源泉徴収票計算(非)'!AD24","v":""},null,null,null,null,null,null,"年",{"$f":"'源泉徴収票計算(非)'!AL24","v":""},null,null,null,null,"月",{"$f":"'源泉徴収票計算(非)'!AR24","v":""},null,null,null,"日","住宅借入金等特別控除区分（2回目）",null,null,null,null,null,null,{"$f":"'源泉徴収票計算(非)'!BD24","v":""},null,null,null,null,null,null,null,"住宅借入金等\n年末残高（2回目）",null,null,null,null,null,null,null,null,null,{"$f":"'源泉徴収票計算(非)'!BV24","v":""},null,null,null,null,null,null,null,null,null,null,null,null,null,null,null,"円",null,null,null,null,null,null,null,"住宅借入金等\n特別控除可能額",null,null,null,null,null,{"$f":"M24","v":""},null,null,null,null,null,null,null,null,null,"円","居住開始年月日\n（2回目）",null,null,null,null,null,{"$f":"AD24","v":""},null,null,null,null,null,null,"年",{"$f":"AL24","v":""},null,null,null,null,"月",{"$f":"AR24","v":""},null,null,null,"日","住宅借入金等特別控除区分（2回目）",null,null,null,null,null,null,{"$f":"BD24","v":""},0,0,0,0,0,0,0,"住宅借入金等\n年末残高（2回目）",null,null,null,null,null,null,null,null,null,"",0,0,0,0,0,0,0,0,0,0,0,0,0,0,0,"円"]
[null,null,"(源泉・特別)控除対象配偶者",null,null,"(フリガナ)",null,null,null,null,{"$f":"'源泉徴収票計算(非)'!K25","v":""},null,null,null,null,null,null,null,null,null,null,null,null,null,null,null,null,null,null,null,null,null,"区分",null,null,{"$f":"'源泉徴収票計算(非)'!AJ25","v":""},null,null,null,null,null,"配偶者の\n合計所得",null,null,null,null,null,null,{"$f":"'源泉徴収票計算(非)'!AW25","v":""},null,null,null,null,null,"円","国民年金保険\n料等の金額",null,null,null,null,null,null,null,{"$f":"'源泉徴収票計算(非)'!BL25","v":""},null,null,null,null,null,null,null,null,"円","旧長期損害\n保険料の金額",null,null,null,null,null,null,null,null,{"$f":"'源泉徴収票計算(非)'!CE25","v":""},null,null,null,null,null,null,"円",null,null,null,"(源泉・特別)控除対象配偶者",null,null,"(フリガナ)",null,null,null,null,{"$f":"K25","v":""},null,null,null,null,null,null,null,null,null,null,null,null,null,null,null,null,null,null,null,null,null,"区分",null,null,{"$f":"AJ25","v":""},null,null,null,null,null,"配偶者の\n合計所得",null,null,null,null,null,null,{"$f":"AW25","v":""},0,0,0,{"$f":"BA25","v":0},0,"円","国民年金保険\n料等の金額",null,null,null,null,null,null,null,{"$f":"BL25","v":""},null,null,null,null,null,null,null,null,"円","旧長期損害\n保険料の金額",null,null,null,null,null,null,null,null,"",null,null,null,null,null,null,"円"]
[null,null,null,null,null,"氏名",null,null,null,null,{"$f":"'源泉徴収票計算(非)'!K26","v":""},null,null,null,null,null,null,null,null,null,null,null,null,null,null,null,null,null,null,null,null,null,null,null,null,null,null,null,null,null,null,null,null,null,null,null,null,null,null,null,null,null,null,null,null,null,null,null,null,null,null,null,null,null,null,null,null,null,null,null,null,null,null,null,null,null,null,null,null,null,null,null,null,null,null,null,null,null,null,null,null,null,null,null,null,null,"氏名",null,null,null,null,"",null,null,null,null,null,null,null,null,null,null,null,null,null,null,null,null,null,null,null,null,null,null,null,null,null,null,null,null,null,null,null,null,null,null,null,null,null,0,0,0,0,0,0]
[null,null,null,null,null,null,null,null,null,null,null,null,null,null,null,null,null,null,null,null,null,null,null,null,null,null,null,null,null,null,null,null,null,null,null,null,null,null,null,null,null,null,null,null,null,null,null,null,null,null,null,null,null,null,null,"基礎控除の額",null,null,null,null,null,null,null,{"$f":"'源泉徴収票計算(非)'!BL27","v":""},null,null,null,null,null,null,null,null,null,"所得金額\n調整控除額",null,null,null,null,null,null,null,null,{"$f":"'源泉徴収票計算(非)'!CE27","v":""},null,null,null,null,null,null,null,null,null,null,null,null,null,null,null,null,null,null,null,null,null,null,null,null,null,null,null,null,null,null,null,null,null,null,null,null,null,null,null,null,null,null,null,null,null,null,null,null,null,null,null,null,null,null,null,null,null,null,null,null,null,null,null,"基礎控除の額",null,null,null,null,null,null,null,{"$f":"BL27","v":""},null,null,null,null,null,null,null,null,null,"所得金額\n調整控除額",null,null,null,null,null,null,null,null,{"$f":"CE27","v":""}]
[null,null,null,null,null,"個人番号",null,null,null,null,{"$f":"'源泉徴収票計算(非)'!K28","v":""},null,null,null,null,null,null,null,null,null,null,null,null,null,null,null,null,null,null,null,null,null,null,null,null,null,null,null,null,null,null,null,null,null,null,null,null,null,null,null,null,null,null,null,null,null,null,null,null,null,null,null,null,null,null,null,null,null,null,null,null,null,null,null,null,null,null,null,null,null,null,null,null,null,null,null,null,null,null,null,null,null,null,null,null,null,null,null,null,null,null,null,null,null,null,null,null,null,null,null,null,null,null,null,null,null,null,null,null,null,null,null,null,null,null,null,null,null,null,null,null,null,null,null,null,null,null,null,null,0,0,0,0,0,0]
[null,null,"控除対象扶養親族",1,null,"(フリガナ)",null,null,null,null,{"$f":"'源泉徴収票計算(非)'!K29","v":""},null,null,null,null,null,null,null,null,null,null,null,null,null,null,null,null,null,null,null,null,null,"区分",null,null,{"$f":"'源泉徴収票計算(非)'!AJ29","v":""},null,null,null,null,null,"16歳未満の扶養親族",null,null,1,"(フリガナ)",null,null,null,null,{"$f":"'源泉徴収票計算(非)'!AY29","v":""},null,null,null,null,null,null,null,null,null,null,null,null,null,null,null,null,null,null,null,null,"区分",null,null,{"$f":"'源泉徴収票計算(非)'!BW29","v":""},null,null,null,null,"（備考）",null,null,null,null,null,null,null,null,null,null,null,null,null,"控除対象扶養親族",1,null,"(フリガナ)",null,null,null,null,"",null,null,null,null,null,null,null,null,null,null,null,null,null,null,null,null,null,null,null,null,null,"区分",null,null,{"$f":"AJ29","v":""},null,null,null,null,null,"16歳未満の扶養親族",null,null,1,"(フリガナ)",null,null,null,null,{"$f":"AY29","v":""},{"$f":"AZ29","v":0},0,0,{"$f":"BC29","v":0},0,0,0,0,0,0,0,0,0,0,0,0,0,0,0,0,"区分",null,null,{"$f":"BW29","v":""},null,null,null,null,"（備考）"]
[null,null,null,null,null,"氏名",null,null,null,null,{"$f":"'源泉徴収票計算(非)'!K30","v":""},null,null,null,null,null,null,null,null,null,null,null,null,null,null,null,null,null,null,null,null,null,null,null,null,null,null,null,null,null,null,null,null,null,null,"氏名",null,null,null,null,{"$f":"'源泉徴収票計算(非)'!AY30","v":""},null,null,null,null,null,null,null,null,null,null,null,null,null,null,null,null,null,null,null,null,null,null,null,null,null,null,null,null,null,null,null,null,null,null,null,null,null,null,null,null,null,null,null,null,null,"氏名",null,null,null,null,"",null,null,null,null,null,null,null,null,null,null,null,null,null,null,null,null,null,null,null,null,null,null,null,null,null,null,null,null,null,null,null,null,null,null,"氏名",null,null,null,null,{"$f":"AY30","v":""},{"$f":"AZ30","v":0},0,0,0,0,0,0,0,0,0,0,0,0,0,0,0,0,0,0,0]
[null,null,null,null,null,"個人番号",null,null,null,null,{"$f":"'源泉徴収票計算(非)'!K31","v":""},null,null,null,null,null,null,null,null,null,null,null,null,null,null,null,null,null,null,null,null,null,null,null,null,null,null,null,null,null,null,null,null,null,null,null,null,null,null,null,null,null,null,null,null,null,null,null,null,null,null,null,null,null,null,null,null,null,null,null,null,null,null,null,null,null,null,null,null,{"$f":"'源泉徴収票計算(非)'!CB31","v":""}]
[null,null,null,2,null,"(フリガナ)",null,null,null,null,{"$f":"'源泉徴収票計算(非)'!K32","v":""},null,null,null,null,null,null,null,null,null,null,null,null,null,null,null,null,null,null,null,null,null,"区分",null,null,{"$f":"'源泉徴収票計算(非)'!AJ32","v":""},null,null,null,null,null,null,null,null,2,"(フリガナ)",null,null,null,null,{"$f":"'源泉徴収票計算(非)'!AY32","v":""},null,null,null,null,null,null,null,null,null,null,null,null,null,null,null,null,null,null,null,null,"区分",null,null,{"$f":"'源泉徴収票計算(非)'!BW32","v":""},null,null,null,null,null,null,null,null,null,null,null,null,null,null,null,null,null,null,null,2,null,"(フリガナ)",null,null,null,null,"",null,null,null,null,null,null,null,null,null,null,null,null,null,null,null,null,null,null,null,null,null,"区分",null,null,{"$f":"AJ32","v":""},null,null,null,null,null,null,null,null,2,"(フリガナ)",null,null,null,null,{"$f":"AY32","v":""},0,0,0,0,0,0,0,0,0,0,0,0,0,0,0,0,0,0,0,0,"区分",null,null,{"$f":"BW32","v":""}]
[null,null,null,null,null,"氏名",null,null,null,null,{"$f":"'源泉徴収票計算(非)'!K33","v":""},null,null,null,null,null,null,null,null,null,null,null,null,null,null,null,null,null,null,null,null,null,null,null,null,null,null,null,null,null,null,null,null,null,null,"氏名",null,null,null,null,{"$f":"'源泉徴収票計算(非)'!AY33","v":""},null,null,null,null,null,null,null,null,null,null,null,null,null,null,null,null,null,null,null,null,null,null,null,null,null,null,null,null,null,null,null,null,null,null,null,null,null,null,null,null,null,null,null,null,null,"氏名",null,null,null,null,"",null,null,null,null,null,null,null,null,null,null,null,null,null,null,null,null,null,null,null,null,null,null,null,null,null,null,null,null,null,null,null,null,null,null,"氏名",null,null,null,null,"",0,0,0,0,0,0,0,0,0,0,0,0,0,0,0,0,0,0,0,0]
[null,null,null,null,null,"個人番号",null,null,null,null,{"$f":"'源泉徴収票計算(非)'!K34","v":""}]
[null,null,null,3,null,"(フリガナ)",null,null,null,null,{"$f":"'源泉徴収票計算(非)'!K35","v":""},null,null,null,null,null,null,null,null,null,null,null,null,null,null,null,null,null,null,null,null,null,"区分",null,null,{"$f":"'源泉徴収票計算(非)'!AJ35","v":""},null,null,null,null,null,null,null,null,3,"(フリガナ)",null,null,null,null,{"$f":"'源泉徴収票計算(非)'!AY35","v":""},null,null,null,null,null,null,null,null,null,null,null,null,null,null,null,null,null,null,null,null,"区分",null,null,{"$f":"'源泉徴収票計算(非)'!BW35","v":""},null,null,null,null,null,null,null,null,null,null,null,null,null,null,null,null,null,null,null,3,null,"(フリガナ)",null,null,null,null,"",null,null,null,null,null,null,null,null,null,null,null,null,null,null,null,null,null,null,null,null,null,"区分",null,null,{"$f":"AJ35","v":""},null,null,null,null,null,null,null,null,3,"(フリガナ)",null,null,null,null,{"$f":"AY35","v":""},0,0,0,0,0,0,0,0,0,0,0,0,0,0,0,0,0,0,0,0,"区分",null,null,{"$f":"BW35","v":""}]
[null,null,null,null,null,"氏名",null,null,null,null,{"$f":"'源泉徴収票計算(非)'!K36","v":""},null,null,null,null,null,null,null,null,null,null,null,null,null,null,null,null,null,null,null,null,null,null,null,null,null,null,null,null,null,null,null,null,null,null,"氏名",null,null,null,null,{"$f":"'源泉徴収票計算(非)'!AY36","v":""},null,null,null,null,null,null,null,null,null,null,null,null,null,null,null,null,null,null,null,null,null,null,null,null,null,null,null,null,null,null,null,null,null,null,null,null,null,null,null,null,null,null,null,null,null,"氏名",null,null,null,null,"",null,null,null,null,null,null,null,null,null,null,null,null,null,null,null,null,null,null,null,null,null,null,null,null,null,null,null,null,null,null,null,null,null,null,"氏名",null,null,null,null,"",0,0,0,0,0,0,0,0,0,0,0,0,0,0,0,0,0,0,0,0]
[null,null,null,null,null,"個人番号",null,null,null,null,{"$f":"'源泉徴収票計算(非)'!K37","v":""}]
[null,null,null,4,null,"(フリガナ)",null,null,null,null,{"$f":"'源泉徴収票計算(非)'!K38","v":""},null,null,null,null,null,null,null,null,null,null,null,null,null,null,null,null,null,null,null,null,null,"区分",null,null,{"$f":"'源泉徴収票計算(非)'!AJ38","v":""},null,null,null,null,null,null,null,null,4,"(フリガナ)",null,null,null,null,{"$f":"'源泉徴収票計算(非)'!AY38","v":""},null,null,null,null,null,null,null,null,null,null,null,null,null,null,null,null,null,null,null,null,"区分",null,null,{"$f":"'源泉徴収票計算(非)'!BW38","v":""},null,null,null,null,null,null,null,null,null,null,null,null,null,null,null,null,null,null,null,4,null,"(フリガナ)",null,null,null,null,"",null,null,null,null,null,null,null,null,null,null,null,null,null,null,null,null,null,null,null,null,null,"区分",null,null,{"$f":"AJ38","v":""},null,null,null,null,null,null,null,null,4,"(フリガナ)",null,null,null,null,{"$f":"AY38","v":""},0,0,0,0,0,0,0,0,0,0,0,0,0,0,0,0,0,0,0,0,"区分",null,null,{"$f":"BW38","v":""}]
[null,null,null,null,null,"氏名",null,null,null,null,{"$f":"'源泉徴収票計算(非)'!K39","v":""},null,null,null,null,null,null,null,null,null,null,null,null,null,null,null,null,null,null,null,null,null,null,null,null,null,null,null,null,null,null,null,null,null,null,"氏名",null,null,null,null,{"$f":"'源泉徴収票計算(非)'!AY39","v":""},null,null,null,null,null,null,null,null,null,null,null,null,null,null,null,null,null,null,null,null,null,null,null,null,null,null,null,null,null,null,null,null,null,null,null,null,null,null,null,null,null,null,null,null,null,"氏名",null,null,null,null,"",null,null,null,null,null,null,null,null,null,null,null,null,null,null,null,null,null,null,null,null,null,null,null,null,null,null,null,null,null,null,null,null,null,null,"氏名",null,null,null,null,"",0,0,0,0,0,0,0,0,0,0,0,0,0,0,0,0,0,0,0,0]
[null,null,null,null,null,"個人番号",null,null,null,null,{"$f":"'源泉徴収票計算(非)'!K40","v":""}]
[null,null,"未成年者",null,"外国人",null,null,"死亡退職",null,null,"災害者",null,null,null,"乙欄",null,null,null,"本人が障害者",null,null,null,null,null,null,null,"寡婦",null,null,null,null,null,null,null,"寡婦",null,null,null,null,"ひとり親",null,null,null,"中途就・退職",null,null,null,null,null,null,null,null,null,null,null,null,null,null,null,null,"受給者生年月日",null,null,null,null,null,null,null,null,null,null,null,null,null,null,null,null,null,null,null,null,null,null,null,null,null,null,null,null,null,null,null,null,"未成年者",null,"外国人",null,null,"死亡退職",null,null,"災害者",null,null,null,"乙欄",null,null,null,"本人が障害者",null,null,null,null,null,null,null,"寡婦",null,null,null,null,null,null,null,"寡婦",null,null,null,null,"ひとり親",null,null,null,"中途就・退職",null,null,null,null,null,null,null,null,null,null,null,null,null,null,null,"受給者生年月日","受給者生年月日"]
[null,null,null,null,null,null,null,null,null,null,null,null,null,null,null,null,null,null,"特別",null,null,null,"その他",null,null,null,"一般",null,null,null,"特別",null,null,null,null,null,null,null,null,null,null,null,null,null,null,null,null,null,null,null,null,null,null,null,null,null,null,null,null,null,null,null,null,null,null,null,null,null,null,null,null,null,null,null,null,null,null,null,null,null,null,null,null,null,null,null,null,null,null,null,null,null,null,null,null,null,null,null,null,null,null,null,null,null,null,null,null,null,null,"特別",null,null,null,"その他",null,null,null,"一般",null,null,null,"特別"]
[null,null,null,null,null,null,null,null,null,null,null,null,null,null,null,null,null,null,null,null,null,null,null,null,null,null,null,null,null,null,null,null,null,null,null,null,null,null,null,null,null,null,null,"就職",null,null,null,"退職",null,null,"年",null,null,"月",null,null,null,"日",null,null,"元号",null,null,null,null,null,null,null,null,null,null,null,null,null,null,null,null,null,"年",null,null,null,null,"月",null,null,null,null,"日",null,null,null,null,null,null,null,null,null,null,null,null,null,null,null,null,null,null,null,null,null,null,null,null,null,null,null,null,null,null,null,null,null,null,null,null,null,null,null,null,null,null,null,null,null,"就職",null,null,null,"退職",null,null,"年",null,null,"月",null,null,null,"日",null,null,"元号",null,null,null,null,null,null,null,null,null,null,null,null,null,null,null,null,null,"年",null,null,null,null,"月",null,null,null,null,"日"]
[null,null,null,null,null,null,null,null,null,null,null,null,null,null,{"$f":"'源泉徴収票計算(非)'!O44","v":""},null,null,null,{"$f":"'源泉徴収票計算(非)'!S44","v":""},null,null,null,{"$f":"'源泉徴収票計算(非)'!W44","v":""},null,null,null,{"$f":"'源泉徴収票計算(非)'!AA44","v":""},null,null,null,{"$f":"'源泉徴収票計算(非)'!AE44","v":""},null,null,null,{"$f":"'源泉徴収票計算(非)'!AI44","v":""},null,null,null,null,{"$f":"'源泉徴収票計算(非)'!AN44","v":""},null,null,null,{"$f":"'源泉徴収票計算(非)'!AR44","v":""},null,null,null,{"$f":"'源泉徴収票計算(非)'!AV44","v":""},null,null,{"$f":"'源泉徴収票計算(非)'!AY44","v":""},null,null,{"$f":"'源泉徴収票計算(非)'!BB44","v":""},null,null,null,{"$f":"'源泉徴収票計算(非)'!BF44","v":""},null,null,{"$f":"'源泉徴収票計算(非)'!BI44","v":"明治"},null,null,null,null,null,null,null,null,null,null,null,null,null,null,null,null,null,{"$f":"'源泉徴収票計算(非)'!CA44","v":"33"},null,null,null,null,{"$f":"'源泉徴収票計算(非)'!CF44","v":"1"},null,null,null,null,{"$f":"'源泉徴収票計算(非)'!CK44","v":"0"},null,null,null,null,null,null,null,null,null,null,null,null,null,null,null,null,{"$f":"O44","v":""},null,null,null,{"$f":"S44","v":""},null,null,null,{"$f":"W44","v":""},null,null,null,{"$f":"AA44","v":""},null,null,null,{"$f":"AE44","v":""},null,null,null,{"$f":"AI44","v":""},null,null,null,null,{"$f":"AN44","v":""},null,null,null,{"$f":"AR44","v":""},null,null,null,{"$f":"AV44","v":""},0,0,"",0,0,"",0,0,0,"",0,0,"明治",0,0,0,0,0,0,0,0,0,0,0,0,0,0,0,0,0,"33",0,0,0,0,"1",0,0,0,0,"0",0]
[null,"(税務署提出用)","支払者",null,"個人番号又は\n法人番号",null,null,null,null,null,null,null,null,null,{"$f":"'源泉徴収票計算(非)'!O45","v":" 1 2 3 4 5 6 7 8 9 0 1 2 2"},null,null,null,null,null,null,null,null,null,null,null,null,null,null,null,null,null,null,null,null,null,null,null,null,null,null,null,null,null,null,null,"（右詰で記載してください。）",null,null,null,null,null,null,null,null,null,null,null,null,null,null,null,null,null,null,null,null,null,null,null,null,null,null,null,null,null,null,null,null,null,null,null,null,null,null,null,null,null,null,null,null,null,"(受給者交付用)","支払者"]
[null,null,null,null,"住所（居所）\n又は所在地",null,null,null,null,null,null,null,null,null,{"$f":"'源泉徴収票計算(非)'!O46","v":"東京都千代田区１－２－３"},null,null,null,null,null,null,null,null,null,null,null,null,null,null,null,null,null,null,null,null,null,null,null,null,null,null,null,null,null,null,null,null,null,null,null,null,null,null,null,null,null,null,null,null,null,null,null,null,null,null,null,null,null,null,null,null,null,null,null,null,null,null,null,null,null,null,null,null,null,null,null,null,null,null,null,null,null,null,null,null,"住所（居所）\n又は所在地",null,null,null,null,null,null,null,null,null,{"$f":"O46","v":"東京都千代田区１－２－３"}]
[null,null,null,null,"氏名又は名称",null,null,null,null,null,null,null,null,null,{"$f":"'源泉徴収票計算(非)'!O47","v":"ABC商事株式会社"},null,null,null,null,null,null,null,null,null,null,null,null,null,null,null,null,null,null,null,null,null,null,null,null,null,null,null,null,null,null,null,null,null,null,null,null,null,null,null,null,null,null,"（電話）",null,null,{"$f":"'源泉徴収票計算(非)'!BI47","v":"03-1234-5678"},null,null,null,null,null,null,null,null,null,null,null,null,null,null,null,null,null,null,null,null,null,null,null,null,null,null,null,null,null,null,null,null,null,null,"氏名又は名称",null,null,null,null,null,null,null,null,null,{"$f":"O47","v":"ABC商事株式会社"},null,null,null,null,null,null,null,null,null,null,null,null,null,null,null,null,null,null,null,null,null,null,null,null,null,null,null,null,null,null,null,null,null,null,null,null,null,null,null,null,null,null,"（電話）",null,null,{"$f":"BI47","v":"03-1234-5678"}]
[]
[null,null,"整理欄",null,null,null,null,null,null,null,null,null,null,null,null,null,null,null,null,null,null,null,null,null,null,null,null,null,null,null,null,null,null,null,null,null,null,null,null,null,null,null,null,null,null,null,null,null,null,null,null,null,null,null,null,null,null,null,null,null,null,null,null,null,null,null,null,null,null,null,null,null,null,null,null,null,null,null,null,null,null,null,null,null,null,null,null,null,null,375,null,null,null,"整理欄"]

{"sheet":"給与支払報告書(非)","index":13,"n_rows":49,"n_cols":181,"rows_kept":49,"cut":false,"hidden":true,"merged":[[26,173,27,179],[43,105,43,108],[43,148,43,150],[43,18,43,21],[43,22,43,25],[25,5,26,9],[25,10,26,31],[25,96,26,100],[25,101,26,122],[26,55,27,62],[26,63,27,70],[26,73,27,81],[26,82,27,88],[26,146,27,153],[43,47,43,49],[43,53,43,56],[43,88,43,89],[43,151,43,168],[24,82,25,88],[24,123,26,125],[24,126,26,131],[24,146,25,153],[24,154,25,161],[24,164,25,172],[26,154,27,161],[26,164,27,172],[43,130,43,133],[43,134,43,137],[43,113,43,116],[43,144,43,147],[43,141,43,143],[43,121,43,124],[43,125,43,129],[38,136,38,140],[42,141,42,143],[39,136,39,140],[39,141,39,169],[37,165,38,169],[42,169,42,173],[40,134,41,150],[37,135,39,135],[28,132,39,134],[34,136,34,140],[35,136,35,140],[36,136,36,140],[31,135,33,135],[31,136,31,140],[32,136,32,140],[33,136,33,140],[42,138,42,140],[34,141,34,161],[34,170,35,180],[30,170,33,180],[34,162,35,164],[35,141,35,161],[36,141,36,169],[31,141,31,161],[31,162,32,164],[32,141,32,161],[33,141,33,169],[42,174,42,178],[42,179,42,180],[37,141,37,161],[37,162,38,164],[38,141,38,161],[40,151,41,180],[42,144,42,147],[42,148,42,150],[36,170,39,180],[42,151,42,168],[10,106,12,119],[13,96,13,99],[7,93,7,108],[7,109,7,127],[27,96,27,100],[24,101,24,122],[24,93,27,95],[18,97,20,180],[15,114,15,136],[14,120,14,125],[14,126,14,130],[14,131,14,134],[14,135,14,139],[23,134,23,137],[23,146,23,153],[23,154,23,163],[21,93,21,96],[23,97,23,102],[13,148,13,150],[10,157,11,176],[10,151,12,156],[17,94,17,110],[17,140,17,153],[24,173,25,179],[13,49,13,51],[13,57,13,59],[14,57,14,59],[34,50,34,70],[35,50,35,70],[10,60,12,65],[14,60,14,65],[15,46,15,65],[28,50,28,70],[29,50,29,70],[30,45,30,49],[30,50,30,78],[28,74,29,78],[24,55,25,62],[24,63,25,70],[24,73,25,81],[24,41,27,47],[17,26,17,42],[14,17,14,26],[29,45,29,49],[28,71,29,73],[28,44,30,44],[28,45,28,49],[7,2,7,17],[7,18,7,36],[7,37,7,53],[10,2,10,14],[0,19,0,24],[2,2,6,4],[5,52,6,52],[7,72,7,89],[3,59,3,89],[9,2,9,17],[6,59,6,89],[9,40,9,51],[5,59,5,89],[4,59,4,89],[7,54,7,71],[21,2,21,5],[21,6,21,11],[21,23,21,28],[21,41,21,46],[21,12,21,20],[21,55,21,60],[21,29,21,38],[14,66,14,72],[14,73,14,78],[21,73,21,79],[18,6,20,89],[17,70,17,87],[16,3,16,19],[17,3,17,19],[17,49,17,62],[14,40,14,43],[14,2,14,4],[14,9,14,14],[14,35,14,39],[14,49,14,51],[14,29,14,34],[14,44,14,48],[21,47,21,53],[21,61,21,70],[22,29,22,34],[23,48,23,54],[23,63,23,72],[23,55,23,62],[22,55,22,62],[22,63,22,72],[22,2,23,5],[22,6,22,11],[22,23,22,28],[22,48,22,54],[23,6,23,11],[23,12,23,20],[22,12,22,22],[22,43,22,46],[23,37,23,41],[22,37,22,41],[23,23,23,28],[23,43,23,46],[24,10,24,31],[23,29,23,34],[24,2,27,4],[24,5,24,9],[27,5,27,9],[27,10,27,40],[24,32,26,34],[24,35,26,40],[28,2,39,2],[28,3,30,4],[31,3,33,4],[34,3,36,4],[37,3,39,4],[28,5,28,9],[29,5,29,9],[30,5,30,9],[31,5,31,9],[32,5,32,9],[39,5,39,9],[33,5,33,9],[34,5,34,9],[35,5,35,9],[36,5,36,9],[37,5,37,9],[38,5,38,9],[37,10,37,31],[31,44,33,44],[34,44,36,44],[37,44,39,44],[28,32,29,34],[31,32,32,34],[34,32,35,34],[37,32,38,34],[39,10,39,40],[33,10,33,40],[30,10,30,40],[38,10,38,31],[28,35,29,40],[29,10,29,31],[31,35,32,40],[28,41,39,43],[37,35,38,40],[34,35,35,40],[36,10,36,40],[34,10,34,31],[35,10,35,31],[31,10,31,31],[32,10,32,31],[44,1,46,1],[0,25,0,28],[2,5,6,7],[2,8,6,50],[43,43,43,46],[44,2,46,3],[40,34,42,38],[40,39,42,42],[40,18,40,25],[40,26,40,33],[41,30,42,33],[40,43,41,59],[42,43,42,46],[42,47,42,49],[42,50,42,52],[40,14,42,17],[41,18,42,21],[41,22,42,25],[41,26,42,29],[40,2,42,3],[40,4,42,6],[40,7,42,9],[40,10,42,13],[28,10,28,31],[48,2,48,13],[44,4,44,13],[45,4,45,13],[46,4,46,13],[42,78,42,82],[42,83,42,87],[42,53,42,56],[42,57,42,59],[43,14,43,17],[42,60,42,77],[43,60,43,77],[45,14,45,89],[46,14,46,55],[46,60,46,89],[44,14,44,45],[43,83,43,87],[43,78,43,82],[42,88,42,89],[43,26,43,29],[43,30,43,33],[43,34,43,38],[43,39,43,42],[43,57,43,59],[43,50,43,52],[5,143,6,143],[5,150,5,180],[6,150,6,180],[7,163,7,180],[2,99,6,141],[3,150,3,180],[4,150,4,180],[0,116,0,119],[2,93,6,95],[2,96,6,98],[0,110,0,115],[15,93,15,113],[7,128,7,144],[7,145,7,162],[15,137,15,156],[15,157,15,180],[14,157,14,163],[14,164,14,169],[14,140,14,142],[10,177,12,180],[12,143,12,150],[12,157,12,169],[12,170,12,176],[10,120,11,150],[14,177,14,180],[13,126,13,130],[13,140,13,142],[12,131,12,142],[13,93,13,95],[9,93,9,108],[11,93,12,99],[11,100,12,105],[12,120,12,130],[14,143,14,147],[10,93,10,105],[21,171,21,179],[22,146,22,153],[23,164,23,179],[28,141,28,161],[29,141,29,161],[30,141,30,169],[29,136,29,140],[30,136,30,140],[23,128,23,132],[28,136,28,140],[21,152,21,161],[21,164,21,170],[22,139,22,145],[23,139,23,145],[22,128,22,132],[22,134,22,137],[22,154,22,163],[22,164,22,179],[21,120,21,129],[21,138,21,144],[28,162,29,164],[24,139,27,144],[24,132,27,138],[28,170,29,180],[40,95,42,97],[40,98,42,100],[40,101,42,104],[31,94,33,95],[32,96,32,100],[33,96,33,100],[32,101,32,122],[33,101,33,131],[40,117,40,124],[40,109,40,116],[31,126,32,131],[40,105,42,108],[39,101,39,131],[37,126,38,131],[37,101,37,122],[38,101,38,122],[36,101,36,131],[34,101,34,122],[28,126,29,131],[28,101,28,122],[29,101,29,122],[28,123,29,125],[31,101,31,122],[30,96,30,100],[34,96,34,100],[36,96,36,100],[35,96,35,100],[30,101,30,131],[44,92,46,92],[29,96,29,100],[46,105,46,146],[43,138,43,140],[48,93,48,104],[45,105,45,180],[43,109,43,112],[41,117,42,120],[41,121,42,124],[40,125,42,129],[40,130,42,133],[41,109,42,112],[41,113,42,116],[44,93,46,94],[45,95,45,104],[46,95,46,104],[44,95,44,104],[40,93,42,94],[46,151,46,180],[43,174,43,178],[43,179,43,180],[43,169,43,173],[31,96,31,100],[43,117,43,120],[40,60,41,89],[32,45,32,49],[31,50,31,70],[32,50,32,70],[44,105,44,136],[33,45,33,49],[33,50,33,78],[36,50,36,78],[39,50,39,78],[31,123,32,125],[37,94,39,95],[37,96,37,100],[37,45,37,49],[37,71,38,73],[38,45,38,49],[37,50,37,70],[38,50,38,70],[36,45,36,49],[34,45,34,49],[34,71,35,73],[35,45,35,49],[37,136,37,140],[42,134,42,137],[37,123,38,125],[17,161,17,178],[21,80,21,88],[28,96,28,100],[34,94,36,95],[28,135,30,135],[21,146,21,151],[21,97,21,102],[21,114,21,119],[21,132,21,137],[22,103,22,113],[22,120,22,125],[21,103,21,111],[24,96,24,100],[34,123,35,125],[34,126,35,131],[35,101,35,122],[23,114,23,119],[27,101,27,131],[23,103,23,111],[23,120,23,125],[22,93,23,96],[22,97,22,102],[22,114,22,119],[28,94,30,95],[39,45,39,49],[31,45,31,49],[24,48,27,53],[31,74,32,78],[34,74,35,78],[37,74,38,78],[31,71,32,73],[28,79,29,89],[34,79,35,89],[30,79,33,89],[36,79,39,89],[4,1,20,1],[3,0,3,1],[9,75,9,88],[9,20,9,33],[9,56,9,68],[14,52,14,56],[15,2,15,22],[15,23,15,45],[15,66,15,89],[14,79,14,85],[14,86,14,89],[13,2,13,4],[13,5,13,8],[13,35,13,39],[11,2,12,8],[11,9,12,14],[10,15,12,28],[10,29,11,59],[12,29,12,39],[12,40,12,51],[12,52,12,59],[10,66,11,85],[10,86,12,89],[12,79,12,85],[3,91,3,92],[23,73,23,88],[22,73,22,88],[12,66,12,78],[34,135,36,135],[38,96,38,100],[28,165,29,169],[31,165,32,169],[34,165,35,169],[4,92,20,92],[28,93,39,93],[39,96,39,100],[9,131,9,142],[9,111,9,124],[14,108,14,117],[16,94,16,110],[14,93,14,95],[14,100,14,105],[9,166,9,179],[9,147,9,159],[14,170,14,176],[14,148,14,150],[14,151,14,156],[17,117,17,133]]}
[]
[]
[null,null,"支　払\nを受け\nる　者",null,null,"住所又は居所",null,null,{"$f":"'源泉徴収票計算(非)'!I3","v":""},null,null,null,null,null,null,null,null,null,null,null,null,null,null,null,null,null,null,null,null,null,null,null,null,null,null,null,null,null,null,null,null,null,null,null,null,null,null,null,null,null,null,"(受給者番号)",null,null,null,null,null,null,null,null,null,null,null,null,null,null,null,null,null,null,null,null,null,null,null,null,null,null,null,null,null,null,null,null,null,null,null,null,null,null,null,null,null,"支　払\nを受け\nる　者",null,null,"住所又は居所",null,null,{"$f":"I3","v":""},null,null,null,null,null,null,null,null,null,null,null,null,null,null,null,null,null,null,null,null,null,null,null,null,null,null,null,null,null,null,null,null,null,null,null,null,null,null,null,null,null,null,"(受給者番号)"]
[{"$f":"'源泉徴収票計算(非)'!A4","v":4},null,null,null,null,null,null,null,null,null,null,null,null,null,null,null,null,null,null,null,null,null,null,null,null,null,null,null,null,null,null,null,null,null,null,null,null,null,null,null,null,null,null,null,null,null,null,null,null,null,null,"(個人番号)",null,null,null,null,null,null,null,{"$f":"'源泉徴収票計算(非)'!BH4","v":""},null,null,null,null,null,null,null,null,null,null,null,null,null,null,null,null,null,null,null,null,null,null,null,null,null,null,null,null,null,null,null,{"$f":"A4","v":4},null,null,null,null,null,null,null,null,null,null,null,null,null,null,null,null,null,null,null,null,null,null,null,null,null,null,null,null,null,null,null,null,null,null,null,null,null,null,null,null,null,null,null,null,null,null,null,null,null,null,"(個人番号)",null,null,null,null,null,null,null,{"$f":"BH4","v":""}]
[null,"給与支払報告書(個人別明細書)",null,null,null,null,null,null,null,null,null,null,null,null,null,null,null,null,null,null,null,null,null,null,null,null,null,null,null,null,null,null,null,null,null,null,null,null,null,null,null,null,null,null,null,null,null,null,null,null,null,"(役職名)",null,null,null,null,null,null,null,{"$f":"'源泉徴収票計算(非)'!BH5","v":""},null,null,null,null,null,null,null,null,null,null,null,null,null,null,null,null,null,null,null,null,null,null,null,null,null,null,null,null,null,null,null,null,"給与支払報告書(個人別明細書)",null,null,null,null,null,null,null,null,null,null,null,null,null,null,null,null,null,null,null,null,null,null,null,null,null,null,null,null,null,null,null,null,null,null,null,null,null,null,null,null,null,null,null,null,null,null,null,null,null,"(役職名)",null,null,null,null,null,null,null,{"$f":"BH5","v":""}]
[null,null,null,null,null,null,null,null,null,null,null,null,null,null,null,null,null,null,null,null,null,null,null,null,null,null,null,null,null,null,null,null,null,null,null,null,null,null,null,null,null,null,null,null,null,null,null,null,null,null,null,null,"氏　名",null,"(フリガナ)",null,null,null,null,{"$f":"'源泉徴収票計算(非)'!BH6","v":""},null,null,null,null,null,null,null,null,null,null,null,null,null,null,null,null,null,null,null,null,null,null,null,null,null,null,null,null,null,null,null,null,null,null,null,null,null,null,null,null,null,null,null,null,null,null,null,null,null,null,null,null,null,null,null,null,null,null,null,null,null,null,null,null,null,null,null,null,null,null,null,null,null,null,null,null,null,null,null,null,null,null,null,"氏　名",null,"(フリガナ)",null,null,null,null,{"$f":"BH6","v":""}]
[null,null,null,null,null,null,null,null,null,null,null,null,null,null,null,null,null,null,null,null,null,null,null,null,null,null,null,null,null,null,null,null,null,null,null,null,null,null,null,null,null,null,null,null,null,null,null,null,null,null,null,null,null,null,null,null,null,null,null,{"$f":"'源泉徴収票計算(非)'!BH7","v":""},null,null,null,null,null,null,null,null,null,null,null,null,null,null,null,null,null,null,null,null,null,null,null,null,null,null,null,null,null,null,null,null,null,null,null,null,null,null,null,null,null,null,null,null,null,null,null,null,null,null,null,null,null,null,null,null,null,null,null,null,null,null,null,null,null,null,null,null,null,null,null,null,null,null,null,null,null,null,null,null,null,null,null,null,null,null,null,null,null,null,{"$f":"BH7","v":""}]
[null,null,"種別",null,null,null,null,null,null,null,null,null,null,null,null,null,null,null,"支払金額",null,null,null,null,null,null,null,null,null,null,null,null,null,null,null,null,null,null,"給与所得控除後の金額",null,null,null,null,null,null,null,null,null,null,null,null,null,null,null,null,"所得控除の額の合計額",null,null,null,null,null,null,null,null,null,null,null,null,null,null,null,null,null,"源泉徴収税額",null,null,null,null,null,null,null,null,null,null,null,null,null,null,null,null,null,null,null,null,"種別",null,null,null,null,null,null,null,null,null,null,null,null,null,null,null,"支払金額",null,null,null,null,null,null,null,null,null,null,null,null,null,null,null,null,null,null,"給与所得控除後の金額",null,null,null,null,null,null,null,null,null,null,null,null,null,null,null,null,"所得控除の額の合計額",null,null,null,null,null,null,null,null,null,null,null,null,null,null,null,null,null,"源泉徴収税額"]
[null,null,null,null,null,null,null,null,null,null,null,null,null,null,null,null,null,null,"内",null,null,null,null,null,null,null,null,null,null,null,null,null,null,null,null,null,"円",null,null,null,null,null,null,null,null,null,null,null,null,null,null,null,null,"円",null,null,null,null,null,null,null,null,null,null,null,null,null,null,null,null,null,"円","内",null,null,null,null,null,null,null,null,null,null,null,null,null,null,null,null,"円",null,null,null,null,null,null,null,null,null,null,null,null,null,null,null,null,null,null,null,"内",null,null,null,null,null,null,null,null,null,null,null,null,null,null,null,null,null,"円",null,null,null,null,null,null,null,null,null,null,null,null,null,null,null,null,"円",null,null,null,null,null,null,null,null,null,null,null,null,null,null,null,null,null,"円","内",null,null,null,null,null,null,null,null,null,null,null,null,null,null,null,null,"円"]
[null,null,{"$f":"'源泉徴収票計算(非)'!C10","v":"給料・賞与"},null,null,null,null,null,null,null,null,null,null,null,null,null,null,null,null,null,{"$f":"'源泉徴収票計算(非)'!U10","v":0},null,null,null,null,null,null,null,null,null,null,null,null,null,null,null,null,null,null,null,{"$f":"'源泉徴収票計算(非)'!AO10","v":0},null,null,null,null,null,null,null,null,null,null,null,null,null,null,null,{"$f":"'源泉徴収票計算(非)'!BE10","v":0},null,null,null,null,null,null,null,null,null,null,null,null,null,null,null,null,null,null,{"$f":"'源泉徴収票計算(非)'!BX10","v":0},null,null,null,null,null,null,null,null,null,null,null,null,null,null,null,null,null,{"$f":"C10","v":"給料・賞与"},null,null,null,null,null,null,null,null,null,null,null,null,null,null,null,null,null,{"$f":"U10","v":0},null,null,null,null,null,null,null,null,null,null,null,null,null,null,null,null,null,null,null,{"$f":"AO10","v":0},null,null,null,null,null,null,null,null,null,null,null,null,null,null,null,{"$f":"BE10","v":0},null,null,null,null,null,null,null,null,null,null,null,null,null,null,null,null,null,null,{"$f":"BX10","v":0}]
[null,null,"（源泉）控除対象配偶者",null,null,null,null,null,null,null,null,null,null,null,null,"配偶者（特別）\n控除の額",null,null,null,null,null,null,null,null,null,null,null,null,null,"控除対象扶養親族の数\n（配偶者を除く。）",null,null,null,null,null,null,null,null,null,null,null,null,null,null,null,null,null,null,null,null,null,null,null,null,null,null,null,null,null,null,"16歳未満\n扶養親族\nの数",null,null,null,null,null,"障害者の数\n（本人を除く。）",null,null,null,null,null,null,null,null,null,null,null,null,null,null,null,null,null,null,null,"非居住者\nである\n親族の数",null,null,null,null,null,null,"（源泉）控除対象配偶者",null,null,null,null,null,null,null,null,null,null,null,null,"配偶者（特別）\n控除の額",null,null,null,null,null,null,null,null,null,null,null,null,null,"控除対象扶養親族の数\n（配偶者を除く。）",null,null,null,null,null,null,null,null,null,null,null,null,null,null,null,null,null,null,null,null,null,null,null,null,null,null,null,null,null,"16歳未満\n扶養親族\nの数","16歳未満\n扶養親族\nの数",null,null,null,null,null,"障害者の数\n（本人を除く。）",null,null,null,null,null,null,null,null,null,null,null,null,null,null,null,null,null,null,null,"非居住者\nである\n親族の数"]
[null,null,"の有無等",null,null,null,null,null,null,"老人",null,null,null,null,null,null,null,null,null,null,null,null,null,null,null,null,null,null,null,null,null,null,null,null,null,null,null,null,null,null,null,null,null,null,null,null,null,null,null,null,null,null,null,null,null,null,null,null,null,null,null,null,null,null,null,null,null,null,null,null,null,null,null,null,null,null,null,null,null,null,null,null,null,null,null,null,null,null,null,null,null,null,null,"の有無等",null,null,null,null,null,null,"老人"]
[null,null,null,null,null,null,null,null,null,null,null,null,null,null,null,null,null,null,null,null,null,null,null,null,null,null,null,null,null,"特定",null,null,null,null,null,null,null,null,null,null,"老人",null,null,null,null,null,null,null,null,null,null,null,"その他",null,null,null,null,null,null,null,null,null,null,null,null,null,"特別",null,null,null,null,null,null,null,null,null,null,null,null,"その他",null,null,null,null,null,null,null,null,null,null,null,null,null,null,null,null,null,null,null,null,null,null,null,null,null,null,null,null,null,null,null,null,null,null,null,null,null,null,null,null,"特定",null,null,null,null,null,null,null,null,null,null,"老人",null,null,null,null,null,null,null,null,null,null,null,"その他",null,null,null,null,null,null,null,null,null,null,null,null,null,"特別",null,null,null,null,null,null,null,null,null,null,null,null,"その他"]
[null,null,"有",null,null,"従有",null,null,null,null,null,null,null,null,null,null,null,null,null,null,null,null,null,null,null,null,null,null,"円",null,null,null,null,null,"人","従人",null,null,null,null,null,null,null,"内",null,null,null,null,"人","従人",null,null,null,null,null,null,"人","従人",null,null,null,null,null,null,null,"人",null,null,null,null,null,null,"内",null,null,null,null,null,"人",null,null,null,null,null,null,"人",null,null,null,"人",null,null,null,"有",null,null,"従有",null,null,null,null,null,null,null,null,null,null,null,null,null,null,null,null,null,null,null,null,null,null,"円",null,null,null,null,null,"人","従人",null,null,null,null,null,null,null,"内",null,null,null,null,"人","従人",null,null,null,null,null,null,"人","従人",null,null,null,null,null,null,null,"人",null,null,null,null,null,null,"内",null,null,null,null,null,"人",null,null,null,null,null,null,"人",null,null,null,"人"]
[null,null,{"$f":"'源泉徴収票計算(非)'!C15","v":""},null,null,null,null,null,null,{"$f":"'源泉徴収票計算(非)'!J15","v":""},null,null,null,null,null,null,null,{"$f":"'源泉徴収票計算(非)'!R15","v":0},null,null,null,null,null,null,null,null,null,null,null,{"$f":"'源泉徴収票計算(非)'!AD15","v":0},null,null,null,null,null,null,null,null,null,null,{"$f":"'源泉徴収票計算(非)'!AO15","v":0},null,null,null,{"$f":"'源泉徴収票計算(非)'!AS15","v":0},null,null,null,null,{"$f":"'源泉徴収票計算(非)'!AX15","v":0},null,null,{"$f":"'源泉徴収票計算(非)'!BA15","v":0},null,null,null,null,null,null,null,{"$f":"'源泉徴収票計算(非)'!BI15","v":0},null,null,null,null,null,{"$f":"'源泉徴収票計算(非)'!BO15","v":0},null,null,null,null,null,null,{"$f":"'源泉徴収票計算(非)'!BV15","v":0},null,null,null,null,null,{"$f":"'源泉徴収票計算(非)'!CB15","v":0},null,null,null,null,null,null,null,null,null,null,null,null,null,{"$f":"C15","v":""},null,null,null,null,null,null,{"$f":"J15","v":""},null,null,null,null,null,null,null,{"$f":"R15","v":0},null,null,null,null,null,null,null,null,null,null,null,{"$f":"AD15","v":0},null,null,null,null,null,null,null,null,null,null,{"$f":"AO15","v":0},null,null,null,{"$f":"AS15","v":0},null,null,null,null,{"$f":"AX15","v":0},null,null,{"$f":"BA15","v":0},null,null,null,null,null,null,null,{"$f":"BI15","v":0},null,null,null,null,null,{"$f":"BO15","v":0},null,null,null,null,null,null,{"$f":"BV15","v":0},null,null,null,null,null,{"$f":"CB15","v":0}]
[null,null,"社会保険料等の金額",null,null,null,null,null,null,null,null,null,null,null,null,null,null,null,null,null,null,null,null,"生命保険料の控除額",null,null,null,null,null,null,null,null,null,null,null,null,null,null,null,null,null,null,null,null,null,null,"地震保険料の控除額",null,null,null,null,null,null,null,null,null,null,null,null,null,null,null,null,null,null,null,"住宅借入金等特別控除の額",null,null,null,null,null,null,null,null,null,null,null,null,null,null,null,null,null,null,null,null,null,null,null,null,null,null,"社会保険料等の金額",null,null,null,null,null,null,null,null,null,null,null,null,null,null,null,null,null,null,null,null,"生命保険料の控除額",null,null,null,null,null,null,null,null,null,null,null,null,null,null,null,null,null,null,null,null,null,null,"地震保険料の控除額",null,null,null,null,null,null,null,null,null,null,null,null,null,null,null,null,null,null,null,"住宅借入金等特別控除の額"]
[null,null,"内",{"$f":"'源泉徴収票計算(非)'!D17","v":0},null,null,null,null,null,null,null,null,null,null,null,null,null,null,null,null,null,null,"円",null,null,null,null,null,null,null,null,null,null,null,null,null,null,null,null,null,null,null,null,null,null,"円",null,null,null,null,null,null,null,null,null,null,null,null,null,null,null,null,null,null,null,"円",null,null,null,null,null,null,null,null,null,null,null,null,null,null,null,null,null,null,null,null,null,null,null,"円",null,null,null,"内",{"$f":"D17","v":0},null,null,null,null,null,null,null,null,null,null,null,null,null,null,null,null,null,null,"円",null,null,null,null,null,null,null,null,null,null,null,null,null,null,null,null,null,null,null,null,null,null,"円",null,null,null,null,null,null,null,null,null,null,null,null,null,null,null,null,null,null,null,"円",null,null,null,null,null,null,null,null,null,null,null,null,null,null,null,null,null,null,null,null,null,null,null,"円"]
[null,null,null,{"$f":"'源泉徴収票計算(非)'!D18","v":0},null,null,null,null,null,null,null,null,null,null,null,null,null,null,null,null,null,null,null,null,null,null,{"$f":"'源泉徴収票計算(非)'!AA18","v":0},null,null,null,null,null,null,null,null,null,null,null,null,null,null,null,null,null,null,null,null,null,null,{"$f":"'源泉徴収票計算(非)'!AX18","v":0},null,null,null,null,null,null,null,null,null,null,null,null,null,null,null,null,null,null,null,null,{"$f":"'源泉徴収票計算(非)'!BS18","v":0},null,null,null,null,null,null,null,null,null,null,null,null,null,null,null,null,null,null,null,null,null,null,null,{"$f":"D18","v":0},null,null,null,null,null,null,null,null,null,null,null,null,null,null,null,null,null,null,null,null,null,null,{"$f":"AA18","v":0},null,null,null,null,null,null,null,null,null,null,null,null,null,null,null,null,null,null,null,null,null,null,{"$f":"AX18","v":0},null,null,null,null,null,null,null,null,null,null,null,null,null,null,null,null,null,null,null,null,{"$f":"BS18","v":0}]
[null,null,"（摘要）",null,null,null,{"$f":"'源泉徴収票計算(非)'!G19","v":""},null,null,null,null,null,null,null,null,null,null,null,null,null,null,null,null,null,null,null,null,null,null,null,null,null,null,null,null,null,null,null,null,null,null,null,null,null,null,null,null,null,null,null,null,null,null,null,null,null,null,null,null,null,null,null,null,null,null,null,null,null,null,null,null,null,null,null,null,null,null,null,null,null,null,null,null,null,null,null,null,null,null,null,null,null,null,"（摘要）",null,null,null,{"$f":"G19","v":""}]
[]
[]
[null,null,"生命保険料の金額の\n内訳",null,null,null,"新生命保険料の金額",null,null,null,null,null,{"$f":"'源泉徴収票計算(非)'!M22","v":""},null,null,null,null,null,null,null,null,null,"円","旧生命保険料\nの金額",null,null,null,null,null,{"$f":"'源泉徴収票計算(非)'!AD22","v":""},null,null,null,null,null,null,null,null,null,null,"円","介護医療保\n険料の金額",null,null,null,null,null,{"$f":"'源泉徴収票計算(非)'!AV22","v":""},null,null,null,null,null,null,"円","新個人年金\n保険料の金額",null,null,null,null,null,{"$f":"'源泉徴収票計算(非)'!BJ22","v":""},null,null,null,null,null,null,null,null,null,null,"円","旧個人年金\n保険料の金額",null,null,null,null,null,null,{"$f":"'源泉徴収票計算(非)'!CC22","v":""},null,null,null,null,null,null,null,null,"円",null,null,null,"生命保険料の金額の\n内訳",null,null,null,"新生命保険料の金額",null,null,null,null,null,{"$f":"M22","v":""},null,null,null,null,null,null,null,null,null,"円","旧生命保険料\nの金額",null,null,null,null,null,{"$f":"AD22","v":""},null,null,null,null,null,null,null,null,null,null,"円","介護医療保\n険料の金額",null,null,null,null,null,{"$f":"AV22","v":""},0,0,0,0,0,0,"円","新個人年金\n保険料の金額",null,null,null,null,null,{"$f":"BJ22","v":""},0,0,0,0,0,0,0,0,0,null,"円","旧個人年金\n保険料の金額",null,null,null,null,null,null,{"$f":"CC22","v":""},0,0,0,0,0,0,0,0,"円"]
[null,null,"住宅借入金等特別控除の額の内訳",null,null,null,"住宅借入金等\n特別控除適用数",null,null,null,null,null,{"$f":"'源泉徴収票計算(非)'!M23","v":""},null,null,null,null,null,null,null,null,null,null,"居住開始年月日\n（１回目）",null,null,null,null,null,{"$f":"'源泉徴収票計算(非)'!AD23","v":""},null,null,null,null,null,null,"年",{"$f":"'源泉徴収票計算(非)'!AL23","v":""},null,null,null,null,"月",{"$f":"'源泉徴収票計算(非)'!AR23","v":""},null,null,null,"日","住宅借入金等特別控除区分（1回目）",null,null,null,null,null,null,{"$f":"'源泉徴収票計算(非)'!BD23","v":""},null,null,null,null,null,null,null,"住宅借入金等\n年末残高（1回目）",null,null,null,null,null,null,null,null,null,{"$f":"'源泉徴収票計算(非)'!BV23","v":""},null,null,null,null,null,null,null,null,null,null,null,null,null,null,null,"円",null,null,null,"住宅借入金等特別控除の額の内訳",null,null,null,"住宅借入金等\n特別控除適用数",null,null,null,null,null,{"$f":"M23","v":""},null,null,null,null,null,null,null,null,null,null,"居住開始年月日\n（１回目）",null,null,null,null,null,{"$f":"AD23","v":""},null,null,null,null,null,null,"年",{"$f":"AL23","v":""},null,null,null,null,"月",{"$f":"AR23","v":""},null,null,null,"日","住宅借入金等特別控除区分（1回目）",null,null,null,null,null,null,{"$f":"BD23","v":""},0,0,0,0,0,0,0,"住宅借入金等\n年末残高（1回目）",null,null,null,null,null,null,null,null,null,{"$f":"BV23","v":""},0,0,0,0,0,0,0,0,0,0,0,0,0,0,0,"円"]
[null,null,null,null,null,null,"住宅借入金等\n特別控除可能額",null,null,null,null,null,{"$f":"'源泉徴収票計算(非)'!M24","v":""},null,null,null,null,null,null,null,null,null,"円","居住開始年月日\n（2回目）",null,null,null,null,null,{"$f":"'源泉徴収票計算(非)'!AD24","v":""},null,null,null,null,null,null,"年",{"$f":"'源泉徴収票計算(非)'!AL24","v":""},null,null,null,null,"月",{"$f":"'源泉徴収票計算(非)'!AR24","v":""},null,null,null,"日","住宅借入金等特別控除区分（2回目）",null,null,null,null,null,null,{"$f":"'源泉徴収票計算(非)'!BD24","v":""},null,null,null,null,null,null,null,"住宅借入金等\n年末残高（2回目）",null,null,null,null,null,null,null,null,null,{"$f":"'源泉徴収票計算(非)'!BV24","v":""},null,null,null,null,null,null,null,null,null,null,null,null,null,null,null,"円",null,null,null,null,null,null,null,"住宅借入金等\n特別控除可能額",null,null,null,null,null,{"$f":"M24","v":""},null,null,null,null,null,null,null,null,null,"円","居住開始年月日\n（2回目）",null,null,null,null,null,{"$f":"AD24","v":""},null,null,null,null,null,null,"年",{"$f":"AL24","v":""},null,null,null,null,"月",{"$f":"AR24","v":""},null,null,null,"日","住宅借入金等特別控除区分（2回目）",null,null,null,null,null,null,"",0,0,0,0,0,0,0,"住宅借入金等\n年末残高（2回目）",null,null,null,null,null,null,null,null,null,"",0,0,0,0,0,0,0,0,0,0,0,0,0,0,0,"円"]
[null,null,"(源泉・特別)控除対象配偶者",null,null,"(フリガナ)",null,null,null,null,{"$f":"'源泉徴収票計算(非)'!K25","v":""},null,null,null,null,null,null,null,null,null,null,null,null,null,null,null,null,null,null,null,null,null,"区分",null,null,{"$f":"'源泉徴収票計算(非)'!AJ25","v":""},null,null,null,null,null,"配偶者の\n合計所得",null,null,null,null,null,null,{"$f":"'源泉徴収票計算(非)'!AW25","v":""},null,null,null,null,null,"円","国民年金保険\n料等の金額",null,null,null,null,null,null,null,{"$f":"'源泉徴収票計算(非)'!BL25","v":""},null,null,null,null,null,null,null,null,"円","旧長期損害\n保険料の金額",null,null,null,null,null,null,null,null,{"$f":"'源泉徴収票計算(非)'!CE25","v":""},null,null,null,null,null,null,"円",null,null,null,"(源泉・特別)控除対象配偶者",null,null,"(フリガナ)",null,null,null,null,{"$f":"K25","v":""},null,null,null,null,null,null,null,null,null,null,null,null,null,null,null,null,null,null,null,null,null,"区分",null,null,{"$f":"AJ25","v":""},null,null,null,null,null,"配偶者の\n合計所得",null,null,null,null,null,null,{"$f":"AW25","v":""},0,0,0,0,0,"円","国民年金保険\n料等の金額",null,null,null,null,null,null,null,{"$f":"BL25","v":""},null,null,null,null,null,null,null,null,"円","旧長期損害\n保険料の金額",null,null,null,null,null,null,null,null,{"$f":"CE25","v":""},0,0,0,0,0,0,"円"]
[null,null,null,null,null,"氏名",null,null,null,null,{"$f":"'源泉徴収票計算(非)'!K26","v":""},null,null,null,null,null,null,null,null,null,null,null,null,null,null,null,null,null,null,null,null,null,null,null,null,null,null,null,null,null,null,null,null,null,null,null,null,null,null,null,null,null,null,null,null,null,null,null,null,null,null,null,null,null,null,null,null,null,null,null,null,null,null,null,null,null,null,null,null,null,null,null,null,null,null,null,null,null,null,null,null,null,null,null,null,null,"氏名",null,null,null,null,"",null,null,null,null,null,null,null,null,null,null,null,null,null,null,null,null,null,null,null,null,null,null,null,null,null,null,null,null,null,null,null,null,null,null,null,null,null,0,0,0,0,0,0,null,null,null,null,null,null,null,null,null,null,null,null,null,null,null,null,null,null,null,null,null,null,null,null,null,null,null,null,0,0,0,0,0,0,0]
[null,null,null,null,null,null,null,null,null,null,null,null,null,null,null,null,null,null,null,null,null,null,null,null,null,null,null,null,null,null,null,null,null,null,null,null,null,null,null,null,null,null,null,null,null,null,null,null,null,null,null,null,null,null,null,"基礎控除の額",null,null,null,null,null,null,null,{"$f":"'源泉徴収票計算(非)'!BL27","v":""},null,null,null,null,null,null,null,null,null,"所得金額\n調整控除額",null,null,null,null,null,null,null,null,{"$f":"'源泉徴収票計算(非)'!CE27","v":""},null,null,null,null,null,null,null,null,null,null,null,null,null,null,null,null,null,null,null,null,null,null,null,null,null,null,null,null,null,null,null,null,null,null,null,null,null,null,null,null,null,null,null,null,null,null,null,null,null,null,null,null,null,null,null,null,null,null,null,null,null,null,null,"基礎控除の額",null,null,null,null,null,null,null,{"$f":"BL27","v":""},null,null,null,null,null,null,null,null,null,"所得金額\n調整控除額",null,null,null,null,null,null,null,null,{"$f":"CE27","v":""},{"$f":"CF27","v":0},{"$f":"CG27","v":0},{"$f":"CH27","v":0},{"$f":"CI27","v":0},{"$f":"CJ27","v":0},{"$f":"CK27","v":0}]
[null,null,null,null,null,"個人番号",null,null,null,null,{"$f":"'源泉徴収票計算(非)'!K28","v":""},null,null,null,null,null,null,null,null,null,null,null,null,null,null,null,null,null,null,null,null,null,null,null,null,null,null,null,null,null,null,null,null,null,null,null,null,null,null,null,null,null,null,null,null,null,null,null,null,null,null,null,null,null,null,null,null,null,null,null,null,null,null,null,null,null,null,null,null,null,null,null,null,null,null,null,null,null,null,null,null,null,null,null,null,null,"個人番号",null,null,null,null,"",null,null,null,null,null,null,null,null,null,null,null,null,null,null,null,null,null,null,null,null,null,null,null,null,null,null,null,null,null,null,null,null,null,null,null,null,null,0,0,0,0,0,0,null,null,null,null,null,null,null,null,null,null,null,null,null,null,null,null,null,null,null,null,null,null,null,null,null,null,null,null,0,0,0,0,0,0,0]
[null,null,"控除対象扶養親族",1,null,"(フリガナ)",null,null,null,null,{"$f":"'源泉徴収票計算(非)'!K29","v":""},null,null,null,null,null,null,null,null,null,null,null,null,null,null,null,null,null,null,null,null,null,"区分",null,null,{"$f":"'源泉徴収票計算(非)'!AJ29","v":""},null,null,null,null,null,"16歳未満の扶養親族",null,null,1,"(フリガナ)",null,null,null,null,{"$f":"'源泉徴収票計算(非)'!AY29","v":""},null,null,null,null,null,null,null,null,null,null,null,null,null,null,null,null,null,null,null,null,"区分",null,null,{"$f":"'源泉徴収票計算(非)'!BW29","v":""},null,null,null,null,"5人目以降の控除\n対象扶養親族の\n個 人 番 号",null,null,null,null,null,null,null,null,null,null,null,null,null,"控除対象扶養親族",1,null,"(フリガナ)",null,null,null,null,"",null,null,null,null,null,null,null,null,null,null,null,null,null,null,null,null,null,null,null,null,null,"区分",null,null,{"$f":"AJ29","v":""},null,null,null,null,null,"16歳未満の扶養親族",null,null,1,"(フリガナ)",null,null,null,null,{"$f":"AY29","v":""},0,0,0,0,0,0,0,0,0,{"$f":"BI29","v":0},0,0,0,0,0,0,0,0,0,{"$f":"BS29","v":0},"区分",null,null,{"$f":"BW29","v":""},null,null,null,null,"5人目以降の控除\n対象扶養親族の\n個 人 番 号"]
[null,null,null,null,null,"氏名",null,null,null,null,{"$f":"'源泉徴収票計算(非)'!K30","v":""},null,null,null,null,null,null,null,null,null,null,null,null,null,null,null,null,null,null,null,null,null,null,null,null,null,null,null,null,null,null,null,null,null,null,"氏名",null,null,null,null,{"$f":"'源泉徴収票計算(非)'!AY30","v":""},null,null,null,null,null,null,null,null,null,null,null,null,null,null,null,null,null,null,null,null,null,null,null,null,null,null,null,null,null,null,null,null,null,null,null,null,null,null,null,null,null,null,null,null,null,"氏名",null,null,null,null,"",null,null,null,null,null,null,null,null,null,null,null,null,null,null,null,null,null,null,null,null,null,null,null,null,null,null,null,null,null,null,null,null,null,null,"氏名",null,null,null,null,"",0,0,0,0,0,0,0,0,0,0,0,0,0,0,0,0,0,0,0,{"$f":"BS30","v":0}]
[null,null,null,null,null,"個人番号",null,null,null,null,{"$f":"'源泉徴収票計算(非)'!K31","v":""},null,null,null,null,null,null,null,null,null,null,null,null,null,null,null,null,null,null,null,null,null,null,null,null,null,null,null,null,null,null,null,null,null,null,"個人番号",null,null,null,null,{"$f":"'源泉徴収票計算(非)'!AY31","v":""},null,null,null,null,null,null,null,null,null,null,null,null,null,null,null,null,null,null,null,null,null,null,null,null,null,null,null,null,{"$f":"'源泉徴収票計算(非)'!CB31","v":""},null,null,null,null,null,null,null,null,null,null,null,null,null,null,null,null,"個人番号",null,null,null,null,"",null,null,null,null,null,null,null,null,null,null,null,null,null,null,null,null,null,null,null,null,null,null,null,null,null,null,null,null,null,null,null,null,null,null,"個人番号",null,null,null,null,{"$f":"AY31","v":""},null,null,null,null,null,null,null,null,null,null,null,null,null,null,null,null,null,null,null,null,null,null,null,null,null,null,null,null,{"$f":"CB31","v":""}]
[null,null,null,2,null,"(フリガナ)",null,null,null,null,{"$f":"'源泉徴収票計算(非)'!K32","v":""},null,null,null,null,null,null,null,null,null,null,null,null,null,null,null,null,null,null,null,null,null,"区分",null,null,{"$f":"'源泉徴収票計算(非)'!AJ32","v":""},null,null,null,null,null,null,null,null,2,"(フリガナ)",null,null,null,null,{"$f":"'源泉徴収票計算(非)'!AY32","v":""},null,null,null,null,null,null,null,null,null,null,null,null,null,null,null,null,null,null,null,null,"区分",null,null,{"$f":"'源泉徴収票計算(非)'!BW32","v":""},null,null,null,null,null,null,null,null,null,null,null,null,null,null,null,null,null,null,null,2,null,"(フリガナ)",null,null,null,null,"",null,null,null,null,null,null,null,null,null,null,null,null,null,null,null,null,null,null,null,null,null,"区分",null,null,{"$f":"AJ32","v":""},null,null,null,null,null,null,null,null,2,"(フリガナ)",null,null,null,null,{"$f":"AY32","v":""},0,0,0,0,0,0,0,0,0,{"$f":"BI32","v":0},0,0,0,0,0,0,0,0,0,{"$f":"BS32","v":0},"区分",null,null,{"$f":"BW32","v":""}]
[null,null,null,null,null,"氏名",null,null,null,null,{"$f":"'源泉徴収票計算(非)'!K33","v":""},null,null,null,null,null,null,null,null,null,null,null,null,null,null,null,null,null,null,null,null,null,null,null,null,null,null,null,null,null,null,null,null,null,null,"氏名",null,null,null,null,{"$f":"'源泉徴収票計算(非)'!AY33","v":""},null,null,null,null,null,null,null,null,null,null,null,null,null,null,null,null,null,null,null,null,null,null,null,null,null,null,null,null,null,null,null,null,null,null,null,null,null,null,null,null,null,null,null,null,null,"氏名",null,null,null,null,"",null,null,null,null,null,null,null,null,null,null,null,null,null,null,null,null,null,null,null,null,null,null,null,null,null,null,null,null,null,null,null,null,null,null,"氏名",null,null,null,null,"",0,0,0,0,0,0,0,0,0,0,0,0,0,0,0,0,0,0,0,{"$f":"BS33","v":0}]
[null,null,null,null,null,"個人番号",null,null,null,null,{"$f":"'源泉徴収票計算(非)'!K34","v":""},null,null,null,null,null,null,null,null,null,null,null,null,null,null,null,null,null,null,null,null,null,null,null,null,null,null,null,null,null,null,null,null,null,null,"個人番号",null,null,null,null,{"$f":"'源泉徴収票計算(非)'!AY34","v":""},null,null,null,null,null,null,null,null,null,null,null,null,null,null,null,null,null,null,null,null,null,null,null,null,null,null,null,null,null,null,null,null,null,null,null,null,null,null,null,null,null,null,null,null,null,"個人番号",null,null,null,null,"",null,null,null,null,null,null,null,null,null,null,null,null,null,null,null,null,null,null,null,null,null,null,null,null,null,null,null,null,null,null,null,null,null,null,"個人番号",null,null,null,null,{"$f":"AY34","v":""}]
[null,null,null,3,null,"(フリガナ)",null,null,null,null,{"$f":"'源泉徴収票計算(非)'!K35","v":""},null,null,null,null,null,null,null,null,null,null,null,null,null,null,null,null,null,null,null,null,null,"区分",null,null,{"$f":"'源泉徴収票計算(非)'!AJ35","v":""},null,null,null,null,null,null,null,null,3,"(フリガナ)",null,null,null,null,{"$f":"'源泉徴収票計算(非)'!AY35","v":""},null,null,null,null,null,null,null,null,null,null,null,null,null,null,null,null,null,null,null,null,"区分",null,null,{"$f":"'源泉徴収票計算(非)'!BW35","v":""},null,null,null,null,"5人目以降の16歳\n未満の扶養親族の\n個 人 番 号",null,null,null,null,null,null,null,null,null,null,null,null,null,null,3,null,"(フリガナ)",null,null,null,null,"",null,null,null,null,null,null,null,null,null,null,null,null,null,null,null,null,null,null,null,null,null,"区分",null,null,{"$f":"AJ35","v":""},null,null,null,null,null,null,null,null,3,"(フリガナ)",null,null,null,null,{"$f":"AY35","v":""},0,0,0,0,0,0,0,0,0,{"$f":"BI35","v":0},0,0,0,0,0,0,0,0,0,{"$f":"BS35","v":0},"区分",null,null,{"$f":"BW35","v":""},null,null,null,null,"5人目以降の16歳\n未満の扶養親族の\n個 人 番 号"]
[null,null,null,null,null,"氏名",null,null,null,null,{"$f":"'源泉徴収票計算(非)'!K36","v":""},null,null,null,null,null,null,null,null,null,null,null,null,null,null,null,null,null,null,null,null,null,null,null,null,null,null,null,null,null,null,null,null,null,null,"氏名",null,null,null,null,{"$f":"'源泉徴収票計算(非)'!AY36","v":""},null,null,null,null,null,null,null,null,null,null,null,null,null,null,null,null,null,null,null,null,null,null,null,null,null,null,null,null,null,null,null,null,null,null,null,null,null,null,null,null,null,null,null,null,null,"氏名",null,null,null,null,"",null,null,null,null,null,null,null,null,null,null,null,null,null,null,null,null,null,null,null,null,null,null,null,null,null,null,null,null,null,null,null,null,null,null,"氏名",null,null,null,null,"",0,0,0,0,0,0,0,0,0,0,0,0,0,0,0,0,0,0,0,{"$f":"BS36","v":0}]
[null,null,null,null,null,"個人番号",null,null,null,null,{"$f":"'源泉徴収票計算(非)'!K37","v":""},null,null,null,null,null,null,null,null,null,null,null,null,null,null,null,null,null,null,null,null,null,null,null,null,null,null,null,null,null,null,null,null,null,null,"個人番号",null,null,null,null,{"$f":"'源泉徴収票計算(非)'!AY37","v":""},null,null,null,null,null,null,null,null,null,null,null,null,null,null,null,null,null,null,null,null,null,null,null,null,null,null,null,null,{"$f":"'源泉徴収票計算(非)'!CB37","v":""},null,null,null,null,null,null,null,null,null,null,null,null,null,null,null,null,"個人番号",null,null,null,null,"",null,null,null,null,null,null,null,null,null,null,null,null,null,null,null,null,null,null,null,null,null,null,null,null,null,null,null,null,null,null,null,null,null,null,"個人番号",null,null,null,null,{"$f":"AY37","v":""},null,null,null,null,null,null,null,null,null,null,null,null,null,null,null,null,null,null,null,null,null,null,null,null,null,null,null,null,{"$f":"CB37","v":""}]
[null,null,null,4,null,"(フリガナ)",null,null,null,null,{"$f":"'源泉徴収票計算(非)'!K38","v":""},null,null,null,null,null,null,null,null,null,null,null,null,null,null,null,null,null,null,null,null,null,"区分",null,null,{"$f":"'源泉徴収票計算(非)'!AJ38","v":""},null,null,null,null,null,null,null,null,4,"(フリガナ)",null,null,null,null,{"$f":"'源泉徴収票計算(非)'!AY38","v":""},null,null,null,null,null,null,null,null,null,null,null,null,null,null,null,null,null,null,null,null,"区分",null,null,{"$f":"'源泉徴収票計算(非)'!BW38","v":""},null,null,null,null,null,null,null,null,null,null,null,null,null,null,null,null,null,null,null,4,null,"(フリガナ)",null,null,null,null,"",null,null,null,null,null,null,null,null,null,null,null,null,null,null,null,null,null,null,null,null,null,"区分",null,null,{"$f":"AJ38","v":""},null,null,null,null,null,null,null,null,4,"(フリガナ)",null,null,null,null,{"$f":"AY38","v":""},0,0,0,0,0,0,0,0,0,{"$f":"BI38","v":0},0,0,0,0,0,0,0,0,0,{"$f":"BS38","v":0},"区分",null,null,{"$f":"BW38","v":""}]
[null,null,null,null,null,"氏名",null,null,null,null,{"$f":"'源泉徴収票計算(非)'!K39","v":""},null,null,null,null,null,null,null,null,null,null,null,null,null,null,null,null,null,null,null,null,null,null,null,null,null,null,null,null,null,null,null,null,null,null,"氏名",null,null,null,null,{"$f":"'源泉徴収票計算(非)'!AY39","v":""},null,null,null,null,null,null,null,null,null,null,null,null,null,null,null,null,null,null,null,null,null,null,null,null,null,null,null,null,null,null,null,null,null,null,null,null,null,null,null,null,null,null,null,null,null,"氏名",null,null,null,null,"",null,null,null,null,null,null,null,null,null,null,null,null,null,null,null,null,null,null,null,null,null,null,null,null,null,null,null,null,null,null,null,null,null,null,"氏名",null,null,null,null,"",0,0,0,0,0,0,0,0,0,0,0,0,0,0,0,0,0,0,0,{"$f":"BS39","v":0}]
[null,null,null,null,null,"個人番号",null,null,null,null,{"$f":"'源泉徴収票計算(非)'!K40","v":""},null,null,null,null,null,null,null,null,null,null,null,null,null,null,null,null,null,null,null,null,null,null,null,null,null,null,null,null,null,null,null,null,null,null,"個人番号",null,null,null,null,{"$f":"'源泉徴収票計算(非)'!AY40","v":""},null,null,null,null,null,null,null,null,null,null,null,null,null,null,null,null,null,null,null,null,null,null,null,null,null,null,null,null,null,null,null,null,null,null,null,null,null,null,null,null,null,null,null,null,null,"個人番号",null,null,null,null,"",null,null,null,null,null,null,null,null,null,null,null,null,null,null,null,null,null,null,null,null,null,null,null,null,null,null,null,null,null,null,null,null,null,null,"個人番号",null,null,null,null,{"$f":"AY40","v":""}]
[null,null,"未成年者",null,"外国人",null,null,"死亡退職",null,null,"災害者",null,null,null,"乙欄",null,null,null,"本人が障害者",null,null,null,null,null,null,null,"寡婦",null,null,null,null,null,null,null,"寡婦",null,null,null,null,"ひとり親",null,null,null,"中途就・退職",null,null,null,null,null,null,null,null,null,null,null,null,null,null,null,null,"受給者生年月日",null,null,null,null,null,null,null,null,null,null,null,null,null,null,null,null,null,null,null,null,null,null,null,null,null,null,null,null,null,null,null,null,"未成年者",null,"外国人",null,null,"死亡退職",null,null,"災害者",null,null,null,"乙欄",null,null,null,"本人が障害者",null,null,null,null,null,null,null,"寡婦",null,null,null,null,null,null,null,"寡婦",null,null,null,null,"ひとり親",null,null,null,"中途就・退職",null,null,null,null,null,null,null,null,null,null,null,null,null,null,null,"受給者生年月日","受給者生年月日"]
[null,null,null,null,null,null,null,null,null,null,null,null,null,null,null,null,null,null,"特別",null,null,null,"その他",null,null,null,"一般",null,null,null,"特別",null,null,null,null,null,null,null,null,null,null,null,null,null,null,null,null,null,null,null,null,null,null,null,null,null,null,null,null,null,null,null,null,null,null,null,null,null,null,null,null,null,null,null,null,null,null,null,null,null,null,null,null,null,null,null,null,null,null,null,null,null,null,null,null,null,null,null,null,null,null,null,null,null,null,null,null,null,null,"特別",null,null,null,"その他",null,null,null,"一般",null,null,null,"特別"]
[null,null,null,null,null,null,null,null,null,null,null,null,null,null,null,null,null,null,null,null,null,null,null,null,null,null,null,null,null,null,null,null,null,null,null,null,null,null,null,null,null,null,null,"就職",null,null,null,"退職",null,null,"年",null,null,"月",null,null,null,"日",null,null,"元号",null,null,null,null,null,null,null,null,null,null,null,null,null,null,null,null,null,"年",null,null,null,null,"月",null,null,null,null,"日",null,null,null,null,null,null,null,null,null,null,null,null,null,null,null,null,null,null,null,null,null,null,null,null,null,null,null,null,null,null,null,null,null,null,null,null,null,null,null,null,null,null,null,null,null,"就職",null,null,null,"退職",null,null,"年",null,null,"月",null,null,null,"日",null,null,"元号",null,null,null,null,null,null,null,null,null,null,null,null,null,null,null,null,null,"年",null,null,null,null,"月",null,null,null,null,"日"]
[null,null,null,null,null,null,null,null,null,null,null,null,null,null,{"$f":"'源泉徴収票計算(非)'!O44","v":""},null,null,null,{"$f":"'源泉徴収票計算(非)'!S44","v":""},null,null,null,{"$f":"'源泉徴収票計算(非)'!W44","v":""},null,null,null,{"$f":"'源泉徴収票計算(非)'!AA44","v":""},null,null,null,{"$f":"'源泉徴収票計算(非)'!AE44","v":""},null,null,null,{"$f":"'源泉徴収票計算(非)'!AI44","v":""},null,null,null,null,{"$f":"'源泉徴収票計算(非)'!AN44","v":""},null,null,null,{"$f":"'源泉徴収票計算(非)'!AR44","v":""},null,null,null,{"$f":"'源泉徴収票計算(非)'!AV44","v":""},null,null,{"$f":"'源泉徴収票計算(非)'!AY44","v":""},null,null,{"$f":"'源泉徴収票計算(非)'!BB44","v":""},null,null,null,{"$f":"'源泉徴収票計算(非)'!BF44","v":""},null,null,{"$f":"'源泉徴収票計算(非)'!BI44","v":"明治"},null,null,null,{"$f":"'源泉徴収票計算(非)'!BM44","v":0},null,null,null,null,{"$f":"'源泉徴収票計算(非)'!BR44","v":0},null,null,null,null,{"$f":"'源泉徴収票計算(非)'!BW44","v":0},null,null,null,{"$f":"'源泉徴収票計算(非)'!CA44","v":"33"},null,null,null,null,{"$f":"'源泉徴収票計算(非)'!CF44","v":"1"},null,null,null,null,{"$f":"'源泉徴収票計算(非)'!CK44","v":"0"},null,null,null,null,null,null,null,null,null,null,null,null,null,null,null,null,{"$f":"O44","v":""},null,null,null,{"$f":"S44","v":""},null,null,null,{"$f":"W44","v":""},null,null,null,{"$f":"AA44","v":""},null,null,null,{"$f":"AE44","v":""},null,null,null,{"$f":"AI44","v":""},null,null,null,null,{"$f":"AN44","v":""},null,null,null,{"$f":"AR44","v":""},null,null,null,{"$f":"AV44","v":""},0,0,"",0,0,"",0,0,0,"",0,0,"明治",0,0,0,0,0,0,0,0,0,0,0,0,0,0,0,0,0,"33",0,0,0,0,"1",0,0,0,0,"0",0]
[null,"(市町村提出用)","支払者",null,"個人番号又は\n法人番号",null,null,null,null,null,null,null,null,null,{"$f":"'源泉徴収票計算(非)'!O45","v":" 1 2 3 4 5 6 7 8 9 0 1 2 2"},null,null,null,null,null,null,null,null,null,null,null,null,null,null,null,null,null,null,null,null,null,null,null,null,null,null,null,null,null,null,null,"（右詰で記載してください。）",null,null,null,null,null,null,null,null,null,null,null,null,null,null,null,null,null,null,null,null,null,null,null,null,null,null,null,null,null,null,null,null,null,null,null,null,null,null,null,null,null,null,null,null,null,"(市町村提出用)","支払者",null,"個人番号又は\n法人番号",null,null,null,null,null,null,null,null,null,{"$f":"O45","v":" 1 2 3 4 5 6 7 8 9 0 1 2 2"},null,null,null,null,null,null,null,null,null,null,null,null,null,null,null,null,null,null,null,null,null,null,null,null,null,null,null,null,null,null,null,"（右詰で記載してください。）"]
[null,null,null,null,"住所（居所）\n又は所在地",null,null,null,null,null,null,null,null,null,{"$f":"'源泉徴収票計算(非)'!O46","v":"東京都千代田区１－２－３"},null,null,null,null,null,null,null,null,null,null,null,null,null,null,null,null,null,null,null,null,null,null,null,null,null,null,null,null,null,null,null,null,null,null,null,null,null,null,null,null,null,null,null,null,null,null,null,null,null,null,null,null,null,null,null,null,null,null,null,null,null,null,null,null,null,null,null,null,null,null,null,null,null,null,null,null,null,null,null,null,"住所（居所）\n又は所在地",null,null,null,null,null,null,null,null,null,{"$f":"O46","v":"東京都千代田区１－２－３"}]
[null,null,null,null,"氏名又は名称",null,null,null,null,null,null,null,null,null,{"$f":"'源泉徴収票計算(非)'!O47","v":"ABC商事株式会社"},null,null,null,null,null,null,null,null,null,null,null,null,null,null,null,null,null,null,null,null,null,null,null,null,null,null,null,null,null,null,null,null,null,null,null,null,null,null,null,null,null,null,"（電話）",null,null,{"$f":"'源泉徴収票計算(非)'!BI47","v":"03-1234-5678"},null,null,null,null,null,null,null,null,null,null,null,null,null,null,null,null,null,null,null,null,null,null,null,null,null,null,null,null,null,null,null,null,null,null,"氏名又は名称",null,null,null,null,null,null,null,null,null,{"$f":"O47","v":"ABC商事株式会社"},null,null,null,null,null,null,null,null,null,null,null,null,null,null,null,null,null,null,null,null,null,null,null,null,null,null,null,null,null,null,null,null,null,null,null,null,null,null,null,null,null,null,"（電話）",null,null,{"$f":"BI47","v":"03-1234-5678"}]
[]
[null,null,"整理欄",null,null,null,null,null,null,null,null,null,null,null,null,null,null,null,null,null,null,null,null,null,null,null,null,null,null,null,null,null,null,null,null,null,null,null,null,null,null,null,null,null,null,null,null,null,null,null,null,null,null,null,null,null,null,null,null,null,null,null,null,null,null,null,null,null,null,null,null,null,null,null,null,null,null,null,null,null,null,null,null,null,null,null,null,null,null,375,null,null,null,"整理欄"]

{"sheet":"源泉徴収票計算(非)","index":14,"n_rows":85,"n_cols":90,"rows_kept":85,"cut":false,"hidden":true,"merged":[[24,73,25,81],[0,19,0,24],[2,2,6,4],[5,52,6,52],[2,59,2,89],[7,2,7,17],[7,18,7,36],[7,37,7,53],[7,54,7,71],[7,72,7,89],[10,66,11,85],[10,86,12,89],[12,79,12,85],[12,66,12,78],[10,2,10,14],[11,2,12,8],[11,9,12,14],[10,15,12,28],[10,60,12,64],[13,2,13,4],[13,5,13,8],[13,35,13,39],[13,49,13,51],[13,57,13,59],[10,29,11,59],[12,29,12,39],[12,40,12,51],[12,52,12,59],[14,66,14,72],[14,73,14,78],[14,79,14,85],[14,60,14,65],[15,2,15,22],[15,23,15,45],[15,46,15,64],[15,66,15,89],[14,2,14,4],[14,5,14,8],[14,9,14,14],[14,35,14,39],[14,49,14,51],[14,57,14,59],[14,29,14,34],[14,40,14,43],[14,44,14,48],[14,52,14,55],[22,63,22,72],[23,48,23,54],[23,63,23,72],[23,23,23,28],[18,6,20,89],[21,2,21,5],[21,6,21,11],[21,23,21,28],[21,41,21,46],[21,55,21,60],[21,73,21,79],[22,2,23,5],[22,6,22,11],[22,23,22,28],[22,48,22,54],[23,6,23,11],[28,2,39,2],[28,3,30,4],[31,3,33,4],[34,3,36,4],[37,3,39,4],[28,5,28,9],[29,5,29,9],[30,5,30,9],[24,2,27,4],[24,5,24,9],[27,5,27,9],[25,5,26,9],[24,41,27,47],[28,71,29,73],[31,45,31,49],[31,71,32,73],[32,45,32,49],[30,45,30,49],[31,5,31,9],[38,5,38,9],[39,5,39,9],[29,45,29,49],[37,44,39,44],[28,32,29,34],[31,32,32,34],[34,32,35,34],[37,32,38,34],[32,5,32,9],[33,5,33,9],[34,5,34,9],[35,5,35,9],[37,5,37,9],[26,55,27,62],[26,73,27,81],[24,32,26,34],[24,55,25,62],[42,78,42,82],[42,83,42,87],[42,88,42,89],[48,2,48,13],[36,45,36,49],[39,45,39,49],[34,45,34,49],[34,71,35,73],[35,45,35,49],[37,45,37,49],[37,71,38,73],[38,45,38,49],[40,43,41,59],[40,60,41,89],[42,43,42,46],[34,44,36,44],[42,60,42,77],[28,41,39,43],[41,22,42,25],[41,26,42,29],[40,2,42,3],[40,4,42,6],[40,7,42,9],[40,10,42,13],[44,1,46,1],[0,25,0,28],[2,5,6,7],[44,2,46,3],[44,4,44,13],[45,4,45,13],[42,50,42,52],[42,57,42,59],[42,53,42,56],[40,34,42,38],[40,39,42,42],[40,18,40,25],[40,26,40,33],[41,30,42,33],[42,47,42,49],[40,14,42,17],[41,18,42,21],[28,44,30,44],[31,44,33,44],[46,4,46,13],[36,5,36,9],[3,0,3,1],[33,45,33,49],[28,45,28,49]]}
[null,null,null,null,null,null,null,null,null,null,null,null,null,null,null,null,null,null,null,"令和",null,null,null,null,null,{"$f":"TEXT(DATE(会社情報!C7,12,31),\"ee\")","v":"03"},null,null,null,null,"年分",null,null,null,null,null,null,null,null,null,null,null,"給与所得の源泉徴収票"]
[]
[null,null,"支　払\nを受け\nる　者",null,null,"住所又は居所",null,null,{"$f":"源泉徴収票!AC1","v":""},null,null,null,null,null,null,null,null,null,null,null,null,null,null,null,null,null,null,null,null,null,null,null,null,null,null,null,null,null,null,null,null,null,null,null,null,null,null,null,null,null,null,"(受給者番号)"]
[{"$f":"Z1+1","v":4},null,null,null,null,null,null,null,null,null,null,null,null,null,null,null,null,null,null,null,null,null,null,null,null,null,null,null,null,null,null,null,null,null,null,null,null,null,null,null,null,null,null,null,null,null,null,null,null,null,null,"(個人番号)",null,null,null,null,null,null,null,{"$f":"TEXT(源泉徴収票!$AA$1,\" 0 0 0 0 0 0 0 0 0 0 0 0\")","v":""}]
[null,null,null,null,null,null,null,null,null,null,null,null,null,null,null,null,null,null,null,null,null,null,null,null,null,null,null,null,null,null,null,null,null,null,null,null,null,null,null,null,null,null,null,null,null,null,null,null,null,null,null,"(役職名)",null,null,null,null,null,null,null,{"$f":"源泉徴収票!E1","v":""}]
[null,null,null,null,null,null,null,null,null,null,null,null,null,null,null,null,null,null,null,null,null,null,null,null,null,null,null,null,null,null,null,null,null,null,null,null,null,null,null,null,null,null,null,null,null,null,null,null,null,null,null,null,"氏　名",null,"(フリガナ)",null,null,null,null,{"$f":"源泉徴収票!C1","v":""}]
[null,null,null,null,null,null,null,null,null,null,null,null,null,null,null,null,null,null,null,null,null,null,null,null,null,null,null,null,null,null,null,null,null,null,null,null,null,null,null,null,null,null,null,null,null,null,null,null,null,null,null,null,null,null,null,null,null,null,null,{"$f":"源泉徴収票!B1","v":""}]
[null,null,"種別",null,null,null,null,null,null,null,null,null,null,null,null,null,null,null,"支払金額",null,null,null,null,null,null,null,null,null,null,null,null,null,null,null,null,null,null,"給与所得控除後の金額",null,null,null,null,null,null,null,null,null,null,null,null,null,null,null,null,"所得控除の額の合計額",null,null,null,null,null,null,null,null,null,null,null,null,null,null,null,null,null,"源泉徴収税額"]
[null,null,null,null,null,null,null,null,null,null,null,null,null,null,null,null,null,null,"内",null,null,null,null,null,null,null,null,null,null,null,null,null,null,null,null,null,"円",null,null,null,null,null,null,null,null,null,null,null,null,null,null,null,null,"円",null,null,null,null,null,null,null,null,null,null,null,null,null,null,null,null,null,"円",null,null,null,null,null,null,null,null,null,null,null,null,null,null,null,null,null,"円"]
[null,null,{"$f":"会社情報!C17","v":"給料・賞与"},null,null,null,null,null,null,null,null,null,null,null,null,null,null,null,null,null,{"$f":"源泉徴収票!DH1","v":0},null,null,null,null,null,null,null,null,null,null,null,null,null,null,null,null,null,null,null,{"$f":"源泉徴収票!DJ1","v":0},null,null,null,null,null,null,null,null,null,null,null,null,null,null,null,{"$f":"源泉徴収票!DX1","v":0},null,null,null,null,null,null,null,null,null,null,null,null,null,null,null,null,null,null,{"$f":"源泉徴収票!EC1","v":0}]
[null,null,"（源泉）控除対象配偶者",null,null,null,null,null,null,null,null,null,null,null,null,"配偶者（特別）\n控除の額",null,null,null,null,null,null,null,null,null,null,null,null,null,"控除対象扶養親族の数\n（配偶者を除く。）",null,null,null,null,null,null,null,null,null,null,null,null,null,null,null,null,null,null,null,null,null,null,null,null,null,null,null,null,null,null,"16歳未満\n扶養親族\nの数",null,null,null,null,null,"障害者の数\n（本人を除く。）",null,null,null,null,null,null,null,null,null,null,null,null,null,null,null,null,null,null,null,"非居住者\nである\n親族の数"]
[null,null,"の有無等",null,null,null,null,null,null,"老人"]
[null,null,null,null,null,null,null,null,null,null,null,null,null,null,null,null,null,null,null,null,null,null,null,null,null,null,null,null,null,"特定",null,null,null,null,null,null,null,null,null,null,"老人",null,null,null,null,null,null,null,null,null,null,null,"その他",null,null,null,null,null,null,null,null,null,null,null,null,null,"特別",null,null,null,null,null,null,null,null,null,null,null,null,"その他"]
[null,null,"有",null,null,"従有",null,null,null,null,null,null,null,null,null,null,null,null,null,null,null,null,null,null,null,null,null,null,"円",null,null,null,null,null,"人","従人",null,null,null,null,null,null,null,"内",null,null,null,null,"人","従人",null,null,null,null,null,"人",null,"従人",null,null,null,null,null,null,"人",null,null,null,null,null,null,null,"内",null,null,null,null,null,"人",null,null,null,null,null,null,"人",null,null,null,"人"]
[null,null,{"$f":"IF(OR('源泉徴収票計算過程(非)'!B1=\"○\",'源泉徴収票計算過程(非)'!C1=\"○\"),\"○\",\"\")","v":""},null,null,null,null,null,null,{"$f":"IF('源泉徴収票計算過程(非)'!D1=\"○\",\"○\",\"\")","v":""},null,null,null,null,null,null,null,{"$f":"源泉徴収票!DR1+源泉徴収票!DS1","v":0},null,null,null,null,null,null,null,null,null,null,null,{"$f":"COUNTIF('源泉徴収票計算過程(非)'!$M$1:$Q$1,\"特\")","v":0},null,null,null,null,null,null,null,null,null,null,{"$f":"COUNTIF('源泉徴収票計算過程(非)'!$M$1:$Q$1,\"同\")","v":0},null,null,null,{"$f":"COUNTIF('源泉徴収票計算過程(非)'!$M$1:$Q$1,\"老\")+AO15","v":0},null,null,null,null,null,null,null,{"$f":"COUNTIF('源泉徴収票計算過程(非)'!$M$1:$Q$1,\"一\")","v":0},null,null,null,null,null,null,null,{"$f":"COUNTIF('源泉徴収票計算過程(非)'!$M$1:$Q$1,\"未\")","v":0},null,null,null,null,null,{"$f":"COUNTIF(源泉徴収票!BP1,\"同居特別\")+源泉徴収票!BS1","v":0},null,null,null,null,null,null,{"$f":"COUNTIF(源泉徴収票!BP1,\"特別\")+源泉徴収票!BR1+BO15","v":0},null,null,null,null,null,{"$f":"COUNTIF(源泉徴収票!BP1,\"一般\")+源泉徴収票!BQ1","v":0}]
[null,null,"社会保険料等の金額",null,null,null,null,null,null,null,null,null,null,null,null,null,null,null,null,null,null,null,null,"生命保険料の控除額",null,null,null,null,null,null,null,null,null,null,null,null,null,null,null,null,null,null,null,null,null,null,"地震保険料の控除額",null,null,null,null,null,null,null,null,null,null,null,null,null,null,null,null,null,null,null,"住宅借入金等特別控除の額"]
[null,null,"内",{"$f":"源泉徴収票!DO1","v":0},null,null,null,null,null,null,null,null,null,null,null,null,null,null,null,null,null,null,"円",null,null,null,null,null,null,null,null,null,null,null,null,null,null,null,null,null,null,null,null,null,null,"円",null,null,null,null,null,null,null,null,null,null,null,null,null,null,null,null,null,null,null,"円",null,null,null,null,null,null,null,null,null,null,null,null,null,null,null,null,null,null,null,null,null,null,null,"円"]
[null,null,null,{"$f":"SUM(源泉徴収票!DM1:DO1)","v":0},null,null,null,null,null,null,null,null,null,null,null,null,null,null,null,null,null,null,null,null,null,null,{"$f":"源泉徴収票!DP1","v":0},null,null,null,null,null,null,null,null,null,null,null,null,null,null,null,null,null,null,null,null,null,null,{"$f":"源泉徴収票!DQ1","v":0},null,null,null,null,null,null,null,null,null,null,null,null,null,null,null,null,null,null,null,null,{"$f":"MIN(源泉徴収票!DZ1,源泉徴収票!EA1)","v":0}]
[null,null,"（摘要）",null,null,null,{"$f":"IF(LEN(G60)>0,LEFT(G60,LEN(G60)-1),\"\")","v":""}]
[]
[]
[null,null,"生命保険料の金額の\n内訳",null,null,null,"新生命保険料の金額",null,null,null,null,null,{"$f":"TEXT(源泉徴収票!BU1,\"#,###\")","v":""},null,null,null,null,null,null,null,null,null,"円","旧生命保険料\nの金額",null,null,null,null,null,{"$f":"TEXT(源泉徴収票!BV1,\"#,###\")","v":""},null,null,null,null,null,null,null,null,null,null,"円","介護医療保\n険料の金額",null,null,null,null,null,{"$f":"TEXT(源泉徴収票!BW1,\"#,###\")","v":""},null,null,null,null,null,null,"円","新個人年金\n保険料の金額",null,null,null,null,null,{"$f":"TEXT(源泉徴収票!BX1,\"#,###\")","v":""},null,null,null,null,null,null,null,null,null,null,"円","旧個人年金\n保険料の金額",null,null,null,null,null,null,{"$f":"TEXT(源泉徴収票!BY1,\"#,###\")","v":""},null,null,null,null,null,null,null,null,"円"]
[null,null,"住宅借入金等特別控除の額の内訳",null,null,null,"住宅借入金等\n特別控除適用数",null,null,null,null,null,{"$f":"IF(LEN(BD23&BD24)>0,LEN(BD23&BD24),\"\")","v":""},null,null,null,null,null,null,null,null,null,null,"居住開始年月日\n（１回目）",null,null,null,null,null,{"$f":"IF($AD64=0,\"\",TEXT($AD64,AD$66))","v":""},null,null,null,null,null,null,"年",{"$f":"IF($AD64=0,\"\",TEXT($AD64,AL$66))","v":""},null,null,null,null,"月",{"$f":"IF($AD64=0,\"\",TEXT($AD64,AR$66))","v":""},null,null,null,"日","住宅借入金等特別控除区分（1回目）",null,null,null,null,null,null,{"$f":"IF(源泉徴収票!DB1=0,\"\",源泉徴収票!DB1)","v":""},null,null,null,null,null,null,null,"住宅借入金等\n年末残高（1回目）",null,null,null,null,null,null,null,null,null,{"$f":"TEXT(源泉徴収票!DC1,\"#,###\")","v":""},null,null,null,null,null,null,null,null,null,null,null,null,null,null,null,"円"]
[null,null,null,null,null,null,"住宅借入金等\n特別控除可能額",null,null,null,null,null,{"$f":"TEXT(源泉徴収票!EA1,\"#,###\")","v":""},null,null,null,null,null,null,null,null,null,"円","居住開始年月日\n（2回目）",null,null,null,null,null,{"$f":"IF($AD65=0,\"\",TEXT($AD65,AD$66))","v":""},null,null,null,null,null,null,"年",{"$f":"IF($AD65=0,\"\",TEXT($AD65,AL$66))","v":""},null,null,null,null,"月",{"$f":"IF($AD65=0,\"\",TEXT($AD65,AR$66))","v":""},null,null,null,"日","住宅借入金等特別控除区分（2回目）",null,null,null,null,null,null,{"$f":"IF(源泉徴収票!DE1=0,\"\",源泉徴収票!DE1)","v":""},null,null,null,null,null,null,null,"住宅借入金等\n年末残高（2回目）",null,null,null,null,null,null,null,null,null,{"$f":"TEXT(源泉徴収票!DF1,\"#,###\")","v":""},null,null,null,null,null,null,null,null,null,null,null,null,null,null,null,"円"]
[null,null,"(源泉・特別)控除対象配偶者",null,null,"(フリガナ)",null,null,null,null,{"$f":"IF(源泉徴収票!CL1<>0,源泉徴収票!CL1,IF(源泉徴収票!AF1<>0,源泉徴収票!AF1,\"\"))","v":""},null,null,null,null,null,null,null,null,null,null,null,null,null,null,null,null,null,null,null,null,null,"区分",null,null,{"$f":"IF(源泉徴収票!CP1<>\"\",\"○\",IF(源泉徴収票!AJ1<>\"\",\"○\",\"\"))","v":""},null,null,null,null,null,"配偶者の\n合計所得",null,null,null,null,null,null,{"$f":"IF(源泉徴収票!CO1>0,TEXT(源泉徴収票!CO1,\"#,###\"),IF(源泉徴収票!AI1>0,TEXT(源泉徴収票!AI1,\"#,###\"),\"\"))","v":""},null,null,null,null,null,"円","国民年金保険\n料等の金額",null,null,null,null,null,null,null,{"$f":"TEXT(源泉徴収票!CC1,\"#,###\")","v":""},null,null,null,null,null,null,null,null,"円","旧長期損害\n保険料の金額",null,null,null,null,null,null,null,null,{"$f":"TEXT(源泉徴収票!CA1,\"#,###\")","v":""},null,null,null,null,null,null,"円"]
[null,null,null,null,null,"氏名",null,null,null,null,{"$f":"IF(源泉徴収票!CK1<>0,源泉徴収票!CK1,IF(源泉徴収票!AE1<>0,源泉徴収票!AE1,\"\"))","v":""}]
[null,null,null,null,null,null,null,null,null,null,null,null,null,null,null,null,null,null,null,null,null,null,null,null,null,null,null,null,null,null,null,null,null,null,null,null,null,null,null,null,null,null,null,null,null,null,null,null,null,null,null,null,null,null,null,"基礎控除の額",null,null,null,null,null,null,null,{"$f":"TEXT(源泉徴収票!DW1,\"#,###\")","v":""},null,null,null,null,null,null,null,null,null,"所得金額\n調整控除額",null,null,null,null,null,null,null,null,{"$f":"TEXT(源泉徴収票!DK1,\"#,###\")","v":""}]
[null,null,null,null,null,"個人番号",null,null,null,null,{"$f":"IF(源泉徴収票!CM1<>0,TEXT(源泉徴収票!CM1,\" 0 0 0 0 0 0 0 0 0 0 0 0\"),IF(源泉徴収票!AG1<>0,TEXT(源泉徴収票!AG1,\" 0 0 0 0 0 0 0 0 0 0 0 0\"),\"\"))","v":""}]
[null,null,"控除対象扶養親族",1,null,"(フリガナ)",null,null,null,null,{"$f":"K69","v":""},null,null,null,null,null,null,null,null,null,null,null,null,null,null,null,null,null,null,null,null,null,"区分",null,null,{"$f":"IF(AJ69=\"\",\"\",\"○\")","v":""},null,null,null,null,null,"16歳未満の扶養親族",null,null,1,"(フリガナ)",null,null,null,null,{"$f":"AY69","v":""},null,null,null,null,null,null,null,null,null,null,null,null,null,null,null,null,null,null,null,null,"区分",null,null,{"$f":"IF(BW69=\"\",\"\",\"○\")","v":""},null,null,null,null,"（備考）"]
[null,null,null,null,null,"氏名",null,null,null,null,{"$f":"K70","v":""},null,null,null,null,null,null,null,null,null,null,null,null,null,null,null,null,null,null,null,null,null,null,null,null,null,null,null,null,null,null,null,null,null,null,"氏名",null,null,null,null,{"$f":"AY70","v":""},null,null,null,null,null,null,null,null,null,null,null,null,null,null,null,null,null,null,null,null,null,null,null,null,null,null,null,null,{"$f":"IF(LEN(BY70)>0,LEFT(BY70,LEN(BY70)-1),\"\")","v":""}]
[null,null,null,null,null,"個人番号",null,null,null,null,{"$f":"TEXT(K71,\" 0 0 0 0 0 0 0 0 0 0 0 0\")","v":""},null,null,null,null,null,null,null,null,null,null,null,null,null,null,null,null,null,null,null,null,null,null,null,null,null,null,null,null,null,null,null,null,null,null,"個人番号",null,null,null,null,{"$f":"TEXT(AY71,\" 0 0 0 0 0 0 0 0 0 0 0 0\")","v":""},null,null,null,null,null,null,null,null,null,null,null,null,null,null,null,null,null,null,null,null,null,null,null,null,null,null,null,null,{"$f":"IF(LEN(BY70)>0,LEFT(BY70,LEN(BY70)-1),\"\")","v":""}]
[null,null,null,2,null,"(フリガナ)",null,null,null,null,{"$f":"K72","v":""},null,null,null,null,null,null,null,null,null,null,null,null,null,null,null,null,null,null,null,null,null,"区分",null,null,{"$f":"IF(AJ72=\"\",\"\",\"○\")","v":""},null,null,null,null,null,null,null,null,2,"(フリガナ)",null,null,null,null,{"$f":"AY72","v":""},null,null,null,null,null,null,null,null,null,null,null,null,null,null,null,null,null,null,null,null,"区分",null,null,{"$f":"IF(BW72=\"\",\"\",\"○\")","v":""}]
[null,null,null,null,null,"氏名",null,null,null,null,{"$f":"K73","v":""},null,null,null,null,null,null,null,null,null,null,null,null,null,null,null,null,null,null,null,null,null,null,null,null,null,null,null,null,null,null,null,null,null,null,"氏名",null,null,null,null,{"$f":"AY73","v":""}]
[null,null,null,null,null,"個人番号",null,null,null,null,{"$f":"TEXT(K74,\" 0 0 0 0 0 0 0 0 0 0 0 0\")","v":""},null,null,null,null,null,null,null,null,null,null,null,null,null,null,null,null,null,null,null,null,null,null,null,null,null,null,null,null,null,null,null,null,null,null,"個人番号",null,null,null,null,{"$f":"TEXT(AY74,\" 0 0 0 0 0 0 0 0 0 0 0 0\")","v":""}]
[null,null,null,3,null,"(フリガナ)",null,null,null,null,{"$f":"K75","v":""},null,null,null,null,null,null,null,null,null,null,null,null,null,null,null,null,null,null,null,null,null,"区分",null,null,{"$f":"IF(AJ75=\"\",\"\",\"○\")","v":""},null,null,null,null,null,null,null,null,3,"(フリガナ)",null,null,null,null,{"$f":"AY75","v":""},null,null,null,null,null,null,null,null,null,null,null,null,null,null,null,null,null,null,null,null,"区分",null,null,{"$f":"IF(BW75=\"\",\"\",\"○\")","v":""}]
[null,null,null,null,null,"氏名",null,null,null,null,{"$f":"K76","v":""},null,null,null,null,null,null,null,null,null,null,null,null,null,null,null,null,null,null,null,null,null,null,null,null,null,null,null,null,null,null,null,null,null,null,"氏名",null,null,null,null,{"$f":"AY76","v":""}]
[null,null,null,null,null,"個人番号",null,null,null,null,{"$f":"TEXT(K77,\" 0 0 0 0 0 0 0 0 0 0 0 0\")","v":""},null,null,null,null,null,null,null,null,null,null,null,null,null,null,null,null,null,null,null,null,null,null,null,null,null,null,null,null,null,null,null,null,null,null,"個人番号",null,null,null,null,{"$f":"TEXT(AY77,\" 0 0 0 0 0 0 0 0 0 0 0 0\")","v":""},null,null,null,null,null,null,null,null,null,null,null,null,null,null,null,null,null,null,null,null,null,null,null,null,null,null,null,null,{"$f":"CB77","v":""}]
[null,null,null,4,null,"(フリガナ)",null,null,null,null,{"$f":"K78","v":""},null,null,null,null,null,null,null,null,null,null,null,null,null,null,null,null,null,null,null,null,null,"区分",null,null,{"$f":"IF(AJ78=\"\",\"\",\"○\")","v":""},null,null,null,null,null,null,null,null,4,"(フリガナ)",null,null,null,null,{"$f":"AY78","v":""},null,null,null,null,null,null,null,null,null,null,null,null,null,null,null,null,null,null,null,null,"区分",null,null,{"$f":"IF(BW78=\"\",\"\",\"○\")","v":""}]
[null,null,null,null,null,"氏名",null,null,null,null,{"$f":"K79","v":""},null,null,null,null,null,null,null,null,null,null,null,null,null,null,null,null,null,null,null,null,null,null,null,null,null,null,null,null,null,null,null,null,null,null,"氏名",null,null,null,null,{"$f":"AY79","v":""}]
[null,null,null,null,null,"個人番号",null,null,null,null,{"$f":"TEXT(K80,\" 0 0 0 0 0 0 0 0 0 0 0 0\")","v":""},null,null,null,null,null,null,null,null,null,null,null,null,null,null,null,null,null,null,null,null,null,null,null,null,null,null,null,null,null,null,null,null,null,null,"個人番号",null,null,null,null,{"$f":"TEXT(AY80,\" 0 0 0 0 0 0 0 0 0 0 0 0\")","v":""}]
[null,null,"未成年者",null,"外国人",null,null,"死亡退職",null,null,"災害者",null,null,null,"乙欄",null,null,null,"本人が障害者",null,null,null,null,null,null,null,"寡婦",null,null,null,null,null,null,null,"寡婦",null,null,null,null,"ひとり親",null,null,null,"中途就・退職",null,null,null,null,null,null,null,null,null,null,null,null,null,null,null,null,"受給者生年月日"]
[null,null,null,null,null,null,null,null,null,null,null,null,null,null,null,null,null,null,"特別",null,null,null,"その他",null,null,null,"一般",null,null,null,"特別"]
[null,null,null,null,null,null,null,null,null,null,null,null,null,null,null,null,null,null,null,null,null,null,null,null,null,null,null,null,null,null,null,null,null,null,null,null,null,null,null,null,null,null,null,"就職",null,null,null,"退職",null,null,"年",null,null,"月",null,null,null,"日",null,null,"元号",null,null,null,null,null,null,null,null,null,null,null,null,null,null,null,null,null,"年",null,null,null,null,"月",null,null,null,null,"日"]
[null,null,null,null,null,null,null,null,null,null,null,null,null,null,{"$f":"IF(源泉徴収票!H1=\"乙欄\",\"○\",\"\")","v":""},null,null,null,{"$f":"IF(源泉徴収票!BO1=\"特別\",\"○\",\"\")","v":""},null,null,null,{"$f":"IF(源泉徴収票!BO1=\"一般\",\"○\",\"\")","v":""},null,null,null,{"$f":"IF(源泉徴収票!$BT$1=\"寡婦\",\"○\",\"\")","v":""},null,null,null,{"$f":"IF(源泉徴収票!$BT$1=\"特別の寡婦\",\"○\",\"\")","v":""},null,null,null,{"$f":"IF(源泉徴収票!$BT$1=\"寡夫\",\"○\",\"\")","v":""},null,null,null,null,{"$f":"IF(源泉徴収票!$BT$1=\"勤労学生\",\"○\",\"\")","v":""},null,null,null,{"$f":"IF(AR84=\"\",\"\",\"○\")","v":""},null,null,null,{"$f":"IF(AV84=\"\",\"\",\"○\")","v":""},null,null,{"$f":"IF($AR$44&$AV$44<>\"\",TEXT(AY84,AY85),\"\")","v":""},null,null,{"$f":"IF($AR$44&$AV$44<>\"\",TEXT(BB84,BB85),\"\")","v":""},null,null,null,{"$f":"IF($AR$44&$AV$44<>\"\",TEXT(BF84,BF85),\"\")","v":""},null,null,{"$f":"IF(源泉徴収票!$AB$1=\"\",\"\",TEXT(源泉徴収票!$AB$1,\"[$-411]ggg\"))","v":"明治"},null,null,null,null,null,null,null,null,null,null,null,null,null,null,null,null,null,{"$f":"TEXT(CA84,CA85)","v":"33"},null,null,null,null,{"$f":"TEXT(CF84,CF85)","v":"1"},null,null,null,null,{"$f":"TEXT(CK84,CK85)","v":"0"}]
[null,"(税務署提出用)","支払者",null,"個人番号又は\n法人番号",null,null,null,null,null,null,null,null,null,{"$f":"TEXT(RIGHT(\"             \"&会社情報!$C$12,13),\" # 0 0 0 0 0 0 0 0 0 0 0 0\")","v":" 1 2 3 4 5 6 7 8 9 0 1 2 2"},null,null,null,null,null,null,null,null,null,null,null,null,null,null,null,null,null,null,null,null,null,null,null,null,null,null,null,null,null,null,null,"（右詰で記載してください。）"]
[null,null,null,null,"住所（居所）\n又は所在地",null,null,null,null,null,null,null,null,null,{"$f":"会社情報!C8","v":"東京都千代田区１－２－３"}]
[null,null,null,null,"氏名又は名称",null,null,null,null,null,null,null,null,null,{"$f":"会社情報!C9","v":"ABC商事株式会社"},null,null,null,null,null,null,null,null,null,null,null,null,null,null,null,null,null,null,null,null,null,null,null,null,null,null,null,null,null,null,null,null,null,null,null,null,null,null,null,null,null,null,"（電話）",null,null,{"$f":"会社情報!C11","v":"03-1234-5678"}]
[]
[null,null,"整理欄",null,null,null,null,null,null,null,null,null,null,null,null,null,null,null,null,null,null,null,null,null,null,null,null,null,null,null,null,null,null,null,null,null,null,null,null,null,null,null,null,null,null,null,null,null,null,null,null,null,null,null,null,null,null,null,null,null,null,null,null,null,null,null,null,null,null,null,null,null,null,null,null,null,null,null,null,null,null,null,null,null,null,null,null,null,null,375]
[]
[]
[]
[]
[]
[]
[]
[]
[]
[]
[null,"19行目",null,null,null,null,{"$f":"X60&AQ60&BV60&BY60&CB60","v":""},null,null,null,null,null,null,null,null,null,null,null,null,null,null,null,null,{"$f":"IF(源泉徴収票!$U1>0,AH60&\" \"&AI60&\" \"&TEXT(AJ60,\"m/d\")&\"退職\"&CHAR(10)&\"給与等の金額 \"&TEXT(AE60,\"#,##0\")&\"円、社会保険料 \"&TEXT(AF60,\"#,##0\")&\"円、徴収税額 \"&TEXT(AG60,\"#,##0\")&\"円\"&CHAR(10),\"\")","v":""},null,null,null,null,null,null,{"$f":"IF(源泉徴収票!$U1>0,源泉徴収票!U1,\"\")","v":""},{"$f":"IF(源泉徴収票!$U1>0,源泉徴収票!V1,\"\")","v":""},{"$f":"IF(源泉徴収票!$U1>0,源泉徴収票!W1,\"\")","v":""},{"$f":"IF(源泉徴収票!$U1>0,源泉徴収票!X1,\"\")","v":""},{"$f":"IF(源泉徴収票!$U1>0,源泉徴収票!Y1,\"\")","v":""},{"$f":"IF(源泉徴収票!$U1>0,源泉徴収票!Z1,\"\")","v":""},null,null,null,null,null,null,{"$f":"IF(源泉徴収票!I1=\"無\",\"年調未済、\",\"\")","v":""},null,null,null,null,null,null,null,null,null,null,null,null,null,null,null,null,null,null,null,null,null,null,null,null,null,null,null,null,null,null,{"$f":"IF(BW60>0,\"(\"&BW60&\") \"&源泉徴収票!CK1&\" (同配)、\",\"\")","v":""},{"$f":"IF(AND(源泉徴収票!BP1<>\"\",源泉徴収票!DS1=0),1,0)","v":0},null,{"$f":"IF(BZ60>BW60,\"(\"&BZ60&\") \"&K82&IF(AJ81<>\"\",\"(非居住者)\",\"\")&\"、\",\"\")","v":""},{"$f":"IF(I81>0,BW60+1,BW60)","v":0},null,{"$f":"IF(CC60>BZ60,\"(\"&CC60&\") \"&AY82&\" (年少)\"&IF(BW81<>\"\",\"(非居住者)\",\"\")&\"、\",\"\")","v":""},{"$f":"IF(AW81>0,BZ60+1,0)","v":0}]
[]
[]
[]
[null,"23行目",null,null,null,null,null,null,null,null,null,null,null,null,null,null,null,null,null,null,null,null,null,null,null,null,null,null,null,{"$f":"源泉徴収票!$DA$1","v":0}]
[null,"24行目",null,null,null,null,null,null,null,null,null,null,null,null,null,null,null,null,null,null,null,null,null,null,null,null,null,null,null,{"$f":"源泉徴収票!$DD$1","v":0}]
[null,"23行目～24行目",null,null,null,null,null,null,null,null,null,null,null,null,null,null,null,null,null,null,null,null,null,null,null,null,null,null,null,"e",null,null,null,null,null,null,null,"m",null,null,null,null,null,"d"]
[]
[]
[null,"28行目～39行目",null,null,null,null,null,null,{"$f":"IF(ISERROR(MATCH(\"一\",OFFSET('源泉徴収票計算過程(非)'!$R$1,0,MAX(I$68:I68),1,5-MAX(I$68:I68)),0)),0,MATCH(\"一\",OFFSET('源泉徴収票計算過程(非)'!$R$1,0,MAX(I$68:I68),1,5-MAX(I$68:I68)),0)+MAX(I$68:I68))","v":0},null,{"$f":"IF(I69=0,\"\",OFFSET(源泉徴収票!$AK$1,0,6*(I69-1)+1,1,1))","v":""},null,null,null,null,null,null,null,null,null,null,null,null,null,null,null,null,null,null,null,null,null,null,null,null,{"$f":"IF(I69=0,\"\",OFFSET(源泉徴収票!$AK$1,0,6*(I69-1)+5,1,1))","v":""},null,null,null,null,null,null,null,null,null,null,null,null,{"$f":"IF(ISERROR(MATCH(\"未\",OFFSET('源泉徴収票計算過程(非)'!$R$1,0,MAX(AW$68:AW68),1,5-MAX(AW$68:AW68)),0)),0,MATCH(\"未\",OFFSET('源泉徴収票計算過程(非)'!$R$1,0,MAX(AW$68:AW68),1,5-MAX(AW$68:AW68)),0)+MAX(AW$68:AW68))","v":0},null,{"$f":"IF(AW69=0,\"\",OFFSET(源泉徴収票!$AK$1,0,6*(AW69-1)+1,1,1))","v":""},null,null,null,null,null,null,null,null,null,null,null,null,null,null,null,null,null,null,null,null,null,null,null,{"$f":"IF(AW69=0,\"\",OFFSET(源泉徴収票!$AK$1,0,6*(AW69-1)+5,1,1))","v":""}]
[null,null,null,null,null,null,null,null,null,null,{"$f":"IF(I69=0,\"\",OFFSET(源泉徴収票!$AK$1,0,6*(I69-1),1,1))","v":""},null,null,null,null,null,null,null,null,null,null,null,null,null,null,null,null,null,null,null,null,null,null,null,null,null,null,null,null,null,null,null,null,null,null,null,null,null,null,null,{"$f":"IF(AW69=0,\"\",OFFSET(源泉徴収票!$AK$1,0,6*(AW69-1),1,1))","v":""},null,null,null,null,null,null,null,null,null,null,null,null,null,null,null,null,null,null,null,null,null,null,null,null,null,{"$f":"IF(BZ60>BW60,\"(\"&BZ60&\")\"&K83&CHAR(10),\"\")","v":""}]
[null,null,null,null,null,null,null,null,null,null,{"$f":"IF(I69=0,\"\",OFFSET(源泉徴収票!$AK$1,0,6*(I69-1)+2,1,1))","v":""},null,null,null,null,null,null,null,null,null,null,null,null,null,null,null,null,null,null,null,null,null,null,null,null,null,null,null,null,null,null,null,null,null,null,null,null,null,null,null,{"$f":"IF(AW69=0,\"\",OFFSET(源泉徴収票!$AK$1,0,6*(AW69-1)+2,1,1))","v":""}]
[null,null,null,null,null,null,null,null,{"$f":"IF(ISERROR(MATCH(\"一\",OFFSET('源泉徴収票計算過程(非)'!$R$1,0,MAX(I$68:I71),1,5-MAX(I$68:I71)),0)),0,MATCH(\"一\",OFFSET('源泉徴収票計算過程(非)'!$R$1,0,MAX(I$68:I71),1,5-MAX(I$68:I71)),0)+MAX(I$68:I71))","v":0},null,{"$f":"IF(I72=0,\"\",OFFSET(源泉徴収票!$AK$1,0,6*(I72-1)+1,1,1))","v":""},null,null,null,null,null,null,null,null,null,null,null,null,null,null,null,null,null,null,null,null,null,null,null,null,{"$f":"IF(I72=0,\"\",OFFSET(源泉徴収票!$AK$1,0,6*(I72-1)+5,1,1))","v":""},null,null,null,null,null,null,null,null,null,null,null,null,{"$f":"IF(ISERROR(MATCH(\"未\",OFFSET('源泉徴収票計算過程(非)'!$R$1,0,MAX(AW$68:AW71),1,5-MAX(AW$68:AW71)),0)),0,MATCH(\"未\",OFFSET('源泉徴収票計算過程(非)'!$R$1,0,MAX(AW$68:AW71),1,5-MAX(AW$68:AW71)),0)+MAX(AW$68:AW71))","v":0},null,{"$f":"IF(AW72=0,\"\",OFFSET(源泉徴収票!$AK$1,0,6*(AW72-1)+1,1,1))","v":""},null,null,null,null,null,null,null,null,null,null,null,null,null,null,null,null,null,null,null,null,null,null,null,{"$f":"IF(AW72=0,\"\",OFFSET(源泉徴収票!$AK$1,0,6*(AW72-1)+5,1,1))","v":""}]
[null,null,null,null,null,null,null,null,null,null,{"$f":"IF(I72=0,\"\",OFFSET(源泉徴収票!$AK$1,0,6*(I72-1),1,1))","v":""},null,null,null,null,null,null,null,null,null,null,null,null,null,null,null,null,null,null,null,null,null,null,null,null,null,null,null,null,null,null,null,null,null,null,null,null,null,null,null,{"$f":"IF(AW72=0,\"\",OFFSET(源泉徴収票!$AK$1,0,6*(AW72-1),1,1))","v":""}]
[null,null,null,null,null,null,null,null,null,null,{"$f":"IF(I72=0,\"\",OFFSET(源泉徴収票!$AK$1,0,6*(I72-1)+2,1,1))","v":""},null,null,null,null,null,null,null,null,null,null,null,null,null,null,null,null,null,null,null,null,null,null,null,null,null,null,null,null,null,null,null,null,null,null,null,null,null,null,null,{"$f":"IF(AW72=0,\"\",OFFSET(源泉徴収票!$AK$1,0,6*(AW72-1)+2,1,1))","v":""}]
[null,null,null,null,null,null,null,null,{"$f":"IF(ISERROR(MATCH(\"一\",OFFSET('源泉徴収票計算過程(非)'!$R$1,0,MAX(I$68:I74),1,5-MAX(I$68:I74)),0)),0,MATCH(\"一\",OFFSET('源泉徴収票計算過程(非)'!$R$1,0,MAX(I$68:I74),1,5-MAX(I$68:I74)),0)+MAX(I$68:I74))","v":0},null,{"$f":"IF(I75=0,\"\",OFFSET(源泉徴収票!$AK$1,0,6*(I75-1)+1,1,1))","v":""},null,null,null,null,null,null,null,null,null,null,null,null,null,null,null,null,null,null,null,null,null,null,null,null,{"$f":"IF(I75=0,\"\",OFFSET(源泉徴収票!$AK$1,0,6*(I75-1)+5,1,1))","v":""},null,null,null,null,null,null,null,null,null,null,null,null,{"$f":"IF(ISERROR(MATCH(\"未\",OFFSET('源泉徴収票計算過程(非)'!$R$1,0,MAX(AW$68:AW74),1,5-MAX(AW$68:AW74)),0)),0,MATCH(\"未\",OFFSET('源泉徴収票計算過程(非)'!$R$1,0,MAX(AW$68:AW74),1,5-MAX(AW$68:AW74)),0)+MAX(AW$68:AW74))","v":0},null,{"$f":"IF(AW75=0,\"\",OFFSET(源泉徴収票!$AK$1,0,6*(AW75-1)+1,1,1))","v":""},null,null,null,null,null,null,null,null,null,null,null,null,null,null,null,null,null,null,null,null,null,null,null,{"$f":"IF(AW75=0,\"\",OFFSET(源泉徴収票!$AK$1,0,6*(AW75-1)+5,1,1))","v":""}]
[null,null,null,null,null,null,null,null,null,null,{"$f":"IF(I75=0,\"\",OFFSET(源泉徴収票!$AK$1,0,6*(I75-1),1,1))","v":""},null,null,null,null,null,null,null,null,null,null,null,null,null,null,null,null,null,null,null,null,null,null,null,null,null,null,null,null,null,null,null,null,null,null,null,null,null,null,null,{"$f":"IF(AW75=0,\"\",OFFSET(源泉徴収票!$AK$1,0,6*(AW75-1),1,1))","v":""}]
[null,null,null,null,null,null,null,null,null,null,{"$f":"IF(I75=0,\"\",OFFSET(源泉徴収票!$AK$1,0,6*(I75-1)+2,1,1))","v":""},null,null,null,null,null,null,null,null,null,null,null,null,null,null,null,null,null,null,null,null,null,null,null,null,null,null,null,null,null,null,null,null,null,null,null,null,null,null,null,{"$f":"IF(AW75=0,\"\",OFFSET(源泉徴収票!$AK$1,0,6*(AW75-1)+2,1,1))","v":""},null,null,null,null,null,null,null,null,null,null,null,null,null,null,null,null,null,null,null,null,null,null,null,null,null,null,null,null,{"$f":"IF(CC60>BZ60,\"(\"&CC60&\")\"&AY83&CHAR(10),\"\")","v":""}]
[null,null,null,null,null,null,null,null,{"$f":"IF(ISERROR(MATCH(\"一\",OFFSET('源泉徴収票計算過程(非)'!$R$1,0,MAX(I$68:I77),1,5-MAX(I$68:I77)),0)),0,MATCH(\"一\",OFFSET('源泉徴収票計算過程(非)'!$R$1,0,MAX(I$68:I77),1,5-MAX(I$68:I77)),0)+MAX(I$68:I77))","v":0},null,{"$f":"IF(I78=0,\"\",OFFSET(源泉徴収票!$AK$1,0,6*(I78-1)+1,1,1))","v":""},null,null,null,null,null,null,null,null,null,null,null,null,null,null,null,null,null,null,null,null,null,null,null,null,{"$f":"IF(I78=0,\"\",OFFSET(源泉徴収票!$AK$1,0,6*(I78-1)+5,1,1))","v":""},null,null,null,null,null,null,null,null,null,null,null,null,{"$f":"IF(ISERROR(MATCH(\"未\",OFFSET('源泉徴収票計算過程(非)'!$R$1,0,MAX(AW$68:AW77),1,5-MAX(AW$68:AW77)),0)),0,MATCH(\"未\",OFFSET('源泉徴収票計算過程(非)'!$R$1,0,MAX(AW$68:AW77),1,5-MAX(AW$68:AW77)),0)+MAX(AW$68:AW77))","v":0},null,{"$f":"IF(AW78=0,\"\",OFFSET(源泉徴収票!$AK$1,0,6*(AW78-1)+1,1,1))","v":""},null,null,null,null,null,null,null,null,null,null,null,null,null,null,null,null,null,null,null,null,null,null,null,{"$f":"IF(AW78=0,\"\",OFFSET(源泉徴収票!$AK$1,0,6*(AW78-1)+5,1,1))","v":""}]
[null,null,null,null,null,null,null,null,null,null,{"$f":"IF(I78=0,\"\",OFFSET(源泉徴収票!$AK$1,0,6*(I78-1),1,1))","v":""},null,null,null,null,null,null,null,null,null,null,null,null,null,null,null,null,null,null,null,null,null,null,null,null,null,null,null,null,null,null,null,null,null,null,null,null,null,null,null,{"$f":"IF(AW78=0,\"\",OFFSET(源泉徴収票!$AK$1,0,6*(AW78-1),1,1))","v":""}]
[null,null,null,null,null,null,null,null,null,null,{"$f":"IF(I78=0,\"\",OFFSET(源泉徴収票!$AK$1,0,6*(I78-1)+2,1,1))","v":""},null,null,null,null,null,null,null,null,null,null,null,null,null,null,null,null,null,null,null,null,null,null,null,null,null,null,null,null,null,null,null,null,null,null,null,null,null,null,null,{"$f":"IF(AW78=0,\"\",OFFSET(源泉徴収票!$AK$1,0,6*(AW78-1)+2,1,1))","v":""}]
[null,null,null,null,null,null,null,null,{"$f":"IF(ISERROR(MATCH(\"一\",OFFSET('源泉徴収票計算過程(非)'!$R$1,0,MAX(I$68:I80),1,5-MAX(I$68:I80)),0)),0,MATCH(\"一\",OFFSET('源泉徴収票計算過程(非)'!$R$1,0,MAX(I$68:I80),1,5-MAX(I$68:I80)),0)+MAX(I$68:I80))","v":0},null,{"$f":"IF(I81=0,\"\",OFFSET(源泉徴収票!$AK$1,0,6*(I81-1)+1,1,1))","v":""},null,null,null,null,null,null,null,null,null,null,null,null,null,null,null,null,null,null,null,null,null,null,null,null,{"$f":"IF(I81=0,\"\",OFFSET(源泉徴収票!$AK$1,0,6*(I81-1)+5,1,1))","v":""},null,null,null,null,null,null,null,null,null,null,null,null,{"$f":"IF(ISERROR(MATCH(\"未\",OFFSET('源泉徴収票計算過程(非)'!$R$1,0,MAX(AW$68:AW80),1,5-MAX(AW$68:AW80)),0)),0,MATCH(\"未\",OFFSET('源泉徴収票計算過程(非)'!$R$1,0,MAX(AW$68:AW80),1,5-MAX(AW$68:AW80)),0)+MAX(AW$68:AW80))","v":0},null,{"$f":"IF(AW81=0,\"\",OFFSET(源泉徴収票!$AK$1,0,6*(AW81-1)+1,1,1))","v":""},null,null,null,null,null,null,null,null,null,null,null,null,null,null,null,null,null,null,null,null,null,null,null,{"$f":"IF(AW81=0,\"\",OFFSET(源泉徴収票!$AK$1,0,6*(AW81-1)+5,1,1))","v":""}]
[null,null,null,null,null,null,null,null,null,null,{"$f":"IF(I81=0,\"\",OFFSET(源泉徴収票!$AK$1,0,6*(I81-1),1,1))","v":""},null,null,null,null,null,null,null,null,null,null,null,null,null,null,null,null,null,null,null,null,null,null,null,null,null,null,null,null,null,null,null,null,null,null,null,null,null,null,null,{"$f":"IF(AW81=0,\"\",OFFSET(源泉徴収票!$AK$1,0,6*(AW81-1),1,1))","v":""}]
[null,null,null,null,null,null,null,null,null,null,{"$f":"IF(I81=0,\"\",OFFSET(源泉徴収票!$AK$1,0,6*(I81-1)+2,1,1))","v":""},null,null,null,null,null,null,null,null,null,null,null,null,null,null,null,null,null,null,null,null,null,null,null,null,null,null,null,null,null,null,null,null,null,null,null,null,null,null,null,{"$f":"IF(AW81=0,\"\",OFFSET(源泉徴収票!$AK$1,0,6*(AW81-1)+2,1,1))","v":""}]
[null,"43行目",null,null,null,null,null,null,null,null,null,null,null,null,null,null,null,null,null,null,null,null,null,null,null,null,null,null,null,null,null,null,null,null,null,null,null,null,null,null,null,null,null,{"$f":"IF(源泉徴収票!F1=0,\"\",源泉徴収票!F1)","v":""},null,null,null,{"$f":"IF(源泉徴収票!G1=0,\"\",源泉徴収票!G1)","v":""},null,null,{"$f":"IF($AV$84=\"\",$AR$84,$AV$84)","v":""},null,null,{"$f":"IF($AV$84=\"\",$AR$84,$AV$84)","v":""},null,null,null,{"$f":"IF($AV$84=\"\",$AR$84,$AV$84)","v":""},null,null,null,null,null,null,null,null,null,null,null,null,null,null,null,null,{"$f":"IF(源泉徴収票!$AB$1=\"\",\"\",源泉徴収票!$AB$1)","v":"00:00:00"},null,null,null,{"$f":"IF(源泉徴収票!$AB$1=\"\",\"\",源泉徴収票!$AB$1)","v":"00:00:00"},null,null,null,null,{"$f":"IF(源泉徴収票!$AB$1=\"\",\"\",源泉徴収票!$AB$1)","v":"00:00:00"},null,null,null,null,{"$f":"IF(源泉徴収票!$AB$1=\"\",\"\",源泉徴収票!$AB$1)","v":"00:00:00"}]
[null,null,null,null,null,null,null,null,null,null,null,null,null,null,null,null,null,null,null,null,null,null,null,null,null,null,null,null,null,null,null,null,null,null,null,null,null,null,null,null,null,null,null,null,null,null,null,null,null,null,"e",null,null,"m",null,null,null,"d",null,null,null,null,null,null,null,null,null,null,null,null,null,null,null,null,null,null,null,null,"e",null,null,null,null,"m",null,null,null,null,"d"]

{"sheet":"退職(非)","index":15,"n_rows":52,"n_cols":38,"rows_kept":52,"cut":false,"hidden":true,"merged":[[24,2,24,5],[24,18,25,18],[20,4,20,18],[20,24,20,38],[21,3,22,3],[21,4,22,14],[21,16,22,18],[21,23,22,23],[21,24,22,34],[21,36,22,38],[16,36,17,38],[13,2,14,7],[13,8,14,9],[13,10,14,13],[13,14,14,16],[13,17,14,18],[18,3,18,18],[18,23,18,38],[19,1,22,1],[19,2,22,2],[19,4,19,14],[19,15,19,18],[19,21,22,21],[19,22,22,22],[19,24,19,38],[16,2,17,4],[16,6,17,8],[16,11,17,15],[16,16,17,18],[16,22,17,24],[16,26,17,28],[16,31,17,35],[15,2,15,5],[15,6,15,10],[15,11,15,15],[15,16,15,18],[15,22,15,25],[13,22,14,27],[13,28,14,29],[13,30,14,33],[13,34,14,36],[7,34,7,38],[13,37,14,38],[15,26,15,30],[15,31,15,35],[15,36,15,38],[11,37,12,38],[11,22,12,27],[11,28,12,29],[11,30,12,33],[11,34,12,36],[8,34,8,36],[8,37,8,38],[9,37,10,38],[7,2,8,7],[7,8,8,9],[7,10,8,13],[7,14,7,18],[7,22,8,27],[7,28,8,29],[7,30,8,33],[9,2,10,7],[9,8,10,9],[8,14,8,16],[8,17,8,18],[11,2,12,7],[11,8,12,9],[11,10,12,13],[11,14,12,16],[11,17,12,18],[9,22,10,27],[9,28,10,29],[9,30,10,33],[9,34,10,36],[9,10,10,13],[9,14,10,16],[9,17,10,18],[1,4,1,5],[1,24,1,25],[3,2,6,2],[3,4,3,12],[3,13,3,18],[3,22,6,22],[3,24,3,38],[4,4,4,18],[4,24,4,38],[5,4,5,18],[5,24,5,38],[6,8,6,18],[6,28,6,38],[28,4,28,5],[28,24,28,25],[30,2,33,2],[30,4,30,12],[30,13,30,18],[30,22,33,22],[30,24,30,38],[31,4,31,18],[31,24,31,38],[32,4,32,18],[32,24,32,38],[33,8,33,18],[33,28,33,38],[34,28,35,29],[34,30,35,33],[34,34,34,38],[35,14,35,16],[35,17,35,18],[35,34,35,36],[35,37,35,38],[34,2,35,7],[34,8,35,9],[34,10,35,13],[34,14,34,18],[34,22,35,27],[36,22,37,27],[36,28,37,29],[36,30,37,33],[36,34,37,36],[36,37,37,38],[36,2,37,7],[36,8,37,9],[36,10,37,13],[36,14,37,16],[36,17,37,18],[38,22,39,27],[38,28,39,29],[38,30,39,33],[38,34,39,36],[38,37,39,38],[38,2,39,7],[38,8,39,9],[38,10,39,13],[38,14,39,16],[38,17,39,18],[40,22,41,27],[40,28,41,29],[40,30,41,33],[40,34,41,36],[40,37,41,38],[40,2,41,7],[40,8,41,9],[40,10,41,13],[40,14,41,16],[40,17,41,18],[42,26,42,30],[42,31,42,35],[42,36,42,38],[43,2,44,4],[43,6,44,8],[43,11,44,15],[43,16,44,18],[43,22,44,24],[43,26,44,28],[43,31,44,35],[43,36,44,38],[42,2,42,5],[42,6,42,10],[42,11,42,15],[42,16,42,18],[42,22,42,25],[48,36,49,38],[51,2,51,5],[45,3,45,18],[45,23,45,38],[46,1,49,1],[46,2,49,2],[46,4,46,14],[46,15,46,18],[46,21,49,21],[46,22,49,22],[46,24,46,38],[47,4,47,18],[47,24,47,38],[48,3,49,3],[48,4,49,14],[48,16,49,18],[48,23,49,23],[48,24,49,34]]}
[]
[null,null,null,"令和",{"$f":"TEXT(DATE(会社情報!C7,12,31),\"ee\")","v":"03"},null,"年分　　退職所得の源泉徴収票・特別徴収票",null,null,null,null,null,null,null,null,null,null,null,null,null,null,null,null,"令和",{"$f":"E2&\"\"","v":"03"},null,"年分　　退職所得の源泉徴収票・特別徴収票"]
[]
[null,null,"支払を\n受ける者","個人番号",{"$f":"TEXT(RIGHT(\"            \"&退職所得!G1,12),\" 0 0 0 0 0 0 0 0 0 0 0 0\")","v":"            "},null,null,null,null,null,null,null,null,null,null,null,null,null,null,null,null,null,"支払を\n受ける者","個人番号"]
[null,null,null,"住所又は\n居所",{"$f":"退職所得!B1&\"\"","v":""},null,null,null,null,null,null,null,null,null,null,null,null,null,null,null,null,null,null,"住所又は\n居所",{"$f":"E5&\"\"","v":""}]
[null,null,null,{"$f":"\"令和\"&TEXT(DATE(会社情報!C7,12,31),\"ee\")&\"年\"&CHAR(13)&\"1月1日の住所\"","v":"令和03年\r1月1日の住所"},{"$f":"退職所得!C1&\"\"","v":""},null,null,null,null,null,null,null,null,null,null,null,null,null,null,null,null,null,null,{"$f":"D6&\"\"","v":"令和03年\r1月1日の住所"},{"$f":"E6&\"\"","v":""}]
[null,null,null,"氏名","（役職名）",null,null,null,{"$f":"IF(退職所得!F1=\"\",\"\",退職所得!F1&\" \")&退職所得!D1","v":""},null,null,null,null,null,null,null,null,null,null,null,null,null,null,"氏名","（役職名）",null,null,null,{"$f":"I7&\"\"","v":""}]
[null,null,"区分",null,null,null,null,null,"支 払 金 額",null,"源泉徴収税額",null,null,null,"特　　別　　徴　　収　　税　　額",null,null,null,null,null,null,null,"区分",null,null,null,null,null,"支 払 金 額",null,"源泉徴収税額",null,null,null,"特　　別　　徴　　収　　税　　額"]
[null,null,null,null,null,null,null,null,null,null,null,null,null,null,"市　町　村　民　税",null,null,"道　府　県　民　税",null,null,null,null,null,null,null,null,null,null,null,null,null,null,null,null,"市　町　村　民　税",null,null,"道　府　県　民　税"]
[null,null,"所得税法第201条第1項第1号並びに\n地方税法第50条の6第1項第1号及び\n第328条の6第1項第1号適用分",null,null,null,null,null,{"$f":"IF(退職所得!J$1=\"入手済\",退職所得!K$1,0)","v":0},null,{"$f":"IF(退職所得!J$1=\"入手済\",退職所得!L$1,0)","v":0},null,null,null,{"$f":"IF(退職所得!J$1=\"入手済\",退職所得!M$1,0)","v":0},null,null,{"$f":"IF(退職所得!J$1=\"入手済\",退職所得!N$1,0)","v":0},null,null,null,null,"所得税法第201条第1項第1号並びに\n地方税法第50条の6第1項第1号及び\n第328条の6第1項第1号適用分",null,null,null,null,null,{"$f":"I10","v":0},null,{"$f":"K10","v":0},null,{"$f":"M10","v":0},null,{"$f":"O10","v":0},null,null,{"$f":"R10","v":0}]
[]
[null,null,"所得税法第201条第1項第2号並びに\n地方税法第50条の6第1項第2号及び\n第328条の6第1項第2号適用分",null,null,null,null,null,null,null,null,null,null,null,null,null,null,null,null,null,null,null,"所得税法第201条第1項第2号並びに\n地方税法第50条の6第1項第2号及び\n第328条の6第1項第2号適用分",null,null,null,null,null,{"$f":"I12","v":0},null,{"$f":"K12","v":0},null,{"$f":"M12","v":0},null,{"$f":"O12","v":0},null,null,{"$f":"R12","v":0}]
[]
[null,null,"所得税法第201条第3項並びに地方\n税法第50条の6第2項及び第328条\nの6第2項適用分",null,null,null,null,null,{"$f":"IF(退職所得!J$1=\"未入手\",退職所得!K$1,0)","v":0},null,{"$f":"IF(退職所得!J$1=\"未入手\",退職所得!L$1,0)","v":0},null,null,null,{"$f":"IF(退職所得!J$1=\"未入手\",退職所得!M$1,0)","v":0},null,null,{"$f":"IF(退職所得!J$1=\"未入手\",退職所得!N$1,0)","v":0},null,null,null,null,"所得税法第201条第3項並びに地方\n税法第50条の6第2項及び第328条\nの6第2項適用分",null,null,null,null,null,{"$f":"I14","v":0},null,{"$f":"K14","v":0},null,{"$f":"M14","v":0},null,{"$f":"O14","v":0},null,null,{"$f":"R14","v":0}]
[]
[null,null,"退 職 所 得 控 除 額",null,null,null,"勤　 続　 年　 数",null,null,null,null,"就　職　年　月　日",null,null,null,null,"退　職　年　月　日",null,null,null,null,null,"退 職 所 得 控 除 額",null,null,null,"勤　 続　 年　 数",null,null,null,null,"就　職　年　月　日",null,null,null,null,"退　職　年　月　日"]
[null,null,{"$f":"MAX(800000,IF(G17<=20,400000*G17,8000000+700000*(G17-20)))","v":800000},null,null,"円",{"$f":"YEAR(Q17+1)-YEAR(L17)+IF((MONTH(Q17+1)*100+DAY(Q17+1))>(MONTH(L17)*100+DAY(L17)),1,0)","v":1},null,null,null,"年",{"$f":"退職所得!H1","v":"00:00:00"},null,null,null,null,{"$f":"退職所得!I1","v":"00:00:00"},null,null,null,null,null,{"$f":"C17","v":800000},null,null,"円",{"$f":"G17","v":1},null,null,null,"年",{"$f":"L17","v":"00:00:00"},null,null,null,null,{"$f":"Q17","v":"00:00:00"}]
[]
[null,null,"（摘要）",{"$f":"退職所得!O1&\"\"","v":""},null,null,null,null,null,null,null,null,null,null,null,null,null,null,null,null,null,null,"（摘要）",{"$f":"D19&\"\"","v":""}]
[null,"(税務署提出用）","支払者","個人番号\n又は法人番号",{"$f":"TEXT(RIGHT(\"             \"&会社情報!C12,13),\" # 0 0 0 0 0 0 0 0 0 0 0 0\")","v":" 1 2 3 4 5 6 7 8 9 0 1 2 2"},null,null,null,null,null,null,null,null,null,null,"(右詰で記載してください。）",null,null,null,null,null,"(受給者交付用）","支払者","個人番号\n又は法人番号"]
[null,null,null,"住所（居所）\n又は所在地",{"$f":"会社情報!C8","v":"東京都千代田区１－２－３"},null,null,null,null,null,null,null,null,null,null,null,null,null,null,null,null,null,null,"住所（居所）\n又は所在地",{"$f":"E21&\"\"","v":"東京都千代田区１－２－３"}]
[null,null,null,"氏名又は\n名称",{"$f":"会社情報!C9","v":"ABC商事株式会社"},null,null,null,null,null,null,null,null,null,null,null,{"$f":"会社情報!C11","v":"03-1234-5678"},null,null,null,null,null,null,"氏名又は\n名称",{"$f":"E22&\"\"","v":"ABC商事株式会社"},null,null,null,null,null,null,null,null,null,null,null,{"$f":"Q22&\"\"","v":"03-1234-5678"}]
[null,null,null,null,null,null,null,null,null,null,null,null,null,null,null,"（電話）",null,null,null,null,null,null,null,null,null,null,null,null,null,null,null,null,null,null,null,"（電話）"]
[]
[null,null,"整　　　理　　　欄　　　　　",null,null,null,"①",null,null,null,null,null,"②",null,null,null,null,null,"316　　"]
[]
[]
[]
[null,null,null,"令和",{"$f":"E2","v":"03"},null,"年分　　退職所得の源泉徴収票・特別徴収票",null,null,null,null,null,null,null,null,null,null,null,null,null,null,null,null,"令和",{"$f":"E29&\"\"","v":"03"},null,"年分　　退職所得の源泉徴収票・特別徴収票"]
[]
[null,null,"支払を\n受ける者","個人番号",{"$f":"E4","v":"            "},null,null,null,null,null,null,null,null,null,null,null,null,null,null,null,null,null,"支払を\n受ける者","個人番号"]
[null,null,null,"住所又は\n居所",{"$f":"E5","v":""},null,null,null,null,null,null,null,null,null,null,null,null,null,null,null,null,null,null,"住所又は\n居所",{"$f":"E32&\"\"","v":""}]
[null,null,null,{"$f":"D6&\"\"","v":"令和03年\r1月1日の住所"},{"$f":"E6","v":""},null,null,null,null,null,null,null,null,null,null,null,null,null,null,null,null,null,null,{"$f":"D33&\"\"","v":"令和03年\r1月1日の住所"},{"$f":"E33&\"\"","v":""}]
[null,null,null,"氏名","（役職名）",null,null,null,{"$f":"I7","v":""},null,null,null,null,null,null,null,null,null,null,null,null,null,null,"氏名","（役職名）",null,null,null,{"$f":"I34&\"\"","v":""}]
[null,null,"区分",null,null,null,null,null,"支 払 金 額",null,"源泉徴収税額",null,null,null,"特　　別　　徴　　収　　税　　額",null,null,null,null,null,null,null,"区分",null,null,null,null,null,"支 払 金 額",null,"源泉徴収税額",null,null,null,"特　　別　　徴　　収　　税　　額"]
[null,null,null,null,null,null,null,null,null,null,null,null,null,null,"市　町　村　民　税",null,null,"道　府　県　民　税",null,null,null,null,null,null,null,null,null,null,null,null,null,null,null,null,"市　町　村　民　税",null,null,"道　府　県　民　税"]
[null,null,"所得税法第201条第1項第1号並びに\n地方税法第50条の6第1項第1号及び\n第328条の6第1項第1号適用分",null,null,null,null,null,{"$f":"I10","v":0},null,{"$f":"K10","v":0},null,null,null,{"$f":"O10","v":0},null,null,{"$f":"R10","v":0},null,null,null,null,"所得税法第201条第1項第1号並びに\n地方税法第50条の6第1項第1号及び\n第328条の6第1項第1号適用分",null,null,null,null,null,{"$f":"I37","v":0},null,{"$f":"K37","v":0},null,{"$f":"M37","v":0},null,{"$f":"O37","v":0},null,null,{"$f":"R37","v":0}]
[]
[null,null,"所得税法第201条第1項第2号並びに\n地方税法第50条の6第1項第2号及び\n第328条の6第1項第2号適用分",null,null,null,null,null,{"$f":"I12","v":0},null,{"$f":"K12","v":0},null,null,null,{"$f":"O12","v":0},null,null,{"$f":"R12","v":0},null,null,null,null,"所得税法第201条第1項第2号並びに\n地方税法第50条の6第1項第2号及び\n第328条の6第1項第2号適用分",null,null,null,null,null,{"$f":"I39","v":0},null,{"$f":"K39","v":0},null,{"$f":"M39","v":0},null,{"$f":"O39","v":0},null,null,{"$f":"R39","v":0}]
[]
[null,null,"所得税法第201条第3項並びに地方\n税法第50条の6第2項及び第328条\nの6第2項適用分",null,null,null,null,null,{"$f":"I14","v":0},null,{"$f":"K14","v":0},null,null,null,{"$f":"O14","v":0},null,null,{"$f":"R14","v":0},null,null,null,null,"所得税法第201条第3項並びに地方\n税法第50条の6第2項及び第328条\nの6第2項適用分",null,null,null,null,null,{"$f":"I41","v":0},null,{"$f":"K41","v":0},null,{"$f":"M41","v":0},null,{"$f":"O41","v":0},null,null,{"$f":"R41","v":0}]
[]
[null,null,"退 職 所 得 控 除 額",null,null,null,"勤　 続　 年　 数",null,null,null,null,"就　職　年　月　日",null,null,null,null,"退　職　年　月　日",null,null,null,null,null,"退 職 所 得 控 除 額",null,null,null,"勤　 続　 年　 数",null,null,null,null,"就　職　年　月　日",null,null,null,null,"退　職　年　月　日"]
[null,null,{"$f":"C17","v":800000},null,null,"円",{"$f":"G17","v":1},null,null,null,"年",{"$f":"L17","v":"00:00:00"},null,null,null,null,{"$f":"Q17","v":"00:00:00"},null,null,null,null,null,{"$f":"C44","v":800000},null,null,"円",{"$f":"G44","v":1},null,null,null,"年",{"$f":"L44","v":"00:00:00"},null,null,null,null,{"$f":"Q44","v":"00:00:00"}]
[]
[null,null,"（摘要）",{"$f":"D19","v":""},null,null,null,null,null,null,null,null,null,null,null,null,null,null,null,null,null,null,"（摘要）",{"$f":"D46&\"\"","v":""}]
[null,"(税務署提出用）","支払者","個人番号\n又は法人番号",{"$f":"E20","v":" 1 2 3 4 5 6 7 8 9 0 1 2 2"},null,null,null,null,null,null,null,null,null,null,"(右詰で記載してください。）",null,null,null,null,null,"(受給者交付用）","支払者","個人番号\n又は法人番号"]
[null,null,null,"住所（居所）\n又は所在地",{"$f":"E21","v":"東京都千代田区１－２－３"},null,null,null,null,null,null,null,null,null,null,null,null,null,null,null,null,null,null,"住所（居所）\n又は所在地",{"$f":"E48&\"\"","v":"東京都千代田区１－２－３"}]
[null,null,null,"氏名又は\n名称",{"$f":"E22","v":"ABC商事株式会社"},null,null,null,null,null,null,null,null,null,null,null,{"$f":"Q22","v":"03-1234-5678"},null,null,null,null,null,null,"氏名又は\n名称",{"$f":"E49&\"\"","v":"ABC商事株式会社"},null,null,null,null,null,null,null,null,null,null,null,{"$f":"Q49&\"\"","v":"03-1234-5678"}]
[null,null,null,null,null,null,null,null,null,null,null,null,null,null,null,"（電話）",null,null,null,null,null,null,null,null,null,null,null,null,null,null,null,null,null,null,null,"（電話）"]
[]
[null,null,"整　　　理　　　欄　　　　　",null,null,null,"①",null,null,null,null,null,"②"]

{"sheet":"報酬(非)","index":16,"n_rows":22,"n_cols":26,"rows_kept":22,"cut":false,"hidden":true,"merged":[[17,13,18,25],[11,8,11,16],[11,17,11,25],[12,8,12,16],[12,17,12,25],[4,13,4,25],[6,1,6,3],[6,8,6,16],[7,4,7,7],[5,13,5,25],[7,8,7,16],[7,17,7,25],[6,17,6,25],[1,3,1,5],[20,1,20,5],[15,1,18,1],[16,2,18,2],[16,3,17,12],[18,7,18,12],[15,3,15,25],[16,13,16,25],[6,4,6,7],[9,1,9,3],[3,3,3,25],[4,3,5,12],[7,1,7,3],[8,1,8,3],[3,1,5,1],[4,2,5,2],[12,4,12,7],[13,2,13,25],[14,2,14,25],[8,4,8,7],[9,4,9,7],[12,1,12,3],[10,1,10,3],[11,1,11,3],[10,4,10,7],[11,4,11,7],[8,8,8,16],[8,17,8,25],[9,8,9,16],[9,17,9,25],[10,8,10,16],[10,17,10,25]]}
[]
[null,null,"令和",{"$f":"TEXT(DATE(会社情報!C7,12,31),\"ee\")","v":"03"},null,null,"年分　報酬、 料金、 契約金及び賞金の支払調書"]
[]
[null,"支払を\n受ける者","住所（居所）\n又は所在地",{"$f":"報酬支払先情報!C1&\"\"","v":""}]
[null,null,"氏名又は\n名称",{"$f":"報酬支払先情報!D1&\"\"","v":""},null,null,null,null,null,null,null,null,null,"個人番号又は法人番号"]
[null,null,null,null,null,null,null,null,null,null,null,null,null,{"$f":"TEXT(RIGHT(\"            \"&報酬支払先情報!E1,13),\" # 0 0 0 0 0 0 0 0 0 0 0 0\")","v":"            "}]
[null,"区　　分",null,null,"細　　　　　目",null,null,null,"支  払  金  額",null,null,null,null,null,null,null,null,"源 泉 徴 収 税 額"]
[null,{"$f":"報酬支払額!E1&\"\"","v":""},null,null,{"$f":"報酬支払額!F1&\"\"","v":""},null,null,null,{"$f":"IF(報酬支払額!G1=0,\"\",報酬支払額!G1)","v":""},null,null,null,null,null,null,null,null,{"$f":"IF(AND(報酬支払額!H1=0,I8=\"\"),\"\",報酬支払額!H1)","v":""}]
[null,{"$f":"報酬支払額!E2&\"\"","v":""},null,null,{"$f":"報酬支払額!F2&\"\"","v":""},null,null,null,{"$f":"IF(報酬支払額!G2=0,\"\",報酬支払額!G2)","v":""},null,null,null,null,null,null,null,null,{"$f":"IF(AND(報酬支払額!H2=0,I9=\"\"),\"\",報酬支払額!H2)","v":""}]
[null,{"$f":"報酬支払額!E3&\"\"","v":""},null,null,{"$f":"報酬支払額!F3&\"\"","v":""},null,null,null,{"$f":"IF(報酬支払額!G3=0,\"\",報酬支払額!G3)","v":""},null,null,null,null,null,null,null,null,{"$f":"IF(AND(報酬支払額!H3=0,I10=\"\"),\"\",報酬支払額!H3)","v":""}]
[null,{"$f":"報酬支払額!E4&\"\"","v":""},null,null,{"$f":"報酬支払額!F4&\"\"","v":""},null,null,null,{"$f":"IF(報酬支払額!G4=0,\"\",報酬支払額!G4)","v":""},null,null,null,null,null,null,null,null,{"$f":"IF(AND(報酬支払額!H4=0,I11=\"\"),\"\",報酬支払額!H4)","v":""}]
[null,{"$f":"報酬支払額!E5&\"\"","v":""},null,null,{"$f":"報酬支払額!F5&\"\"","v":""},null,null,null,{"$f":"IF(報酬支払額!G5=0,\"\",報酬支払額!G5)","v":""},null,null,null,null,null,null,null,null,{"$f":"IF(AND(報酬支払額!H5=0,I12=\"\"),\"\",報酬支払額!H5)","v":""}]
[null,{"$f":"報酬支払額!E6&\"\"","v":""},null,null,{"$f":"報酬支払額!F6&\"\"","v":""},null,null,null,{"$f":"IF(報酬支払額!G6=0,\"\",報酬支払額!G6)","v":""},null,null,null,null,null,null,null,null,{"$f":"IF(AND(報酬支払額!H6=0,I13=\"\"),\"\",報酬支払額!H6)","v":""}]
[null,"（摘要）",{"$f":"報酬支払先情報!F1&\"\"","v":""}]
[null,null,{"$f":"報酬支払先情報!G1&\"\"","v":""}]
[null,"支払者","住所（居所）\n又は所在地",{"$f":"会社情報!C8","v":"東京都千代田区１－２－３"}]
[null,null,"氏名又は\n名称",{"$f":"会社情報!C9","v":"ABC商事株式会社"},null,null,null,null,null,null,null,null,null,"個人番号又は法人番号"]
[null,null,null,null,null,null,null,null,null,null,null,null,null,{"$f":"TEXT(RIGHT(\"             \"&会社情報!C12,13),\" # 0 0 0 0 0 0 0 0 0 0 0 0\")","v":" 1 2 3 4 5 6 7 8 9 0 1 2 2"}]
[null,null,null,null,null,null,"(電話)",{"$f":"会社情報!C11","v":"03-1234-5678"}]
[]
[null,"整       理       欄",null,null,null,null,"①",null,null,null,null,null,null,"②"]
[null,null,null,null,null,null,null,null,null,null,null,null,null,null,null,null,null,null,null,null,null,null,null,null,null,"309"]

{"sheet":"報酬交付用(非)","index":17,"n_rows":22,"n_cols":26,"rows_kept":22,"cut":false,"hidden":true,"merged":[[11,4,11,7],[10,17,10,25],[11,8,11,16],[1,3,1,5],[9,1,9,3],[10,1,10,3],[11,1,11,3],[10,4,10,7],[3,3,3,25],[7,1,7,3],[8,1,8,3],[3,1,5,1],[4,2,5,2],[11,17,11,25],[10,8,10,16],[7,8,7,16],[14,2,14,25],[12,8,12,16],[13,2,13,25],[12,4,12,7],[12,17,12,25],[12,1,12,3],[20,1,20,5],[15,1,18,1],[16,2,18,2],[15,3,15,25],[16,3,17,25],[18,7,18,25],[4,3,5,25],[6,4,6,7],[6,17,6,25],[6,8,6,16],[9,17,9,25],[8,4,8,7],[9,4,9,7],[9,8,9,16],[7,17,7,25],[8,8,8,16],[8,17,8,25],[7,4,7,7],[6,1,6,3]]}
[]
[null,null,"令和",{"$f":"TEXT(DATE(会社情報!C7,12,31),\"ee\")","v":"03"},null,null,"年分　報酬、 料金、 契約金及び賞金の支払調書"]
[]
[null,"支払を\n受ける者","住所（居所）\n又は所在地",{"$f":"報酬支払先情報!C1&\"\"","v":""}]
[null,null,"氏名又は\n名称",{"$f":"報酬支払先情報!D1&\"\"","v":""}]
[]
[null,"区　　分",null,null,"細　　　　　目",null,null,null,"支  払  金  額",null,null,null,null,null,null,null,null,"源 泉 徴 収 税 額"]
[null,{"$f":"報酬支払額!E1&\"\"","v":""},null,null,{"$f":"報酬支払額!F1&\"\"","v":""},null,null,null,{"$f":"IF(報酬支払額!G1=0,\"\",報酬支払額!G1)","v":""},null,null,null,null,null,null,null,null,{"$f":"IF(AND(報酬支払額!H1=0,I8=\"\"),\"\",報酬支払額!H1)","v":""}]
[null,{"$f":"報酬支払額!E2&\"\"","v":""},null,null,{"$f":"報酬支払額!F2&\"\"","v":""},null,null,null,{"$f":"IF(報酬支払額!G2=0,\"\",報酬支払額!G2)","v":""},null,null,null,null,null,null,null,null,{"$f":"IF(AND(報酬支払額!H2=0,I9=\"\"),\"\",報酬支払額!H2)","v":""}]
[null,{"$f":"報酬支払額!E3&\"\"","v":""},null,null,{"$f":"報酬支払額!F3&\"\"","v":""},null,null,null,{"$f":"IF(報酬支払額!G3=0,\"\",報酬支払額!G3)","v":""},null,null,null,null,null,null,null,null,{"$f":"IF(AND(報酬支払額!H3=0,I10=\"\"),\"\",報酬支払額!H3)","v":""}]
[null,{"$f":"報酬支払額!E4&\"\"","v":""},null,null,{"$f":"報酬支払額!F4&\"\"","v":""},null,null,null,{"$f":"IF(報酬支払額!G4=0,\"\",報酬支払額!G4)","v":""},null,null,null,null,null,null,null,null,{"$f":"IF(AND(報酬支払額!H4=0,I11=\"\"),\"\",報酬支払額!H4)","v":""}]
[null,{"$f":"報酬支払額!E5&\"\"","v":""},null,null,{"$f":"報酬支払額!F5&\"\"","v":""},null,null,null,{"$f":"IF(報酬支払額!G5=0,\"\",報酬支払額!G5)","v":""},null,null,null,null,null,null,null,null,{"$f":"IF(AND(報酬支払額!H5=0,I12=\"\"),\"\",報酬支払額!H5)","v":""}]
[null,{"$f":"報酬支払額!E6&\"\"","v":""},null,null,{"$f":"報酬支払額!F6&\"\"","v":""},null,null,null,{"$f":"IF(報酬支払額!G6=0,\"\",報酬支払額!G6)","v":""},null,null,null,null,null,null,null,null,{"$f":"IF(AND(報酬支払額!H6=0,I13=\"\"),\"\",報酬支払額!H6)","v":""}]
[null,"（摘要）",{"$f":"報酬支払先情報!F1&\"\"","v":""}]
[null,null,{"$f":"報酬支払先情報!G1&\"\"","v":""}]
[null,"支払者","住所（居所）\n又は所在地",{"$f":"会社情報!C8","v":"東京都千代田区１－２－３"}]
[null,null,"氏名又は\n名称",{"$f":"会社情報!C9","v":"ABC商事株式会社"}]
[]
[null,null,null,null,null,null,"(電話)",{"$f":"会社情報!C11","v":"03-1234-5678"}]
[]
[null,"整       理       欄",null,null,null,null,"①",null,null,null,null,null,null,"②"]
[null,null,null,null,null,null,null,null,null,null,null,null,null,null,null,null,null,null,null,null,null,null,null,null,null,"309"]

{"sheet":"不動産(非)","index":18,"n_rows":23,"n_cols":13,"rows_kept":23,"cut":false,"hidden":true,"merged":[[4,3,5,3],[3,1,5,2],[4,9,4,11],[5,9,5,11],[3,4,3,11],[4,4,5,8],[8,7,8,10],[7,7,7,10],[6,3,6,5],[6,7,6,10],[11,3,11,5],[10,3,10,5],[9,3,9,5],[8,3,8,5],[7,3,7,5],[11,7,11,10],[10,7,10,10],[9,7,9,10],[11,1,11,2],[10,1,10,2],[9,1,9,2],[8,1,8,2],[7,1,7,2],[12,3,12,11],[22,1,22,4],[17,1,20,2],[18,3,20,3],[14,11,16,11],[17,4,17,11],[18,9,18,11],[18,4,19,8],[20,6,20,8],[19,9,20,11],[13,2,16,2],[13,4,13,9],[16,4,16,9],[14,3,15,3],[14,4,15,9],[15,10,16,10]]}
[]
[null,null,null,"令和",{"$f":"TEXT(DATE(会社情報!C7,12,31),\"ee\")","v":"03"},"年分　　　不 動 産 の 使 用 料 等 の 支 払 調 書"]
[]
[null,"支払を\n受ける者",null,"住所（居所）\n又は所在地",{"$f":"不動産支払先情報!C1","v":""}]
[null,null,null,"氏名又は\n名称",{"$f":"不動産支払先情報!D1","v":""},null,null,null,null,"個人番号又は法人番号"]
[null,null,null,null,null,null,null,null,null,{"$f":"TEXT(RIGHT(\"             \"&不動産支払先情報!E1,13),\" # 0 0 0 0 0 0 0 0 0 0 0 0\")","v":"             "}]
[null,"区　　分",null,"物件の所在地",null,null,"細目","計算の基礎",null,null,null,"支払金額"]
[null,{"$f":"不動産支払額!D1&\"\"","v":""},null,{"$f":"不動産支払額!E1&\"\"","v":""},null,null,{"$f":"不動産支払額!F1&\"\"","v":""},{"$f":"不動産支払額!G1&\"\"","v":""},null,null,null,{"$f":"不動産支払額!H1","v":0}]
[null,{"$f":"不動産支払額!D2&\"\"","v":""},null,{"$f":"不動産支払額!E2&\"\"","v":""},null,null,{"$f":"不動産支払額!F2&\"\"","v":""},{"$f":"不動産支払額!G2&\"\"","v":""},null,null,null,{"$f":"不動産支払額!H2","v":0}]
[null,{"$f":"不動産支払額!D3&\"\"","v":""},null,{"$f":"不動産支払額!E3&\"\"","v":""},null,null,{"$f":"不動産支払額!F3&\"\"","v":""},{"$f":"不動産支払額!G3&\"\"","v":""},null,null,null,{"$f":"不動産支払額!H3","v":0}]
[null,{"$f":"不動産支払額!D4&\"\"","v":""},null,{"$f":"不動産支払額!E4&\"\"","v":""},null,null,{"$f":"不動産支払額!F4&\"\"","v":""},{"$f":"不動産支払額!G4&\"\"","v":""},null,null,null,{"$f":"不動産支払額!H4","v":0}]
[null,{"$f":"不動産支払額!D5&\"\"","v":""},null,{"$f":"不動産支払額!E5&\"\"","v":""},null,null,{"$f":"不動産支払額!F5&\"\"","v":""},{"$f":"不動産支払額!G5&\"\"","v":""},null,null,null,{"$f":"不動産支払額!H5","v":0}]
[null,"（摘要）",null,{"$f":"不動産支払先情報!F1","v":""}]
[null,null,"あっせん\nをした者","住所（居所）\n又は所在地",{"$f":"不動産支払先情報!H1&\"\"","v":""},null,null,null,null,null,"支払確定\n年月日","あっせん手数料"]
[null,null,null,"氏名又は\n名称",{"$f":"不動産支払先情報!I1&\"\"","v":""},null,null,null,null,null,"　年　月　日",{"$f":"不動産支払先情報!L1","v":0}]
[null,null,null,null,null,null,null,null,null,null,{"$f":"IF(不動産支払先情報!K1>0,TEXT(不動産支払先情報!K1,\"y・m・d\"),\"\")","v":""}]
[null,null,null,"個人番号又は\n法人番号",{"$f":"TEXT(RIGHT(\" \"&不動産支払先情報!J1,13),\"# 0 0 0 0 0 0 0 0 0 0 0 0\")","v":" "}]
[null,"支払者",null,"住所（居所）\n又は所在地",{"$f":"会社情報!C8","v":"東京都千代田区１－２－３"}]
[null,null,null,"氏名又は\n名称",{"$f":"会社情報!C9","v":"ABC商事株式会社"},null,null,null,null,"個人番号又は法人番号"]
[null,null,null,null,null,null,null,null,null,{"$f":"TEXT(RIGHT(\"             \"&会社情報!$C$12,13),\" # 0 0 0 0 0 0 0 0 0 0 0 0\")","v":" 1 2 3 4 5 6 7 8 9 0 1 2 2"}]
[null,null,null,null,null,"(電話)",{"$f":"会社情報!C11","v":"03-1234-5678"}]
[]
[null,"整       理       欄",null,null,null,"①",null,null,"②",null,null,null,"３１３"]

{"sheet":"不動産交付用(非)","index":19,"n_rows":23,"n_cols":13,"rows_kept":23,"cut":false,"hidden":true,"merged":[[10,7,10,10],[22,1,22,4],[17,1,20,2],[4,4,5,11],[18,4,19,11],[20,6,20,11],[14,3,16,3],[14,4,16,9],[18,3,20,3],[14,11,16,11],[17,4,17,11],[13,2,16,2],[13,4,13,9],[15,10,16,10],[12,3,12,11],[11,7,11,10],[11,1,11,2],[10,1,10,2],[9,1,9,2],[11,3,11,5],[10,3,10,5],[9,3,9,5],[9,7,9,10],[4,3,5,3],[3,1,5,2],[3,4,3,11],[8,1,8,2],[6,3,6,5],[6,7,6,10],[7,3,7,5],[7,1,7,2],[8,7,8,10],[7,7,7,10],[8,3,8,5]]}
[]
[null,null,null,"令和",{"$f":"TEXT(DATE(会社情報!C7,12,31),\"ee\")","v":"03"},"年分　　　不 動 産 の 使 用 料 等 の 支 払 調 書"]
[]
[null,"支払を\n受ける者",null,"住所（居所）\n又は所在地",{"$f":"不動産支払先情報!C1","v":""}]
[null,null,null,"氏名又は\n名称",{"$f":"不動産支払先情報!D1","v":""}]
[]
[null,"区　　分",null,"物件の所在地",null,null,"細目","計算の基礎",null,null,null,"支払金額"]
[null,{"$f":"不動産支払額!D1&\"\"","v":""},null,{"$f":"不動産支払額!E1&\"\"","v":""},null,null,{"$f":"不動産支払額!F1&\"\"","v":""},{"$f":"不動産支払額!G1&\"\"","v":""},null,null,null,{"$f":"不動産支払額!H1","v":0}]
[null,{"$f":"不動産支払額!D2&\"\"","v":""},null,{"$f":"不動産支払額!E2&\"\"","v":""},null,null,{"$f":"不動産支払額!F2&\"\"","v":""},{"$f":"不動産支払額!G2&\"\"","v":""},null,null,null,{"$f":"不動産支払額!H2","v":0}]
[null,{"$f":"不動産支払額!D3&\"\"","v":""},null,{"$f":"不動産支払額!E3&\"\"","v":""},null,null,{"$f":"不動産支払額!F3&\"\"","v":""},{"$f":"不動産支払額!G3&\"\"","v":""},null,null,null,{"$f":"不動産支払額!H3","v":0}]
[null,{"$f":"不動産支払額!D4&\"\"","v":""},null,{"$f":"不動産支払額!E4&\"\"","v":""},null,null,{"$f":"不動産支払額!F4&\"\"","v":""},{"$f":"不動産支払額!G4&\"\"","v":""},null,null,null,{"$f":"不動産支払額!H4","v":0}]
[null,{"$f":"不動産支払額!D5&\"\"","v":""},null,{"$f":"不動産支払額!E5&\"\"","v":""},null,null,{"$f":"不動産支払額!F5&\"\"","v":""},{"$f":"不動産支払額!G5&\"\"","v":""},null,null,null,{"$f":"不動産支払額!H5","v":0}]
[null,"（摘要）",null,{"$f":"不動産支払先情報!F1","v":""}]
[null,null,"あっせん\nをした者","住所（居所）\n又は所在地",{"$f":"不動産支払先情報!H1&\"\"","v":""},null,null,null,null,null,"支払確定\n年月日","あっせん手数料"]
[null,null,null,"氏名又は\n名称",{"$f":"不動産支払先情報!I1&\"\"","v":""},null,null,null,null,null,"　年　月　日",{"$f":"不動産支払先情報!L1","v":0}]
[null,null,null,null,null,null,null,null,null,null,{"$f":"IF(不動産支払先情報!K1>0,TEXT(不動産支払先情報!K1,\"y・m・d\"),\"\")","v":""}]
[]
[null,"支払者",null,"住所（居所）\n又は所在地",{"$f":"会社情報!C8","v":"東京都千代田区１－２－３"}]
[null,null,null,"氏名又は\n名称",{"$f":"会社情報!C9","v":"ABC商事株式会社"}]
[]
[null,null,null,null,null,"(電話)",{"$f":"会社情報!C11","v":"03-1234-5678"}]
[]
[null,"整       理       欄",null,null,null,"①",null,null,"②",null,null,null,"３１３"]

{"sheet":"法定調書(非)","index":20,"n_rows":72,"n_cols":124,"rows_kept":72,"cut":false,"hidden":true,"merged":[[71,66,72,124],[2,3,3,5],[2,7,3,8],[18,4,18,6],[11,3,12,48],[13,23,13,28],[13,31,13,36],[40,92,40,123],[18,25,18,26],[18,22,18,23],[18,18,18,20],[18,15,18,16],[18,38,18,39],[18,35,18,36],[40,58,40,89],[13,40,13,46],[15,3,15,48],[25,80,25,82],[25,72,25,74],[25,123,25,124],[25,119,25,121],[25,12,25,14],[18,41,18,43],[18,45,18,47],[40,16,40,22],[40,24,40,25],[40,27,40,28],[40,30,40,32],[40,36,40,54],[25,42,25,50],[25,5,25,10],[18,8,18,9],[18,11,18,13],[25,16,25,17],[38,5,38,10],[38,12,38,14],[38,16,38,17],[38,19,38,21],[38,24,38,63],[25,56,25,58],[25,52,25,54],[54,16,54,22],[54,30,54,32],[50,30,50,32],[46,30,46,32],[48,24,48,25],[48,27,48,28],[48,30,48,32],[48,16,48,22],[50,16,50,22],[46,24,46,25],[46,16,46,22],[46,27,46,28],[54,24,54,25],[42,24,42,25],[42,27,42,28],[42,30,42,32],[44,24,44,25],[44,27,44,28],[44,30,44,32],[52,27,52,28],[52,16,52,22],[50,24,50,25],[50,27,50,28],[52,30,52,32],[44,16,44,22],[42,16,42,22],[52,24,52,25],[42,36,42,54],[44,36,44,54],[46,36,46,54],[48,36,48,54],[46,58,46,89],[46,92,46,123],[48,58,48,89],[48,92,48,123],[44,58,44,89],[44,92,44,123],[42,58,42,89],[42,92,42,123],[50,36,50,54],[52,36,52,54],[54,36,54,54],[56,58,56,65],[58,27,58,28],[58,30,58,32],[50,92,50,123],[52,58,52,89],[52,92,52,123],[54,58,54,89],[54,92,54,123],[56,36,56,54],[50,58,50,89],[56,72,56,74],[54,27,54,28],[56,119,56,121],[56,123,56,124],[58,58,58,89],[58,92,58,123],[56,103,56,105],[56,107,56,109],[56,111,56,113],[56,115,56,117],[56,16,56,32],[56,88,56,90],[56,93,56,101],[56,76,56,78],[56,80,56,82],[56,84,56,86],[56,69,56,70],[58,36,58,42],[69,5,69,12],[67,94,67,123],[69,88,69,90],[69,84,69,86],[69,80,69,82],[69,70,69,78],[67,5,67,22],[67,26,67,53],[58,16,58,22],[58,24,58,25],[58,44,58,46],[58,48,58,50],[58,52,58,54],[69,21,69,22],[69,26,69,53],[69,94,69,123],[67,70,67,90],[29,86,29,123],[29,42,29,80],[29,5,29,10],[29,12,29,14],[29,16,29,17],[29,19,29,21],[12,70,13,72],[12,74,13,76],[12,80,13,82],[12,84,13,86],[25,64,25,65],[25,60,25,62],[25,115,25,117],[25,111,25,113],[25,95,25,97],[25,76,25,78],[25,69,25,70],[25,86,25,93],[25,107,25,109],[25,103,25,105],[25,99,25,101],[25,19,25,21],[18,31,18,33],[3,109,4,111],[3,113,4,115],[3,117,4,119],[7,93,8,95],[7,97,8,99],[7,101,8,103],[7,105,8,107],[7,109,8,111],[7,113,8,115],[7,117,8,119],[3,101,4,103],[3,105,4,107],[7,121,8,123],[20,3,20,48],[22,3,23,43],[15,61,15,106],[16,61,18,106],[6,26,7,28],[6,32,7,34],[6,37,7,39],[12,64,13,65],[7,63,8,79],[8,9,9,34],[12,119,13,121],[12,123,13,124],[12,109,13,111],[12,113,13,115],[12,90,13,91],[12,93,13,95],[12,99,13,101],[12,103,13,105],[16,3,16,48],[18,28,18,29],[35,86,36,88],[35,90,36,91],[35,93,36,95],[35,97,36,99],[35,101,36,103],[38,67,38,102],[35,5,36,10],[35,12,36,14],[35,16,36,17],[35,19,36,21],[35,24,36,30],[35,32,36,34],[35,36,36,37],[35,39,36,40],[35,42,36,44],[35,46,36,48],[35,50,36,52],[35,54,36,56],[35,58,36,60],[35,62,36,64],[35,67,36,72],[35,74,36,76],[35,78,36,80],[35,82,36,84]]}
[]
[]
[null,null,null,{"$f":"'法定調書計算(非)'!D3","v":"0"},null,null,null,{"$f":"'法定調書計算(非)'!H3","v":"3"}]
[null,null,null,null,null,null,null,null,null,null,null,null,null,null,null,null,null,null,null,null,null,null,null,null,null,null,null,null,null,null,null,null,null,null,null,null,null,null,null,null,null,null,null,null,null,null,null,null,null,null,null,null,null,null,null,null,null,null,null,null,null,null,null,null,null,null,null,null,null,null,null,null,null,null,null,null,null,null,null,null,null,null,null,null,null,null,null,null,null,null,null,null,null,null,null,null,null,null,null,null,null,{"$f":"'法定調書計算(非)'!CX4","v":"0"},null,null,null,{"$f":"'法定調書計算(非)'!DB4","v":"1"},null,null,null,{"$f":"'法定調書計算(非)'!DF4","v":"1"},null,null,null,{"$f":"'法定調書計算(非)'!DJ4","v":"0"},null,null,null,{"$f":"'法定調書計算(非)'!DN4","v":"1"}]
[]
[]
[null,null,null,null,null,null,null,null,null,null,null,null,null,null,null,null,null,null,null,null,null,null,null,null,null,null,{"$f":"'法定調書計算(非)'!AA7","v":"3"},null,null,null,null,null,{"$f":"'法定調書計算(非)'!AG7","v":"1"},null,null,null,null,{"$f":"'法定調書計算(非)'!AL7","v":"31"}]
[null,null,null,null,null,null,null,null,null,null,null,null,null,null,null,null,null,null,null,null,null,null,null,null,null,null,null,null,null,null,null,null,null,null,null,null,null,null,null,null,null,null,null,null,null,null,null,null,null,null,null,null,null,null,null,null,null,null,null,null,null,null,null,{"$f":"'法定調書計算(非)'!BL8","v":"コンサルティング業"},null,null,null,null,null,null,null,null,null,null,null,null,null,null,null,null,null,null,null,null,null,null,null,null,null,null,null,null,null,{"$f":"'法定調書計算(非)'!CP8","v":"1"},null,null,null,{"$f":"'法定調書計算(非)'!CT8","v":"2"},null,null,null,{"$f":"'法定調書計算(非)'!CX8","v":"3"},null,null,null,{"$f":"'法定調書計算(非)'!DB8","v":"4"},null,null,null,{"$f":"'法定調書計算(非)'!DF8","v":"5"},null,null,null,{"$f":"'法定調書計算(非)'!DJ8","v":"6"},null,null,null,{"$f":"'法定調書計算(非)'!DN8","v":"7"},null,null,null,{"$f":"'法定調書計算(非)'!DR8","v":"8"}]
[null,null,null,null,null,null,null,null,null,{"$f":"'法定調書計算(非)'!J9","v":"麹町"}]
[]
[]
[null,null,null,{"$f":"'法定調書計算(非)'!D12","v":"東京都千代田区１－２－３"}]
[null,null,null,null,null,null,null,null,null,null,null,null,null,null,null,null,null,null,null,null,null,null,null,null,null,null,null,null,null,null,null,null,null,null,null,null,null,null,null,null,null,null,null,null,null,null,null,null,null,null,null,null,null,null,null,null,null,null,null,null,null,null,null,null,1,null,null,null,null,null,{"$f":"'法定調書計算(非)'!BS13","v":3},null,null,null,{"$f":"'法定調書計算(非)'!BW13","v":0},null,null,null,null,null,null,null,null,null,null,null,null,null,null,null,{"$f":"'法定調書計算(非)'!CM13","v":3},null,null,{"$f":"'法定調書計算(非)'!CP13","v":0},null,null,null,null,null,{"$f":"'法定調書計算(非)'!CV13","v":3},null,null,null,{"$f":"'法定調書計算(非)'!CZ13","v":0},null,null,null,null,null,{"$f":"'法定調書計算(非)'!DF13","v":""},null,null,null,{"$f":"'法定調書計算(非)'!DJ13","v":""},null,null,null,null,null,{"$f":"'法定調書計算(非)'!DP13","v":3},null,null,null,{"$f":"'法定調書計算(非)'!DT13","v":0}]
[null,null,null,null,null,null,null,null,null,null,null,null,null,null,null,null,null,null,null,null,null,null,null,{"$f":"'法定調書計算(非)'!X14","v":"03"},null,null,null,null,null,null,null,{"$f":"'法定調書計算(非)'!AF14","v":"1234"},null,null,null,null,null,null,null,null,{"$f":"'法定調書計算(非)'!AO14","v":"5678"}]
[]
[null,null,null,{"$f":"'法定調書計算(非)'!D16","v":"エービーシーショウジカブシキガイシャ"},null,null,null,null,null,null,null,null,null,null,null,null,null,null,null,null,null,null,null,null,null,null,null,null,null,null,null,null,null,null,null,null,null,null,null,null,null,null,null,null,null,null,null,null,null,null,null,null,null,null,null,null,null,null,null,null,null,{"$f":"'法定調書計算(非)'!BJ16","v":"ヨシノミライ"}]
[null,null,null,{"$f":"'法定調書計算(非)'!D17","v":"ABC商事株式会社"},null,null,null,null,null,null,null,null,null,null,null,null,null,null,null,null,null,null,null,null,null,null,null,null,null,null,null,null,null,null,null,null,null,null,null,null,null,null,null,null,null,null,null,null,null,null,null,null,null,null,null,null,null,null,null,null,null,{"$f":"'法定調書計算(非)'!BJ17","v":"吉野未来"}]
[]
[null,null,null,null,{"$f":"'法定調書計算(非)'!E19","v":"1"},null,null,null,{"$f":"'法定調書計算(非)'!I19","v":"2"},null,null,{"$f":"'法定調書計算(非)'!L19","v":"3"},null,null,null,{"$f":"'法定調書計算(非)'!P19","v":"4"},null,null,{"$f":"'法定調書計算(非)'!S19","v":"5"},null,null,null,{"$f":"'法定調書計算(非)'!W19","v":"6"},null,null,{"$f":"'法定調書計算(非)'!Z19","v":"7"},null,null,{"$f":"'法定調書計算(非)'!AC19","v":"8"},null,null,{"$f":"'法定調書計算(非)'!AF19","v":"9"},null,null,null,{"$f":"'法定調書計算(非)'!AJ19","v":"0"},null,null,{"$f":"'法定調書計算(非)'!AM19","v":"1"},null,null,{"$f":"'法定調書計算(非)'!AP19","v":"2"},null,null,null,{"$f":"'法定調書計算(非)'!AT19","v":"2"}]
[]
[null,null,null,{"$f":"'法定調書計算(非)'!D21","v":"カンダタカフミ"}]
[]
[null,null,null,{"$f":"'法定調書計算(非)'!D23","v":"神田隆文"}]
[]
[]
[null,null,null,null,null,{"$f":"'法定調書計算(非)'!F26","v":" "},null,null,null,null,null,null,{"$f":"'法定調書計算(非)'!M26","v":" "},null,null,null,{"$f":"'法定調書計算(非)'!Q26","v":" "},null,null,{"$f":"'法定調書計算(非)'!T26","v":"5"},null,null,null,null,null,null,null,null,null,null,null,null,null,null,null,null,null,null,null,null,null,null,{"$f":"'法定調書計算(非)'!AQ26","v":" "},null,null,null,null,null,null,null,null,null,{"$f":"'法定調書計算(非)'!BA26","v":" "},null,null,null,{"$f":"'法定調書計算(非)'!BE26","v":"3"},null,null,null,{"$f":"'法定調書計算(非)'!BI26","v":"2"},null,null,null,{"$f":"'法定調書計算(非)'!BM26","v":"2"},null,null,{"$f":"'法定調書計算(非)'!BP26","v":"3"},null,{"$f":"'法定調書計算(非)'!BR26","v":"4"},null,null,{"$f":"'法定調書計算(非)'!BU26","v":"2"},null,null,null,{"$f":"'法定調書計算(非)'!BY26","v":"0"},null,null,null,{"$f":"'法定調書計算(非)'!CC26","v":"0"},null,null,null,null,null,{"$f":"'法定調書計算(非)'!CI26","v":" "},null,null,null,null,null,null,null,null,{"$f":"'法定調書計算(非)'!CR26","v":" "},null,null,null,{"$f":"'法定調書計算(非)'!CV26","v":"3"},null,null,null,{"$f":"'法定調書計算(非)'!CZ26","v":"2"},null,null,null,{"$f":"'法定調書計算(非)'!DD26","v":"5"},null,null,null,{"$f":"'法定調書計算(非)'!DH26","v":"0"},null,null,null,{"$f":"'法定調書計算(非)'!DL26","v":"2"},null,null,null,{"$f":"'法定調書計算(非)'!DP26","v":"0"},null,null,null,{"$f":"'法定調書計算(非)'!DT26","v":"0"}]
[]
[]
[]
[null,null,null,null,null,{"$f":"'法定調書計算(非)'!F30","v":" "},null,null,null,null,null,null,{"$f":"'法定調書計算(非)'!M30","v":" "},null,null,null,{"$f":"'法定調書計算(非)'!Q30","v":" "},null,null,{"$f":"'法定調書計算(非)'!T30","v":"4"},null,null,null,null,null,null,null,null,null,null,null,null,null,null,null,null,null,null,null,null,null,null,{"$f":"'法定調書計算(非)'!AQ30","v":29699200},null,null,null,null,null,null,null,null,null,null,null,null,null,null,null,null,null,null,null,null,null,null,null,null,null,null,null,null,null,null,null,null,null,null,null,null,null,null,null,null,null,null,null,{"$f":"'法定調書計算(非)'!CI30","v":3276350}]
[]
[]
[]
[]
[]
[null,null,null,null,null,{"$f":"'法定調書計算(非)'!F36","v":" "},null,null,null,null,null,null,{"$f":"'法定調書計算(非)'!M36","v":" "},null,null,null,{"$f":"'法定調書計算(非)'!Q36","v":" "},null,null,{"$f":"'法定調書計算(非)'!T36","v":"2"},null,null,null,null,{"$f":"'法定調書計算(非)'!Y36","v":" "},null,null,null,null,null,null,null,{"$f":"'法定調書計算(非)'!AG36","v":" "},null,null,null,{"$f":"'法定調書計算(非)'!AK36","v":"1"},null,null,{"$f":"'法定調書計算(非)'!AN36","v":"1"},null,null,{"$f":"'法定調書計算(非)'!AQ36","v":"0"},null,null,null,{"$f":"'法定調書計算(非)'!AU36","v":"0"},null,null,null,{"$f":"'法定調書計算(非)'!AY36","v":"0"},null,null,null,{"$f":"'法定調書計算(非)'!BC36","v":"0"},null,null,null,{"$f":"'法定調書計算(非)'!BG36","v":"0"},null,null,null,{"$f":"'法定調書計算(非)'!BK36","v":"0"},null,null,null,null,{"$f":"'法定調書計算(非)'!BP36","v":" "},null,null,null,null,null,null,{"$f":"'法定調書計算(非)'!BW36","v":" "},null,null,null,{"$f":"'法定調書計算(非)'!CA36","v":" "},null,null,null,{"$f":"'法定調書計算(非)'!CE36","v":"8"},null,null,null,{"$f":"'法定調書計算(非)'!CI36","v":"0"},null,null,null,{"$f":"'法定調書計算(非)'!CM36","v":"0"},null,null,{"$f":"'法定調書計算(非)'!CP36","v":"0"},null,null,null,{"$f":"'法定調書計算(非)'!CT36","v":"0"},null,null,null,{"$f":"'法定調書計算(非)'!CX36","v":"0"}]
[]
[]
[null,null,null,null,null,{"$f":"'法定調書計算(非)'!F39","v":" "},null,null,null,null,null,null,{"$f":"'法定調書計算(非)'!M39","v":" "},null,null,null,{"$f":"'法定調書計算(非)'!Q39","v":" "},null,null,{"$f":"'法定調書計算(非)'!T39","v":"1"},null,null,null,null,{"$f":"'法定調書計算(非)'!Y39","v":8000000},null,null,null,null,null,null,null,null,null,null,null,null,null,null,null,null,null,null,null,null,null,null,null,null,null,null,null,null,null,null,null,null,null,null,null,null,null,null,null,null,null,null,{"$f":"'法定調書計算(非)'!BP39","v":600000}]
[]
[null,null,null,null,null,null,null,null,null,null,null,null,null,null,null,null,{"$f":"'法定調書計算(非)'!Q41","v":" "},null,null,null,null,null,null,null,{"$f":"'法定調書計算(非)'!Y41","v":" "},null,null,{"$f":"'法定調書計算(非)'!AB41","v":" "},null,null,{"$f":"'法定調書計算(非)'!AE41","v":"2"},null,null,null,null,null,{"$f":"'法定調書計算(非)'!AK41","v":1},null,null,null,null,null,null,null,null,null,null,null,null,null,null,null,null,null,null,null,null,null,{"$f":"'法定調書計算(非)'!BG41","v":1101938},null,null,null,null,null,null,null,null,null,null,null,null,null,null,null,null,null,null,null,null,null,null,null,null,null,null,null,null,null,null,null,null,null,{"$f":"'法定調書計算(非)'!CO41","v":97192}]
[]
[null,null,null,null,null,null,null,null,null,null,null,null,null,null,null,null,{"$f":"'法定調書計算(非)'!Q43","v":" "},null,null,null,null,null,null,null,{"$f":"'法定調書計算(非)'!Y43","v":" "},null,null,{"$f":"'法定調書計算(非)'!AB43","v":" "},null,null,{"$f":"'法定調書計算(非)'!AE43","v":"2"},null,null,null,null,null,{"$f":"'法定調書計算(非)'!AK43","v":0},null,null,null,null,null,null,null,null,null,null,null,null,null,null,null,null,null,null,null,null,null,{"$f":"'法定調書計算(非)'!BG43","v":530000},null,null,null,null,null,null,null,null,null,null,null,null,null,null,null,null,null,null,null,null,null,null,null,null,null,null,null,null,null,null,null,null,null,{"$f":"'法定調書計算(非)'!CO43","v":53092}]
[]
[null,null,null,null,null,null,null,null,null,null,null,null,null,null,null,null,{"$f":"'法定調書計算(非)'!Q45","v":" "},null,null,null,null,null,null,null,{"$f":"'法定調書計算(非)'!Y45","v":" "},null,null,{"$f":"'法定調書計算(非)'!AB45","v":" "},null,null,{"$f":"'法定調書計算(非)'!AE45","v":" "},null,null,null,null,null,{"$f":"'法定調書計算(非)'!AK45","v":0},null,null,null,null,null,null,null,null,null,null,null,null,null,null,null,null,null,null,null,null,null,{"$f":"'法定調書計算(非)'!BG45","v":0},null,null,null,null,null,null,null,null,null,null,null,null,null,null,null,null,null,null,null,null,null,null,null,null,null,null,null,null,null,null,null,null,null,{"$f":"'法定調書計算(非)'!CO45","v":0}]
[]
[null,null,null,null,null,null,null,null,null,null,null,null,null,null,null,null,{"$f":"'法定調書計算(非)'!Q47","v":" "},null,null,null,null,null,null,null,{"$f":"'法定調書計算(非)'!Y47","v":" "},null,null,{"$f":"'法定調書計算(非)'!AB47","v":" "},null,null,{"$f":"'法定調書計算(非)'!AE47","v":" "},null,null,null,null,null,{"$f":"'法定調書計算(非)'!AK47","v":0},null,null,null,null,null,null,null,null,null,null,null,null,null,null,null,null,null,null,null,null,null,{"$f":"'法定調書計算(非)'!BG47","v":0},null,null,null,null,null,null,null,null,null,null,null,null,null,null,null,null,null,null,null,null,null,null,null,null,null,null,null,null,null,null,null,null,null,{"$f":"'法定調書計算(非)'!CO47","v":0}]
[]
[null,null,null,null,null,null,null,null,null,null,null,null,null,null,null,null,{"$f":"'法定調書計算(非)'!Q49","v":" "},null,null,null,null,null,null,null,{"$f":"'法定調書計算(非)'!Y49","v":" "},null,null,{"$f":"'法定調書計算(非)'!AB49","v":" "},null,null,{"$f":"'法定調書計算(非)'!AE49","v":" "},null,null,null,null,null,{"$f":"'法定調書計算(非)'!AK49","v":0},null,null,null,null,null,null,null,null,null,null,null,null,null,null,null,null,null,null,null,null,null,{"$f":"'法定調書計算(非)'!BG49","v":0},null,null,null,null,null,null,null,null,null,null,null,null,null,null,null,null,null,null,null,null,null,null,null,null,null,null,null,null,null,null,null,null,null,{"$f":"'法定調書計算(非)'!CO49","v":0}]
[]
[null,null,null,null,null,null,null,null,null,null,null,null,null,null,null,null,{"$f":"'法定調書計算(非)'!Q51","v":" "},null,null,null,null,null,null,null,{"$f":"'法定調書計算(非)'!Y51","v":" "},null,null,{"$f":"'法定調書計算(非)'!AB51","v":" "},null,null,{"$f":"'法定調書計算(非)'!AE51","v":" "},null,null,null,null,null,{"$f":"'法定調書計算(非)'!AK51","v":0},null,null,null,null,null,null,null,null,null,null,null,null,null,null,null,null,null,null,null,null,null,{"$f":"'法定調書計算(非)'!BG51","v":0},null,null,null,null,null,null,null,null,null,null,null,null,null,null,null,null,null,null,null,null,null,null,null,null,null,null,null,null,null,null,null,null,null,{"$f":"'法定調書計算(非)'!CO51","v":0}]
[]
[null,null,null,null,null,null,null,null,null,null,null,null,null,null,null,null,{"$f":"'法定調書計算(非)'!Q53","v":" "},null,null,null,null,null,null,null,{"$f":"'法定調書計算(非)'!Y53","v":" "},null,null,{"$f":"'法定調書計算(非)'!AB53","v":" "},null,null,{"$f":"'法定調書計算(非)'!AE53","v":" "},null,null,null,null,null,{"$f":"'法定調書計算(非)'!AK53","v":0},null,null,null,null,null,null,null,null,null,null,null,null,null,null,null,null,null,null,null,null,null,{"$f":"'法定調書計算(非)'!BG53","v":0},null,null,null,null,null,null,null,null,null,null,null,null,null,null,null,null,null,null,null,null,null,null,null,null,null,null,null,null,null,null,null,null,null,{"$f":"'法定調書計算(非)'!CO53","v":0}]
[]
[null,null,null,null,null,null,null,null,null,null,null,null,null,null,null,null,{"$f":"'法定調書計算(非)'!Q55","v":" "},null,null,null,null,null,null,null,{"$f":"'法定調書計算(非)'!Y55","v":" "},null,null,{"$f":"'法定調書計算(非)'!AB55","v":" "},null,null,{"$f":"'法定調書計算(非)'!AE55","v":" "},null,null,null,null,null,{"$f":"'法定調書計算(非)'!AK55","v":0},null,null,null,null,null,null,null,null,null,null,null,null,null,null,null,null,null,null,null,null,null,{"$f":"'法定調書計算(非)'!BG55","v":0},null,null,null,null,null,null,null,null,null,null,null,null,null,null,null,null,null,null,null,null,null,null,null,null,null,null,null,null,null,null,null,null,null,{"$f":"'法定調書計算(非)'!CO55","v":0}]
[]
[null,null,null,null,null,null,null,null,null,null,null,null,null,null,null,null,{"$f":"'法定調書計算(非)'!Q57","v":4},null,null,null,null,null,null,null,null,null,null,null,null,null,null,null,null,null,null,null,{"$f":"'法定調書計算(非)'!AK57","v":1},null,null,null,null,null,null,null,null,null,null,null,null,null,null,null,null,null,null,null,null,null,{"$f":"'法定調書計算(非)'!BG57","v":" "},null,null,null,null,null,null,null,null,{"$f":"'法定調書計算(非)'!BP57","v":"1"},null,{"$f":"'法定調書計算(非)'!BR57","v":"6"},null,null,{"$f":"'法定調書計算(非)'!BU57","v":"3"},null,null,null,{"$f":"'法定調書計算(非)'!BY57","v":"1"},null,null,null,{"$f":"'法定調書計算(非)'!CC57","v":"9"},null,null,null,{"$f":"'法定調書計算(非)'!CG57","v":"3"},null,null,null,{"$f":"'法定調書計算(非)'!CK57","v":"8"},null,null,null,null,{"$f":"'法定調書計算(非)'!CP57","v":" "},null,null,null,null,null,null,null,null,null,{"$f":"'法定調書計算(非)'!CZ57","v":"1"},null,null,null,{"$f":"'法定調書計算(非)'!DD57","v":"5"},null,null,null,{"$f":"'法定調書計算(非)'!DH57","v":"0"},null,null,null,{"$f":"'法定調書計算(非)'!DL57","v":"2"},null,null,null,{"$f":"'法定調書計算(非)'!DP57","v":"8"},null,null,null,{"$f":"'法定調書計算(非)'!DT57","v":"4"}]
[]
[null,null,null,null,null,null,null,null,null,null,null,null,null,null,null,null,{"$f":"'法定調書計算(非)'!Q59","v":" "},null,null,null,null,null,null,null,{"$f":"'法定調書計算(非)'!Y59","v":" "},null,null,{"$f":"'法定調書計算(非)'!AB59","v":" "},null,null,{"$f":"'法定調書計算(非)'!AE59","v":"3"},null,null,null,null,null,{"$f":"'法定調書計算(非)'!AK59","v":" "},null,null,null,null,null,null,null,{"$f":"'法定調書計算(非)'!AS59","v":" "},null,null,null,{"$f":"'法定調書計算(非)'!AW59","v":" "},null,null,null,{"$f":"'法定調書計算(非)'!BA59","v":"1"},null,null,null,null,null,{"$f":"'法定調書計算(非)'!BG59","v":1601938},null,null,null,null,null,null,null,null,null,null,null,null,null,null,null,null,null,null,null,null,null,null,null,null,null,null,null,null,null,null,null,null,null,{"$f":"'法定調書計算(非)'!CO59","v":148242}]
[]
[]
[]
[]
[]
[]
[]
[]
[null,null,null,null,null,{"$f":"'法定調書計算(非)'!F68","v":2},null,null,null,null,null,null,null,null,null,null,null,null,null,null,null,null,null,null,null,null,{"$f":"'法定調書計算(非)'!AA68","v":3446000},null,null,null,null,null,null,null,null,null,null,null,null,null,null,null,null,null,null,null,null,null,null,null,null,null,null,null,null,null,null,null,null,null,null,null,null,null,null,null,null,null,null,null,{"$f":"'法定調書計算(非)'!BS68","v":1},null,null,null,null,null,null,null,null,null,null,null,null,null,null,null,null,null,null,null,null,null,null,null,{"$f":"'法定調書計算(非)'!CQ68","v":200000}]
[]
[null,null,null,null,null,{"$f":"'法定調書計算(非)'!F70","v":" "},null,null,null,null,null,null,null,null,{"$f":"'法定調書計算(非)'!O70","v":" "},null,null,{"$f":"'法定調書計算(非)'!R70","v":" "},null,null,null,{"$f":"'法定調書計算(非)'!V70","v":"2"},null,null,null,null,{"$f":"'法定調書計算(非)'!AA70","v":3446000},null,null,null,null,null,null,null,null,null,null,null,null,null,null,null,null,null,null,null,null,null,null,null,null,null,null,null,null,null,null,null,null,null,null,null,null,null,null,null,null,null,null,null,{"$f":"'法定調書計算(非)'!BS70","v":0},null,null,null,null,null,null,null,null,null,{"$f":"'法定調書計算(非)'!CC70","v":0},null,null,null,{"$f":"'法定調書計算(非)'!CG70","v":0},null,null,null,{"$f":"'法定調書計算(非)'!CK70","v":0},null,null,null,null,null,{"$f":"'法定調書計算(非)'!CQ70","v":0}]
[]
[null,null,null,null,null,null,null,null,null,null,null,null,null,null,null,null,null,null,null,null,null,null,null,null,null,null,null,null,null,null,null,null,null,null,null,null,null,null,null,null,null,null,null,null,null,null,null,null,null,null,null,null,null,null,null,null,null,null,null,null,null,null,null,null,null,null,{"$f":"'法定調書計算(非)'!BO72","v":"外 1人　200,000円"}]

{"sheet":"法定調書控(非)","index":21,"n_rows":72,"n_cols":124,"rows_kept":72,"cut":false,"hidden":true,"merged":[[71,66,72,124],[18,25,18,26],[18,31,18,33],[18,28,18,29],[6,37,7,39],[12,64,13,65],[7,93,8,95],[7,97,8,99],[7,101,8,103],[7,105,8,107],[12,90,13,91],[12,93,13,95],[12,99,13,101],[12,103,13,105],[12,70,13,72],[7,63,8,79],[12,74,13,76],[12,80,13,82],[12,84,13,86],[56,119,56,121],[56,123,56,124],[58,58,58,89],[58,92,58,123],[56,103,56,105],[25,86,25,93],[25,107,25,109],[25,103,25,105],[25,99,25,101],[3,101,4,103],[12,119,13,121],[12,123,13,124],[12,109,13,111],[12,113,13,115],[3,117,4,119],[7,109,8,111],[7,113,8,115],[7,117,8,119],[3,105,4,107],[3,109,4,111],[7,121,8,123],[3,113,4,115],[29,86,29,123],[29,42,29,80],[56,115,56,117],[48,92,48,123],[40,58,40,89],[40,92,40,123],[25,64,25,65],[42,58,42,89],[42,92,42,123],[25,80,25,82],[25,123,25,124],[25,119,25,121],[25,115,25,117],[35,58,36,60],[35,62,36,64],[35,67,36,72],[35,74,36,76],[35,78,36,80],[35,82,36,84],[25,60,25,62],[25,56,25,58],[25,111,25,113],[25,95,25,97],[25,76,25,78],[69,5,69,12],[67,94,67,123],[69,88,69,90],[69,84,69,86],[69,80,69,82],[69,70,69,78],[67,5,67,22],[67,26,67,53],[69,26,69,53],[69,21,69,22],[69,94,69,123],[67,70,67,90],[58,16,58,22],[58,24,58,25],[54,27,54,28],[54,16,54,22],[42,24,42,25],[42,27,42,28],[46,24,46,25],[46,16,46,22],[48,16,48,22],[44,24,44,25],[44,27,44,28],[48,24,48,25],[42,16,42,22],[54,30,54,32],[50,30,50,32],[52,24,52,25],[56,111,56,113],[50,58,50,89],[50,36,50,54],[52,36,52,54],[54,36,54,54],[52,30,52,32],[54,24,54,25],[56,16,56,32],[56,58,56,65],[56,88,56,90],[56,93,56,101],[56,76,56,78],[56,80,56,82],[56,84,56,86],[56,69,56,70],[56,72,56,74],[56,107,56,109],[50,16,50,22],[52,16,52,22],[44,30,44,32],[42,36,42,54],[44,36,44,54],[58,27,58,28],[58,30,58,32],[50,92,50,123],[52,58,52,89],[52,92,52,123],[54,58,54,89],[54,92,54,123],[56,36,56,54],[58,36,58,42],[58,44,58,46],[58,48,58,50],[58,52,58,54],[44,58,44,89],[44,92,44,123],[46,36,46,54],[48,36,48,54],[46,58,46,89],[46,92,46,123],[52,27,52,28],[46,30,46,32],[48,27,48,28],[48,30,48,32],[50,24,50,25],[50,27,50,28],[48,58,48,89],[44,16,44,22],[46,27,46,28],[16,3,16,48],[40,16,40,22],[40,24,40,25],[40,27,40,28],[40,30,40,32],[40,36,40,54],[25,42,25,50],[25,5,25,10],[25,52,25,54],[29,5,29,10],[29,12,29,14],[29,16,29,17],[29,19,29,21],[20,3,20,48],[22,3,23,43],[25,12,25,14],[18,8,18,9],[18,11,18,13],[25,19,25,21],[25,16,25,17],[25,69,25,70],[25,72,25,74],[2,3,3,5],[2,7,3,8],[18,4,18,6],[11,3,12,48],[13,23,13,28],[13,31,13,36],[13,40,13,46],[15,3,15,48],[8,9,9,34],[18,45,18,47],[18,22,18,23],[18,18,18,20],[18,15,18,16],[18,38,18,39],[18,35,18,36],[18,41,18,42],[15,61,15,106],[16,61,18,106],[6,26,7,28],[6,32,7,34],[42,30,42,32],[35,86,36,88],[35,90,36,91],[35,93,36,95],[35,97,36,99],[35,101,36,103],[38,5,38,10],[38,12,38,14],[38,16,38,17],[38,19,38,21],[38,24,38,63],[38,67,38,102],[35,5,36,10],[35,12,36,14],[35,16,36,17],[35,19,36,21],[35,24,36,30],[35,32,36,34],[35,36,36,37],[35,39,36,40],[35,42,36,44],[35,46,36,48],[35,50,36,52],[35,54,36,56]]}
[]
[]
[null,null,null,{"$f":"'法定調書計算(非)'!D3","v":"0"},null,null,null,{"$f":"'法定調書計算(非)'!H3","v":"3"}]
[null,null,null,null,null,null,null,null,null,null,null,null,null,null,null,null,null,null,null,null,null,null,null,null,null,null,null,null,null,null,null,null,null,null,null,null,null,null,null,null,null,null,null,null,null,null,null,null,null,null,null,null,null,null,null,null,null,null,null,null,null,null,null,null,null,null,null,null,null,null,null,null,null,null,null,null,null,null,null,null,null,null,null,null,null,null,null,null,null,null,null,null,null,null,null,null,null,null,null,null,null,{"$f":"'法定調書計算(非)'!CX4","v":"0"},null,null,null,{"$f":"'法定調書計算(非)'!DB4","v":"1"},null,null,null,{"$f":"'法定調書計算(非)'!DF4","v":"1"},null,null,null,{"$f":"'法定調書計算(非)'!DJ4","v":"0"},null,null,null,{"$f":"'法定調書計算(非)'!DN4","v":"1"}]
[]
[]
[null,null,null,null,null,null,null,null,null,null,null,null,null,null,null,null,null,null,null,null,null,null,null,null,null,null,{"$f":"'法定調書計算(非)'!AA7","v":"3"},null,null,null,null,null,{"$f":"'法定調書計算(非)'!AG7","v":"1"},null,null,null,null,{"$f":"'法定調書計算(非)'!AL7","v":"31"}]
[null,null,null,null,null,null,null,null,null,null,null,null,null,null,null,null,null,null,null,null,null,null,null,null,null,null,null,null,null,null,null,null,null,null,null,null,null,null,null,null,null,null,null,null,null,null,null,null,null,null,null,null,null,null,null,null,null,null,null,null,null,null,null,{"$f":"'法定調書計算(非)'!BL8","v":"コンサルティング業"},null,null,null,null,null,null,null,null,null,null,null,null,null,null,null,null,null,null,null,null,null,null,null,null,null,null,null,null,null,{"$f":"'法定調書計算(非)'!CP8","v":"1"},null,null,null,{"$f":"'法定調書計算(非)'!CT8","v":"2"},null,null,null,{"$f":"'法定調書計算(非)'!CX8","v":"3"},null,null,null,{"$f":"'法定調書計算(非)'!DB8","v":"4"},null,null,null,{"$f":"'法定調書計算(非)'!DF8","v":"5"},null,null,null,{"$f":"'法定調書計算(非)'!DJ8","v":"6"},null,null,null,{"$f":"'法定調書計算(非)'!DN8","v":"7"},null,null,null,{"$f":"'法定調書計算(非)'!DR8","v":"8"}]
[null,null,null,null,null,null,null,null,null,{"$f":"'法定調書計算(非)'!J9","v":"麹町"}]
[]
[]
[null,null,null,{"$f":"'法定調書計算(非)'!D12","v":"東京都千代田区１－２－３"}]
[null,null,null,null,null,null,null,null,null,null,null,null,null,null,null,null,null,null,null,null,null,null,null,null,null,null,null,null,null,null,null,null,null,null,null,null,null,null,null,null,null,null,null,null,null,null,null,null,null,null,null,null,null,null,null,null,null,null,null,null,null,null,null,null,1,null,null,null,null,null,{"$f":"'法定調書計算(非)'!BS13","v":3},null,null,null,{"$f":"'法定調書計算(非)'!BW13","v":0},null,null,null,null,null,null,null,null,null,null,null,null,null,null,null,{"$f":"'法定調書計算(非)'!CM13","v":3},null,null,{"$f":"'法定調書計算(非)'!CP13","v":0},null,null,null,null,null,{"$f":"'法定調書計算(非)'!CV13","v":3},null,null,null,{"$f":"'法定調書計算(非)'!CZ13","v":0},null,null,null,null,null,{"$f":"'法定調書計算(非)'!DF13","v":""},null,null,null,{"$f":"'法定調書計算(非)'!DJ13","v":""},null,null,null,null,null,{"$f":"'法定調書計算(非)'!DP13","v":3},null,null,null,{"$f":"'法定調書計算(非)'!DT13","v":0}]
[null,null,null,null,null,null,null,null,null,null,null,null,null,null,null,null,null,null,null,null,null,null,null,{"$f":"'法定調書計算(非)'!X14","v":"03"},null,null,null,null,null,null,null,{"$f":"'法定調書計算(非)'!AF14","v":"1234"},null,null,null,null,null,null,null,null,{"$f":"'法定調書計算(非)'!AO14","v":"5678"}]
[]
[null,null,null,{"$f":"'法定調書計算(非)'!D16","v":"エービーシーショウジカブシキガイシャ"},null,null,null,null,null,null,null,null,null,null,null,null,null,null,null,null,null,null,null,null,null,null,null,null,null,null,null,null,null,null,null,null,null,null,null,null,null,null,null,null,null,null,null,null,null,null,null,null,null,null,null,null,null,null,null,null,null,{"$f":"'法定調書計算(非)'!BJ16","v":"ヨシノミライ"}]
[null,null,null,{"$f":"'法定調書計算(非)'!D17","v":"ABC商事株式会社"},null,null,null,null,null,null,null,null,null,null,null,null,null,null,null,null,null,null,null,null,null,null,null,null,null,null,null,null,null,null,null,null,null,null,null,null,null,null,null,null,null,null,null,null,null,null,null,null,null,null,null,null,null,null,null,null,null,{"$f":"'法定調書計算(非)'!BJ17","v":"吉野未来"}]
[]
[]
[]
[null,null,null,{"$f":"'法定調書計算(非)'!D21","v":"カンダタカフミ"}]
[]
[null,null,null,{"$f":"'法定調書計算(非)'!D23","v":"神田隆文"}]
[]
[]
[null,null,null,null,null,{"$f":"'法定調書計算(非)'!F26","v":" "},null,null,null,null,null,null,{"$f":"'法定調書計算(非)'!M26","v":" "},null,null,null,{"$f":"'法定調書計算(非)'!Q26","v":" "},null,null,{"$f":"'法定調書計算(非)'!T26","v":"5"},null,null,null,null,null,null,null,null,null,null,null,null,null,null,null,null,null,null,null,null,null,null,{"$f":"'法定調書計算(非)'!AQ26","v":" "},null,null,null,null,null,null,null,null,null,{"$f":"'法定調書計算(非)'!BA26","v":" "},null,null,null,{"$f":"'法定調書計算(非)'!BE26","v":"3"},null,null,null,{"$f":"'法定調書計算(非)'!BI26","v":"2"},null,null,null,{"$f":"'法定調書計算(非)'!BM26","v":"2"},null,null,{"$f":"'法定調書計算(非)'!BP26","v":"3"},null,{"$f":"'法定調書計算(非)'!BR26","v":"4"},null,null,{"$f":"'法定調書計算(非)'!BU26","v":"2"},null,null,null,{"$f":"'法定調書計算(非)'!BY26","v":"0"},null,null,null,{"$f":"'法定調書計算(非)'!CC26","v":"0"},null,null,null,null,null,{"$f":"'法定調書計算(非)'!CI26","v":" "},null,null,null,null,null,null,null,null,{"$f":"'法定調書計算(非)'!CR26","v":" "},null,null,null,{"$f":"'法定調書計算(非)'!CV26","v":"3"},null,null,null,{"$f":"'法定調書計算(非)'!CZ26","v":"2"},null,null,null,{"$f":"'法定調書計算(非)'!DD26","v":"5"},null,null,null,{"$f":"'法定調書計算(非)'!DH26","v":"0"},null,null,null,{"$f":"'法定調書計算(非)'!DL26","v":"2"},null,null,null,{"$f":"'法定調書計算(非)'!DP26","v":"0"},null,null,null,{"$f":"'法定調書計算(非)'!DT26","v":"0"}]
[]
[]
[]
[null,null,null,null,null,{"$f":"'法定調書計算(非)'!F30","v":" "},null,null,null,null,null,null,{"$f":"'法定調書計算(非)'!M30","v":" "},null,null,null,{"$f":"'法定調書計算(非)'!Q30","v":" "},null,null,{"$f":"'法定調書計算(非)'!T30","v":"4"},null,null,null,null,null,null,null,null,null,null,null,null,null,null,null,null,null,null,null,null,null,null,{"$f":"'法定調書計算(非)'!AQ30","v":29699200},null,null,null,null,null,null,null,null,null,null,null,null,null,null,null,null,null,null,null,null,null,null,null,null,null,null,null,null,null,null,null,null,null,null,null,null,null,null,null,null,null,null,null,{"$f":"'法定調書計算(非)'!CI30","v":3276350}]
[]
[]
[]
[]
[]
[null,null,null,null,null,{"$f":"'法定調書計算(非)'!F36","v":" "},null,null,null,null,null,null,{"$f":"'法定調書計算(非)'!M36","v":" "},null,null,null,{"$f":"'法定調書計算(非)'!Q36","v":" "},null,null,{"$f":"'法定調書計算(非)'!T36","v":"2"},null,null,null,null,{"$f":"'法定調書計算(非)'!Y36","v":" "},null,null,null,null,null,null,null,{"$f":"'法定調書計算(非)'!AG36","v":" "},null,null,null,{"$f":"'法定調書計算(非)'!AK36","v":"1"},null,null,{"$f":"'法定調書計算(非)'!AN36","v":"1"},null,null,{"$f":"'法定調書計算(非)'!AQ36","v":"0"},null,null,null,{"$f":"'法定調書計算(非)'!AU36","v":"0"},null,null,null,{"$f":"'法定調書計算(非)'!AY36","v":"0"},null,null,null,{"$f":"'法定調書計算(非)'!BC36","v":"0"},null,null,null,{"$f":"'法定調書計算(非)'!BG36","v":"0"},null,null,null,{"$f":"'法定調書計算(非)'!BK36","v":"0"},null,null,null,null,{"$f":"'法定調書計算(非)'!BP36","v":" "},null,null,null,null,null,null,{"$f":"'法定調書計算(非)'!BW36","v":" "},null,null,null,{"$f":"'法定調書計算(非)'!CA36","v":" "},null,null,null,{"$f":"'法定調書計算(非)'!CE36","v":"8"},null,null,null,{"$f":"'法定調書計算(非)'!CI36","v":"0"},null,null,null,{"$f":"'法定調書計算(非)'!CM36","v":"0"},null,null,{"$f":"'法定調書計算(非)'!CP36","v":"0"},null,null,null,{"$f":"'法定調書計算(非)'!CT36","v":"0"},null,null,null,{"$f":"'法定調書計算(非)'!CX36","v":"0"}]
[]
[]
[null,null,null,null,null,{"$f":"'法定調書計算(非)'!F39","v":" "},null,null,null,null,null,null,{"$f":"'法定調書計算(非)'!M39","v":" "},null,null,null,{"$f":"'法定調書計算(非)'!Q39","v":" "},null,null,{"$f":"'法定調書計算(非)'!T39","v":"1"},null,null,null,null,{"$f":"'法定調書計算(非)'!Y39","v":8000000},null,null,null,null,null,null,null,null,null,null,null,null,null,null,null,null,null,null,null,null,null,null,null,null,null,null,null,null,null,null,null,null,null,null,null,null,null,null,null,null,null,null,{"$f":"'法定調書計算(非)'!BP39","v":600000}]
[]
[null,null,null,null,null,null,null,null,null,null,null,null,null,null,null,null,{"$f":"'法定調書計算(非)'!Q41","v":" "},null,null,null,null,null,null,null,{"$f":"'法定調書計算(非)'!Y41","v":" "},null,null,{"$f":"'法定調書計算(非)'!AB41","v":" "},null,null,{"$f":"'法定調書計算(非)'!AE41","v":"2"},null,null,null,null,null,{"$f":"'法定調書計算(非)'!AK41","v":1},null,null,null,null,null,null,null,null,null,null,null,null,null,null,null,null,null,null,null,null,null,{"$f":"'法定調書計算(非)'!BG41","v":1101938},null,null,null,null,null,null,null,null,null,null,null,null,null,null,null,null,null,null,null,null,null,null,null,null,null,null,null,null,null,null,null,null,null,{"$f":"'法定調書計算(非)'!CO41","v":97192}]
[]
[null,null,null,null,null,null,null,null,null,null,null,null,null,null,null,null,{"$f":"'法定調書計算(非)'!Q43","v":" "},null,null,null,null,null,null,null,{"$f":"'法定調書計算(非)'!Y43","v":" "},null,null,{"$f":"'法定調書計算(非)'!AB43","v":" "},null,null,{"$f":"'法定調書計算(非)'!AE43","v":"2"},null,null,null,null,null,{"$f":"'法定調書計算(非)'!AK43","v":0},null,null,null,null,null,null,null,null,null,null,null,null,null,null,null,null,null,null,null,null,null,{"$f":"'法定調書計算(非)'!BG43","v":530000},null,null,null,null,null,null,null,null,null,null,null,null,null,null,null,null,null,null,null,null,null,null,null,null,null,null,null,null,null,null,null,null,null,{"$f":"'法定調書計算(非)'!CO43","v":53092}]
[]
[null,null,null,null,null,null,null,null,null,null,null,null,null,null,null,null,{"$f":"'法定調書計算(非)'!Q45","v":" "},null,null,null,null,null,null,null,{"$f":"'法定調書計算(非)'!Y45","v":" "},null,null,{"$f":"'法定調書計算(非)'!AB45","v":" "},null,null,{"$f":"'法定調書計算(非)'!AE45","v":" "},null,null,null,null,null,{"$f":"'法定調書計算(非)'!AK45","v":0},null,null,null,null,null,null,null,null,null,null,null,null,null,null,null,null,null,null,null,null,null,{"$f":"'法定調書計算(非)'!BG45","v":0},null,null,null,null,null,null,null,null,null,null,null,null,null,null,null,null,null,null,null,null,null,null,null,null,null,null,null,null,null,null,null,null,null,{"$f":"'法定調書計算(非)'!CO45","v":0}]
[]
[null,null,null,null,null,null,null,null,null,null,null,null,null,null,null,null,{"$f":"'法定調書計算(非)'!Q47","v":" "},null,null,null,null,null,null,null,{"$f":"'法定調書計算(非)'!Y47","v":" "},null,null,{"$f":"'法定調書計算(非)'!AB47","v":" "},null,null,{"$f":"'法定調書計算(非)'!AE47","v":" "},null,null,null,null,null,{"$f":"'法定調書計算(非)'!AK47","v":0},null,null,null,null,null,null,null,null,null,null,null,null,null,null,null,null,null,null,null,null,null,{"$f":"'法定調書計算(非)'!BG47","v":0},null,null,null,null,null,null,null,null,null,null,null,null,null,null,null,null,null,null,null,null,null,null,null,null,null,null,null,null,null,null,null,null,null,{"$f":"'法定調書計算(非)'!CO47","v":0}]
[]
[null,null,null,null,null,null,null,null,null,null,null,null,null,null,null,null,{"$f":"'法定調書計算(非)'!Q49","v":" "},null,null,null,null,null,null,null,{"$f":"'法定調書計算(非)'!Y49","v":" "},null,null,{"$f":"'法定調書計算(非)'!AB49","v":" "},null,null,{"$f":"'法定調書計算(非)'!AE49","v":" "},null,null,null,null,null,{"$f":"'法定調書計算(非)'!AK49","v":0},null,null,null,null,null,null,null,null,null,null,null,null,null,null,null,null,null,null,null,null,null,{"$f":"'法定調書計算(非)'!BG49","v":0},null,null,null,null,null,null,null,null,null,null,null,null,null,null,null,null,null,null,null,null,null,null,null,null,null,null,null,null,null,null,null,null,null,{"$f":"'法定調書計算(非)'!CO49","v":0}]
[]
[null,null,null,null,null,null,null,null,null,null,null,null,null,null,null,null,{"$f":"'法定調書計算(非)'!Q51","v":" "},null,null,null,null,null,null,null,{"$f":"'法定調書計算(非)'!Y51","v":" "},null,null,{"$f":"'法定調書計算(非)'!AB51","v":" "},null,null,{"$f":"'法定調書計算(非)'!AE51","v":" "},null,null,null,null,null,{"$f":"'法定調書計算(非)'!AK51","v":0},null,null,null,null,null,null,null,null,null,null,null,null,null,null,null,null,null,null,null,null,null,{"$f":"'法定調書計算(非)'!BG51","v":0},null,null,null,null,null,null,null,null,null,null,null,null,null,null,null,null,null,null,null,null,null,null,null,null,null,null,null,null,null,null,null,null,null,{"$f":"'法定調書計算(非)'!CO51","v":0}]
[]
[null,null,null,null,null,null,null,null,null,null,null,null,null,null,null,null,{"$f":"'法定調書計算(非)'!Q53","v":" "},null,null,null,null,null,null,null,{"$f":"'法定調書計算(非)'!Y53","v":" "},null,null,{"$f":"'法定調書計算(非)'!AB53","v":" "},null,null,{"$f":"'法定調書計算(非)'!AE53","v":" "},null,null,null,null,null,{"$f":"'法定調書計算(非)'!AK53","v":0},null,null,null,null,null,null,null,null,null,null,null,null,null,null,null,null,null,null,null,null,null,{"$f":"'法定調書計算(非)'!BG53","v":0},null,null,null,null,null,null,null,null,null,null,null,null,null,null,null,null,null,null,null,null,null,null,null,null,null,null,null,null,null,null,null,null,null,{"$f":"'法定調書計算(非)'!CO53","v":0}]
[]
[null,null,null,null,null,null,null,null,null,null,null,null,null,null,null,null,{"$f":"'法定調書計算(非)'!Q55","v":" "},null,null,null,null,null,null,null,{"$f":"'法定調書計算(非)'!Y55","v":" "},null,null,{"$f":"'法定調書計算(非)'!AB55","v":" "},null,null,{"$f":"'法定調書計算(非)'!AE55","v":" "},null,null,null,null,null,{"$f":"'法定調書計算(非)'!AK55","v":0},null,null,null,null,null,null,null,null,null,null,null,null,null,null,null,null,null,null,null,null,null,{"$f":"'法定調書計算(非)'!BG55","v":0},null,null,null,null,null,null,null,null,null,null,null,null,null,null,null,null,null,null,null,null,null,null,null,null,null,null,null,null,null,null,null,null,null,{"$f":"'法定調書計算(非)'!CO55","v":0}]
[]
[null,null,null,null,null,null,null,null,null,null,null,null,null,null,null,null,{"$f":"'法定調書計算(非)'!Q57","v":4},null,null,null,null,null,null,null,null,null,null,null,null,null,null,null,null,null,null,null,{"$f":"'法定調書計算(非)'!AK57","v":1},null,null,null,null,null,null,null,null,null,null,null,null,null,null,null,null,null,null,null,null,null,{"$f":"'法定調書計算(非)'!BG57","v":" "},null,null,null,null,null,null,null,null,{"$f":"'法定調書計算(非)'!BP57","v":"1"},null,{"$f":"'法定調書計算(非)'!BR57","v":"6"},null,null,{"$f":"'法定調書計算(非)'!BU57","v":"3"},null,null,null,{"$f":"'法定調書計算(非)'!BY57","v":"1"},null,null,null,{"$f":"'法定調書計算(非)'!CC57","v":"9"},null,null,null,{"$f":"'法定調書計算(非)'!CG57","v":"3"},null,null,null,{"$f":"'法定調書計算(非)'!CK57","v":"8"},null,null,null,null,{"$f":"'法定調書計算(非)'!CP57","v":" "},null,null,null,null,null,null,null,null,null,{"$f":"'法定調書計算(非)'!CZ57","v":"1"},null,null,null,{"$f":"'法定調書計算(非)'!DD57","v":"5"},null,null,null,{"$f":"'法定調書計算(非)'!DH57","v":"0"},null,null,null,{"$f":"'法定調書計算(非)'!DL57","v":"2"},null,null,null,{"$f":"'法定調書計算(非)'!DP57","v":"8"},null,null,null,{"$f":"'法定調書計算(非)'!DT57","v":"4"}]
[]
[null,null,null,null,null,null,null,null,null,null,null,null,null,null,null,null,{"$f":"'法定調書計算(非)'!Q59","v":" "},null,null,null,null,null,null,null,{"$f":"'法定調書計算(非)'!Y59","v":" "},null,null,{"$f":"'法定調書計算(非)'!AB59","v":" "},null,null,{"$f":"'法定調書計算(非)'!AE59","v":"3"},null,null,null,null,null,{"$f":"'法定調書計算(非)'!AK59","v":" "},null,null,null,null,null,null,null,{"$f":"'法定調書計算(非)'!AS59","v":" "},null,null,null,{"$f":"'法定調書計算(非)'!AW59","v":" "},null,null,null,{"$f":"'法定調書計算(非)'!BA59","v":"1"},null,null,null,null,null,{"$f":"'法定調書計算(非)'!BG59","v":1601938},null,null,null,null,null,null,null,null,null,null,null,null,null,null,null,null,null,null,null,null,null,null,null,null,null,null,null,null,null,null,null,null,null,{"$f":"'法定調書計算(非)'!CO59","v":148242}]
[]
[]
[]
[]
[]
[]
[]
[]
[null,null,null,null,null,{"$f":"'法定調書計算(非)'!F68","v":2},null,null,null,null,null,null,null,null,null,null,null,null,null,null,null,null,null,null,null,null,{"$f":"'法定調書計算(非)'!AA68","v":3446000},null,null,null,null,null,null,null,null,null,null,null,null,null,null,null,null,null,null,null,null,null,null,null,null,null,null,null,null,null,null,null,null,null,null,null,null,null,null,null,null,null,null,null,{"$f":"'法定調書計算(非)'!BS68","v":1},null,null,null,null,null,null,null,null,null,null,null,null,null,null,null,null,null,null,null,null,null,null,null,{"$f":"'法定調書計算(非)'!CQ68","v":200000}]
[]
[null,null,null,null,null,{"$f":"'法定調書計算(非)'!F70","v":" "},null,null,null,null,null,null,null,null,{"$f":"'法定調書計算(非)'!O70","v":" "},null,null,{"$f":"'法定調書計算(非)'!R70","v":" "},null,null,null,{"$f":"'法定調書計算(非)'!V70","v":"2"},null,null,null,null,{"$f":"'法定調書計算(非)'!AA70","v":3446000},null,null,null,null,null,null,null,null,null,null,null,null,null,null,null,null,null,null,null,null,null,null,null,null,null,null,null,null,null,null,null,null,null,null,null,null,null,null,null,null,null,null,null,{"$f":"'法定調書計算(非)'!BS70","v":0},null,null,null,null,null,null,null,null,null,{"$f":"'法定調書計算(非)'!CC70","v":0},null,null,null,{"$f":"'法定調書計算(非)'!CG70","v":0},null,null,null,{"$f":"'法定調書計算(非)'!CK70","v":0},null,null,null,null,null,{"$f":"'法定調書計算(非)'!CQ70","v":0}]
[]
[null,null,null,null,null,null,null,null,null,null,null,null,null,null,null,null,null,null,null,null,null,null,null,null,null,null,null,null,null,null,null,null,null,null,null,null,null,null,null,null,null,null,null,null,null,null,null,null,null,null,null,null,null,null,null,null,null,null,null,null,null,null,null,null,null,null,{"$f":"'法定調書計算(非)'!BO72","v":"外 1人　200,000円"}]

{"sheet":"法定調書計算(非)","index":22,"n_rows":161,"n_cols":124,"rows_kept":161,"cut":false,"hidden":true,"merged":[[71,66,72,124],[2,3,3,5],[2,7,3,8],[3,101,4,103],[3,105,4,107],[3,109,4,111],[3,113,4,115],[3,117,4,119],[6,26,7,28],[6,32,7,34],[6,37,7,39],[7,63,8,79],[7,93,8,95],[7,97,8,99],[7,101,8,103],[7,105,8,107],[7,109,8,111],[12,119,13,121],[12,123,13,124],[13,23,13,28],[13,31,13,36],[13,40,13,46],[12,99,13,101],[12,103,13,105],[12,109,13,111],[7,113,8,115],[7,117,8,119],[7,121,8,123],[8,9,9,34],[11,3,12,48],[12,64,13,65],[12,70,13,72],[12,74,13,76],[12,80,13,82],[12,84,13,86],[12,113,13,115],[12,90,13,91],[12,93,13,95],[15,3,15,48],[15,61,15,106],[16,3,16,48],[16,61,18,106],[18,4,18,6],[18,8,18,9],[18,11,18,13],[18,15,18,16],[18,18,18,20],[22,3,23,43],[25,5,25,10],[25,12,25,14],[25,16,25,17],[25,19,25,21],[25,42,25,50],[18,22,18,23],[18,38,18,39],[18,45,18,47],[20,3,20,48],[18,25,18,26],[18,28,18,29],[18,31,18,33],[18,35,18,36],[18,41,18,43],[29,5,29,10],[29,12,29,14],[29,16,29,17],[29,19,29,21],[29,42,29,80],[25,80,25,82],[25,86,25,93],[25,72,25,74],[25,95,25,97],[25,52,25,54],[25,56,25,58],[25,60,25,62],[25,64,25,65],[25,69,25,70],[25,76,25,78],[29,86,29,123],[40,16,40,22],[40,24,40,25],[40,27,40,28],[40,30,40,32],[40,36,40,54],[40,58,40,89],[40,92,40,123],[25,107,25,109],[25,111,25,113],[25,115,25,117],[25,119,25,121],[25,123,25,124],[25,99,25,101],[25,103,25,105],[35,42,36,44],[35,46,36,48],[35,50,36,52],[35,54,36,56],[35,58,36,60],[35,62,36,64],[35,36,36,37],[35,39,36,40],[35,90,36,91],[35,74,36,76],[42,92,42,123],[44,16,44,22],[44,24,44,25],[44,27,44,28],[44,30,44,32],[44,36,44,54],[44,58,44,89],[44,92,44,123],[42,16,42,22],[42,24,42,25],[42,27,42,28],[42,30,42,32],[42,36,42,54],[42,58,42,89],[46,92,46,123],[48,16,48,22],[48,24,48,25],[48,27,48,28],[48,30,48,32],[48,36,48,54],[48,58,48,89],[48,92,48,123],[46,16,46,22],[46,24,46,25],[46,27,46,28],[46,30,46,32],[46,36,46,54],[46,58,46,89],[50,92,50,123],[52,16,52,22],[52,24,52,25],[52,27,52,28],[52,30,52,32],[52,36,52,54],[52,58,52,89],[52,92,52,123],[50,16,50,22],[50,24,50,25],[50,27,50,28],[50,30,50,32],[50,36,50,54],[50,58,50,89],[58,92,58,123],[56,103,56,105],[56,107,56,109],[56,111,56,113],[56,115,56,117],[56,119,56,121],[56,123,56,124],[54,92,54,123],[56,16,56,32],[56,36,56,54],[56,58,56,65],[56,69,56,70],[56,76,56,78],[56,80,56,82],[56,84,56,86],[56,88,56,90],[56,93,56,101],[54,16,54,22],[54,24,54,25],[54,27,54,28],[54,30,54,32],[54,36,54,54],[54,58,54,89],[58,36,58,42],[58,44,58,46],[58,48,58,50],[58,52,58,54],[58,16,58,22],[58,24,58,25],[58,27,58,28],[58,30,58,32],[58,58,58,89],[69,88,69,90],[69,94,69,123],[69,5,69,12],[69,21,69,22],[69,26,69,53],[69,70,69,78],[69,80,69,82],[69,84,69,86],[67,5,67,22],[67,26,67,53],[67,70,67,90],[67,94,67,123],[38,5,38,10],[38,24,38,63],[38,67,38,102],[38,12,38,14],[38,16,38,17],[38,19,38,21],[35,78,36,80],[35,82,36,84],[35,86,36,88],[35,93,36,95],[35,97,36,99],[35,101,36,103],[35,24,36,30],[35,67,36,72],[35,5,36,10],[35,19,36,21],[35,16,36,17],[35,12,36,14],[35,32,36,34]]}
[]
[]
[null,null,null,{"$f":"MID($B93,D93,1)","v":"0"},null,null,null,{"$f":"MID($B93,H93,1)","v":"3"}]
[null,null,null,null,null,null,null,null,null,null,null,null,null,null,null,null,null,null,null,null,null,null,null,null,null,null,null,null,null,null,null,null,null,null,null,null,null,null,null,null,null,null,null,null,null,null,null,null,null,null,null,null,null,null,null,null,null,null,null,null,null,null,null,null,null,null,null,null,null,null,null,null,null,null,null,null,null,null,null,null,null,null,null,null,null,null,null,null,null,null,null,null,null,null,null,null,null,null,null,null,null,{"$f":"MID($B96,CX96,1)","v":"0"},null,null,null,{"$f":"MID($B96,DB96,1)","v":"1"},null,null,null,{"$f":"MID($B96,DF96,1)","v":"1"},null,null,null,{"$f":"MID($B96,DJ96,1)","v":"0"},null,null,null,{"$f":"MID($B96,DN96,1)","v":"1"}]
[]
[]
[null,null,null,null,null,null,null,null,null,null,null,null,null,null,null,null,null,null,null,null,null,null,null,null,null,null,{"$f":"TEXT($B$97,AA97)","v":"3"},null,null,null,null,null,{"$f":"TEXT($B$97,AG97)","v":"1"},null,null,null,null,{"$f":"TEXT($B$97,AL97)","v":"31"}]
[null,null,null,null,null,null,null,null,null,null,null,null,null,null,null,null,null,null,null,null,null,null,null,null,null,null,null,null,null,null,null,null,null,null,null,null,null,null,null,null,null,null,null,null,null,null,null,null,null,null,null,null,null,null,null,null,null,null,null,null,null,null,null,{"$f":"BL99&\"\"","v":"コンサルティング業"},null,null,null,null,null,null,null,null,null,null,null,null,null,null,null,null,null,null,null,null,null,null,null,null,null,null,null,null,null,{"$f":"MID($B99,CP99,1)","v":"1"},null,null,null,{"$f":"MID($B99,CT99,1)","v":"2"},null,null,null,{"$f":"MID($B99,CX99,1)","v":"3"},null,null,null,{"$f":"MID($B99,DB99,1)","v":"4"},null,null,null,{"$f":"MID($B99,DF99,1)","v":"5"},null,null,null,{"$f":"MID($B99,DJ99,1)","v":"6"},null,null,null,{"$f":"MID($B99,DN99,1)","v":"7"},null,null,null,{"$f":"MID($B99,DR99,1)","v":"8"}]
[null,null,null,null,null,null,null,null,null,{"$f":"J99&\"\"","v":"麹町"}]
[]
[]
[null,null,null,{"$f":"B102","v":"東京都千代田区１－２－３"}]
[null,null,null,null,null,null,null,null,null,null,null,null,null,null,null,null,null,null,null,null,null,null,null,null,null,null,null,null,null,null,null,null,null,null,null,null,null,null,null,null,null,null,null,null,null,null,null,null,null,null,null,null,null,null,null,null,null,null,null,null,null,null,null,null,1,null,null,null,null,null,{"$f":"IF(BS103>0,BS102,\"\")","v":3},null,null,null,{"$f":"IF(BW103>0,BW102,\"\")","v":0},null,null,null,null,null,null,null,null,null,null,null,null,null,null,null,{"$f":"IF(CM103>0,CM102,\"\")","v":3},null,null,{"$f":"IF(CP103>0,CP102,\"\")","v":0},null,null,null,null,null,{"$f":"IF(CV103>0,CV102,\"\")","v":3},null,null,null,{"$f":"IF(CZ103>0,CZ102,\"\")","v":0},null,null,null,null,null,{"$f":"IF(DF103>0,DF102,\"\")","v":""},null,null,null,{"$f":"IF(DJ103>0,DJ102,\"\")","v":""},null,null,null,null,null,{"$f":"IF(DP103>0,DP102,\"\")","v":3},null,null,null,{"$f":"IF(DT103>0,DT102,\"\")","v":0}]
[null,null,null,null,null,null,null,null,null,null,null,null,null,null,null,null,null,null,null,null,null,null,null,{"$f":"LEFT(B104,D104-1)","v":"03"},null,null,null,null,null,null,null,{"$f":"MID(B104,D104+1,E104-D104-1)","v":"1234"},null,null,null,null,null,null,null,null,{"$f":"MID(B104,E104+1,99)","v":"5678"}]
[]
[null,null,null,{"$f":"B106","v":"エービーシーショウジカブシキガイシャ"},null,null,null,null,null,null,null,null,null,null,null,null,null,null,null,null,null,null,null,null,null,null,null,null,null,null,null,null,null,null,null,null,null,null,null,null,null,null,null,null,null,null,null,null,null,null,null,null,null,null,null,null,null,null,null,null,null,{"$f":"C106&\"\"","v":"ヨシノミライ"}]
[null,null,null,{"$f":"B107","v":"ABC商事株式会社"},null,null,null,null,null,null,null,null,null,null,null,null,null,null,null,null,null,null,null,null,null,null,null,null,null,null,null,null,null,null,null,null,null,null,null,null,null,null,null,null,null,null,null,null,null,null,null,null,null,null,null,null,null,null,null,null,null,{"$f":"C107&\"\"","v":"吉野未来"}]
[]
[null,null,null,null,{"$f":"MID($B109,E109,1)","v":"1"},null,null,null,{"$f":"MID($B109,I109,1)","v":"2"},null,null,{"$f":"MID($B109,L109,1)","v":"3"},null,null,null,{"$f":"MID($B109,P109,1)","v":"4"},null,null,{"$f":"MID($B109,S109,1)","v":"5"},null,null,null,{"$f":"MID($B109,W109,1)","v":"6"},null,null,{"$f":"MID($B109,Z109,1)","v":"7"},null,null,{"$f":"MID($B109,AC109,1)","v":"8"},null,null,{"$f":"MID($B109,AF109,1)","v":"9"},null,null,null,{"$f":"MID($B109,AJ109,1)","v":"0"},null,null,{"$f":"MID($B109,AM109,1)","v":"1"},null,null,{"$f":"MID($B109,AP109,1)","v":"2"},null,null,null,{"$f":"MID($B109,AT109,1)","v":"2"}]
[]
[null,null,null,{"$f":"B111","v":"カンダタカフミ"}]
[]
[null,null,null,{"$f":"B112","v":"神田隆文"}]
[]
[]
[null,null,null,null,null,{"$f":"LEFT(F117,LEN(F117)-F$116+1)","v":" "},null,null,null,null,null,null,{"$f":"LEFT(RIGHT(M117,M$116),1)","v":" "},null,null,null,{"$f":"LEFT(RIGHT(Q117,Q$116),1)","v":" "},null,null,{"$f":"LEFT(RIGHT(T117,T$116),1)","v":"5"},null,null,null,null,null,null,null,null,null,null,null,null,null,null,null,null,null,null,null,null,null,null,{"$f":"LEFT(AQ117,LEN(AQ117)-AQ$116+1)","v":" "},null,null,null,null,null,null,null,null,null,{"$f":"LEFT(RIGHT(BA117,BA$116),1)","v":" "},null,null,null,{"$f":"LEFT(RIGHT(BE117,BE$116),1)","v":"3"},null,null,null,{"$f":"LEFT(RIGHT(BI117,BI$116),1)","v":"2"},null,null,null,{"$f":"LEFT(RIGHT(BM117,BM$116),1)","v":"2"},null,null,{"$f":"LEFT(RIGHT(BP117,BP$116),1)","v":"3"},null,{"$f":"LEFT(RIGHT(BR117,BR$116),1)","v":"4"},null,null,{"$f":"LEFT(RIGHT(BU117,BU$116),1)","v":"2"},null,null,null,{"$f":"LEFT(RIGHT(BY117,BY$116),1)","v":"0"},null,null,null,{"$f":"LEFT(RIGHT(CC117,CC$116),1)","v":"0"},null,null,null,null,null,{"$f":"LEFT(CI117,LEN(CI117)-CI$116+1)","v":" "},null,null,null,null,null,null,null,null,{"$f":"LEFT(RIGHT(CR117,CR$116),1)","v":" "},null,null,null,{"$f":"LEFT(RIGHT(CV117,CV$116),1)","v":"3"},null,null,null,{"$f":"LEFT(RIGHT(CZ117,CZ$116),1)","v":"2"},null,null,null,{"$f":"LEFT(RIGHT(DD117,DD$116),1)","v":"5"},null,null,null,{"$f":"LEFT(RIGHT(DH117,DH$116),1)","v":"0"},null,null,null,{"$f":"LEFT(RIGHT(DL117,DL$116),1)","v":"2"},null,null,null,{"$f":"LEFT(RIGHT(DP117,DP$116),1)","v":"0"},null,null,null,{"$f":"LEFT(RIGHT(DT117,DT$116),1)","v":"0"}]
[]
[]
[]
[null,null,null,null,null,{"$f":"LEFT(F121,LEN(F121)-F$116+1)","v":" "},null,null,null,null,null,null,{"$f":"LEFT(RIGHT(M121,M$116),1)","v":" "},null,null,null,{"$f":"LEFT(RIGHT(Q121,Q$116),1)","v":" "},null,null,{"$f":"LEFT(RIGHT(T121,T$116),1)","v":"4"},null,null,null,null,null,null,null,null,null,null,null,null,null,null,null,null,null,null,null,null,null,null,{"$f":"D121","v":29699200},null,null,null,null,null,null,null,null,null,null,null,null,null,null,null,null,null,null,null,null,null,null,null,null,null,null,null,null,null,null,null,null,null,null,null,null,null,null,null,null,null,null,null,{"$f":"E121","v":3276350}]
[]
[]
[]
[]
[]
[null,null,null,null,null,{"$f":"LEFT(F127,LEN(F127)-F$126+1)","v":" "},null,null,null,null,null,null,{"$f":"LEFT(RIGHT(M127,M$126),1)","v":" "},null,null,null,{"$f":"LEFT(RIGHT(Q127,Q$126),1)","v":" "},null,null,{"$f":"LEFT(RIGHT(T127,T$126),1)","v":"2"},null,null,null,null,{"$f":"LEFT(Y127,LEN(Y127)-Y$126+1)","v":" "},null,null,null,null,null,null,null,{"$f":"LEFT(RIGHT(AG127,AG$126),1)","v":" "},null,null,null,{"$f":"LEFT(RIGHT(AK127,AK$126),1)","v":"1"},null,null,{"$f":"LEFT(RIGHT(AN127,AN$126),1)","v":"1"},null,null,{"$f":"LEFT(RIGHT(AQ127,AQ$126),1)","v":"0"},null,null,null,{"$f":"LEFT(RIGHT(AU127,AU$126),1)","v":"0"},null,null,null,{"$f":"LEFT(RIGHT(AY127,AY$126),1)","v":"0"},null,null,null,{"$f":"LEFT(RIGHT(BC127,BC$126),1)","v":"0"},null,null,null,{"$f":"LEFT(RIGHT(BG127,BG$126),1)","v":"0"},null,null,null,{"$f":"LEFT(RIGHT(BK127,BK$126),1)","v":"0"},null,null,null,null,{"$f":"LEFT(BP127,LEN(BP127)-BP$126+1)","v":" "},null,null,null,null,null,null,{"$f":"LEFT(RIGHT(BW127,BW$126),1)","v":" "},null,null,null,{"$f":"LEFT(RIGHT(CA127,CA$126),1)","v":" "},null,null,null,{"$f":"LEFT(RIGHT(CE127,CE$126),1)","v":"8"},null,null,null,{"$f":"LEFT(RIGHT(CI127,CI$126),1)","v":"0"},null,null,null,{"$f":"LEFT(RIGHT(CM127,CM$126),1)","v":"0"},null,null,{"$f":"LEFT(RIGHT(CP127,CP$126),1)","v":"0"},null,null,null,{"$f":"LEFT(RIGHT(CT127,CT$126),1)","v":"0"},null,null,null,{"$f":"LEFT(RIGHT(CX127,CX$126),1)","v":"0"}]
[]
[]
[null,null,null,null,null,{"$f":"LEFT(F129,LEN(F129)-F$126+1)","v":" "},null,null,null,null,null,null,{"$f":"LEFT(RIGHT(M129,M$126),1)","v":" "},null,null,null,{"$f":"LEFT(RIGHT(Q129,Q$126),1)","v":" "},null,null,{"$f":"LEFT(RIGHT(T129,T$126),1)","v":"1"},null,null,null,null,{"$f":"C129","v":8000000},null,null,null,null,null,null,null,null,null,null,null,null,null,null,null,null,null,null,null,null,null,null,null,null,null,null,null,null,null,null,null,null,null,null,null,null,null,null,null,null,null,null,{"$f":"D129","v":600000}]
[]
[null,null,null,null,null,null,null,null,null,null,null,null,null,null,null,null,{"$f":"LEFT(Q132,LEN(Q132)-Q$131+1)","v":" "},null,null,null,null,null,null,null,{"$f":"LEFT(RIGHT(Y132,Y$131),1)","v":" "},null,null,{"$f":"LEFT(RIGHT(AB132,AB$131),1)","v":" "},null,null,{"$f":"LEFT(RIGHT(AE132,AE$131),1)","v":"2"},null,null,null,null,null,{"$f":"C132","v":1},null,null,null,null,null,null,null,null,null,null,null,null,null,null,null,null,null,null,null,null,null,{"$f":"D132","v":1101938},null,null,null,null,null,null,null,null,null,null,null,null,null,null,null,null,null,null,null,null,null,null,null,null,null,null,null,null,null,null,null,null,null,{"$f":"E132","v":97192}]
[]
[null,null,null,null,null,null,null,null,null,null,null,null,null,null,null,null,{"$f":"LEFT(Q134,LEN(Q134)-Q$131+1)","v":" "},null,null,null,null,null,null,null,{"$f":"LEFT(RIGHT(Y134,Y$131),1)","v":" "},null,null,{"$f":"LEFT(RIGHT(AB134,AB$131),1)","v":" "},null,null,{"$f":"LEFT(RIGHT(AE134,AE$131),1)","v":"2"},null,null,null,null,null,{"$f":"C134","v":0},null,null,null,null,null,null,null,null,null,null,null,null,null,null,null,null,null,null,null,null,null,{"$f":"D134","v":530000},null,null,null,null,null,null,null,null,null,null,null,null,null,null,null,null,null,null,null,null,null,null,null,null,null,null,null,null,null,null,null,null,null,{"$f":"E134","v":53092}]
[]
[null,null,null,null,null,null,null,null,null,null,null,null,null,null,null,null,{"$f":"LEFT(Q136,LEN(Q136)-Q$131+1)","v":" "},null,null,null,null,null,null,null,{"$f":"LEFT(RIGHT(Y136,Y$131),1)","v":" "},null,null,{"$f":"LEFT(RIGHT(AB136,AB$131),1)","v":" "},null,null,{"$f":"LEFT(RIGHT(AE136,AE$131),1)","v":" "},null,null,null,null,null,{"$f":"C136","v":0},null,null,null,null,null,null,null,null,null,null,null,null,null,null,null,null,null,null,null,null,null,{"$f":"D136","v":0},null,null,null,null,null,null,null,null,null,null,null,null,null,null,null,null,null,null,null,null,null,null,null,null,null,null,null,null,null,null,null,null,null,{"$f":"E136","v":0}]
[]
[null,null,null,null,null,null,null,null,null,null,null,null,null,null,null,null,{"$f":"LEFT(Q138,LEN(Q138)-Q$131+1)","v":" "},null,null,null,null,null,null,null,{"$f":"LEFT(RIGHT(Y138,Y$131),1)","v":" "},null,null,{"$f":"LEFT(RIGHT(AB138,AB$131),1)","v":" "},null,null,{"$f":"LEFT(RIGHT(AE138,AE$131),1)","v":" "},null,null,null,null,null,{"$f":"C138","v":0},null,null,null,null,null,null,null,null,null,null,null,null,null,null,null,null,null,null,null,null,null,{"$f":"D138","v":0},null,null,null,null,null,null,null,null,null,null,null,null,null,null,null,null,null,null,null,null,null,null,null,null,null,null,null,null,null,null,null,null,null,{"$f":"E138","v":0}]
[]
[null,null,null,null,null,null,null,null,null,null,null,null,null,null,null,null,{"$f":"LEFT(Q140,LEN(Q140)-Q$131+1)","v":" "},null,null,null,null,null,null,null,{"$f":"LEFT(RIGHT(Y140,Y$131),1)","v":" "},null,null,{"$f":"LEFT(RIGHT(AB140,AB$131),1)","v":" "},null,null,{"$f":"LEFT(RIGHT(AE140,AE$131),1)","v":" "},null,null,null,null,null,{"$f":"C140","v":0},null,null,null,null,null,null,null,null,null,null,null,null,null,null,null,null,null,null,null,null,null,{"$f":"D140","v":0},null,null,null,null,null,null,null,null,null,null,null,null,null,null,null,null,null,null,null,null,null,null,null,null,null,null,null,null,null,null,null,null,null,{"$f":"E140","v":0}]
[]
[null,null,null,null,null,null,null,null,null,null,null,null,null,null,null,null,{"$f":"LEFT(Q142,LEN(Q142)-Q$131+1)","v":" "},null,null,null,null,null,null,null,{"$f":"LEFT(RIGHT(Y142,Y$131),1)","v":" "},null,null,{"$f":"LEFT(RIGHT(AB142,AB$131),1)","v":" "},null,null,{"$f":"LEFT(RIGHT(AE142,AE$131),1)","v":" "},null,null,null,null,null,{"$f":"C142","v":0},null,null,null,null,null,null,null,null,null,null,null,null,null,null,null,null,null,null,null,null,null,{"$f":"D142","v":0},null,null,null,null,null,null,null,null,null,null,null,null,null,null,null,null,null,null,null,null,null,null,null,null,null,null,null,null,null,null,null,null,null,{"$f":"E142","v":0}]
[]
[null,null,null,null,null,null,null,null,null,null,null,null,null,null,null,null,{"$f":"LEFT(Q144,LEN(Q144)-Q$131+1)","v":" "},null,null,null,null,null,null,null,{"$f":"LEFT(RIGHT(Y144,Y$131),1)","v":" "},null,null,{"$f":"LEFT(RIGHT(AB144,AB$131),1)","v":" "},null,null,{"$f":"LEFT(RIGHT(AE144,AE$131),1)","v":" "},null,null,null,null,null,{"$f":"C144","v":0},null,null,null,null,null,null,null,null,null,null,null,null,null,null,null,null,null,null,null,null,null,{"$f":"D144","v":0},null,null,null,null,null,null,null,null,null,null,null,null,null,null,null,null,null,null,null,null,null,null,null,null,null,null,null,null,null,null,null,null,null,{"$f":"E144","v":0}]
[]
[null,null,null,null,null,null,null,null,null,null,null,null,null,null,null,null,{"$f":"LEFT(Q146,LEN(Q146)-Q$131+1)","v":" "},null,null,null,null,null,null,null,{"$f":"LEFT(RIGHT(Y146,Y$131),1)","v":" "},null,null,{"$f":"LEFT(RIGHT(AB146,AB$131),1)","v":" "},null,null,{"$f":"LEFT(RIGHT(AE146,AE$131),1)","v":" "},null,null,null,null,null,{"$f":"C146","v":0},null,null,null,null,null,null,null,null,null,null,null,null,null,null,null,null,null,null,null,null,null,{"$f":"D146","v":0},null,null,null,null,null,null,null,null,null,null,null,null,null,null,null,null,null,null,null,null,null,null,null,null,null,null,null,null,null,null,null,null,null,{"$f":"E146","v":0}]
[]
[null,null,null,null,null,null,null,null,null,null,null,null,null,null,null,null,{"$f":"B148","v":4},null,null,null,null,null,null,null,null,null,null,null,null,null,null,null,null,null,null,null,{"$f":"C148","v":1},null,null,null,null,null,null,null,null,null,null,null,null,null,null,null,null,null,null,null,null,null,{"$f":"LEFT(BG148,LEN(BG148)-BG$131+1)","v":" "},null,null,null,null,null,null,null,null,{"$f":"LEFT(RIGHT(BP148,BP$131),1)","v":"1"},null,{"$f":"LEFT(RIGHT(BR148,BR$131),1)","v":"6"},null,null,{"$f":"LEFT(RIGHT(BU148,BU$131),1)","v":"3"},null,null,null,{"$f":"LEFT(RIGHT(BY148,BY$131),1)","v":"1"},null,null,null,{"$f":"LEFT(RIGHT(CC148,CC$131),1)","v":"9"},null,null,null,{"$f":"LEFT(RIGHT(CG148,CG$131),1)","v":"3"},null,null,null,{"$f":"LEFT(RIGHT(CK148,CK$131),1)","v":"8"},null,null,null,null,{"$f":"LEFT(CP148,LEN(CP148)-CP$131+1)","v":" "},null,null,null,null,null,null,null,null,null,{"$f":"LEFT(RIGHT(CZ148,CZ$131),1)","v":"1"},null,null,null,{"$f":"LEFT(RIGHT(DD148,DD$131),1)","v":"5"},null,null,null,{"$f":"LEFT(RIGHT(DH148,DH$131),1)","v":"0"},null,null,null,{"$f":"LEFT(RIGHT(DL148,DL$131),1)","v":"2"},null,null,null,{"$f":"LEFT(RIGHT(DP148,DP$131),1)","v":"8"},null,null,null,{"$f":"LEFT(RIGHT(DT148,DT$131),1)","v":"4"}]
[]
[null,null,null,null,null,null,null,null,null,null,null,null,null,null,null,null,{"$f":"LEFT(Q150,LEN(Q150)-Q$131+1)","v":" "},null,null,null,null,null,null,null,{"$f":"LEFT(RIGHT(Y150,Y$131),1)","v":" "},null,null,{"$f":"LEFT(RIGHT(AB150,AB$131),1)","v":" "},null,null,{"$f":"LEFT(RIGHT(AE150,AE$131),1)","v":"3"},null,null,null,null,null,{"$f":"LEFT(AK150,LEN(AK150)-AK$131+1)","v":" "},null,null,null,null,null,null,null,{"$f":"LEFT(RIGHT(AS150,AS$131),1)","v":" "},null,null,null,{"$f":"LEFT(RIGHT(AW150,AW$131),1)","v":" "},null,null,null,{"$f":"LEFT(RIGHT(BA150,BA$131),1)","v":"1"},null,null,null,null,null,{"$f":"D150","v":1601938},null,null,null,null,null,null,null,null,null,null,null,null,null,null,null,null,null,null,null,null,null,null,null,null,null,null,null,null,null,null,null,null,null,{"$f":"E150","v":148242}]
[]
[]
[]
[]
[]
[]
[]
[]
[null,null,null,null,null,{"$f":"B159","v":2},null,null,null,null,null,null,null,null,null,null,null,null,null,null,null,null,null,null,null,null,{"$f":"C159","v":3446000},null,null,null,null,null,null,null,null,null,null,null,null,null,null,null,null,null,null,null,null,null,null,null,null,null,null,null,null,null,null,null,null,null,null,null,null,null,null,null,null,null,null,null,{"$f":"BO159","v":1},null,null,null,null,null,null,null,null,null,null,null,null,null,null,null,null,null,null,null,null,null,null,null,{"$f":"BP159","v":200000}]
[]
[null,null,null,null,null,{"$f":"LEFT(F161,LEN(F161)-F$158+1)","v":" "},null,null,null,null,null,null,null,null,{"$f":"LEFT(RIGHT(O161,O$158),1)","v":" "},null,null,{"$f":"LEFT(RIGHT(R161,R$158),1)","v":" "},null,null,null,{"$f":"LEFT(RIGHT(V161,V$158),1)","v":"2"},null,null,null,null,{"$f":"C161","v":3446000}]
[]
[null,null,null,null,null,null,null,null,null,null,null,null,null,null,null,null,null,null,null,null,null,null,null,null,null,null,null,null,null,null,null,null,null,null,null,null,null,null,null,null,null,null,null,null,null,null,null,null,null,null,null,null,null,null,null,null,null,null,null,null,null,null,null,null,null,null,{"$f":"IF(BO161>0,\"外 \"&BO161&\"人　\"&TEXT(BP161,\"#,##0\")&\"円\",\"\")","v":"外 1人　200,000円"}]
[]
[]
[]
[]
[]
[]
[]
[]
[]
[]
[]
[]
[]
[]
[]
[]
[]
[]
[]
[]
[null,{"$f":"TEXT(DATE(会社情報!C7,12,31),\"ee\")","v":"03"},null,1,null,null,null,2]
[]
[]
[null,{"$f":"RIGHT(\"    \"&会社情報!C24,5)","v":"01101"},null,null,null,null,null,null,null,null,null,null,null,null,null,null,null,null,null,null,null,null,null,null,null,null,null,null,null,null,null,null,null,null,null,null,null,null,null,null,null,null,null,null,null,null,null,null,null,null,null,null,null,null,null,null,null,null,null,null,null,null,null,null,null,null,null,null,null,null,null,null,null,null,null,null,null,null,null,null,null,null,null,null,null,null,null,null,null,null,null,null,null,null,null,null,null,null,null,null,null,1,null,null,null,2,null,null,null,3,null,null,null,4,null,null,null,5]
[null,{"$f":"IF(会社情報!C31>0,会社情報!C31,\"\")","v":"2021-01-31"},null,null,null,null,null,null,null,null,null,null,null,null,null,null,null,null,null,null,null,null,null,null,null,null,"e",null,null,null,null,null,"m",null,null,null,null,"d"]
[]
[null,{"$f":"RIGHT(\"    \"&会社情報!C25,8)","v":"12345678"},null,null,null,null,null,null,null,{"$f":"会社情報!C23&\"\"","v":"麹町"},null,null,null,null,null,null,null,null,null,null,null,null,null,null,null,null,null,null,null,null,null,null,null,null,null,null,null,null,null,null,null,null,null,null,null,null,null,null,null,null,null,null,null,null,null,null,null,null,null,null,null,null,null,{"$f":"会社情報!C26&\"\"","v":"コンサルティング業"},null,null,null,null,null,null,null,null,null,null,null,null,null,null,null,null,null,null,null,null,null,null,null,null,null,null,null,null,null,1,null,null,null,2,null,null,null,3,null,null,null,4,null,null,null,5,null,null,null,6,null,null,null,7,null,null,null,8]
[]
[]
[null,{"$f":"会社情報!C8","v":"東京都千代田区１－２－３"},null,null,null,null,null,null,null,null,null,null,null,null,null,null,null,null,null,null,null,null,null,null,null,null,null,null,null,null,null,null,null,null,null,null,null,null,null,null,null,null,null,null,null,null,null,null,null,null,null,null,null,null,null,null,null,null,null,null,null,null,null,null,null,null,null,null,null,null,3,null,null,null,0,null,null,null,null,null,null,null,null,null,null,null,null,null,null,null,3,null,null,0,null,null,null,null,null,3,null,null,null,0,null,null,null,null,null,null,null,null,null,null,null,null,null,null,null,3,null,null,null,0]
[null,null,null,null,null,null,null,null,null,null,null,null,null,null,null,null,null,null,null,null,null,null,null,null,null,null,null,null,null,null,null,null,null,null,null,null,null,null,null,null,null,null,null,null,null,null,null,null,null,null,null,null,null,null,null,null,null,null,null,null,null,null,null,null,null,null,null,null,null,null,{"$f":"IF('給与調書集計(非)'!$Q$19>0,1,0)","v":1},null,null,null,{"$f":"IF('給与調書集計(非)'!$Q$19>0,1,0)","v":1},null,null,null,null,null,null,null,null,null,null,null,null,null,null,null,{"$f":"IF('報酬調書集計(非)'!$AW$24>0,1,0)","v":1},null,null,{"$f":"IF('報酬調書集計(非)'!$AW$24>0,1,0)","v":1},null,null,null,null,null,{"$f":"IF('不動産調書集計(非)'!$H$8>0,1,0)","v":1},null,null,null,{"$f":"IF('不動産調書集計(非)'!$H$8>0,1,0)","v":1},null,null,null,null,null,null,null,null,null,null,null,null,null,null,null,{"$f":"IF('不動産調書集計(非)'!$Q$8>0,1,0)","v":1},null,null,null,{"$f":"IF('不動産調書集計(非)'!$Q$8>0,1,0)","v":1}]
[null,{"$f":"会社情報!C11","v":"03-1234-5678"},null,{"$f":"FIND(\"-\",$B104,C104+1)","v":3},{"$f":"FIND(\"-\",$B104,D104+1)","v":8}]
[]
[null,{"$f":"会社情報!C10&\"\"","v":"エービーシーショウジカブシキガイシャ"},{"$f":"会社情報!C30&\"\"","v":"ヨシノミライ"}]
[null,{"$f":"会社情報!C9&\"\"","v":"ABC商事株式会社"},{"$f":"会社情報!C29&\"\"","v":"吉野未来"}]
[]
[null,{"$f":"RIGHT(\" \"&会社情報!C12,13)","v":"1234567890122"},null,null,1,null,null,null,2,null,null,3,null,null,null,4,null,null,5,null,null,null,6,null,null,7,null,null,8,null,null,9,null,null,null,10,null,null,11,null,null,12,null,null,null,13]
[]
[null,{"$f":"会社情報!C28","v":"カンダタカフミ"}]
[null,{"$f":"会社情報!C27","v":"神田隆文"}]
[]
[]
[]
[null,4,4,10,9,{"$f":"B116","v":4},null,null,null,null,null,null,3,null,null,null,2,null,null,1,null,null,null,null,null,null,null,null,null,null,null,null,null,null,null,null,null,null,null,null,null,null,{"$f":"D116","v":10},null,null,null,null,null,null,null,null,null,9,null,null,null,8,null,null,null,7,null,null,null,6,null,null,5,null,4,null,null,3,null,null,null,2,null,null,null,1,null,null,null,null,null,{"$f":"E116","v":9},null,null,null,null,null,null,null,null,8,null,null,null,7,null,null,null,6,null,null,null,5,null,null,null,4,null,null,null,3,null,null,null,2,null,null,null,1]
[null,{"$f":"IF('給与調書集計(非)'!O19=0,REPT(\" \",B$116),RIGHT(REPT(\" \",B$116)&'給与調書集計(非)'!O19,MAX(LEN('給与調書集計(非)'!O19),B$116)))","v":"   5"},{"$f":"'給与調書集計(非)'!P19","v":1},{"$f":"IF('給与調書集計(非)'!Q19=0,REPT(\" \",D$116),RIGHT(REPT(\" \",D$116)&'給与調書集計(非)'!Q19,MAX(LEN('給与調書集計(非)'!Q19),D$116)))","v":"  32234200"},{"$f":"IF(AND('給与調書集計(非)'!R19=0,'給与調書集計(非)'!Q19=0),REPT(\" \",E$116),RIGHT(REPT(\" \",E$116)&'給与調書集計(非)'!R19,MAX(LEN('給与調書集計(非)'!R19),E$116)))","v":"  3250200"},{"$f":"$B117","v":"   5"},null,null,null,null,null,null,{"$f":"$B117","v":"   5"},null,null,null,{"$f":"$B117","v":"   5"},null,null,{"$f":"$B117","v":"   5"},null,null,null,null,null,null,null,null,null,null,null,null,null,null,null,null,null,null,null,null,null,null,{"$f":"$D$117","v":"  32234200"},null,null,null,null,null,null,null,null,null,{"$f":"$D$117","v":"  32234200"},null,null,null,{"$f":"$D$117","v":"  32234200"},null,null,null,{"$f":"$D$117","v":"  32234200"},null,null,null,{"$f":"$D$117","v":"  32234200"},null,null,{"$f":"$D$117","v":"  32234200"},null,{"$f":"$D$117","v":"  32234200"},null,null,{"$f":"$D$117","v":"  32234200"},null,null,null,{"$f":"$D$117","v":"  32234200"},null,null,null,{"$f":"$D$117","v":"  32234200"},null,null,null,null,null,{"$f":"$E$117","v":"  3250200"},null,null,null,null,null,null,null,null,{"$f":"$E$117","v":"  3250200"},null,null,null,{"$f":"$E$117","v":"  3250200"},null,null,null,{"$f":"$E$117","v":"  3250200"},null,null,null,{"$f":"$E$117","v":"  3250200"},null,null,null,{"$f":"$E$117","v":"  3250200"},null,null,null,{"$f":"$E$117","v":"  3250200"},null,null,null,{"$f":"$E$117","v":"  3250200"},null,null,null,{"$f":"$E$117","v":"  3250200"}]
[]
[]
[]
[null,{"$f":"IF('給与調書集計(非)'!O23=0,REPT(\" \",B$116),RIGHT(REPT(\" \",B$116)&'給与調書集計(非)'!O23,MAX(LEN('給与調書集計(非)'!O23),B$116)))","v":"   4"},null,{"$f":"'給与調書集計(非)'!Q23","v":29699200},{"$f":"'給与調書集計(非)'!R23","v":3276350},{"$f":"$B121","v":"   4"},null,null,null,null,null,null,{"$f":"$B121","v":"   4"},null,null,null,{"$f":"$B121","v":"   4"},null,null,{"$f":"$B121","v":"   4"}]
[]
[]
[]
[]
[null,4,10,9,null,4,null,null,null,null,null,null,3,null,null,null,2,null,null,1,null,null,null,null,10,null,null,null,null,null,null,null,9,null,null,null,8,null,null,7,null,null,6,null,null,null,5,null,null,null,4,null,null,null,3,null,null,null,2,null,null,null,1,null,null,null,null,9,null,null,null,null,null,null,8,null,null,null,7,null,null,null,6,null,null,null,5,null,null,null,4,null,null,3,null,null,null,2,null,null,null,1]
[null,{"$f":"IF('退職所得集計(非)'!G2=0,REPT(\" \",B$126),RIGHT(REPT(\" \",B$126)&'退職所得集計(非)'!G2,MAX(B$126,LEN('退職所得集計(非)'!G2))))","v":"   2"},{"$f":"IF('退職所得集計(非)'!H2=0,REPT(\" \",C$126),RIGHT(REPT(\" \",C$126)&'退職所得集計(非)'!H2,MAX(C$126,LEN('退職所得集計(非)'!H2))))","v":"  11000000"},{"$f":"IF(AND('退職所得集計(非)'!I2=0,'退職所得集計(非)'!H2=0),REPT(\" \",D$126),RIGHT(REPT(\" \",D$126)&'退職所得集計(非)'!I2,MAX(D$126,LEN('退職所得集計(非)'!I2))))","v":"   800000"},null,{"$f":"$B127","v":"   2"},null,null,null,null,null,null,{"$f":"$B127","v":"   2"},null,null,null,{"$f":"$B127","v":"   2"},null,null,{"$f":"$B127","v":"   2"},null,null,null,null,{"$f":"$C$127","v":"  11000000"},null,null,null,null,null,null,null,{"$f":"$C$127","v":"  11000000"},null,null,null,{"$f":"$C$127","v":"  11000000"},null,null,{"$f":"$C$127","v":"  11000000"},null,null,{"$f":"$C$127","v":"  11000000"},null,null,null,{"$f":"$C$127","v":"  11000000"},null,null,null,{"$f":"$C$127","v":"  11000000"},null,null,null,{"$f":"$C$127","v":"  11000000"},null,null,null,{"$f":"$C$127","v":"  11000000"},null,null,null,{"$f":"$C$127","v":"  11000000"},null,null,null,null,{"$f":"$D$127","v":"   800000"},null,null,null,null,null,null,{"$f":"$D$127","v":"   800000"},null,null,null,{"$f":"$D$127","v":"   800000"},null,null,null,{"$f":"$D$127","v":"   800000"},null,null,null,{"$f":"$D$127","v":"   800000"},null,null,null,{"$f":"$D$127","v":"   800000"},null,null,{"$f":"$D$127","v":"   800000"},null,null,null,{"$f":"$D$127","v":"   800000"},null,null,null,{"$f":"$D$127","v":"   800000"}]
[]
[null,{"$f":"IF('退職所得集計(非)'!G4=0,REPT(\" \",B$126),RIGHT(REPT(\" \",B$126)&'退職所得集計(非)'!G4,MAX(B$126,LEN('退職所得集計(非)'!G4))))","v":"   1"},{"$f":"'退職所得集計(非)'!H4","v":8000000},{"$f":"'退職所得集計(非)'!I4","v":600000},null,{"$f":"$B129","v":"   1"},null,null,null,null,null,null,{"$f":"$B129","v":"   1"},null,null,null,{"$f":"$B129","v":"   1"},null,null,{"$f":"$B129","v":"   1"}]
[]
[null,4,4,8,7,null,null,null,null,null,null,null,null,null,null,null,{"$f":"B131","v":4},null,null,null,null,null,null,null,3,null,null,2,null,null,1,null,null,null,null,null,{"$f":"C131","v":4},null,null,null,null,null,null,null,3,null,null,null,2,null,null,null,1,null,null,null,null,null,{"$f":"D131","v":8},null,null,null,null,null,null,null,null,7,null,6,null,null,5,null,null,null,4,null,null,null,3,null,null,null,2,null,null,null,1,null,null,null,null,{"$f":"E131","v":7},null,null,null,null,null,null,null,7,null,6,null,null,null,5,null,null,null,4,null,null,null,3,null,null,null,2,null,null,null,1]
[null,{"$f":"IF('報酬調書集計(非)'!AU8=0,REPT(\" \",B$131),RIGHT(REPT(\" \",B$131)&'報酬調書集計(非)'!AU8,MAX(LEN('報酬調書集計(非)'!AU8),B$131)))","v":"   2"},{"$f":"'報酬調書集計(非)'!AV8","v":1},{"$f":"'報酬調書集計(非)'!AW8","v":1101938},{"$f":"'報酬調書集計(非)'!AX8","v":97192},null,null,null,null,null,null,null,null,null,null,null,{"$f":"$B132","v":"   2"},null,null,null,null,null,null,null,{"$f":"$B132","v":"   2"},null,null,{"$f":"$B132","v":"   2"},null,null,{"$f":"$B132","v":"   2"}]
[]
[null,{"$f":"IF('報酬調書集計(非)'!AU10=0,REPT(\" \",B$131),RIGHT(REPT(\" \",B$131)&'報酬調書集計(非)'!AU10,MAX(LEN('報酬調書集計(非)'!AU10),B$131)))","v":"   2"},{"$f":"'報酬調書集計(非)'!AV10","v":0},{"$f":"'報酬調書集計(非)'!AW10","v":530000},{"$f":"'報酬調書集計(非)'!AX10","v":53092},null,null,null,null,null,null,null,null,null,null,null,{"$f":"$B134","v":"   2"},null,null,null,null,null,null,null,{"$f":"$B134","v":"   2"},null,null,{"$f":"$B134","v":"   2"},null,null,{"$f":"$B134","v":"   2"}]
[]
[null,{"$f":"IF('報酬調書集計(非)'!AU12=0,REPT(\" \",B$131),RIGHT(REPT(\" \",B$131)&'報酬調書集計(非)'!AU12,MAX(LEN('報酬調書集計(非)'!AU12),B$131)))","v":"    "},{"$f":"'報酬調書集計(非)'!AV12","v":0},{"$f":"'報酬調書集計(非)'!AW12","v":0},{"$f":"'報酬調書集計(非)'!AX12","v":0},null,null,null,null,null,null,null,null,null,null,null,{"$f":"$B136","v":"    "},null,null,null,null,null,null,null,{"$f":"$B136","v":"    "},null,null,{"$f":"$B136","v":"    "},null,null,{"$f":"$B136","v":"    "}]
[]
[null,{"$f":"IF('報酬調書集計(非)'!AU14=0,REPT(\" \",B$131),RIGHT(REPT(\" \",B$131)&'報酬調書集計(非)'!AU14,MAX(LEN('報酬調書集計(非)'!AU14),B$131)))","v":"    "},{"$f":"'報酬調書集計(非)'!AV14","v":0},{"$f":"'報酬調書集計(非)'!AW14","v":0},{"$f":"'報酬調書集計(非)'!AX14","v":0},null,null,null,null,null,null,null,null,null,null,null,{"$f":"$B138","v":"    "},null,null,null,null,null,null,null,{"$f":"$B138","v":"    "},null,null,{"$f":"$B138","v":"    "},null,null,{"$f":"$B138","v":"    "}]
[]
[null,{"$f":"IF('報酬調書集計(非)'!AU16=0,REPT(\" \",B$131),RIGHT(REPT(\" \",B$131)&'報酬調書集計(非)'!AU16,MAX(LEN('報酬調書集計(非)'!AU16),B$131)))","v":"    "},{"$f":"'報酬調書集計(非)'!AV16","v":0},{"$f":"'報酬調書集計(非)'!AW16","v":0},{"$f":"'報酬調書集計(非)'!AX16","v":0},null,null,null,null,null,null,null,null,null,null,null,{"$f":"$B140","v":"    "},null,null,null,null,null,null,null,{"$f":"$B140","v":"    "},null,null,{"$f":"$B140","v":"    "},null,null,{"$f":"$B140","v":"    "}]
[]
[null,{"$f":"IF('報酬調書集計(非)'!AU18=0,REPT(\" \",B$131),RIGHT(REPT(\" \",B$131)&'報酬調書集計(非)'!AU18,MAX(LEN('報酬調書集計(非)'!AU18),B$131)))","v":"    "},{"$f":"'報酬調書集計(非)'!AV18","v":0},{"$f":"'報酬調書集計(非)'!AW18","v":0},{"$f":"'報酬調書集計(非)'!AX18","v":0},null,null,null,null,null,null,null,null,null,null,null,{"$f":"$B142","v":"    "},null,null,null,null,null,null,null,{"$f":"$B142","v":"    "},null,null,{"$f":"$B142","v":"    "},null,null,{"$f":"$B142","v":"    "}]
[]
[null,{"$f":"IF('報酬調書集計(非)'!AU20=0,REPT(\" \",B$131),RIGHT(REPT(\" \",B$131)&'報酬調書集計(非)'!AU20,MAX(LEN('報酬調書集計(非)'!AU20),B$131)))","v":"    "},{"$f":"'報酬調書集計(非)'!AV20","v":0},{"$f":"'報酬調書集計(非)'!AW20","v":0},{"$f":"'報酬調書集計(非)'!AX20","v":0},null,null,null,null,null,null,null,null,null,null,null,{"$f":"$B144","v":"    "},null,null,null,null,null,null,null,{"$f":"$B144","v":"    "},null,null,{"$f":"$B144","v":"    "},null,null,{"$f":"$B144","v":"    "}]
[]
[null,{"$f":"IF('報酬調書集計(非)'!AU22=0,REPT(\" \",B$131),RIGHT(REPT(\" \",B$131)&'報酬調書集計(非)'!AU22,MAX(LEN('報酬調書集計(非)'!AU22),B$131)))","v":"    "},{"$f":"'報酬調書集計(非)'!AV22","v":0},{"$f":"'報酬調書集計(非)'!AW22","v":0},{"$f":"'報酬調書集計(非)'!AX22","v":0},null,null,null,null,null,null,null,null,null,null,null,{"$f":"$B146","v":"    "},null,null,null,null,null,null,null,{"$f":"$B146","v":"    "},null,null,{"$f":"$B146","v":"    "},null,null,{"$f":"$B146","v":"    "}]
[]
[null,{"$f":"'報酬調書集計(非)'!AU24","v":4},{"$f":"'報酬調書集計(非)'!AV24","v":1},{"$f":"IF('報酬調書集計(非)'!AW24=0,REPT(\" \",D$131),RIGHT(REPT(\" \",D$131)&'報酬調書集計(非)'!AW24,MAX(LEN('報酬調書集計(非)'!AW24),D$131)))","v":" 1631938"},{"$f":"IF(AND('報酬調書集計(非)'!AX24=0,'報酬調書集計(非)'!AW24=0),REPT(\" \",E$131),RIGHT(REPT(\" \",E$131)&'報酬調書集計(非)'!AX24,MAX(LEN('報酬調書集計(非)'!AX24),E$131)))","v":" 150284"},null,null,null,null,null,null,null,null,null,null,null,null,null,null,null,null,null,null,null,null,null,null,null,null,null,null,null,null,null,null,null,null,null,null,null,null,null,null,null,null,null,null,null,null,null,null,null,null,null,null,null,null,null,{"$f":"$D$148","v":" 1631938"},null,null,null,null,null,null,null,null,{"$f":"$D$148","v":" 1631938"},null,{"$f":"$D$148","v":" 1631938"},null,null,{"$f":"$D$148","v":" 1631938"},null,null,null,{"$f":"$D$148","v":" 1631938"},null,null,null,{"$f":"$D$148","v":" 1631938"},null,null,null,{"$f":"$D$148","v":" 1631938"},null,null,null,{"$f":"$D$148","v":" 1631938"},null,null,null,null,{"$f":"$E$148","v":" 150284"},null,null,null,null,null,null,null,null,null,{"$f":"$E$148","v":" 150284"},null,null,null,{"$f":"$E$148","v":" 150284"},null,null,null,{"$f":"$E$148","v":" 150284"},null,null,null,{"$f":"$E$148","v":" 150284"},null,null,null,{"$f":"$E$148","v":" 150284"},null,null,null,{"$f":"$E$148","v":" 150284"}]
[]
[null,{"$f":"IF('報酬調書集計(非)'!AU26=0,REPT(\" \",B$131),RIGHT(REPT(\" \",B$131)&'報酬調書集計(非)'!AU26,MAX(LEN('報酬調書集計(非)'!AU26),B$131)))","v":"   3"},{"$f":"IF('報酬調書集計(非)'!AV26=0,REPT(\" \",C$131),RIGHT(REPT(\" \",C$131)&'報酬調書集計(非)'!AV26,MAX(LEN('報酬調書集計(非)'!AV26),C$131)))","v":"   1"},{"$f":"'報酬調書集計(非)'!AW26","v":1601938},{"$f":"'報酬調書集計(非)'!AX26","v":148242},null,null,null,null,null,null,null,null,null,null,null,{"$f":"$B150","v":"   3"},null,null,null,null,null,null,null,{"$f":"$B150","v":"   3"},null,null,{"$f":"$B150","v":"   3"},null,null,{"$f":"$B150","v":"   3"},null,null,null,null,null,{"$f":"$C$150","v":"   1"},null,null,null,null,null,null,null,{"$f":"$C$150","v":"   1"},null,null,null,{"$f":"$C$150","v":"   1"},null,null,null,{"$f":"$C$150","v":"   1"}]
[]
[]
[]
[]
[]
[]
[]
[null,4,null,null,null,{"$f":"B158","v":4},null,null,null,null,null,null,null,null,3,null,null,2,null,null,null,1,null,null,null,null,null,null,null,null,null,null,null,null,null,null,null,null,null,null,null,null,null,null,null,null,null,null,null,null,null,null,null,null,null,null,null,null,null,null,null,null,null,null,null,null,4,null,null,null,{"$f":"BO158","v":4},null,null,null,null,null,null,null,null,null,3,null,null,null,2,null,null,null,1]
[null,{"$f":"'不動産調書集計(非)'!G8","v":2},{"$f":"'不動産調書集計(非)'!H8","v":3446000},null,null,null,null,null,null,null,null,null,null,null,null,null,null,null,null,null,null,null,null,null,null,null,null,null,null,null,null,null,null,null,null,null,null,null,null,null,null,null,null,null,null,null,null,null,null,null,null,null,null,null,null,null,null,null,null,null,null,null,null,null,null,null,{"$f":"'不動産調書集計(非)'!P8","v":1},{"$f":"'不動産調書集計(非)'!Q8","v":200000}]
[]
[null,{"$f":"IF('不動産調書集計(非)'!G9=0,REPT(\" \",B$158),RIGHT(REPT(\" \",B$158)&'不動産調書集計(非)'!G9,MAX(LEN('不動産調書集計(非)'!G9),B$158)))","v":"   2"},{"$f":"'不動産調書集計(非)'!H9","v":3446000},null,null,{"$f":"$B$161","v":"   2"},null,null,null,null,null,null,null,null,{"$f":"$B$161","v":"   2"},null,null,{"$f":"$B$161","v":"   2"},null,null,null,{"$f":"$B$161","v":"   2"},null,null,null,null,null,null,null,null,null,null,null,null,null,null,null,null,null,null,null,null,null,null,null,null,null,null,null,null,null,null,null,null,null,null,null,null,null,null,null,null,null,null,null,null,{"$f":"'不動産調書集計(非)'!P9","v":1},{"$f":"'不動産調書集計(非)'!Q9","v":200000}]

{"sheet":"給与調書集計(非)","index":23,"n_rows":107,"n_cols":18,"rows_kept":107,"cut":false,"hidden":true,"merged":[]}
[]
[]
[]
[]
[]
[null,"前職含まない",null,"前職含む",null,null,null,null,null,null,"（前職含む金額ベースで判定）",null,null,"提出義務判定テーブル"]
["No","支給金額","税額","支給金額","税額","判定用","年末調整","扶養控除申告書","役員","税額なし","提出義務判定",null,null,"判定用","年末調整","扶養控除申告書","役員","金額"]
[{"$f":"源泉徴収票!A8","v":1},{"$f":"源泉徴収票!O8+源泉徴収票!R8","v":4570000},{"$f":"源泉徴収票!Q8+源泉徴収票!T8+'源泉徴収票計算過程(非)'!BF8","v":31850},{"$f":"'源泉徴収票計算過程(非)'!AJ8","v":6835000},{"$f":"'源泉徴収票計算過程(非)'!BE8","v":58000},{"$f":"G8&\"|\"&H8&\"|\"&I8","v":"有|甲欄|役員"},{"$f":"源泉徴収票!I8&\"\"","v":"有"},{"$f":"源泉徴収票!H8&\"\"","v":"甲欄"},{"$f":"源泉徴収票!D8&\"\"","v":"役員"},{"$f":"IF(AND(D8>0,E8<=0),1,0)","v":0},{"$f":"IF(D8>VLOOKUP(F8,$N$8:$R$14,5,FALSE),1,0)","v":1},null,null,{"$f":"O8&\"|\"&P8&\"|\"&Q8","v":"有|甲欄|役員"},"有","甲欄","役員",1500000]
[{"$f":"源泉徴収票!A9","v":2},{"$f":"源泉徴収票!O9+源泉徴収票!R9","v":4800000},{"$f":"源泉徴収票!Q9+源泉徴収票!T9+'源泉徴収票計算過程(非)'!BF9","v":0},{"$f":"'源泉徴収票計算過程(非)'!AJ9","v":4800000},{"$f":"'源泉徴収票計算過程(非)'!BE9","v":0},{"$f":"G9&\"|\"&H9&\"|\"&I9","v":"有|甲欄|"},{"$f":"源泉徴収票!I9&\"\"","v":"有"},{"$f":"源泉徴収票!H9&\"\"","v":"甲欄"},{"$f":"源泉徴収票!D9&\"\"","v":""},{"$f":"IF(AND(D9>0,E9<=0),1,0)","v":1},{"$f":"IF(D9>VLOOKUP(F9,$N$8:$R$14,5,FALSE),1,0)","v":0},null,null,{"$f":"O9&\"|\"&P9&\"|\"&Q9","v":"有|甲欄|"},"有","甲欄",null,5000000]
[{"$f":"源泉徴収票!A10","v":3},{"$f":"源泉徴収票!O10+源泉徴収票!R10","v":864200},{"$f":"源泉徴収票!Q10+源泉徴収票!T10+'源泉徴収票計算過程(非)'!BF10","v":3450},{"$f":"'源泉徴収票計算過程(非)'!AJ10","v":864200},{"$f":"'源泉徴収票計算過程(非)'!BE10","v":3450},"無|乙欄|",{"$f":"源泉徴収票!I10&\"\"","v":"無"},{"$f":"源泉徴収票!H10&\"\"","v":"乙欄"},{"$f":"源泉徴収票!D10&\"\"","v":""},0,1,null,null,"無|甲欄|役員","無","甲欄","役員",500000]
[{"$f":"源泉徴収票!A11","v":4},{"$f":"源泉徴収票!O11+源泉徴収票!R11","v":18000000},{"$f":"源泉徴収票!Q11+源泉徴収票!T11+'源泉徴収票計算過程(非)'!BF11","v":3072900},{"$f":"'源泉徴収票計算過程(非)'!AJ11","v":18000000},{"$f":"'源泉徴収票計算過程(非)'!BE11","v":3072900},"有|甲欄|役員",{"$f":"源泉徴収票!I11&\"\"","v":"有"},{"$f":"源泉徴収票!H11&\"\"","v":"甲欄"},{"$f":"源泉徴収票!D11&\"\"","v":"役員"},0,1,null,null,"無|甲欄|","無","甲欄",null,2500000]
[{"$f":"源泉徴収票!A12","v":5},{"$f":"源泉徴収票!O12+源泉徴収票!R12","v":4000000},{"$f":"源泉徴収票!Q12+源泉徴収票!T12+'源泉徴収票計算過程(非)'!BF12","v":142000},{"$f":"'源泉徴収票計算過程(非)'!AJ12","v":4000000},{"$f":"'源泉徴収票計算過程(非)'!BE12","v":142000},"無|甲欄|",{"$f":"源泉徴収票!I12&\"\"","v":"無"},{"$f":"源泉徴収票!H12&\"\"","v":"甲欄"},{"$f":"源泉徴収票!D12&\"\"","v":""},0,1,null,null,"無|乙欄|役員","無","乙欄","役員",500000]
[{"$f":"源泉徴収票!A13","v":6},{"$f":"源泉徴収票!O13+源泉徴収票!R13","v":0},{"$f":"源泉徴収票!Q13+源泉徴収票!T13+'源泉徴収票計算過程(非)'!BF13","v":0},{"$f":"'源泉徴収票計算過程(非)'!AJ13","v":0},{"$f":"'源泉徴収票計算過程(非)'!BE13","v":0},"||",{"$f":"源泉徴収票!I13&\"\"","v":""},{"$f":"源泉徴収票!H13&\"\"","v":""},{"$f":"源泉徴収票!D13&\"\"","v":""},0,0,null,null,"無|乙欄|","無","乙欄",null,500000]
[{"$f":"源泉徴収票!A14","v":7},{"$f":"源泉徴収票!O14+源泉徴収票!R14","v":0},{"$f":"源泉徴収票!Q14+源泉徴収票!T14+'源泉徴収票計算過程(非)'!BF14","v":0},{"$f":"'源泉徴収票計算過程(非)'!AJ14","v":0},{"$f":"'源泉徴収票計算過程(非)'!BE14","v":0},"||",{"$f":"源泉徴収票!I14&\"\"","v":""},{"$f":"源泉徴収票!H14&\"\"","v":""},{"$f":"源泉徴収票!D14&\"\"","v":""},0,0,null,null,"||",null,null,null,1]
[{"$f":"源泉徴収票!A15","v":8},{"$f":"源泉徴収票!O15+源泉徴収票!R15","v":0},{"$f":"源泉徴収票!Q15+源泉徴収票!T15+'源泉徴収票計算過程(非)'!BF15","v":0},{"$f":"'源泉徴収票計算過程(非)'!AJ15","v":0},{"$f":"'源泉徴収票計算過程(非)'!BE15","v":0},"||",{"$f":"源泉徴収票!I15&\"\"","v":""},{"$f":"源泉徴収票!H15&\"\"","v":""},{"$f":"源泉徴収票!D15&\"\"","v":""},0,0]
[{"$f":"源泉徴収票!A16","v":9},{"$f":"源泉徴収票!O16+源泉徴収票!R16","v":0},{"$f":"源泉徴収票!Q16+源泉徴収票!T16+'源泉徴収票計算過程(非)'!BF16","v":0},{"$f":"'源泉徴収票計算過程(非)'!AJ16","v":0},{"$f":"'源泉徴収票計算過程(非)'!BE16","v":0},"||",{"$f":"源泉徴収票!I16&\"\"","v":""},{"$f":"源泉徴収票!H16&\"\"","v":""},{"$f":"源泉徴収票!D16&\"\"","v":""},0,0]
[{"$f":"源泉徴収票!A17","v":10},{"$f":"源泉徴収票!O17+源泉徴収票!R17","v":0},{"$f":"源泉徴収票!Q17+源泉徴収票!T17+'源泉徴収票計算過程(非)'!BF17","v":0},{"$f":"'源泉徴収票計算過程(非)'!AJ17","v":0},{"$f":"'源泉徴収票計算過程(非)'!BE17","v":0},"||",{"$f":"源泉徴収票!I17&\"\"","v":""},{"$f":"源泉徴収票!H17&\"\"","v":""},{"$f":"源泉徴収票!D17&\"\"","v":""},0,0]
[{"$f":"源泉徴収票!A18","v":11},{"$f":"源泉徴収票!O18+源泉徴収票!R18","v":0},{"$f":"源泉徴収票!Q18+源泉徴収票!T18+'源泉徴収票計算過程(非)'!BF18","v":0},{"$f":"'源泉徴収票計算過程(非)'!AJ18","v":0},{"$f":"'源泉徴収票計算過程(非)'!BE18","v":0},"||",{"$f":"源泉徴収票!I18&\"\"","v":""},{"$f":"源泉徴収票!H18&\"\"","v":""},{"$f":"源泉徴収票!D18&\"\"","v":""},0,0,null,null,null,"人員","税額０","支払金額","税額"]
[{"$f":"源泉徴収票!A19","v":12},{"$f":"源泉徴収票!O19+源泉徴収票!R19","v":0},{"$f":"源泉徴収票!Q19+源泉徴収票!T19+'源泉徴収票計算過程(非)'!BF19","v":0},{"$f":"'源泉徴収票計算過程(非)'!AJ19","v":0},{"$f":"'源泉徴収票計算過程(非)'!BE19","v":0},"||",{"$f":"源泉徴収票!I19&\"\"","v":""},{"$f":"源泉徴収票!H19&\"\"","v":""},{"$f":"源泉徴収票!D19&\"\"","v":""},0,0,null,null,"総額",{"$f":"COUNTIF($B$8:$B$999,\">0\")","v":5},{"$f":"SUM(J8:J999)","v":1},{"$f":"MAX(0,SUM(B8:B999))","v":32234200},{"$f":"MAX(0,SUM(C8:C999))","v":3250200}]
[{"$f":"源泉徴収票!A20","v":13},{"$f":"源泉徴収票!O20+源泉徴収票!R20","v":0},{"$f":"源泉徴収票!Q20+源泉徴収票!T20+'源泉徴収票計算過程(非)'!BF20","v":0},{"$f":"'源泉徴収票計算過程(非)'!AJ20","v":0},{"$f":"'源泉徴収票計算過程(非)'!BE20","v":0},"||",{"$f":"源泉徴収票!I20&\"\"","v":""},{"$f":"源泉徴収票!H20&\"\"","v":""},{"$f":"源泉徴収票!D20&\"\"","v":""},0,0,null,null,"※前職含まないベース"]
[{"$f":"源泉徴収票!A21","v":14},{"$f":"源泉徴収票!O21+源泉徴収票!R21","v":0},{"$f":"源泉徴収票!Q21+源泉徴収票!T21+'源泉徴収票計算過程(非)'!BF21","v":0},{"$f":"'源泉徴収票計算過程(非)'!AJ21","v":0},{"$f":"'源泉徴収票計算過程(非)'!BE21","v":0},"||",{"$f":"源泉徴収票!I21&\"\"","v":""},{"$f":"源泉徴収票!H21&\"\"","v":""},{"$f":"源泉徴収票!D21&\"\"","v":""},0,0]
[{"$f":"源泉徴収票!A22","v":15},{"$f":"源泉徴収票!O22+源泉徴収票!R22","v":0},{"$f":"源泉徴収票!Q22+源泉徴収票!T22+'源泉徴収票計算過程(非)'!BF22","v":0},{"$f":"'源泉徴収票計算過程(非)'!AJ22","v":0},{"$f":"'源泉徴収票計算過程(非)'!BE22","v":0},"||",{"$f":"源泉徴収票!I22&\"\"","v":""},{"$f":"源泉徴収票!H22&\"\"","v":""},{"$f":"源泉徴収票!D22&\"\"","v":""},0,0]
[{"$f":"源泉徴収票!A23","v":16},{"$f":"源泉徴収票!O23+源泉徴収票!R23","v":0},{"$f":"源泉徴収票!Q23+源泉徴収票!T23+'源泉徴収票計算過程(非)'!BF23","v":0},{"$f":"'源泉徴収票計算過程(非)'!AJ23","v":0},{"$f":"'源泉徴収票計算過程(非)'!BE23","v":0},"||",{"$f":"源泉徴収票!I23&\"\"","v":""},{"$f":"源泉徴収票!H23&\"\"","v":""},{"$f":"源泉徴収票!D23&\"\"","v":""},0,0,null,null,"源泉徴収票提出",{"$f":"SUM(K8:K999)","v":4},null,{"$f":"MAX(0,SUMIF($K$8:$K$999,1,D$8:D$999))","v":29699200},{"$f":"MAX(0,SUMIF($K$8:$K$999,1,E$8:E$999))","v":3276350}]
[{"$f":"源泉徴収票!A24","v":17},{"$f":"源泉徴収票!O24+源泉徴収票!R24","v":0},{"$f":"源泉徴収票!Q24+源泉徴収票!T24+'源泉徴収票計算過程(非)'!BF24","v":0},{"$f":"'源泉徴収票計算過程(非)'!AJ24","v":0},{"$f":"'源泉徴収票計算過程(非)'!BE24","v":0},"||",{"$f":"源泉徴収票!I24&\"\"","v":""},{"$f":"源泉徴収票!H24&\"\"","v":""},{"$f":"源泉徴収票!D24&\"\"","v":""},0,0,null,null,"※前職含むベース"]
[{"$f":"源泉徴収票!A25","v":18},{"$f":"源泉徴収票!O25+源泉徴収票!R25","v":0},{"$f":"源泉徴収票!Q25+源泉徴収票!T25+'源泉徴収票計算過程(非)'!BF25","v":0},{"$f":"'源泉徴収票計算過程(非)'!AJ25","v":0},{"$f":"'源泉徴収票計算過程(非)'!BE25","v":0},"||",{"$f":"源泉徴収票!I25&\"\"","v":""},{"$f":"源泉徴収票!H25&\"\"","v":""},{"$f":"源泉徴収票!D25&\"\"","v":""},0,0]
[{"$f":"源泉徴収票!A26","v":19},{"$f":"源泉徴収票!O26+源泉徴収票!R26","v":0},{"$f":"源泉徴収票!Q26+源泉徴収票!T26+'源泉徴収票計算過程(非)'!BF26","v":0},{"$f":"'源泉徴収票計算過程(非)'!AJ26","v":0},{"$f":"'源泉徴収票計算過程(非)'!BE26","v":0},"||",{"$f":"源泉徴収票!I26&\"\"","v":""},{"$f":"源泉徴収票!H26&\"\"","v":""},{"$f":"源泉徴収票!D26&\"\"","v":""},0,0]
[{"$f":"源泉徴収票!A27","v":20},{"$f":"源泉徴収票!O27+源泉徴収票!R27","v":0},{"$f":"源泉徴収票!Q27+源泉徴収票!T27+'源泉徴収票計算過程(非)'!BF27","v":0},{"$f":"'源泉徴収票計算過程(非)'!AJ27","v":0},{"$f":"'源泉徴収票計算過程(非)'!BE27","v":0},"||",{"$f":"源泉徴収票!I27&\"\"","v":""},{"$f":"源泉徴収票!H27&\"\"","v":""},{"$f":"源泉徴収票!D27&\"\"","v":""},0,0]
[{"$f":"源泉徴収票!A28","v":0},{"$f":"源泉徴収票!O28+源泉徴収票!R28","v":0},{"$f":"源泉徴収票!Q28+源泉徴収票!T28+'源泉徴収票計算過程(非)'!BF28","v":0},{"$f":"'源泉徴収票計算過程(非)'!AJ28","v":0},{"$f":"'源泉徴収票計算過程(非)'!BE28","v":0},"||",{"$f":"源泉徴収票!I28&\"\"","v":""},{"$f":"源泉徴収票!H28&\"\"","v":""},{"$f":"源泉徴収票!D28&\"\"","v":""},0,0]
[{"$f":"源泉徴収票!A29","v":0},{"$f":"源泉徴収票!O29+源泉徴収票!R29","v":0},{"$f":"源泉徴収票!Q29+源泉徴収票!T29+'源泉徴収票計算過程(非)'!BF29","v":0},{"$f":"'源泉徴収票計算過程(非)'!AJ29","v":0},{"$f":"'源泉徴収票計算過程(非)'!BE29","v":0},"||",{"$f":"源泉徴収票!I29&\"\"","v":""},{"$f":"源泉徴収票!H29&\"\"","v":""},{"$f":"源泉徴収票!D29&\"\"","v":""},0,0]
[{"$f":"源泉徴収票!A30","v":0},{"$f":"源泉徴収票!O30+源泉徴収票!R30","v":0},{"$f":"源泉徴収票!Q30+源泉徴収票!T30+'源泉徴収票計算過程(非)'!BF30","v":0},{"$f":"'源泉徴収票計算過程(非)'!AJ30","v":0},{"$f":"'源泉徴収票計算過程(非)'!BE30","v":0},"||",{"$f":"源泉徴収票!I30&\"\"","v":""},{"$f":"源泉徴収票!H30&\"\"","v":""},{"$f":"源泉徴収票!D30&\"\"","v":""},0,0]
[{"$f":"源泉徴収票!A31","v":0},{"$f":"源泉徴収票!O31+源泉徴収票!R31","v":0},{"$f":"源泉徴収票!Q31+源泉徴収票!T31+'源泉徴収票計算過程(非)'!BF31","v":0},{"$f":"'源泉徴収票計算過程(非)'!AJ31","v":0},{"$f":"'源泉徴収票計算過程(非)'!BE31","v":0},"||",{"$f":"源泉徴収票!I31&\"\"","v":""},{"$f":"源泉徴収票!H31&\"\"","v":""},{"$f":"源泉徴収票!D31&\"\"","v":""},0,0]
[{"$f":"源泉徴収票!A32","v":0},{"$f":"源泉徴収票!O32+源泉徴収票!R32","v":0},{"$f":"源泉徴収票!Q32+源泉徴収票!T32+'源泉徴収票計算過程(非)'!BF32","v":0},{"$f":"'源泉徴収票計算過程(非)'!AJ32","v":0},{"$f":"'源泉徴収票計算過程(非)'!BE32","v":0},"||",{"$f":"源泉徴収票!I32&\"\"","v":""},{"$f":"源泉徴収票!H32&\"\"","v":""},{"$f":"源泉徴収票!D32&\"\"","v":""},0,0]
[{"$f":"源泉徴収票!A33","v":0},{"$f":"源泉徴収票!O33+源泉徴収票!R33","v":0},{"$f":"源泉徴収票!Q33+源泉徴収票!T33+'源泉徴収票計算過程(非)'!BF33","v":0},{"$f":"'源泉徴収票計算過程(非)'!AJ33","v":0},{"$f":"'源泉徴収票計算過程(非)'!BE33","v":0},"||",{"$f":"源泉徴収票!I33&\"\"","v":""},{"$f":"源泉徴収票!H33&\"\"","v":""},{"$f":"源泉徴収票!D33&\"\"","v":""},0,0]
[{"$f":"源泉徴収票!A34","v":0},{"$f":"源泉徴収票!O34+源泉徴収票!R34","v":0},{"$f":"源泉徴収票!Q34+源泉徴収票!T34+'源泉徴収票計算過程(非)'!BF34","v":0},{"$f":"'源泉徴収票計算過程(非)'!AJ34","v":0},{"$f":"'源泉徴収票計算過程(非)'!BE34","v":0},"||",{"$f":"源泉徴収票!I34&\"\"","v":""},{"$f":"源泉徴収票!H34&\"\"","v":""},{"$f":"源泉徴収票!D34&\"\"","v":""},0,0]
[{"$f":"源泉徴収票!A35","v":0},{"$f":"源泉徴収票!O35+源泉徴収票!R35","v":0},{"$f":"源泉徴収票!Q35+源泉徴収票!T35+'源泉徴収票計算過程(非)'!BF35","v":0},{"$f":"'源泉徴収票計算過程(非)'!AJ35","v":0},{"$f":"'源泉徴収票計算過程(非)'!BE35","v":0},"||",{"$f":"源泉徴収票!I35&\"\"","v":""},{"$f":"源泉徴収票!H35&\"\"","v":""},{"$f":"源泉徴収票!D35&\"\"","v":""},0,0]
[{"$f":"源泉徴収票!A36","v":0},{"$f":"源泉徴収票!O36+源泉徴収票!R36","v":0},{"$f":"源泉徴収票!Q36+源泉徴収票!T36+'源泉徴収票計算過程(非)'!BF36","v":0},{"$f":"'源泉徴収票計算過程(非)'!AJ36","v":0},{"$f":"'源泉徴収票計算過程(非)'!BE36","v":0},"||",{"$f":"源泉徴収票!I36&\"\"","v":""},{"$f":"源泉徴収票!H36&\"\"","v":""},{"$f":"源泉徴収票!D36&\"\"","v":""},0,0]
[{"$f":"源泉徴収票!A37","v":0},{"$f":"源泉徴収票!O37+源泉徴収票!R37","v":0},{"$f":"源泉徴収票!Q37+源泉徴収票!T37+'源泉徴収票計算過程(非)'!BF37","v":0},{"$f":"'源泉徴収票計算過程(非)'!AJ37","v":0},{"$f":"'源泉徴収票計算過程(非)'!BE37","v":0},"||",{"$f":"源泉徴収票!I37&\"\"","v":""},{"$f":"源泉徴収票!H37&\"\"","v":""},{"$f":"源泉徴収票!D37&\"\"","v":""},0,0]
[{"$f":"源泉徴収票!A38","v":0},{"$f":"源泉徴収票!O38+源泉徴収票!R38","v":0},{"$f":"源泉徴収票!Q38+源泉徴収票!T38+'源泉徴収票計算過程(非)'!BF38","v":0},{"$f":"'源泉徴収票計算過程(非)'!AJ38","v":0},{"$f":"'源泉徴収票計算過程(非)'!BE38","v":0},"||",{"$f":"源泉徴収票!I38&\"\"","v":""},{"$f":"源泉徴収票!H38&\"\"","v":""},{"$f":"源泉徴収票!D38&\"\"","v":""},0,0]
[{"$f":"源泉徴収票!A39","v":0},{"$f":"源泉徴収票!O39+源泉徴収票!R39","v":0},{"$f":"源泉徴収票!Q39+源泉徴収票!T39+'源泉徴収票計算過程(非)'!BF39","v":0},{"$f":"'源泉徴収票計算過程(非)'!AJ39","v":0},{"$f":"'源泉徴収票計算過程(非)'!BE39","v":0},"||",{"$f":"源泉徴収票!I39&\"\"","v":""},{"$f":"源泉徴収票!H39&\"\"","v":""},{"$f":"源泉徴収票!D39&\"\"","v":""},0,0]
[{"$f":"源泉徴収票!A40","v":0},{"$f":"源泉徴収票!O40+源泉徴収票!R40","v":0},{"$f":"源泉徴収票!Q40+源泉徴収票!T40+'源泉徴収票計算過程(非)'!BF40","v":0},{"$f":"'源泉徴収票計算過程(非)'!AJ40","v":0},{"$f":"'源泉徴収票計算過程(非)'!BE40","v":0},"||",{"$f":"源泉徴収票!I40&\"\"","v":""},{"$f":"源泉徴収票!H40&\"\"","v":""},{"$f":"源泉徴収票!D40&\"\"","v":""},0,0]
[{"$f":"源泉徴収票!A41","v":0},{"$f":"源泉徴収票!O41+源泉徴収票!R41","v":0},{"$f":"源泉徴収票!Q41+源泉徴収票!T41+'源泉徴収票計算過程(非)'!BF41","v":0},{"$f":"'源泉徴収票計算過程(非)'!AJ41","v":0},{"$f":"'源泉徴収票計算過程(非)'!BE41","v":0},"||",{"$f":"源泉徴収票!I41&\"\"","v":""},{"$f":"源泉徴収票!H41&\"\"","v":""},{"$f":"源泉徴収票!D41&\"\"","v":""},0,0]
[{"$f":"源泉徴収票!A42","v":0},{"$f":"源泉徴収票!O42+源泉徴収票!R42","v":0},{"$f":"源泉徴収票!Q42+源泉徴収票!T42+'源泉徴収票計算過程(非)'!BF42","v":0},{"$f":"'源泉徴収票計算過程(非)'!AJ42","v":0},{"$f":"'源泉徴収票計算過程(非)'!BE42","v":0},"||",{"$f":"源泉徴収票!I42&\"\"","v":""},{"$f":"源泉徴収票!H42&\"\"","v":""},{"$f":"源泉徴収票!D42&\"\"","v":""},0,0]
[{"$f":"源泉徴収票!A43","v":0},{"$f":"源泉徴収票!O43+源泉徴収票!R43","v":0},{"$f":"源泉徴収票!Q43+源泉徴収票!T43+'源泉徴収票計算過程(非)'!BF43","v":0},{"$f":"'源泉徴収票計算過程(非)'!AJ43","v":0},{"$f":"'源泉徴収票計算過程(非)'!BE43","v":0},"||",{"$f":"源泉徴収票!I43&\"\"","v":""},{"$f":"源泉徴収票!H43&\"\"","v":""},{"$f":"源泉徴収票!D43&\"\"","v":""},0,0]
[{"$f":"源泉徴収票!A44","v":0},{"$f":"源泉徴収票!O44+源泉徴収票!R44","v":0},{"$f":"源泉徴収票!Q44+源泉徴収票!T44+'源泉徴収票計算過程(非)'!BF44","v":0},{"$f":"'源泉徴収票計算過程(非)'!AJ44","v":0},{"$f":"'源泉徴収票計算過程(非)'!BE44","v":0},"||",{"$f":"源泉徴収票!I44&\"\"","v":""},{"$f":"源泉徴収票!H44&\"\"","v":""},{"$f":"源泉徴収票!D44&\"\"","v":""},0,0]
[{"$f":"源泉徴収票!A45","v":0},{"$f":"源泉徴収票!O45+源泉徴収票!R45","v":0},{"$f":"源泉徴収票!Q45+源泉徴収票!T45+'源泉徴収票計算過程(非)'!BF45","v":0},{"$f":"'源泉徴収票計算過程(非)'!AJ45","v":0},{"$f":"'源泉徴収票計算過程(非)'!BE45","v":0},"||",{"$f":"源泉徴収票!I45&\"\"","v":""},{"$f":"源泉徴収票!H45&\"\"","v":""},{"$f":"源泉徴収票!D45&\"\"","v":""},0,0]
[{"$f":"源泉徴収票!A46","v":0},{"$f":"源泉徴収票!O46+源泉徴収票!R46","v":0},{"$f":"源泉徴収票!Q46+源泉徴収票!T46+'源泉徴収票計算過程(非)'!BF46","v":0},{"$f":"'源泉徴収票計算過程(非)'!AJ46","v":0},{"$f":"'源泉徴収票計算過程(非)'!BE46","v":0},"||",{"$f":"源泉徴収票!I46&\"\"","v":""},{"$f":"源泉徴収票!H46&\"\"","v":""},{"$f":"源泉徴収票!D46&\"\"","v":""},0,0]
[{"$f":"源泉徴収票!A47","v":0},{"$f":"源泉徴収票!O47+源泉徴収票!R47","v":0},{"$f":"源泉徴収票!Q47+源泉徴収票!T47+'源泉徴収票計算過程(非)'!BF47","v":0},{"$f":"'源泉徴収票計算過程(非)'!AJ47","v":0},{"$f":"'源泉徴収票計算過程(非)'!BE47","v":0},"||",{"$f":"源泉徴収票!I47&\"\"","v":""},{"$f":"源泉徴収票!H47&\"\"","v":""},{"$f":"源泉徴収票!D47&\"\"","v":""},0,0]
[{"$f":"源泉徴収票!A48","v":0},{"$f":"源泉徴収票!O48+源泉徴収票!R48","v":0},{"$f":"源泉徴収票!Q48+源泉徴収票!T48+'源泉徴収票計算過程(非)'!BF48","v":0},{"$f":"'源泉徴収票計算過程(非)'!AJ48","v":0},{"$f":"'源泉徴収票計算過程(非)'!BE48","v":0},"||",{"$f":"源泉徴収票!I48&\"\"","v":""},{"$f":"源泉徴収票!H48&\"\"","v":""},{"$f":"源泉徴収票!D48&\"\"","v":""},0,0]
[{"$f":"源泉徴収票!A49","v":0},{"$f":"源泉徴収票!O49+源泉徴収票!R49","v":0},{"$f":"源泉徴収票!Q49+源泉徴収票!T49+'源泉徴収票計算過程(非)'!BF49","v":0},{"$f":"'源泉徴収票計算過程(非)'!AJ49","v":0},{"$f":"'源泉徴収票計算過程(非)'!BE49","v":0},"||",{"$f":"源泉徴収票!I49&\"\"","v":""},{"$f":"源泉徴収票!H49&\"\"","v":""},{"$f":"源泉徴収票!D49&\"\"","v":""},0,0]
[{"$f":"源泉徴収票!A50","v":0},{"$f":"源泉徴収票!O50+源泉徴収票!R50","v":0},{"$f":"源泉徴収票!Q50+源泉徴収票!T50+'源泉徴収票計算過程(非)'!BF50","v":0},{"$f":"'源泉徴収票計算過程(非)'!AJ50","v":0},{"$f":"'源泉徴収票計算過程(非)'!BE50","v":0},"||",{"$f":"源泉徴収票!I50&\"\"","v":""},{"$f":"源泉徴収票!H50&\"\"","v":""},{"$f":"源泉徴収票!D50&\"\"","v":""},0,0]
[{"$f":"源泉徴収票!A51","v":0},{"$f":"源泉徴収票!O51+源泉徴収票!R51","v":0},{"$f":"源泉徴収票!Q51+源泉徴収票!T51+'源泉徴収票計算過程(非)'!BF51","v":0},{"$f":"'源泉徴収票計算過程(非)'!AJ51","v":0},{"$f":"'源泉徴収票計算過程(非)'!BE51","v":0},"||",{"$f":"源泉徴収票!I51&\"\"","v":""},{"$f":"源泉徴収票!H51&\"\"","v":""},{"$f":"源泉徴収票!D51&\"\"","v":""},0,0]
[{"$f":"源泉徴収票!A52","v":0},{"$f":"源泉徴収票!O52+源泉徴収票!R52","v":0},{"$f":"源泉徴収票!Q52+源泉徴収票!T52+'源泉徴収票計算過程(非)'!BF52","v":0},{"$f":"'源泉徴収票計算過程(非)'!AJ52","v":0},{"$f":"'源泉徴収票計算過程(非)'!BE52","v":0},"||",{"$f":"源泉徴収票!I52&\"\"","v":""},{"$f":"源泉徴収票!H52&\"\"","v":""},{"$f":"源泉徴収票!D52&\"\"","v":""},0,0]
[{"$f":"源泉徴収票!A53","v":0},{"$f":"源泉徴収票!O53+源泉徴収票!R53","v":0},{"$f":"源泉徴収票!Q53+源泉徴収票!T53+'源泉徴収票計算過程(非)'!BF53","v":0},{"$f":"'源泉徴収票計算過程(非)'!AJ53","v":0},{"$f":"'源泉徴収票計算過程(非)'!BE53","v":0},"||",{"$f":"源泉徴収票!I53&\"\"","v":""},{"$f":"源泉徴収票!H53&\"\"","v":""},{"$f":"源泉徴収票!D53&\"\"","v":""},0,0]
[{"$f":"源泉徴収票!A54","v":0},{"$f":"源泉徴収票!O54+源泉徴収票!R54","v":0},{"$f":"源泉徴収票!Q54+源泉徴収票!T54+'源泉徴収票計算過程(非)'!BF54","v":0},{"$f":"'源泉徴収票計算過程(非)'!AJ54","v":0},{"$f":"'源泉徴収票計算過程(非)'!BE54","v":0},"||",{"$f":"源泉徴収票!I54&\"\"","v":""},{"$f":"源泉徴収票!H54&\"\"","v":""},{"$f":"源泉徴収票!D54&\"\"","v":""},0,0]
[{"$f":"源泉徴収票!A55","v":0},{"$f":"源泉徴収票!O55+源泉徴収票!R55","v":0},{"$f":"源泉徴収票!Q55+源泉徴収票!T55+'源泉徴収票計算過程(非)'!BF55","v":0},{"$f":"'源泉徴収票計算過程(非)'!AJ55","v":0},{"$f":"'源泉徴収票計算過程(非)'!BE55","v":0},"||",{"$f":"源泉徴収票!I55&\"\"","v":""},{"$f":"源泉徴収票!H55&\"\"","v":""},{"$f":"源泉徴収票!D55&\"\"","v":""},0,0]
[{"$f":"源泉徴収票!A56","v":0},{"$f":"源泉徴収票!O56+源泉徴収票!R56","v":0},{"$f":"源泉徴収票!Q56+源泉徴収票!T56+'源泉徴収票計算過程(非)'!BF56","v":0},{"$f":"'源泉徴収票計算過程(非)'!AJ56","v":0},{"$f":"'源泉徴収票計算過程(非)'!BE56","v":0},"||",{"$f":"源泉徴収票!I56&\"\"","v":""},{"$f":"源泉徴収票!H56&\"\"","v":""},{"$f":"源泉徴収票!D56&\"\"","v":""},0,0]
[{"$f":"源泉徴収票!A57","v":0},{"$f":"源泉徴収票!O57+源泉徴収票!R57","v":0},{"$f":"源泉徴収票!Q57+源泉徴収票!T57+'源泉徴収票計算過程(非)'!BF57","v":0},{"$f":"'源泉徴収票計算過程(非)'!AJ57","v":0},{"$f":"'源泉徴収票計算過程(非)'!BE57","v":0},"||",{"$f":"源泉徴収票!I57&\"\"","v":""},{"$f":"源泉徴収票!H57&\"\"","v":""},{"$f":"源泉徴収票!D57&\"\"","v":""},0,0]
[{"$f":"源泉徴収票!A58","v":0},{"$f":"源泉徴収票!O58+源泉徴収票!R58","v":0},{"$f":"源泉徴収票!Q58+源泉徴収票!T58+'源泉徴収票計算過程(非)'!BF58","v":0},{"$f":"'源泉徴収票計算過程(非)'!AJ58","v":0},{"$f":"'源泉徴収票計算過程(非)'!BE58","v":0},{"$f":"G58&\"|\"&H58&\"|\"&I58","v":"||"},{"$f":"源泉徴収票!I58&\"\"","v":""},{"$f":"源泉徴収票!H58&\"\"","v":""},{"$f":"源泉徴収票!D58&\"\"","v":""},{"$f":"IF(AND(D58>0,E58<=0),1,0)","v":0},{"$f":"IF(D58>VLOOKUP(F58,$N$8:$R$14,5,FALSE),1,0)","v":0}]
[{"$f":"源泉徴収票!A59","v":0},{"$f":"源泉徴収票!O59+源泉徴収票!R59","v":0},{"$f":"源泉徴収票!Q59+源泉徴収票!T59+'源泉徴収票計算過程(非)'!BF59","v":0},{"$f":"'源泉徴収票計算過程(非)'!AJ59","v":0},{"$f":"'源泉徴収票計算過程(非)'!BE59","v":0},"||",{"$f":"源泉徴収票!I59&\"\"","v":""},{"$f":"源泉徴収票!H59&\"\"","v":""},{"$f":"源泉徴収票!D59&\"\"","v":""},0,0]
[{"$f":"源泉徴収票!A60","v":0},{"$f":"源泉徴収票!O60+源泉徴収票!R60","v":0},{"$f":"源泉徴収票!Q60+源泉徴収票!T60+'源泉徴収票計算過程(非)'!BF60","v":0},{"$f":"'源泉徴収票計算過程(非)'!AJ60","v":0},{"$f":"'源泉徴収票計算過程(非)'!BE60","v":0},"||",{"$f":"源泉徴収票!I60&\"\"","v":""},{"$f":"源泉徴収票!H60&\"\"","v":""},{"$f":"源泉徴収票!D60&\"\"","v":""},0,0]
[{"$f":"源泉徴収票!A61","v":0},{"$f":"源泉徴収票!O61+源泉徴収票!R61","v":0},{"$f":"源泉徴収票!Q61+源泉徴収票!T61+'源泉徴収票計算過程(非)'!BF61","v":0},{"$f":"'源泉徴収票計算過程(非)'!AJ61","v":0},{"$f":"'源泉徴収票計算過程(非)'!BE61","v":0},"||",{"$f":"源泉徴収票!I61&\"\"","v":""},{"$f":"源泉徴収票!H61&\"\"","v":""},{"$f":"源泉徴収票!D61&\"\"","v":""},0,0]
[{"$f":"源泉徴収票!A62","v":0},{"$f":"源泉徴収票!O62+源泉徴収票!R62","v":0},{"$f":"源泉徴収票!Q62+源泉徴収票!T62+'源泉徴収票計算過程(非)'!BF62","v":0},{"$f":"'源泉徴収票計算過程(非)'!AJ62","v":0},{"$f":"'源泉徴収票計算過程(非)'!BE62","v":0},"||",{"$f":"源泉徴収票!I62&\"\"","v":""},{"$f":"源泉徴収票!H62&\"\"","v":""},{"$f":"源泉徴収票!D62&\"\"","v":""},0,0]
[{"$f":"源泉徴収票!A63","v":0},{"$f":"源泉徴収票!O63+源泉徴収票!R63","v":0},{"$f":"源泉徴収票!Q63+源泉徴収票!T63+'源泉徴収票計算過程(非)'!BF63","v":0},{"$f":"'源泉徴収票計算過程(非)'!AJ63","v":0},{"$f":"'源泉徴収票計算過程(非)'!BE63","v":0},"||",{"$f":"源泉徴収票!I63&\"\"","v":""},{"$f":"源泉徴収票!H63&\"\"","v":""},{"$f":"源泉徴収票!D63&\"\"","v":""},0,0]
[{"$f":"源泉徴収票!A64","v":0},{"$f":"源泉徴収票!O64+源泉徴収票!R64","v":0},{"$f":"源泉徴収票!Q64+源泉徴収票!T64+'源泉徴収票計算過程(非)'!BF64","v":0},{"$f":"'源泉徴収票計算過程(非)'!AJ64","v":0},{"$f":"'源泉徴収票計算過程(非)'!BE64","v":0},"||",{"$f":"源泉徴収票!I64&\"\"","v":""},{"$f":"源泉徴収票!H64&\"\"","v":""},{"$f":"源泉徴収票!D64&\"\"","v":""},0,0]
[{"$f":"源泉徴収票!A65","v":0},{"$f":"源泉徴収票!O65+源泉徴収票!R65","v":0},{"$f":"源泉徴収票!Q65+源泉徴収票!T65+'源泉徴収票計算過程(非)'!BF65","v":0},{"$f":"'源泉徴収票計算過程(非)'!AJ65","v":0},{"$f":"'源泉徴収票計算過程(非)'!BE65","v":0},"||",{"$f":"源泉徴収票!I65&\"\"","v":""},{"$f":"源泉徴収票!H65&\"\"","v":""},{"$f":"源泉徴収票!D65&\"\"","v":""},0,0]
[{"$f":"源泉徴収票!A66","v":0},{"$f":"源泉徴収票!O66+源泉徴収票!R66","v":0},{"$f":"源泉徴収票!Q66+源泉徴収票!T66+'源泉徴収票計算過程(非)'!BF66","v":0},{"$f":"'源泉徴収票計算過程(非)'!AJ66","v":0},{"$f":"'源泉徴収票計算過程(非)'!BE66","v":0},"||",{"$f":"源泉徴収票!I66&\"\"","v":""},{"$f":"源泉徴収票!H66&\"\"","v":""},{"$f":"源泉徴収票!D66&\"\"","v":""},0,0]
[{"$f":"源泉徴収票!A67","v":0},{"$f":"源泉徴収票!O67+源泉徴収票!R67","v":0},{"$f":"源泉徴収票!Q67+源泉徴収票!T67+'源泉徴収票計算過程(非)'!BF67","v":0},{"$f":"'源泉徴収票計算過程(非)'!AJ67","v":0},{"$f":"'源泉徴収票計算過程(非)'!BE67","v":0},"||",{"$f":"源泉徴収票!I67&\"\"","v":""},{"$f":"源泉徴収票!H67&\"\"","v":""},{"$f":"源泉徴収票!D67&\"\"","v":""},0,0]
[{"$f":"源泉徴収票!A68","v":0},{"$f":"源泉徴収票!O68+源泉徴収票!R68","v":0},{"$f":"源泉徴収票!Q68+源泉徴収票!T68+'源泉徴収票計算過程(非)'!BF68","v":0},{"$f":"'源泉徴収票計算過程(非)'!AJ68","v":0},{"$f":"'源泉徴収票計算過程(非)'!BE68","v":0},"||",{"$f":"源泉徴収票!I68&\"\"","v":""},{"$f":"源泉徴収票!H68&\"\"","v":""},{"$f":"源泉徴収票!D68&\"\"","v":""},0,0]
[{"$f":"源泉徴収票!A69","v":0},{"$f":"源泉徴収票!O69+源泉徴収票!R69","v":0},{"$f":"源泉徴収票!Q69+源泉徴収票!T69+'源泉徴収票計算過程(非)'!BF69","v":0},{"$f":"'源泉徴収票計算過程(非)'!AJ69","v":0},{"$f":"'源泉徴収票計算過程(非)'!BE69","v":0},"||",{"$f":"源泉徴収票!I69&\"\"","v":""},{"$f":"源泉徴収票!H69&\"\"","v":""},{"$f":"源泉徴収票!D69&\"\"","v":""},0,0]
[{"$f":"源泉徴収票!A70","v":0},{"$f":"源泉徴収票!O70+源泉徴収票!R70","v":0},{"$f":"源泉徴収票!Q70+源泉徴収票!T70+'源泉徴収票計算過程(非)'!BF70","v":0},{"$f":"'源泉徴収票計算過程(非)'!AJ70","v":0},{"$f":"'源泉徴収票計算過程(非)'!BE70","v":0},"||",{"$f":"源泉徴収票!I70&\"\"","v":""},{"$f":"源泉徴収票!H70&\"\"","v":""},{"$f":"源泉徴収票!D70&\"\"","v":""},0,0]
[{"$f":"源泉徴収票!A71","v":0},{"$f":"源泉徴収票!O71+源泉徴収票!R71","v":0},{"$f":"源泉徴収票!Q71+源泉徴収票!T71+'源泉徴収票計算過程(非)'!BF71","v":0},{"$f":"'源泉徴収票計算過程(非)'!AJ71","v":0},{"$f":"'源泉徴収票計算過程(非)'!BE71","v":0},"||",{"$f":"源泉徴収票!I71&\"\"","v":""},{"$f":"源泉徴収票!H71&\"\"","v":""},{"$f":"源泉徴収票!D71&\"\"","v":""},0,0]
[{"$f":"源泉徴収票!A72","v":0},{"$f":"源泉徴収票!O72+源泉徴収票!R72","v":0},{"$f":"源泉徴収票!Q72+源泉徴収票!T72+'源泉徴収票計算過程(非)'!BF72","v":0},{"$f":"'源泉徴収票計算過程(非)'!AJ72","v":0},{"$f":"'源泉徴収票計算過程(非)'!BE72","v":0},"||",{"$f":"源泉徴収票!I72&\"\"","v":""},{"$f":"源泉徴収票!H72&\"\"","v":""},{"$f":"源泉徴収票!D72&\"\"","v":""},0,0]
[{"$f":"源泉徴収票!A73","v":0},{"$f":"源泉徴収票!O73+源泉徴収票!R73","v":0},{"$f":"源泉徴収票!Q73+源泉徴収票!T73+'源泉徴収票計算過程(非)'!BF73","v":0},{"$f":"'源泉徴収票計算過程(非)'!AJ73","v":0},{"$f":"'源泉徴収票計算過程(非)'!BE73","v":0},"||",{"$f":"源泉徴収票!I73&\"\"","v":""},{"$f":"源泉徴収票!H73&\"\"","v":""},{"$f":"源泉徴収票!D73&\"\"","v":""},0,0]
[{"$f":"源泉徴収票!A74","v":0},{"$f":"源泉徴収票!O74+源泉徴収票!R74","v":0},{"$f":"源泉徴収票!Q74+源泉徴収票!T74+'源泉徴収票計算過程(非)'!BF74","v":0},{"$f":"'源泉徴収票計算過程(非)'!AJ74","v":0},{"$f":"'源泉徴収票計算過程(非)'!BE74","v":0},"||",{"$f":"源泉徴収票!I74&\"\"","v":""},{"$f":"源泉徴収票!H74&\"\"","v":""},{"$f":"源泉徴収票!D74&\"\"","v":""},0,0]
[{"$f":"源泉徴収票!A75","v":0},{"$f":"源泉徴収票!O75+源泉徴収票!R75","v":0},{"$f":"源泉徴収票!Q75+源泉徴収票!T75+'源泉徴収票計算過程(非)'!BF75","v":0},{"$f":"'源泉徴収票計算過程(非)'!AJ75","v":0},{"$f":"'源泉徴収票計算過程(非)'!BE75","v":0},"||",{"$f":"源泉徴収票!I75&\"\"","v":""},{"$f":"源泉徴収票!H75&\"\"","v":""},{"$f":"源泉徴収票!D75&\"\"","v":""},0,0]
[{"$f":"源泉徴収票!A76","v":0},{"$f":"源泉徴収票!O76+源泉徴収票!R76","v":0},{"$f":"源泉徴収票!Q76+源泉徴収票!T76+'源泉徴収票計算過程(非)'!BF76","v":0},{"$f":"'源泉徴収票計算過程(非)'!AJ76","v":0},{"$f":"'源泉徴収票計算過程(非)'!BE76","v":0},"||",{"$f":"源泉徴収票!I76&\"\"","v":""},{"$f":"源泉徴収票!H76&\"\"","v":""},{"$f":"源泉徴収票!D76&\"\"","v":""},0,0]
[{"$f":"源泉徴収票!A77","v":0},{"$f":"源泉徴収票!O77+源泉徴収票!R77","v":0},{"$f":"源泉徴収票!Q77+源泉徴収票!T77+'源泉徴収票計算過程(非)'!BF77","v":0},{"$f":"'源泉徴収票計算過程(非)'!AJ77","v":0},{"$f":"'源泉徴収票計算過程(非)'!BE77","v":0},"||",{"$f":"源泉徴収票!I77&\"\"","v":""},{"$f":"源泉徴収票!H77&\"\"","v":""},{"$f":"源泉徴収票!D77&\"\"","v":""},0,0]
[{"$f":"源泉徴収票!A78","v":0},{"$f":"源泉徴収票!O78+源泉徴収票!R78","v":0},{"$f":"源泉徴収票!Q78+源泉徴収票!T78+'源泉徴収票計算過程(非)'!BF78","v":0},{"$f":"'源泉徴収票計算過程(非)'!AJ78","v":0},{"$f":"'源泉徴収票計算過程(非)'!BE78","v":0},"||",{"$f":"源泉徴収票!I78&\"\"","v":""},{"$f":"源泉徴収票!H78&\"\"","v":""},{"$f":"源泉徴収票!D78&\"\"","v":""},0,0]
[{"$f":"源泉徴収票!A79","v":0},{"$f":"源泉徴収票!O79+源泉徴収票!R79","v":0},{"$f":"源泉徴収票!Q79+源泉徴収票!T79+'源泉徴収票計算過程(非)'!BF79","v":0},{"$f":"'源泉徴収票計算過程(非)'!AJ79","v":0},{"$f":"'源泉徴収票計算過程(非)'!BE79","v":0},"||",{"$f":"源泉徴収票!I79&\"\"","v":""},{"$f":"源泉徴収票!H79&\"\"","v":""},{"$f":"源泉徴収票!D79&\"\"","v":""},0,0]
[{"$f":"源泉徴収票!A80","v":0},{"$f":"源泉徴収票!O80+源泉徴収票!R80","v":0},{"$f":"源泉徴収票!Q80+源泉徴収票!T80+'源泉徴収票計算過程(非)'!BF80","v":0},{"$f":"'源泉徴収票計算過程(非)'!AJ80","v":0},{"$f":"'源泉徴収票計算過程(非)'!BE80","v":0},"||",{"$f":"源泉徴収票!I80&\"\"","v":""},{"$f":"源泉徴収票!H80&\"\"","v":""},{"$f":"源泉徴収票!D80&\"\"","v":""},0,0]
[{"$f":"源泉徴収票!A81","v":0},{"$f":"源泉徴収票!O81+源泉徴収票!R81","v":0},{"$f":"源泉徴収票!Q81+源泉徴収票!T81+'源泉徴収票計算過程(非)'!BF81","v":0},{"$f":"'源泉徴収票計算過程(非)'!AJ81","v":0},{"$f":"'源泉徴収票計算過程(非)'!BE81","v":0},"||",{"$f":"源泉徴収票!I81&\"\"","v":""},{"$f":"源泉徴収票!H81&\"\"","v":""},{"$f":"源泉徴収票!D81&\"\"","v":""},0,0]
[{"$f":"源泉徴収票!A82","v":0},{"$f":"源泉徴収票!O82+源泉徴収票!R82","v":0},{"$f":"源泉徴収票!Q82+源泉徴収票!T82+'源泉徴収票計算過程(非)'!BF82","v":0},{"$f":"'源泉徴収票計算過程(非)'!AJ82","v":0},{"$f":"'源泉徴収票計算過程(非)'!BE82","v":0},"||",{"$f":"源泉徴収票!I82&\"\"","v":""},{"$f":"源泉徴収票!H82&\"\"","v":""},{"$f":"源泉徴収票!D82&\"\"","v":""},0,0]
[{"$f":"源泉徴収票!A83","v":0},{"$f":"源泉徴収票!O83+源泉徴収票!R83","v":0},{"$f":"源泉徴収票!Q83+源泉徴収票!T83+'源泉徴収票計算過程(非)'!BF83","v":0},{"$f":"'源泉徴収票計算過程(非)'!AJ83","v":0},{"$f":"'源泉徴収票計算過程(非)'!BE83","v":0},"||",{"$f":"源泉徴収票!I83&\"\"","v":""},{"$f":"源泉徴収票!H83&\"\"","v":""},{"$f":"源泉徴収票!D83&\"\"","v":""},0,0]
[{"$f":"源泉徴収票!A84","v":0},{"$f":"源泉徴収票!O84+源泉徴収票!R84","v":0},{"$f":"源泉徴収票!Q84+源泉徴収票!T84+'源泉徴収票計算過程(非)'!BF84","v":0},{"$f":"'源泉徴収票計算過程(非)'!AJ84","v":0},{"$f":"'源泉徴収票計算過程(非)'!BE84","v":0},"||",{"$f":"源泉徴収票!I84&\"\"","v":""},{"$f":"源泉徴収票!H84&\"\"","v":""},{"$f":"源泉徴収票!D84&\"\"","v":""},0,0]
[{"$f":"源泉徴収票!A85","v":0},{"$f":"源泉徴収票!O85+源泉徴収票!R85","v":0},{"$f":"源泉徴収票!Q85+源泉徴収票!T85+'源泉徴収票計算過程(非)'!BF85","v":0},{"$f":"'源泉徴収票計算過程(非)'!AJ85","v":0},{"$f":"'源泉徴収票計算過程(非)'!BE85","v":0},"||",{"$f":"源泉徴収票!I85&\"\"","v":""},{"$f":"源泉徴収票!H85&\"\"","v":""},{"$f":"源泉徴収票!D85&\"\"","v":""},0,0]
[{"$f":"源泉徴収票!A86","v":0},{"$f":"源泉徴収票!O86+源泉徴収票!R86","v":0},{"$f":"源泉徴収票!Q86+源泉徴収票!T86+'源泉徴収票計算過程(非)'!BF86","v":0},{"$f":"'源泉徴収票計算過程(非)'!AJ86","v":0},{"$f":"'源泉徴収票計算過程(非)'!BE86","v":0},"||",{"$f":"源泉徴収票!I86&\"\"","v":""},{"$f":"源泉徴収票!H86&\"\"","v":""},{"$f":"源泉徴収票!D86&\"\"","v":""},0,0]
[{"$f":"源泉徴収票!A87","v":0},{"$f":"源泉徴収票!O87+源泉徴収票!R87","v":0},{"$f":"源泉徴収票!Q87+源泉徴収票!T87+'源泉徴収票計算過程(非)'!BF87","v":0},{"$f":"'源泉徴収票計算過程(非)'!AJ87","v":0},{"$f":"'源泉徴収票計算過程(非)'!BE87","v":0},"||",{"$f":"源泉徴収票!I87&\"\"","v":""},{"$f":"源泉徴収票!H87&\"\"","v":""},{"$f":"源泉徴収票!D87&\"\"","v":""},0,0]
[{"$f":"源泉徴収票!A88","v":0},{"$f":"源泉徴収票!O88+源泉徴収票!R88","v":0},{"$f":"源泉徴収票!Q88+源泉徴収票!T88+'源泉徴収票計算過程(非)'!BF88","v":0},{"$f":"'源泉徴収票計算過程(非)'!AJ88","v":0},{"$f":"'源泉徴収票計算過程(非)'!BE88","v":0},"||",{"$f":"源泉徴収票!I88&\"\"","v":""},{"$f":"源泉徴収票!H88&\"\"","v":""},{"$f":"源泉徴収票!D88&\"\"","v":""},0,0]
[{"$f":"源泉徴収票!A89","v":0},{"$f":"源泉徴収票!O89+源泉徴収票!R89","v":0},{"$f":"源泉徴収票!Q89+源泉徴収票!T89+'源泉徴収票計算過程(非)'!BF89","v":0},{"$f":"'源泉徴収票計算過程(非)'!AJ89","v":0},{"$f":"'源泉徴収票計算過程(非)'!BE89","v":0},"||",{"$f":"源泉徴収票!I89&\"\"","v":""},{"$f":"源泉徴収票!H89&\"\"","v":""},{"$f":"源泉徴収票!D89&\"\"","v":""},0,0]
[{"$f":"源泉徴収票!A90","v":0},{"$f":"源泉徴収票!O90+源泉徴収票!R90","v":0},{"$f":"源泉徴収票!Q90+源泉徴収票!T90+'源泉徴収票計算過程(非)'!BF90","v":0},{"$f":"'源泉徴収票計算過程(非)'!AJ90","v":0},{"$f":"'源泉徴収票計算過程(非)'!BE90","v":0},"||",{"$f":"源泉徴収票!I90&\"\"","v":""},{"$f":"源泉徴収票!H90&\"\"","v":""},{"$f":"源泉徴収票!D90&\"\"","v":""},0,0]
[{"$f":"源泉徴収票!A91","v":0},{"$f":"源泉徴収票!O91+源泉徴収票!R91","v":0},{"$f":"源泉徴収票!Q91+源泉徴収票!T91+'源泉徴収票計算過程(非)'!BF91","v":0},{"$f":"'源泉徴収票計算過程(非)'!AJ91","v":0},{"$f":"'源泉徴収票計算過程(非)'!BE91","v":0},"||",{"$f":"源泉徴収票!I91&\"\"","v":""},{"$f":"源泉徴収票!H91&\"\"","v":""},{"$f":"源泉徴収票!D91&\"\"","v":""},0,0]
[{"$f":"源泉徴収票!A92","v":0},{"$f":"源泉徴収票!O92+源泉徴収票!R92","v":0},{"$f":"源泉徴収票!Q92+源泉徴収票!T92+'源泉徴収票計算過程(非)'!BF92","v":0},{"$f":"'源泉徴収票計算過程(非)'!AJ92","v":0},{"$f":"'源泉徴収票計算過程(非)'!BE92","v":0},"||",{"$f":"源泉徴収票!I92&\"\"","v":""},{"$f":"源泉徴収票!H92&\"\"","v":""},{"$f":"源泉徴収票!D92&\"\"","v":""},0,0]
[{"$f":"源泉徴収票!A93","v":0},{"$f":"源泉徴収票!O93+源泉徴収票!R93","v":0},{"$f":"源泉徴収票!Q93+源泉徴収票!T93+'源泉徴収票計算過程(非)'!BF93","v":0},{"$f":"'源泉徴収票計算過程(非)'!AJ93","v":0},{"$f":"'源泉徴収票計算過程(非)'!BE93","v":0},"||",{"$f":"源泉徴収票!I93&\"\"","v":""},{"$f":"源泉徴収票!H93&\"\"","v":""},{"$f":"源泉徴収票!D93&\"\"","v":""},0,0]
[{"$f":"源泉徴収票!A94","v":0},{"$f":"源泉徴収票!O94+源泉徴収票!R94","v":0},{"$f":"源泉徴収票!Q94+源泉徴収票!T94+'源泉徴収票計算過程(非)'!BF94","v":0},{"$f":"'源泉徴収票計算過程(非)'!AJ94","v":0},{"$f":"'源泉徴収票計算過程(非)'!BE94","v":0},"||",{"$f":"源泉徴収票!I94&\"\"","v":""},{"$f":"源泉徴収票!H94&\"\"","v":""},{"$f":"源泉徴収票!D94&\"\"","v":""},0,0]
[{"$f":"源泉徴収票!A95","v":0},{"$f":"源泉徴収票!O95+源泉徴収票!R95","v":0},{"$f":"源泉徴収票!Q95+源泉徴収票!T95+'源泉徴収票計算過程(非)'!BF95","v":0},{"$f":"'源泉徴収票計算過程(非)'!AJ95","v":0},{"$f":"'源泉徴収票計算過程(非)'!BE95","v":0},"||",{"$f":"源泉徴収票!I95&\"\"","v":""},{"$f":"源泉徴収票!H95&\"\"","v":""},{"$f":"源泉徴収票!D95&\"\"","v":""},0,0]
[{"$f":"源泉徴収票!A96","v":0},{"$f":"源泉徴収票!O96+源泉徴収票!R96","v":0},{"$f":"源泉徴収票!Q96+源泉徴収票!T96+'源泉徴収票計算過程(非)'!BF96","v":0},{"$f":"'源泉徴収票計算過程(非)'!AJ96","v":0},{"$f":"'源泉徴収票計算過程(非)'!BE96","v":0},"||",{"$f":"源泉徴収票!I96&\"\"","v":""},{"$f":"源泉徴収票!H96&\"\"","v":""},{"$f":"源泉徴収票!D96&\"\"","v":""},0,0]
[{"$f":"源泉徴収票!A97","v":0},{"$f":"源泉徴収票!O97+源泉徴収票!R97","v":0},{"$f":"源泉徴収票!Q97+源泉徴収票!T97+'源泉徴収票計算過程(非)'!BF97","v":0},{"$f":"'源泉徴収票計算過程(非)'!AJ97","v":0},{"$f":"'源泉徴収票計算過程(非)'!BE97","v":0},"||",{"$f":"源泉徴収票!I97&\"\"","v":""},{"$f":"源泉徴収票!H97&\"\"","v":""},{"$f":"源泉徴収票!D97&\"\"","v":""},0,0]
[{"$f":"源泉徴収票!A98","v":0},{"$f":"源泉徴収票!O98+源泉徴収票!R98","v":0},{"$f":"源泉徴収票!Q98+源泉徴収票!T98+'源泉徴収票計算過程(非)'!BF98","v":0},{"$f":"'源泉徴収票計算過程(非)'!AJ98","v":0},{"$f":"'源泉徴収票計算過程(非)'!BE98","v":0},"||",{"$f":"源泉徴収票!I98&\"\"","v":""},{"$f":"源泉徴収票!H98&\"\"","v":""},{"$f":"源泉徴収票!D98&\"\"","v":""},0,0]
[{"$f":"源泉徴収票!A99","v":0},{"$f":"源泉徴収票!O99+源泉徴収票!R99","v":0},{"$f":"源泉徴収票!Q99+源泉徴収票!T99+'源泉徴収票計算過程(非)'!BF99","v":0},{"$f":"'源泉徴収票計算過程(非)'!AJ99","v":0},{"$f":"'源泉徴収票計算過程(非)'!BE99","v":0},"||",{"$f":"源泉徴収票!I99&\"\"","v":""},{"$f":"源泉徴収票!H99&\"\"","v":""},{"$f":"源泉徴収票!D99&\"\"","v":""},0,0]
[{"$f":"源泉徴収票!A100","v":0},{"$f":"源泉徴収票!O100+源泉徴収票!R100","v":0},{"$f":"源泉徴収票!Q100+源泉徴収票!T100+'源泉徴収票計算過程(非)'!BF100","v":0},{"$f":"'源泉徴収票計算過程(非)'!AJ100","v":0},{"$f":"'源泉徴収票計算過程(非)'!BE100","v":0},"||",{"$f":"源泉徴収票!I100&\"\"","v":""},{"$f":"源泉徴収票!H100&\"\"","v":""},{"$f":"源泉徴収票!D100&\"\"","v":""},0,0]
[{"$f":"源泉徴収票!A101","v":0},{"$f":"源泉徴収票!O101+源泉徴収票!R101","v":0},{"$f":"源泉徴収票!Q101+源泉徴収票!T101+'源泉徴収票計算過程(非)'!BF101","v":0},{"$f":"'源泉徴収票計算過程(非)'!AJ101","v":0},{"$f":"'源泉徴収票計算過程(非)'!BE101","v":0},"||",{"$f":"源泉徴収票!I101&\"\"","v":""},{"$f":"源泉徴収票!H101&\"\"","v":""},{"$f":"源泉徴収票!D101&\"\"","v":""},0,0]
[{"$f":"源泉徴収票!A102","v":0},{"$f":"源泉徴収票!O102+源泉徴収票!R102","v":0},{"$f":"源泉徴収票!Q102+源泉徴収票!T102+'源泉徴収票計算過程(非)'!BF102","v":0},{"$f":"'源泉徴収票計算過程(非)'!AJ102","v":0},{"$f":"'源泉徴収票計算過程(非)'!BE102","v":0},"||",{"$f":"源泉徴収票!I102&\"\"","v":""},{"$f":"源泉徴収票!H102&\"\"","v":""},{"$f":"源泉徴収票!D102&\"\"","v":""},0,0]
[{"$f":"源泉徴収票!A103","v":0},{"$f":"源泉徴収票!O103+源泉徴収票!R103","v":0},{"$f":"源泉徴収票!Q103+源泉徴収票!T103+'源泉徴収票計算過程(非)'!BF103","v":0},{"$f":"'源泉徴収票計算過程(非)'!AJ103","v":0},{"$f":"'源泉徴収票計算過程(非)'!BE103","v":0},"||",{"$f":"源泉徴収票!I103&\"\"","v":""},{"$f":"源泉徴収票!H103&\"\"","v":""},{"$f":"源泉徴収票!D103&\"\"","v":""},0,0]
[{"$f":"源泉徴収票!A104","v":0},{"$f":"源泉徴収票!O104+源泉徴収票!R104","v":0},{"$f":"源泉徴収票!Q104+源泉徴収票!T104+'源泉徴収票計算過程(非)'!BF104","v":0},{"$f":"'源泉徴収票計算過程(非)'!AJ104","v":0},{"$f":"'源泉徴収票計算過程(非)'!BE104","v":0},"||",{"$f":"源泉徴収票!I104&\"\"","v":""},{"$f":"源泉徴収票!H104&\"\"","v":""},{"$f":"源泉徴収票!D104&\"\"","v":""},0,0]
[{"$f":"源泉徴収票!A105","v":0},{"$f":"源泉徴収票!O105+源泉徴収票!R105","v":0},{"$f":"源泉徴収票!Q105+源泉徴収票!T105+'源泉徴収票計算過程(非)'!BF105","v":0},{"$f":"'源泉徴収票計算過程(非)'!AJ105","v":0},{"$f":"'源泉徴収票計算過程(非)'!BE105","v":0},"||",{"$f":"源泉徴収票!I105&\"\"","v":""},{"$f":"源泉徴収票!H105&\"\"","v":""},{"$f":"源泉徴収票!D105&\"\"","v":""},0,0]
[{"$f":"源泉徴収票!A106","v":0},{"$f":"源泉徴収票!O106+源泉徴収票!R106","v":0},{"$f":"源泉徴収票!Q106+源泉徴収票!T106+'源泉徴収票計算過程(非)'!BF106","v":0},{"$f":"'源泉徴収票計算過程(非)'!AJ106","v":0},{"$f":"'源泉徴収票計算過程(非)'!BE106","v":0},"||",{"$f":"源泉徴収票!I106&\"\"","v":""},{"$f":"源泉徴収票!H106&\"\"","v":""},{"$f":"源泉徴収票!D106&\"\"","v":""},0,0]
[{"$f":"源泉徴収票!A107","v":0},{"$f":"源泉徴収票!O107+源泉徴収票!R107","v":0},{"$f":"源泉徴収票!Q107+源泉徴収票!T107+'源泉徴収票計算過程(非)'!BF107","v":0},{"$f":"'源泉徴収票計算過程(非)'!AJ107","v":0},{"$f":"'源泉徴収票計算過程(非)'!BE107","v":0},"||",{"$f":"源泉徴収票!I107&\"\"","v":""},{"$f":"源泉徴収票!H107&\"\"","v":""},{"$f":"源泉徴収票!D107&\"\"","v":""},0,0]

{"sheet":"退職所得集計(非)","index":24,"n_rows":107,"n_cols":9,"rows_kept":107,"cut":false,"hidden":true,"merged":[]}
[null,null,null,null,null,null,"人数","金額","税額"]
[null,null,null,null,null,"退職手当の総額",{"$f":"COUNTIF(退職所得!$K$8:$K$999,\">0\")","v":2},{"$f":"SUM(退職所得!$K$8:$K$999)","v":11000000},{"$f":"SUM(退職所得!$L$8:$L$999)","v":800000}]
[]
[null,null,null,null,null,"（うち提出者分）",{"$f":"COUNTIF($D$8:$D$999,\"役員\")","v":1},{"$f":"SUMIF(退職所得!$E$8:$E$999,\"役員\",退職所得!$K$8:$K$999)","v":8000000},{"$f":"SUMIF(退職所得!$E$8:$E$999,\"役員\",退職所得!$L$8:$L$999)","v":600000}]
[]
[]
[]
[{"$f":"退職所得!A8","v":1},{"$f":"退職所得!E8&\"\"","v":""},{"$f":"退職所得!K8","v":3000000},{"$f":"IF(AND(C8>0,B8=\"役員\"),\"役員\",\"\")","v":""}]
[{"$f":"退職所得!A9","v":2},{"$f":"退職所得!E9&\"\"","v":"役員"},{"$f":"退職所得!K9","v":8000000},{"$f":"IF(AND(C9>0,B9=\"役員\"),\"役員\",\"\")","v":"役員"}]
[{"$f":"退職所得!A10","v":3},{"$f":"退職所得!E10&\"\"","v":""},{"$f":"退職所得!K10","v":0},""]
[{"$f":"退職所得!A11","v":4},{"$f":"退職所得!E11&\"\"","v":""},{"$f":"退職所得!K11","v":0},""]
[{"$f":"退職所得!A12","v":5},{"$f":"退職所得!E12&\"\"","v":""},{"$f":"退職所得!K12","v":0},""]
[{"$f":"退職所得!A13","v":6},{"$f":"退職所得!E13&\"\"","v":""},{"$f":"退職所得!K13","v":0},""]
[{"$f":"退職所得!A14","v":7},{"$f":"退職所得!E14&\"\"","v":""},{"$f":"退職所得!K14","v":0},""]
[{"$f":"退職所得!A15","v":8},{"$f":"退職所得!E15&\"\"","v":""},{"$f":"退職所得!K15","v":0},""]
[{"$f":"退職所得!A16","v":9},{"$f":"退職所得!E16&\"\"","v":""},{"$f":"退職所得!K16","v":0},""]
[{"$f":"退職所得!A17","v":10},{"$f":"退職所得!E17&\"\"","v":""},{"$f":"退職所得!K17","v":0},""]
[{"$f":"退職所得!A18","v":11},{"$f":"退職所得!E18&\"\"","v":""},{"$f":"退職所得!K18","v":0},""]
[{"$f":"退職所得!A19","v":12},{"$f":"退職所得!E19&\"\"","v":""},{"$f":"退職所得!K19","v":0},""]
[{"$f":"退職所得!A20","v":13},{"$f":"退職所得!E20&\"\"","v":""},{"$f":"退職所得!K20","v":0},""]
[{"$f":"退職所得!A21","v":14},{"$f":"退職所得!E21&\"\"","v":""},{"$f":"退職所得!K21","v":0},""]
[{"$f":"退職所得!A22","v":15},{"$f":"退職所得!E22&\"\"","v":""},{"$f":"退職所得!K22","v":0},""]
[{"$f":"退職所得!A23","v":16},{"$f":"退職所得!E23&\"\"","v":""},{"$f":"退職所得!K23","v":0},""]
[{"$f":"退職所得!A24","v":17},{"$f":"退職所得!E24&\"\"","v":""},{"$f":"退職所得!K24","v":0},""]
[{"$f":"退職所得!A25","v":18},{"$f":"退職所得!E25&\"\"","v":""},{"$f":"退職所得!K25","v":0},""]
[{"$f":"退職所得!A26","v":19},{"$f":"退職所得!E26&\"\"","v":""},{"$f":"退職所得!K26","v":0},""]
[{"$f":"退職所得!A27","v":20},{"$f":"退職所得!E27&\"\"","v":""},{"$f":"退職所得!K27","v":0},""]
[{"$f":"退職所得!A28","v":0},{"$f":"退職所得!E28&\"\"","v":""},{"$f":"退職所得!K28","v":0},""]
[{"$f":"退職所得!A29","v":0},{"$f":"退職所得!E29&\"\"","v":""},{"$f":"退職所得!K29","v":0},""]
[{"$f":"退職所得!A30","v":0},{"$f":"退職所得!E30&\"\"","v":""},{"$f":"退職所得!K30","v":0},""]
[{"$f":"退職所得!A31","v":0},{"$f":"退職所得!E31&\"\"","v":""},{"$f":"退職所得!K31","v":0},""]
[{"$f":"退職所得!A32","v":0},{"$f":"退職所得!E32&\"\"","v":""},{"$f":"退職所得!K32","v":0},""]
[{"$f":"退職所得!A33","v":0},{"$f":"退職所得!E33&\"\"","v":""},{"$f":"退職所得!K33","v":0},""]
[{"$f":"退職所得!A34","v":0},{"$f":"退職所得!E34&\"\"","v":""},{"$f":"退職所得!K34","v":0},""]
[{"$f":"退職所得!A35","v":0},{"$f":"退職所得!E35&\"\"","v":""},{"$f":"退職所得!K35","v":0},""]
[{"$f":"退職所得!A36","v":0},{"$f":"退職所得!E36&\"\"","v":""},{"$f":"退職所得!K36","v":0},""]
[{"$f":"退職所得!A37","v":0},{"$f":"退職所得!E37&\"\"","v":""},{"$f":"退職所得!K37","v":0},""]
[{"$f":"退職所得!A38","v":0},{"$f":"退職所得!E38&\"\"","v":""},{"$f":"退職所得!K38","v":0},""]
[{"$f":"退職所得!A39","v":0},{"$f":"退職所得!E39&\"\"","v":""},{"$f":"退職所得!K39","v":0},""]
[{"$f":"退職所得!A40","v":0},{"$f":"退職所得!E40&\"\"","v":""},{"$f":"退職所得!K40","v":0},""]
[{"$f":"退職所得!A41","v":0},{"$f":"退職所得!E41&\"\"","v":""},{"$f":"退職所得!K41","v":0},""]
[{"$f":"退職所得!A42","v":0},{"$f":"退職所得!E42&\"\"","v":""},{"$f":"退職所得!K42","v":0},""]
[{"$f":"退職所得!A43","v":0},{"$f":"退職所得!E43&\"\"","v":""},{"$f":"退職所得!K43","v":0},""]
[{"$f":"退職所得!A44","v":0},{"$f":"退職所得!E44&\"\"","v":""},{"$f":"退職所得!K44","v":0},""]
[{"$f":"退職所得!A45","v":0},{"$f":"退職所得!E45&\"\"","v":""},{"$f":"退職所得!K45","v":0},""]
[{"$f":"退職所得!A46","v":0},{"$f":"退職所得!E46&\"\"","v":""},{"$f":"退職所得!K46","v":0},""]
[{"$f":"退職所得!A47","v":0},{"$f":"退職所得!E47&\"\"","v":""},{"$f":"退職所得!K47","v":0},""]
[{"$f":"退職所得!A48","v":0},{"$f":"退職所得!E48&\"\"","v":""},{"$f":"退職所得!K48","v":0},""]
[{"$f":"退職所得!A49","v":0},{"$f":"退職所得!E49&\"\"","v":""},{"$f":"退職所得!K49","v":0},""]
[{"$f":"退職所得!A50","v":0},{"$f":"退職所得!E50&\"\"","v":""},{"$f":"退職所得!K50","v":0},""]
[{"$f":"退職所得!A51","v":0},{"$f":"退職所得!E51&\"\"","v":""},{"$f":"退職所得!K51","v":0},""]
[{"$f":"退職所得!A52","v":0},{"$f":"退職所得!E52&\"\"","v":""},{"$f":"退職所得!K52","v":0},""]
[{"$f":"退職所得!A53","v":0},{"$f":"退職所得!E53&\"\"","v":""},{"$f":"退職所得!K53","v":0},""]
[{"$f":"退職所得!A54","v":0},{"$f":"退職所得!E54&\"\"","v":""},{"$f":"退職所得!K54","v":0},""]
[{"$f":"退職所得!A55","v":0},{"$f":"退職所得!E55&\"\"","v":""},{"$f":"退職所得!K55","v":0},""]
[{"$f":"退職所得!A56","v":0},{"$f":"退職所得!E56&\"\"","v":""},{"$f":"退職所得!K56","v":0},""]
[{"$f":"退職所得!A57","v":0},{"$f":"退職所得!E57&\"\"","v":""},{"$f":"退職所得!K57","v":0},""]
[{"$f":"退職所得!A58","v":0},{"$f":"退職所得!E58&\"\"","v":""},{"$f":"退職所得!K58","v":0},{"$f":"IF(AND(C58>0,B58=\"役員\"),\"役員\",\"\")","v":""}]
[{"$f":"退職所得!A59","v":0},{"$f":"退職所得!E59&\"\"","v":""},{"$f":"退職所得!K59","v":0},""]
[{"$f":"退職所得!A60","v":0},{"$f":"退職所得!E60&\"\"","v":""},{"$f":"退職所得!K60","v":0},""]
[{"$f":"退職所得!A61","v":0},{"$f":"退職所得!E61&\"\"","v":""},{"$f":"退職所得!K61","v":0},""]
[{"$f":"退職所得!A62","v":0},{"$f":"退職所得!E62&\"\"","v":""},{"$f":"退職所得!K62","v":0},""]
[{"$f":"退職所得!A63","v":0},{"$f":"退職所得!E63&\"\"","v":""},{"$f":"退職所得!K63","v":0},""]
[{"$f":"退職所得!A64","v":0},{"$f":"退職所得!E64&\"\"","v":""},{"$f":"退職所得!K64","v":0},""]
[{"$f":"退職所得!A65","v":0},{"$f":"退職所得!E65&\"\"","v":""},{"$f":"退職所得!K65","v":0},""]
[{"$f":"退職所得!A66","v":0},{"$f":"退職所得!E66&\"\"","v":""},{"$f":"退職所得!K66","v":0},""]
[{"$f":"退職所得!A67","v":0},{"$f":"退職所得!E67&\"\"","v":""},{"$f":"退職所得!K67","v":0},""]
[{"$f":"退職所得!A68","v":0},{"$f":"退職所得!E68&\"\"","v":""},{"$f":"退職所得!K68","v":0},""]
[{"$f":"退職所得!A69","v":0},{"$f":"退職所得!E69&\"\"","v":""},{"$f":"退職所得!K69","v":0},""]
[{"$f":"退職所得!A70","v":0},{"$f":"退職所得!E70&\"\"","v":""},{"$f":"退職所得!K70","v":0},""]
[{"$f":"退職所得!A71","v":0},{"$f":"退職所得!E71&\"\"","v":""},{"$f":"退職所得!K71","v":0},""]
[{"$f":"退職所得!A72","v":0},{"$f":"退職所得!E72&\"\"","v":""},{"$f":"退職所得!K72","v":0},""]
[{"$f":"退職所得!A73","v":0},{"$f":"退職所得!E73&\"\"","v":""},{"$f":"退職所得!K73","v":0},""]
[{"$f":"退職所得!A74","v":0},{"$f":"退職所得!E74&\"\"","v":""},{"$f":"退職所得!K74","v":0},""]
[{"$f":"退職所得!A75","v":0},{"$f":"退職所得!E75&\"\"","v":""},{"$f":"退職所得!K75","v":0},""]
[{"$f":"退職所得!A76","v":0},{"$f":"退職所得!E76&\"\"","v":""},{"$f":"退職所得!K76","v":0},""]
[{"$f":"退職所得!A77","v":0},{"$f":"退職所得!E77&\"\"","v":""},{"$f":"退職所得!K77","v":0},""]
[{"$f":"退職所得!A78","v":0},{"$f":"退職所得!E78&\"\"","v":""},{"$f":"退職所得!K78","v":0},""]
[{"$f":"退職所得!A79","v":0},{"$f":"退職所得!E79&\"\"","v":""},{"$f":"退職所得!K79","v":0},""]
[{"$f":"退職所得!A80","v":0},{"$f":"退職所得!E80&\"\"","v":""},{"$f":"退職所得!K80","v":0},""]
[{"$f":"退職所得!A81","v":0},{"$f":"退職所得!E81&\"\"","v":""},{"$f":"退職所得!K81","v":0},""]
[{"$f":"退職所得!A82","v":0},{"$f":"退職所得!E82&\"\"","v":""},{"$f":"退職所得!K82","v":0},""]
[{"$f":"退職所得!A83","v":0},{"$f":"退職所得!E83&\"\"","v":""},{"$f":"退職所得!K83","v":0},""]
[{"$f":"退職所得!A84","v":0},{"$f":"退職所得!E84&\"\"","v":""},{"$f":"退職所得!K84","v":0},""]
[{"$f":"退職所得!A85","v":0},{"$f":"退職所得!E85&\"\"","v":""},{"$f":"退職所得!K85","v":0},""]
[{"$f":"退職所得!A86","v":0},{"$f":"退職所得!E86&\"\"","v":""},{"$f":"退職所得!K86","v":0},""]
[{"$f":"退職所得!A87","v":0},{"$f":"退職所得!E87&\"\"","v":""},{"$f":"退職所得!K87","v":0},""]
[{"$f":"退職所得!A88","v":0},{"$f":"退職所得!E88&\"\"","v":""},{"$f":"退職所得!K88","v":0},""]
[{"$f":"退職所得!A89","v":0},{"$f":"退職所得!E89&\"\"","v":""},{"$f":"退職所得!K89","v":0},""]
[{"$f":"退職所得!A90","v":0},{"$f":"退職所得!E90&\"\"","v":""},{"$f":"退職所得!K90","v":0},""]
[{"$f":"退職所得!A91","v":0},{"$f":"退職所得!E91&\"\"","v":""},{"$f":"退職所得!K91","v":0},""]
[{"$f":"退職所得!A92","v":0},{"$f":"退職所得!E92&\"\"","v":""},{"$f":"退職所得!K92","v":0},""]
[{"$f":"退職所得!A93","v":0},{"$f":"退職所得!E93&\"\"","v":""},{"$f":"退職所得!K93","v":0},""]
[{"$f":"退職所得!A94","v":0},{"$f":"退職所得!E94&\"\"","v":""},{"$f":"退職所得!K94","v":0},""]
[{"$f":"退職所得!A95","v":0},{"$f":"退職所得!E95&\"\"","v":""},{"$f":"退職所得!K95","v":0},""]
[{"$f":"退職所得!A96","v":0},{"$f":"退職所得!E96&\"\"","v":""},{"$f":"退職所得!K96","v":0},""]
[{"$f":"退職所得!A97","v":0},{"$f":"退職所得!E97&\"\"","v":""},{"$f":"退職所得!K97","v":0},""]
[{"$f":"退職所得!A98","v":0},{"$f":"退職所得!E98&\"\"","v":""},{"$f":"退職所得!K98","v":0},""]
[{"$f":"退職所得!A99","v":0},{"$f":"退職所得!E99&\"\"","v":""},{"$f":"退職所得!K99","v":0},""]
[{"$f":"退職所得!A100","v":0},{"$f":"退職所得!E100&\"\"","v":""},{"$f":"退職所得!K100","v":0},""]
[{"$f":"退職所得!A101","v":0},{"$f":"退職所得!E101&\"\"","v":""},{"$f":"退職所得!K101","v":0},""]
[{"$f":"退職所得!A102","v":0},{"$f":"退職所得!E102&\"\"","v":""},{"$f":"退職所得!K102","v":0},""]
[{"$f":"退職所得!A103","v":0},{"$f":"退職所得!E103&\"\"","v":""},{"$f":"退職所得!K103","v":0},""]
[{"$f":"退職所得!A104","v":0},{"$f":"退職所得!E104&\"\"","v":""},{"$f":"退職所得!K104","v":0},""]
[{"$f":"退職所得!A105","v":0},{"$f":"退職所得!E105&\"\"","v":""},{"$f":"退職所得!K105","v":0},""]
[{"$f":"退職所得!A106","v":0},{"$f":"退職所得!E106&\"\"","v":""},{"$f":"退職所得!K106","v":0},""]
[{"$f":"退職所得!A107","v":0},{"$f":"退職所得!E107&\"\"","v":""},{"$f":"退職所得!K107","v":0},{"$f":"IF(AND(C107>0,B107=\"役員\"),\"役員\",\"\")","v":""}]

{"sheet":"報酬調書集計(非)","index":25,"n_rows":107,"n_cols":50,"rows_kept":107,"cut":false,"hidden":true,"merged":[]}
["合計",null,{"$f":"SUM(C8:C999)","v":1101938},530000,0,0,0,0,0,0,97192,53092,0,0,0,0,0,0,null,"件数","個人",{"$f":"SUMIF($U$8:$U$999,$U1,V$8:V$999)","v":2},2,0,0,0,0,0,0,null,"件数","個人",{"$f":"SUMIF($AF$8:$AF$999,$AF1,AG$8:AG$999)","v":2},1,0,0,0,0,0,0,3,1451938,148242]
[null,null,null,null,null,null,null,null,null,null,null,null,null,null,null,null,null,null,null,null,"法人",1,0,0,0,0,0,0,0,null,null,"法人",1,0,0,0,0,0,0,0,1,150000,0]
[]
["号数別金額・税額の集計"]
[]
["No",null,"支払額合計",null,null,null,null,null,null,null,"税額合計",null,null,null,null,null,null,null,null,null,null,null,null,null,null,null,null,null,null,null,"提出義務しきい値",null,50000,50000,500000,500000,50000,500000,50000,5000000,null,null,null,null,"整形",null,1,2,1,2]
[null,null,1,2,3,4,5,6,7,8,1,2,3,4,5,6,7,8,null,"号数別件数計算",null,null,null,null,null,null,null,null,null,null,null,null,null,null,null,null,null,null,null,null,"提出義務の判定","金額","税額",null,null,"号該当","個人","法人","支払金額","源泉徴収税額"]
[{"$f":"報酬支払先情報!A8","v":1},{"$f":"報酬支払先情報!B8&\"\"","v":"個人"},{"$f":"SUMIF(報酬支払額!$B$10:$B$999,報酬支払先情報!$A8&\"|\"&C$7,報酬支払額!$G$10:$G$999)","v":515000},{"$f":"SUMIF(報酬支払額!$B$10:$B$999,報酬支払先情報!$A8&\"|\"&D$7,報酬支払額!$G$10:$G$999)","v":0},{"$f":"SUMIF(報酬支払額!$B$10:$B$999,報酬支払先情報!$A8&\"|\"&E$7,報酬支払額!$G$10:$G$999)","v":0},{"$f":"SUMIF(報酬支払額!$B$10:$B$999,報酬支払先情報!$A8&\"|\"&F$7,報酬支払額!$G$10:$G$999)","v":0},{"$f":"SUMIF(報酬支払額!$B$10:$B$999,報酬支払先情報!$A8&\"|\"&G$7,報酬支払額!$G$10:$G$999)","v":0},{"$f":"SUMIF(報酬支払額!$B$10:$B$999,報酬支払先情報!$A8&\"|\"&H$7,報酬支払額!$G$10:$G$999)","v":0},{"$f":"SUMIF(報酬支払額!$B$10:$B$999,報酬支払先情報!$A8&\"|\"&I$7,報酬支払額!$G$10:$G$999)","v":0},{"$f":"SUMIF(報酬支払額!$B$10:$B$999,報酬支払先情報!$A8&\"|\"&J$7,報酬支払額!$G$10:$G$999)","v":0},{"$f":"SUMIF(報酬支払額!$B$10:$B$999,報酬支払先情報!$A8&\"|\"&K$7,報酬支払額!$H$10:$H$999)","v":52581},{"$f":"SUMIF(報酬支払額!$B$10:$B$999,報酬支払先情報!$A8&\"|\"&L$7,報酬支払額!$H$10:$H$999)","v":0},{"$f":"SUMIF(報酬支払額!$B$10:$B$999,報酬支払先情報!$A8&\"|\"&M$7,報酬支払額!$H$10:$H$999)","v":0},{"$f":"SUMIF(報酬支払額!$B$10:$B$999,報酬支払先情報!$A8&\"|\"&N$7,報酬支払額!$H$10:$H$999)","v":0},{"$f":"SUMIF(報酬支払額!$B$10:$B$999,報酬支払先情報!$A8&\"|\"&O$7,報酬支払額!$H$10:$H$999)","v":0},{"$f":"SUMIF(報酬支払額!$B$10:$B$999,報酬支払先情報!$A8&\"|\"&P$7,報酬支払額!$H$10:$H$999)","v":0},{"$f":"SUMIF(報酬支払額!$B$10:$B$999,報酬支払先情報!$A8&\"|\"&Q$7,報酬支払額!$H$10:$H$999)","v":0},{"$f":"SUMIF(報酬支払額!$B$10:$B$999,報酬支払先情報!$A8&\"|\"&R$7,報酬支払額!$H$10:$H$999)","v":0},null,{"$f":"A8","v":1},{"$f":"B8","v":"個人"},{"$f":"IF(C8>0,1,0)","v":1},{"$f":"IF(D8>0,1,0)","v":0},{"$f":"IF(E8>0,1,0)","v":0},{"$f":"IF(F8>0,1,0)","v":0},{"$f":"IF(G8>0,1,0)","v":0},{"$f":"IF(H8>0,1,0)","v":0},{"$f":"IF(I8>0,1,0)","v":0},{"$f":"IF(J8>0,1,0)","v":0},null,{"$f":"A8","v":1},{"$f":"U8","v":"個人"},{"$f":"IF(C8>AG$6,1,0)","v":1},{"$f":"IF(D8>AH$6,1,0)","v":0},{"$f":"IF(E8>AI$6,1,0)","v":0},{"$f":"IF(F8>AJ$6,1,0)","v":0},{"$f":"IF(G8>AK$6,1,0)","v":0},{"$f":"IF(H8>AL$6,1,0)","v":0},{"$f":"IF(I8>AM$6,1,0)","v":0},{"$f":"IF(J8>AN$6,1,0)","v":0},{"$f":"SUM(AG8:AN8)","v":1},{"$f":"IF($AO8>0,SUM(C8:J8),0)","v":515000},{"$f":"IF($AO8>0,SUM(K8:R8),0)","v":52581},null,null,1,{"$f":"INDEX($V$1:$AC$2,AU$6,$AT8)","v":2},{"$f":"INDEX($V$1:$AC$2,AV$6,$AT8)","v":1},{"$f":"INDEX($C$1:$J$1,1,$AT8)","v":1101938},{"$f":"INDEX($K$1:$R$1,1,$AT8)","v":97192}]
[{"$f":"報酬支払先情報!A9","v":2},{"$f":"報酬支払先情報!B9&\"\"","v":"個人"},{"$f":"SUMIF(報酬支払額!$B$10:$B$999,報酬支払先情報!$A9&\"|\"&C$7,報酬支払額!$G$10:$G$999)","v":0},{"$f":"SUMIF(報酬支払額!$B$10:$B$999,報酬支払先情報!$A9&\"|\"&D$7,報酬支払額!$G$10:$G$999)","v":500000},{"$f":"SUMIF(報酬支払額!$B$10:$B$999,報酬支払先情報!$A9&\"|\"&E$7,報酬支払額!$G$10:$G$999)","v":0},{"$f":"SUMIF(報酬支払額!$B$10:$B$999,報酬支払先情報!$A9&\"|\"&F$7,報酬支払額!$G$10:$G$999)","v":0},{"$f":"SUMIF(報酬支払額!$B$10:$B$999,報酬支払先情報!$A9&\"|\"&G$7,報酬支払額!$G$10:$G$999)","v":0},{"$f":"SUMIF(報酬支払額!$B$10:$B$999,報酬支払先情報!$A9&\"|\"&H$7,報酬支払額!$G$10:$G$999)","v":0},{"$f":"SUMIF(報酬支払額!$B$10:$B$999,報酬支払先情報!$A9&\"|\"&I$7,報酬支払額!$G$10:$G$999)","v":0},{"$f":"SUMIF(報酬支払額!$B$10:$B$999,報酬支払先情報!$A9&\"|\"&J$7,報酬支払額!$G$10:$G$999)","v":0},{"$f":"SUMIF(報酬支払額!$B$10:$B$999,報酬支払先情報!$A9&\"|\"&K$7,報酬支払額!$H$10:$H$999)","v":0},{"$f":"SUMIF(報酬支払額!$B$10:$B$999,報酬支払先情報!$A9&\"|\"&L$7,報酬支払額!$H$10:$H$999)","v":51050},{"$f":"SUMIF(報酬支払額!$B$10:$B$999,報酬支払先情報!$A9&\"|\"&M$7,報酬支払額!$H$10:$H$999)","v":0},{"$f":"SUMIF(報酬支払額!$B$10:$B$999,報酬支払先情報!$A9&\"|\"&N$7,報酬支払額!$H$10:$H$999)","v":0},{"$f":"SUMIF(報酬支払額!$B$10:$B$999,報酬支払先情報!$A9&\"|\"&O$7,報酬支払額!$H$10:$H$999)","v":0},{"$f":"SUMIF(報酬支払額!$B$10:$B$999,報酬支払先情報!$A9&\"|\"&P$7,報酬支払額!$H$10:$H$999)","v":0},{"$f":"SUMIF(報酬支払額!$B$10:$B$999,報酬支払先情報!$A9&\"|\"&Q$7,報酬支払額!$H$10:$H$999)","v":0},{"$f":"SUMIF(報酬支払額!$B$10:$B$999,報酬支払先情報!$A9&\"|\"&R$7,報酬支払額!$H$10:$H$999)","v":0},null,2,{"$f":"B9","v":"個人"},{"$f":"IF(C9>0,1,0)","v":0},{"$f":"IF(D9>0,1,0)","v":1},{"$f":"IF(E9>0,1,0)","v":0},{"$f":"IF(F9>0,1,0)","v":0},{"$f":"IF(G9>0,1,0)","v":0},{"$f":"IF(H9>0,1,0)","v":0},{"$f":"IF(I9>0,1,0)","v":0},{"$f":"IF(J9>0,1,0)","v":0},null,{"$f":"A9","v":2},{"$f":"U9","v":"個人"},{"$f":"IF(C9>AG$6,1,0)","v":0},{"$f":"IF(D9>AH$6,1,0)","v":1},{"$f":"IF(E9>AI$6,1,0)","v":0},{"$f":"IF(F9>AJ$6,1,0)","v":0},{"$f":"IF(G9>AK$6,1,0)","v":0},{"$f":"IF(H9>AL$6,1,0)","v":0},{"$f":"IF(I9>AM$6,1,0)","v":0},{"$f":"IF(J9>AN$6,1,0)","v":0},{"$f":"SUM(AG9:AN9)","v":1},{"$f":"IF($AO9>0,SUM(C9:J9),0)","v":500000},{"$f":"IF($AO9>0,SUM(K9:R9),0)","v":51050}]
[{"$f":"報酬支払先情報!A10","v":3},{"$f":"報酬支払先情報!B10&\"\"","v":"個人"},{"$f":"SUMIF(報酬支払額!$B$10:$B$999,報酬支払先情報!$A10&\"|\"&C$7,報酬支払額!$G$10:$G$999)","v":0},{"$f":"SUMIF(報酬支払額!$B$10:$B$999,報酬支払先情報!$A10&\"|\"&D$7,報酬支払額!$G$10:$G$999)","v":30000},{"$f":"SUMIF(報酬支払額!$B$10:$B$999,報酬支払先情報!$A10&\"|\"&E$7,報酬支払額!$G$10:$G$999)","v":0},{"$f":"SUMIF(報酬支払額!$B$10:$B$999,報酬支払先情報!$A10&\"|\"&F$7,報酬支払額!$G$10:$G$999)","v":0},{"$f":"SUMIF(報酬支払額!$B$10:$B$999,報酬支払先情報!$A10&\"|\"&G$7,報酬支払額!$G$10:$G$999)","v":0},{"$f":"SUMIF(報酬支払額!$B$10:$B$999,報酬支払先情報!$A10&\"|\"&H$7,報酬支払額!$G$10:$G$999)","v":0},{"$f":"SUMIF(報酬支払額!$B$10:$B$999,報酬支払先情報!$A10&\"|\"&I$7,報酬支払額!$G$10:$G$999)","v":0},{"$f":"SUMIF(報酬支払額!$B$10:$B$999,報酬支払先情報!$A10&\"|\"&J$7,報酬支払額!$G$10:$G$999)","v":0},{"$f":"SUMIF(報酬支払額!$B$10:$B$999,報酬支払先情報!$A10&\"|\"&K$7,報酬支払額!$H$10:$H$999)","v":0},{"$f":"SUMIF(報酬支払額!$B$10:$B$999,報酬支払先情報!$A10&\"|\"&L$7,報酬支払額!$H$10:$H$999)","v":2042},{"$f":"SUMIF(報酬支払額!$B$10:$B$999,報酬支払先情報!$A10&\"|\"&M$7,報酬支払額!$H$10:$H$999)","v":0},{"$f":"SUMIF(報酬支払額!$B$10:$B$999,報酬支払先情報!$A10&\"|\"&N$7,報酬支払額!$H$10:$H$999)","v":0},{"$f":"SUMIF(報酬支払額!$B$10:$B$999,報酬支払先情報!$A10&\"|\"&O$7,報酬支払額!$H$10:$H$999)","v":0},{"$f":"SUMIF(報酬支払額!$B$10:$B$999,報酬支払先情報!$A10&\"|\"&P$7,報酬支払額!$H$10:$H$999)","v":0},{"$f":"SUMIF(報酬支払額!$B$10:$B$999,報酬支払先情報!$A10&\"|\"&Q$7,報酬支払額!$H$10:$H$999)","v":0},{"$f":"SUMIF(報酬支払額!$B$10:$B$999,報酬支払先情報!$A10&\"|\"&R$7,報酬支払額!$H$10:$H$999)","v":0},null,3,"個人",0,1,0,0,0,0,0,0,null,3,"個人",0,0,0,0,0,0,0,0,0,0,0,null,null,2,{"$f":"INDEX($V$1:$AC$2,AU$6,$AT10)","v":2},{"$f":"INDEX($V$1:$AC$2,AV$6,$AT10)","v":0},{"$f":"INDEX($C$1:$J$1,1,$AT10)","v":530000},{"$f":"INDEX($K$1:$R$1,1,$AT10)","v":53092}]
[{"$f":"報酬支払先情報!A11","v":4},{"$f":"報酬支払先情報!B11&\"\"","v":"個人"},{"$f":"SUMIF(報酬支払額!$B$10:$B$999,報酬支払先情報!$A11&\"|\"&C$7,報酬支払額!$G$10:$G$999)","v":436938},{"$f":"SUMIF(報酬支払額!$B$10:$B$999,報酬支払先情報!$A11&\"|\"&D$7,報酬支払額!$G$10:$G$999)","v":0},{"$f":"SUMIF(報酬支払額!$B$10:$B$999,報酬支払先情報!$A11&\"|\"&E$7,報酬支払額!$G$10:$G$999)","v":0},{"$f":"SUMIF(報酬支払額!$B$10:$B$999,報酬支払先情報!$A11&\"|\"&F$7,報酬支払額!$G$10:$G$999)","v":0},{"$f":"SUMIF(報酬支払額!$B$10:$B$999,報酬支払先情報!$A11&\"|\"&G$7,報酬支払額!$G$10:$G$999)","v":0},{"$f":"SUMIF(報酬支払額!$B$10:$B$999,報酬支払先情報!$A11&\"|\"&H$7,報酬支払額!$G$10:$G$999)","v":0},{"$f":"SUMIF(報酬支払額!$B$10:$B$999,報酬支払先情報!$A11&\"|\"&I$7,報酬支払額!$G$10:$G$999)","v":0},{"$f":"SUMIF(報酬支払額!$B$10:$B$999,報酬支払先情報!$A11&\"|\"&J$7,報酬支払額!$G$10:$G$999)","v":0},{"$f":"SUMIF(報酬支払額!$B$10:$B$999,報酬支払先情報!$A11&\"|\"&K$7,報酬支払額!$H$10:$H$999)","v":44611},{"$f":"SUMIF(報酬支払額!$B$10:$B$999,報酬支払先情報!$A11&\"|\"&L$7,報酬支払額!$H$10:$H$999)","v":0},{"$f":"SUMIF(報酬支払額!$B$10:$B$999,報酬支払先情報!$A11&\"|\"&M$7,報酬支払額!$H$10:$H$999)","v":0},{"$f":"SUMIF(報酬支払額!$B$10:$B$999,報酬支払先情報!$A11&\"|\"&N$7,報酬支払額!$H$10:$H$999)","v":0},{"$f":"SUMIF(報酬支払額!$B$10:$B$999,報酬支払先情報!$A11&\"|\"&O$7,報酬支払額!$H$10:$H$999)","v":0},{"$f":"SUMIF(報酬支払額!$B$10:$B$999,報酬支払先情報!$A11&\"|\"&P$7,報酬支払額!$H$10:$H$999)","v":0},{"$f":"SUMIF(報酬支払額!$B$10:$B$999,報酬支払先情報!$A11&\"|\"&Q$7,報酬支払額!$H$10:$H$999)","v":0},{"$f":"SUMIF(報酬支払額!$B$10:$B$999,報酬支払先情報!$A11&\"|\"&R$7,報酬支払額!$H$10:$H$999)","v":0},null,4,"個人",1,0,0,0,0,0,0,0,null,4,"個人",1,0,0,0,0,0,0,0,1,436938,44611]
[{"$f":"報酬支払先情報!A12","v":5},{"$f":"報酬支払先情報!B12&\"\"","v":"法人"},{"$f":"SUMIF(報酬支払額!$B$10:$B$999,報酬支払先情報!$A12&\"|\"&C$7,報酬支払額!$G$10:$G$999)","v":150000},{"$f":"SUMIF(報酬支払額!$B$10:$B$999,報酬支払先情報!$A12&\"|\"&D$7,報酬支払額!$G$10:$G$999)","v":0},{"$f":"SUMIF(報酬支払額!$B$10:$B$999,報酬支払先情報!$A12&\"|\"&E$7,報酬支払額!$G$10:$G$999)","v":0},{"$f":"SUMIF(報酬支払額!$B$10:$B$999,報酬支払先情報!$A12&\"|\"&F$7,報酬支払額!$G$10:$G$999)","v":0},{"$f":"SUMIF(報酬支払額!$B$10:$B$999,報酬支払先情報!$A12&\"|\"&G$7,報酬支払額!$G$10:$G$999)","v":0},{"$f":"SUMIF(報酬支払額!$B$10:$B$999,報酬支払先情報!$A12&\"|\"&H$7,報酬支払額!$G$10:$G$999)","v":0},{"$f":"SUMIF(報酬支払額!$B$10:$B$999,報酬支払先情報!$A12&\"|\"&I$7,報酬支払額!$G$10:$G$999)","v":0},{"$f":"SUMIF(報酬支払額!$B$10:$B$999,報酬支払先情報!$A12&\"|\"&J$7,報酬支払額!$G$10:$G$999)","v":0},{"$f":"SUMIF(報酬支払額!$B$10:$B$999,報酬支払先情報!$A12&\"|\"&K$7,報酬支払額!$H$10:$H$999)","v":0},{"$f":"SUMIF(報酬支払額!$B$10:$B$999,報酬支払先情報!$A12&\"|\"&L$7,報酬支払額!$H$10:$H$999)","v":0},{"$f":"SUMIF(報酬支払額!$B$10:$B$999,報酬支払先情報!$A12&\"|\"&M$7,報酬支払額!$H$10:$H$999)","v":0},{"$f":"SUMIF(報酬支払額!$B$10:$B$999,報酬支払先情報!$A12&\"|\"&N$7,報酬支払額!$H$10:$H$999)","v":0},{"$f":"SUMIF(報酬支払額!$B$10:$B$999,報酬支払先情報!$A12&\"|\"&O$7,報酬支払額!$H$10:$H$999)","v":0},{"$f":"SUMIF(報酬支払額!$B$10:$B$999,報酬支払先情報!$A12&\"|\"&P$7,報酬支払額!$H$10:$H$999)","v":0},{"$f":"SUMIF(報酬支払額!$B$10:$B$999,報酬支払先情報!$A12&\"|\"&Q$7,報酬支払額!$H$10:$H$999)","v":0},{"$f":"SUMIF(報酬支払額!$B$10:$B$999,報酬支払先情報!$A12&\"|\"&R$7,報酬支払額!$H$10:$H$999)","v":0},null,5,"法人",1,0,0,0,0,0,0,0,null,5,"法人",1,0,0,0,0,0,0,0,1,150000,0,null,null,3,{"$f":"INDEX($V$1:$AC$2,AU$6,$AT12)","v":0},{"$f":"INDEX($V$1:$AC$2,AV$6,$AT12)","v":0},{"$f":"INDEX($C$1:$J$1,1,$AT12)","v":0},{"$f":"INDEX($K$1:$R$1,1,$AT12)","v":0}]
[{"$f":"報酬支払先情報!A13","v":6},{"$f":"報酬支払先情報!B13&\"\"","v":""},{"$f":"SUMIF(報酬支払額!$B$10:$B$999,報酬支払先情報!$A13&\"|\"&C$7,報酬支払額!$G$10:$G$999)","v":0},{"$f":"SUMIF(報酬支払額!$B$10:$B$999,報酬支払先情報!$A13&\"|\"&D$7,報酬支払額!$G$10:$G$999)","v":0},{"$f":"SUMIF(報酬支払額!$B$10:$B$999,報酬支払先情報!$A13&\"|\"&E$7,報酬支払額!$G$10:$G$999)","v":0},{"$f":"SUMIF(報酬支払額!$B$10:$B$999,報酬支払先情報!$A13&\"|\"&F$7,報酬支払額!$G$10:$G$999)","v":0},{"$f":"SUMIF(報酬支払額!$B$10:$B$999,報酬支払先情報!$A13&\"|\"&G$7,報酬支払額!$G$10:$G$999)","v":0},{"$f":"SUMIF(報酬支払額!$B$10:$B$999,報酬支払先情報!$A13&\"|\"&H$7,報酬支払額!$G$10:$G$999)","v":0},{"$f":"SUMIF(報酬支払額!$B$10:$B$999,報酬支払先情報!$A13&\"|\"&I$7,報酬支払額!$G$10:$G$999)","v":0},{"$f":"SUMIF(報酬支払額!$B$10:$B$999,報酬支払先情報!$A13&\"|\"&J$7,報酬支払額!$G$10:$G$999)","v":0},{"$f":"SUMIF(報酬支払額!$B$10:$B$999,報酬支払先情報!$A13&\"|\"&K$7,報酬支払額!$H$10:$H$999)","v":0},{"$f":"SUMIF(報酬支払額!$B$10:$B$999,報酬支払先情報!$A13&\"|\"&L$7,報酬支払額!$H$10:$H$999)","v":0},{"$f":"SUMIF(報酬支払額!$B$10:$B$999,報酬支払先情報!$A13&\"|\"&M$7,報酬支払額!$H$10:$H$999)","v":0},{"$f":"SUMIF(報酬支払額!$B$10:$B$999,報酬支払先情報!$A13&\"|\"&N$7,報酬支払額!$H$10:$H$999)","v":0},{"$f":"SUMIF(報酬支払額!$B$10:$B$999,報酬支払先情報!$A13&\"|\"&O$7,報酬支払額!$H$10:$H$999)","v":0},{"$f":"SUMIF(報酬支払額!$B$10:$B$999,報酬支払先情報!$A13&\"|\"&P$7,報酬支払額!$H$10:$H$999)","v":0},{"$f":"SUMIF(報酬支払額!$B$10:$B$999,報酬支払先情報!$A13&\"|\"&Q$7,報酬支払額!$H$10:$H$999)","v":0},{"$f":"SUMIF(報酬支払額!$B$10:$B$999,報酬支払先情報!$A13&\"|\"&R$7,報酬支払額!$H$10:$H$999)","v":0},null,6,"",0,0,0,0,0,0,0,0,null,6,"",0,0,0,0,0,0,0,0,0,0,0]
[{"$f":"報酬支払先情報!A14","v":7},{"$f":"報酬支払先情報!B14&\"\"","v":""},{"$f":"SUMIF(報酬支払額!$B$10:$B$999,報酬支払先情報!$A14&\"|\"&C$7,報酬支払額!$G$10:$G$999)","v":0},{"$f":"SUMIF(報酬支払額!$B$10:$B$999,報酬支払先情報!$A14&\"|\"&D$7,報酬支払額!$G$10:$G$999)","v":0},{"$f":"SUMIF(報酬支払額!$B$10:$B$999,報酬支払先情報!$A14&\"|\"&E$7,報酬支払額!$G$10:$G$999)","v":0},{"$f":"SUMIF(報酬支払額!$B$10:$B$999,報酬支払先情報!$A14&\"|\"&F$7,報酬支払額!$G$10:$G$999)","v":0},{"$f":"SUMIF(報酬支払額!$B$10:$B$999,報酬支払先情報!$A14&\"|\"&G$7,報酬支払額!$G$10:$G$999)","v":0},{"$f":"SUMIF(報酬支払額!$B$10:$B$999,報酬支払先情報!$A14&\"|\"&H$7,報酬支払額!$G$10:$G$999)","v":0},{"$f":"SUMIF(報酬支払額!$B$10:$B$999,報酬支払先情報!$A14&\"|\"&I$7,報酬支払額!$G$10:$G$999)","v":0},{"$f":"SUMIF(報酬支払額!$B$10:$B$999,報酬支払先情報!$A14&\"|\"&J$7,報酬支払額!$G$10:$G$999)","v":0},{"$f":"SUMIF(報酬支払額!$B$10:$B$999,報酬支払先情報!$A14&\"|\"&K$7,報酬支払額!$H$10:$H$999)","v":0},{"$f":"SUMIF(報酬支払額!$B$10:$B$999,報酬支払先情報!$A14&\"|\"&L$7,報酬支払額!$H$10:$H$999)","v":0},{"$f":"SUMIF(報酬支払額!$B$10:$B$999,報酬支払先情報!$A14&\"|\"&M$7,報酬支払額!$H$10:$H$999)","v":0},{"$f":"SUMIF(報酬支払額!$B$10:$B$999,報酬支払先情報!$A14&\"|\"&N$7,報酬支払額!$H$10:$H$999)","v":0},{"$f":"SUMIF(報酬支払額!$B$10:$B$999,報酬支払先情報!$A14&\"|\"&O$7,報酬支払額!$H$10:$H$999)","v":0},{"$f":"SUMIF(報酬支払額!$B$10:$B$999,報酬支払先情報!$A14&\"|\"&P$7,報酬支払額!$H$10:$H$999)","v":0},{"$f":"SUMIF(報酬支払額!$B$10:$B$999,報酬支払先情報!$A14&\"|\"&Q$7,報酬支払額!$H$10:$H$999)","v":0},{"$f":"SUMIF(報酬支払額!$B$10:$B$999,報酬支払先情報!$A14&\"|\"&R$7,報酬支払額!$H$10:$H$999)","v":0},null,7,"",0,0,0,0,0,0,0,0,null,7,"",0,0,0,0,0,0,0,0,0,0,0,null,null,4,{"$f":"INDEX($V$1:$AC$2,AU$6,$AT14)","v":0},{"$f":"INDEX($V$1:$AC$2,AV$6,$AT14)","v":0},{"$f":"INDEX($C$1:$J$1,1,$AT14)","v":0},{"$f":"INDEX($K$1:$R$1,1,$AT14)","v":0}]
[{"$f":"報酬支払先情報!A15","v":8},{"$f":"報酬支払先情報!B15&\"\"","v":""},{"$f":"SUMIF(報酬支払額!$B$10:$B$999,報酬支払先情報!$A15&\"|\"&C$7,報酬支払額!$G$10:$G$999)","v":0},{"$f":"SUMIF(報酬支払額!$B$10:$B$999,報酬支払先情報!$A15&\"|\"&D$7,報酬支払額!$G$10:$G$999)","v":0},{"$f":"SUMIF(報酬支払額!$B$10:$B$999,報酬支払先情報!$A15&\"|\"&E$7,報酬支払額!$G$10:$G$999)","v":0},{"$f":"SUMIF(報酬支払額!$B$10:$B$999,報酬支払先情報!$A15&\"|\"&F$7,報酬支払額!$G$10:$G$999)","v":0},{"$f":"SUMIF(報酬支払額!$B$10:$B$999,報酬支払先情報!$A15&\"|\"&G$7,報酬支払額!$G$10:$G$999)","v":0},{"$f":"SUMIF(報酬支払額!$B$10:$B$999,報酬支払先情報!$A15&\"|\"&H$7,報酬支払額!$G$10:$G$999)","v":0},{"$f":"SUMIF(報酬支払額!$B$10:$B$999,報酬支払先情報!$A15&\"|\"&I$7,報酬支払額!$G$10:$G$999)","v":0},{"$f":"SUMIF(報酬支払額!$B$10:$B$999,報酬支払先情報!$A15&\"|\"&J$7,報酬支払額!$G$10:$G$999)","v":0},{"$f":"SUMIF(報酬支払額!$B$10:$B$999,報酬支払先情報!$A15&\"|\"&K$7,報酬支払額!$H$10:$H$999)","v":0},{"$f":"SUMIF(報酬支払額!$B$10:$B$999,報酬支払先情報!$A15&\"|\"&L$7,報酬支払額!$H$10:$H$999)","v":0},{"$f":"SUMIF(報酬支払額!$B$10:$B$999,報酬支払先情報!$A15&\"|\"&M$7,報酬支払額!$H$10:$H$999)","v":0},{"$f":"SUMIF(報酬支払額!$B$10:$B$999,報酬支払先情報!$A15&\"|\"&N$7,報酬支払額!$H$10:$H$999)","v":0},{"$f":"SUMIF(報酬支払額!$B$10:$B$999,報酬支払先情報!$A15&\"|\"&O$7,報酬支払額!$H$10:$H$999)","v":0},{"$f":"SUMIF(報酬支払額!$B$10:$B$999,報酬支払先情報!$A15&\"|\"&P$7,報酬支払額!$H$10:$H$999)","v":0},{"$f":"SUMIF(報酬支払額!$B$10:$B$999,報酬支払先情報!$A15&\"|\"&Q$7,報酬支払額!$H$10:$H$999)","v":0},{"$f":"SUMIF(報酬支払額!$B$10:$B$999,報酬支払先情報!$A15&\"|\"&R$7,報酬支払額!$H$10:$H$999)","v":0},null,8,"",0,0,0,0,0,0,0,0,null,8,"",0,0,0,0,0,0,0,0,0,0,0]
[{"$f":"報酬支払先情報!A16","v":9},{"$f":"報酬支払先情報!B16&\"\"","v":""},{"$f":"SUMIF(報酬支払額!$B$10:$B$999,報酬支払先情報!$A16&\"|\"&C$7,報酬支払額!$G$10:$G$999)","v":0},{"$f":"SUMIF(報酬支払額!$B$10:$B$999,報酬支払先情報!$A16&\"|\"&D$7,報酬支払額!$G$10:$G$999)","v":0},{"$f":"SUMIF(報酬支払額!$B$10:$B$999,報酬支払先情報!$A16&\"|\"&E$7,報酬支払額!$G$10:$G$999)","v":0},{"$f":"SUMIF(報酬支払額!$B$10:$B$999,報酬支払先情報!$A16&\"|\"&F$7,報酬支払額!$G$10:$G$999)","v":0},{"$f":"SUMIF(報酬支払額!$B$10:$B$999,報酬支払先情報!$A16&\"|\"&G$7,報酬支払額!$G$10:$G$999)","v":0},{"$f":"SUMIF(報酬支払額!$B$10:$B$999,報酬支払先情報!$A16&\"|\"&H$7,報酬支払額!$G$10:$G$999)","v":0},{"$f":"SUMIF(報酬支払額!$B$10:$B$999,報酬支払先情報!$A16&\"|\"&I$7,報酬支払額!$G$10:$G$999)","v":0},{"$f":"SUMIF(報酬支払額!$B$10:$B$999,報酬支払先情報!$A16&\"|\"&J$7,報酬支払額!$G$10:$G$999)","v":0},{"$f":"SUMIF(報酬支払額!$B$10:$B$999,報酬支払先情報!$A16&\"|\"&K$7,報酬支払額!$H$10:$H$999)","v":0},{"$f":"SUMIF(報酬支払額!$B$10:$B$999,報酬支払先情報!$A16&\"|\"&L$7,報酬支払額!$H$10:$H$999)","v":0},{"$f":"SUMIF(報酬支払額!$B$10:$B$999,報酬支払先情報!$A16&\"|\"&M$7,報酬支払額!$H$10:$H$999)","v":0},{"$f":"SUMIF(報酬支払額!$B$10:$B$999,報酬支払先情報!$A16&\"|\"&N$7,報酬支払額!$H$10:$H$999)","v":0},{"$f":"SUMIF(報酬支払額!$B$10:$B$999,報酬支払先情報!$A16&\"|\"&O$7,報酬支払額!$H$10:$H$999)","v":0},{"$f":"SUMIF(報酬支払額!$B$10:$B$999,報酬支払先情報!$A16&\"|\"&P$7,報酬支払額!$H$10:$H$999)","v":0},{"$f":"SUMIF(報酬支払額!$B$10:$B$999,報酬支払先情報!$A16&\"|\"&Q$7,報酬支払額!$H$10:$H$999)","v":0},{"$f":"SUMIF(報酬支払額!$B$10:$B$999,報酬支払先情報!$A16&\"|\"&R$7,報酬支払額!$H$10:$H$999)","v":0},null,9,"",0,0,0,0,0,0,0,0,null,9,"",0,0,0,0,0,0,0,0,0,0,0,null,null,5,{"$f":"INDEX($V$1:$AC$2,AU$6,$AT16)","v":0},{"$f":"INDEX($V$1:$AC$2,AV$6,$AT16)","v":0},{"$f":"INDEX($C$1:$J$1,1,$AT16)","v":0},{"$f":"INDEX($K$1:$R$1,1,$AT16)","v":0}]
[{"$f":"報酬支払先情報!A17","v":10},{"$f":"報酬支払先情報!B17&\"\"","v":""},{"$f":"SUMIF(報酬支払額!$B$10:$B$999,報酬支払先情報!$A17&\"|\"&C$7,報酬支払額!$G$10:$G$999)","v":0},{"$f":"SUMIF(報酬支払額!$B$10:$B$999,報酬支払先情報!$A17&\"|\"&D$7,報酬支払額!$G$10:$G$999)","v":0},{"$f":"SUMIF(報酬支払額!$B$10:$B$999,報酬支払先情報!$A17&\"|\"&E$7,報酬支払額!$G$10:$G$999)","v":0},{"$f":"SUMIF(報酬支払額!$B$10:$B$999,報酬支払先情報!$A17&\"|\"&F$7,報酬支払額!$G$10:$G$999)","v":0},{"$f":"SUMIF(報酬支払額!$B$10:$B$999,報酬支払先情報!$A17&\"|\"&G$7,報酬支払額!$G$10:$G$999)","v":0},{"$f":"SUMIF(報酬支払額!$B$10:$B$999,報酬支払先情報!$A17&\"|\"&H$7,報酬支払額!$G$10:$G$999)","v":0},{"$f":"SUMIF(報酬支払額!$B$10:$B$999,報酬支払先情報!$A17&\"|\"&I$7,報酬支払額!$G$10:$G$999)","v":0},{"$f":"SUMIF(報酬支払額!$B$10:$B$999,報酬支払先情報!$A17&\"|\"&J$7,報酬支払額!$G$10:$G$999)","v":0},{"$f":"SUMIF(報酬支払額!$B$10:$B$999,報酬支払先情報!$A17&\"|\"&K$7,報酬支払額!$H$10:$H$999)","v":0},{"$f":"SUMIF(報酬支払額!$B$10:$B$999,報酬支払先情報!$A17&\"|\"&L$7,報酬支払額!$H$10:$H$999)","v":0},{"$f":"SUMIF(報酬支払額!$B$10:$B$999,報酬支払先情報!$A17&\"|\"&M$7,報酬支払額!$H$10:$H$999)","v":0},{"$f":"SUMIF(報酬支払額!$B$10:$B$999,報酬支払先情報!$A17&\"|\"&N$7,報酬支払額!$H$10:$H$999)","v":0},{"$f":"SUMIF(報酬支払額!$B$10:$B$999,報酬支払先情報!$A17&\"|\"&O$7,報酬支払額!$H$10:$H$999)","v":0},{"$f":"SUMIF(報酬支払額!$B$10:$B$999,報酬支払先情報!$A17&\"|\"&P$7,報酬支払額!$H$10:$H$999)","v":0},{"$f":"SUMIF(報酬支払額!$B$10:$B$999,報酬支払先情報!$A17&\"|\"&Q$7,報酬支払額!$H$10:$H$999)","v":0},{"$f":"SUMIF(報酬支払額!$B$10:$B$999,報酬支払先情報!$A17&\"|\"&R$7,報酬支払額!$H$10:$H$999)","v":0},null,10,"",0,0,0,0,0,0,0,0,null,10,"",0,0,0,0,0,0,0,0,0,0,0]
[{"$f":"報酬支払先情報!A18","v":11},{"$f":"報酬支払先情報!B18&\"\"","v":""},{"$f":"SUMIF(報酬支払額!$B$10:$B$999,報酬支払先情報!$A18&\"|\"&C$7,報酬支払額!$G$10:$G$999)","v":0},{"$f":"SUMIF(報酬支払額!$B$10:$B$999,報酬支払先情報!$A18&\"|\"&D$7,報酬支払額!$G$10:$G$999)","v":0},{"$f":"SUMIF(報酬支払額!$B$10:$B$999,報酬支払先情報!$A18&\"|\"&E$7,報酬支払額!$G$10:$G$999)","v":0},{"$f":"SUMIF(報酬支払額!$B$10:$B$999,報酬支払先情報!$A18&\"|\"&F$7,報酬支払額!$G$10:$G$999)","v":0},{"$f":"SUMIF(報酬支払額!$B$10:$B$999,報酬支払先情報!$A18&\"|\"&G$7,報酬支払額!$G$10:$G$999)","v":0},{"$f":"SUMIF(報酬支払額!$B$10:$B$999,報酬支払先情報!$A18&\"|\"&H$7,報酬支払額!$G$10:$G$999)","v":0},{"$f":"SUMIF(報酬支払額!$B$10:$B$999,報酬支払先情報!$A18&\"|\"&I$7,報酬支払額!$G$10:$G$999)","v":0},{"$f":"SUMIF(報酬支払額!$B$10:$B$999,報酬支払先情報!$A18&\"|\"&J$7,報酬支払額!$G$10:$G$999)","v":0},{"$f":"SUMIF(報酬支払額!$B$10:$B$999,報酬支払先情報!$A18&\"|\"&K$7,報酬支払額!$H$10:$H$999)","v":0},{"$f":"SUMIF(報酬支払額!$B$10:$B$999,報酬支払先情報!$A18&\"|\"&L$7,報酬支払額!$H$10:$H$999)","v":0},{"$f":"SUMIF(報酬支払額!$B$10:$B$999,報酬支払先情報!$A18&\"|\"&M$7,報酬支払額!$H$10:$H$999)","v":0},{"$f":"SUMIF(報酬支払額!$B$10:$B$999,報酬支払先情報!$A18&\"|\"&N$7,報酬支払額!$H$10:$H$999)","v":0},{"$f":"SUMIF(報酬支払額!$B$10:$B$999,報酬支払先情報!$A18&\"|\"&O$7,報酬支払額!$H$10:$H$999)","v":0},{"$f":"SUMIF(報酬支払額!$B$10:$B$999,報酬支払先情報!$A18&\"|\"&P$7,報酬支払額!$H$10:$H$999)","v":0},{"$f":"SUMIF(報酬支払額!$B$10:$B$999,報酬支払先情報!$A18&\"|\"&Q$7,報酬支払額!$H$10:$H$999)","v":0},{"$f":"SUMIF(報酬支払額!$B$10:$B$999,報酬支払先情報!$A18&\"|\"&R$7,報酬支払額!$H$10:$H$999)","v":0},null,11,"",0,0,0,0,0,0,0,0,null,11,"",0,0,0,0,0,0,0,0,0,0,0,null,null,6,{"$f":"INDEX($V$1:$AC$2,AU$6,$AT18)","v":0},{"$f":"INDEX($V$1:$AC$2,AV$6,$AT18)","v":0},{"$f":"INDEX($C$1:$J$1,1,$AT18)","v":0},{"$f":"INDEX($K$1:$R$1,1,$AT18)","v":0}]
[{"$f":"報酬支払先情報!A19","v":12},{"$f":"報酬支払先情報!B19&\"\"","v":""},{"$f":"SUMIF(報酬支払額!$B$10:$B$999,報酬支払先情報!$A19&\"|\"&C$7,報酬支払額!$G$10:$G$999)","v":0},{"$f":"SUMIF(報酬支払額!$B$10:$B$999,報酬支払先情報!$A19&\"|\"&D$7,報酬支払額!$G$10:$G$999)","v":0},{"$f":"SUMIF(報酬支払額!$B$10:$B$999,報酬支払先情報!$A19&\"|\"&E$7,報酬支払額!$G$10:$G$999)","v":0},{"$f":"SUMIF(報酬支払額!$B$10:$B$999,報酬支払先情報!$A19&\"|\"&F$7,報酬支払額!$G$10:$G$999)","v":0},{"$f":"SUMIF(報酬支払額!$B$10:$B$999,報酬支払先情報!$A19&\"|\"&G$7,報酬支払額!$G$10:$G$999)","v":0},{"$f":"SUMIF(報酬支払額!$B$10:$B$999,報酬支払先情報!$A19&\"|\"&H$7,報酬支払額!$G$10:$G$999)","v":0},{"$f":"SUMIF(報酬支払額!$B$10:$B$999,報酬支払先情報!$A19&\"|\"&I$7,報酬支払額!$G$10:$G$999)","v":0},{"$f":"SUMIF(報酬支払額!$B$10:$B$999,報酬支払先情報!$A19&\"|\"&J$7,報酬支払額!$G$10:$G$999)","v":0},{"$f":"SUMIF(報酬支払額!$B$10:$B$999,報酬支払先情報!$A19&\"|\"&K$7,報酬支払額!$H$10:$H$999)","v":0},{"$f":"SUMIF(報酬支払額!$B$10:$B$999,報酬支払先情報!$A19&\"|\"&L$7,報酬支払額!$H$10:$H$999)","v":0},{"$f":"SUMIF(報酬支払額!$B$10:$B$999,報酬支払先情報!$A19&\"|\"&M$7,報酬支払額!$H$10:$H$999)","v":0},{"$f":"SUMIF(報酬支払額!$B$10:$B$999,報酬支払先情報!$A19&\"|\"&N$7,報酬支払額!$H$10:$H$999)","v":0},{"$f":"SUMIF(報酬支払額!$B$10:$B$999,報酬支払先情報!$A19&\"|\"&O$7,報酬支払額!$H$10:$H$999)","v":0},{"$f":"SUMIF(報酬支払額!$B$10:$B$999,報酬支払先情報!$A19&\"|\"&P$7,報酬支払額!$H$10:$H$999)","v":0},{"$f":"SUMIF(報酬支払額!$B$10:$B$999,報酬支払先情報!$A19&\"|\"&Q$7,報酬支払額!$H$10:$H$999)","v":0},{"$f":"SUMIF(報酬支払額!$B$10:$B$999,報酬支払先情報!$A19&\"|\"&R$7,報酬支払額!$H$10:$H$999)","v":0},null,12,"",0,0,0,0,0,0,0,0,null,12,"",0,0,0,0,0,0,0,0,0,0,0]
[{"$f":"報酬支払先情報!A20","v":13},{"$f":"報酬支払先情報!B20&\"\"","v":""},{"$f":"SUMIF(報酬支払額!$B$10:$B$999,報酬支払先情報!$A20&\"|\"&C$7,報酬支払額!$G$10:$G$999)","v":0},{"$f":"SUMIF(報酬支払額!$B$10:$B$999,報酬支払先情報!$A20&\"|\"&D$7,報酬支払額!$G$10:$G$999)","v":0},{"$f":"SUMIF(報酬支払額!$B$10:$B$999,報酬支払先情報!$A20&\"|\"&E$7,報酬支払額!$G$10:$G$999)","v":0},{"$f":"SUMIF(報酬支払額!$B$10:$B$999,報酬支払先情報!$A20&\"|\"&F$7,報酬支払額!$G$10:$G$999)","v":0},{"$f":"SUMIF(報酬支払額!$B$10:$B$999,報酬支払先情報!$A20&\"|\"&G$7,報酬支払額!$G$10:$G$999)","v":0},{"$f":"SUMIF(報酬支払額!$B$10:$B$999,報酬支払先情報!$A20&\"|\"&H$7,報酬支払額!$G$10:$G$999)","v":0},{"$f":"SUMIF(報酬支払額!$B$10:$B$999,報酬支払先情報!$A20&\"|\"&I$7,報酬支払額!$G$10:$G$999)","v":0},{"$f":"SUMIF(報酬支払額!$B$10:$B$999,報酬支払先情報!$A20&\"|\"&J$7,報酬支払額!$G$10:$G$999)","v":0},{"$f":"SUMIF(報酬支払額!$B$10:$B$999,報酬支払先情報!$A20&\"|\"&K$7,報酬支払額!$H$10:$H$999)","v":0},{"$f":"SUMIF(報酬支払額!$B$10:$B$999,報酬支払先情報!$A20&\"|\"&L$7,報酬支払額!$H$10:$H$999)","v":0},{"$f":"SUMIF(報酬支払額!$B$10:$B$999,報酬支払先情報!$A20&\"|\"&M$7,報酬支払額!$H$10:$H$999)","v":0},{"$f":"SUMIF(報酬支払額!$B$10:$B$999,報酬支払先情報!$A20&\"|\"&N$7,報酬支払額!$H$10:$H$999)","v":0},{"$f":"SUMIF(報酬支払額!$B$10:$B$999,報酬支払先情報!$A20&\"|\"&O$7,報酬支払額!$H$10:$H$999)","v":0},{"$f":"SUMIF(報酬支払額!$B$10:$B$999,報酬支払先情報!$A20&\"|\"&P$7,報酬支払額!$H$10:$H$999)","v":0},{"$f":"SUMIF(報酬支払額!$B$10:$B$999,報酬支払先情報!$A20&\"|\"&Q$7,報酬支払額!$H$10:$H$999)","v":0},{"$f":"SUMIF(報酬支払額!$B$10:$B$999,報酬支払先情報!$A20&\"|\"&R$7,報酬支払額!$H$10:$H$999)","v":0},null,13,"",0,0,0,0,0,0,0,0,null,13,"",0,0,0,0,0,0,0,0,0,0,0,null,null,7,{"$f":"INDEX($V$1:$AC$2,AU$6,$AT20)","v":0},{"$f":"INDEX($V$1:$AC$2,AV$6,$AT20)","v":0},{"$f":"INDEX($C$1:$J$1,1,$AT20)","v":0},{"$f":"INDEX($K$1:$R$1,1,$AT20)","v":0}]
[{"$f":"報酬支払先情報!A21","v":14},{"$f":"報酬支払先情報!B21&\"\"","v":""},{"$f":"SUMIF(報酬支払額!$B$10:$B$999,報酬支払先情報!$A21&\"|\"&C$7,報酬支払額!$G$10:$G$999)","v":0},{"$f":"SUMIF(報酬支払額!$B$10:$B$999,報酬支払先情報!$A21&\"|\"&D$7,報酬支払額!$G$10:$G$999)","v":0},{"$f":"SUMIF(報酬支払額!$B$10:$B$999,報酬支払先情報!$A21&\"|\"&E$7,報酬支払額!$G$10:$G$999)","v":0},{"$f":"SUMIF(報酬支払額!$B$10:$B$999,報酬支払先情報!$A21&\"|\"&F$7,報酬支払額!$G$10:$G$999)","v":0},{"$f":"SUMIF(報酬支払額!$B$10:$B$999,報酬支払先情報!$A21&\"|\"&G$7,報酬支払額!$G$10:$G$999)","v":0},{"$f":"SUMIF(報酬支払額!$B$10:$B$999,報酬支払先情報!$A21&\"|\"&H$7,報酬支払額!$G$10:$G$999)","v":0},{"$f":"SUMIF(報酬支払額!$B$10:$B$999,報酬支払先情報!$A21&\"|\"&I$7,報酬支払額!$G$10:$G$999)","v":0},{"$f":"SUMIF(報酬支払額!$B$10:$B$999,報酬支払先情報!$A21&\"|\"&J$7,報酬支払額!$G$10:$G$999)","v":0},{"$f":"SUMIF(報酬支払額!$B$10:$B$999,報酬支払先情報!$A21&\"|\"&K$7,報酬支払額!$H$10:$H$999)","v":0},{"$f":"SUMIF(報酬支払額!$B$10:$B$999,報酬支払先情報!$A21&\"|\"&L$7,報酬支払額!$H$10:$H$999)","v":0},{"$f":"SUMIF(報酬支払額!$B$10:$B$999,報酬支払先情報!$A21&\"|\"&M$7,報酬支払額!$H$10:$H$999)","v":0},{"$f":"SUMIF(報酬支払額!$B$10:$B$999,報酬支払先情報!$A21&\"|\"&N$7,報酬支払額!$H$10:$H$999)","v":0},{"$f":"SUMIF(報酬支払額!$B$10:$B$999,報酬支払先情報!$A21&\"|\"&O$7,報酬支払額!$H$10:$H$999)","v":0},{"$f":"SUMIF(報酬支払額!$B$10:$B$999,報酬支払先情報!$A21&\"|\"&P$7,報酬支払額!$H$10:$H$999)","v":0},{"$f":"SUMIF(報酬支払額!$B$10:$B$999,報酬支払先情報!$A21&\"|\"&Q$7,報酬支払額!$H$10:$H$999)","v":0},{"$f":"SUMIF(報酬支払額!$B$10:$B$999,報酬支払先情報!$A21&\"|\"&R$7,報酬支払額!$H$10:$H$999)","v":0},null,14,"",0,0,0,0,0,0,0,0,null,14,"",0,0,0,0,0,0,0,0,0,0,0]
[{"$f":"報酬支払先情報!A22","v":15},{"$f":"報酬支払先情報!B22&\"\"","v":""},{"$f":"SUMIF(報酬支払額!$B$10:$B$999,報酬支払先情報!$A22&\"|\"&C$7,報酬支払額!$G$10:$G$999)","v":0},{"$f":"SUMIF(報酬支払額!$B$10:$B$999,報酬支払先情報!$A22&\"|\"&D$7,報酬支払額!$G$10:$G$999)","v":0},{"$f":"SUMIF(報酬支払額!$B$10:$B$999,報酬支払先情報!$A22&\"|\"&E$7,報酬支払額!$G$10:$G$999)","v":0},{"$f":"SUMIF(報酬支払額!$B$10:$B$999,報酬支払先情報!$A22&\"|\"&F$7,報酬支払額!$G$10:$G$999)","v":0},{"$f":"SUMIF(報酬支払額!$B$10:$B$999,報酬支払先情報!$A22&\"|\"&G$7,報酬支払額!$G$10:$G$999)","v":0},{"$f":"SUMIF(報酬支払額!$B$10:$B$999,報酬支払先情報!$A22&\"|\"&H$7,報酬支払額!$G$10:$G$999)","v":0},{"$f":"SUMIF(報酬支払額!$B$10:$B$999,報酬支払先情報!$A22&\"|\"&I$7,報酬支払額!$G$10:$G$999)","v":0},{"$f":"SUMIF(報酬支払額!$B$10:$B$999,報酬支払先情報!$A22&\"|\"&J$7,報酬支払額!$G$10:$G$999)","v":0},{"$f":"SUMIF(報酬支払額!$B$10:$B$999,報酬支払先情報!$A22&\"|\"&K$7,報酬支払額!$H$10:$H$999)","v":0},{"$f":"SUMIF(報酬支払額!$B$10:$B$999,報酬支払先情報!$A22&\"|\"&L$7,報酬支払額!$H$10:$H$999)","v":0},{"$f":"SUMIF(報酬支払額!$B$10:$B$999,報酬支払先情報!$A22&\"|\"&M$7,報酬支払額!$H$10:$H$999)","v":0},{"$f":"SUMIF(報酬支払額!$B$10:$B$999,報酬支払先情報!$A22&\"|\"&N$7,報酬支払額!$H$10:$H$999)","v":0},{"$f":"SUMIF(報酬支払額!$B$10:$B$999,報酬支払先情報!$A22&\"|\"&O$7,報酬支払額!$H$10:$H$999)","v":0},{"$f":"SUMIF(報酬支払額!$B$10:$B$999,報酬支払先情報!$A22&\"|\"&P$7,報酬支払額!$H$10:$H$999)","v":0},{"$f":"SUMIF(報酬支払額!$B$10:$B$999,報酬支払先情報!$A22&\"|\"&Q$7,報酬支払額!$H$10:$H$999)","v":0},{"$f":"SUMIF(報酬支払額!$B$10:$B$999,報酬支払先情報!$A22&\"|\"&R$7,報酬支払額!$H$10:$H$999)","v":0},null,15,"",0,0,0,0,0,0,0,0,null,15,"",0,0,0,0,0,0,0,0,0,0,0,null,null,8,{"$f":"INDEX($V$1:$AC$2,AU$6,$AT22)","v":0},{"$f":"INDEX($V$1:$AC$2,AV$6,$AT22)","v":0},{"$f":"INDEX($C$1:$J$1,1,$AT22)","v":0},{"$f":"INDEX($K$1:$R$1,1,$AT22)","v":0}]
[{"$f":"報酬支払先情報!A23","v":16},{"$f":"報酬支払先情報!B23&\"\"","v":""},{"$f":"SUMIF(報酬支払額!$B$10:$B$999,報酬支払先情報!$A23&\"|\"&C$7,報酬支払額!$G$10:$G$999)","v":0},{"$f":"SUMIF(報酬支払額!$B$10:$B$999,報酬支払先情報!$A23&\"|\"&D$7,報酬支払額!$G$10:$G$999)","v":0},{"$f":"SUMIF(報酬支払額!$B$10:$B$999,報酬支払先情報!$A23&\"|\"&E$7,報酬支払額!$G$10:$G$999)","v":0},{"$f":"SUMIF(報酬支払額!$B$10:$B$999,報酬支払先情報!$A23&\"|\"&F$7,報酬支払額!$G$10:$G$999)","v":0},{"$f":"SUMIF(報酬支払額!$B$10:$B$999,報酬支払先情報!$A23&\"|\"&G$7,報酬支払額!$G$10:$G$999)","v":0},{"$f":"SUMIF(報酬支払額!$B$10:$B$999,報酬支払先情報!$A23&\"|\"&H$7,報酬支払額!$G$10:$G$999)","v":0},{"$f":"SUMIF(報酬支払額!$B$10:$B$999,報酬支払先情報!$A23&\"|\"&I$7,報酬支払額!$G$10:$G$999)","v":0},{"$f":"SUMIF(報酬支払額!$B$10:$B$999,報酬支払先情報!$A23&\"|\"&J$7,報酬支払額!$G$10:$G$999)","v":0},{"$f":"SUMIF(報酬支払額!$B$10:$B$999,報酬支払先情報!$A23&\"|\"&K$7,報酬支払額!$H$10:$H$999)","v":0},{"$f":"SUMIF(報酬支払額!$B$10:$B$999,報酬支払先情報!$A23&\"|\"&L$7,報酬支払額!$H$10:$H$999)","v":0},{"$f":"SUMIF(報酬支払額!$B$10:$B$999,報酬支払先情報!$A23&\"|\"&M$7,報酬支払額!$H$10:$H$999)","v":0},{"$f":"SUMIF(報酬支払額!$B$10:$B$999,報酬支払先情報!$A23&\"|\"&N$7,報酬支払額!$H$10:$H$999)","v":0},{"$f":"SUMIF(報酬支払額!$B$10:$B$999,報酬支払先情報!$A23&\"|\"&O$7,報酬支払額!$H$10:$H$999)","v":0},{"$f":"SUMIF(報酬支払額!$B$10:$B$999,報酬支払先情報!$A23&\"|\"&P$7,報酬支払額!$H$10:$H$999)","v":0},{"$f":"SUMIF(報酬支払額!$B$10:$B$999,報酬支払先情報!$A23&\"|\"&Q$7,報酬支払額!$H$10:$H$999)","v":0},{"$f":"SUMIF(報酬支払額!$B$10:$B$999,報酬支払先情報!$A23&\"|\"&R$7,報酬支払額!$H$10:$H$999)","v":0},null,16,"",0,0,0,0,0,0,0,0,null,16,"",0,0,0,0,0,0,0,0,0,0,0]
[{"$f":"報酬支払先情報!A24","v":17},{"$f":"報酬支払先情報!B24&\"\"","v":""},{"$f":"SUMIF(報酬支払額!$B$10:$B$999,報酬支払先情報!$A24&\"|\"&C$7,報酬支払額!$G$10:$G$999)","v":0},{"$f":"SUMIF(報酬支払額!$B$10:$B$999,報酬支払先情報!$A24&\"|\"&D$7,報酬支払額!$G$10:$G$999)","v":0},{"$f":"SUMIF(報酬支払額!$B$10:$B$999,報酬支払先情報!$A24&\"|\"&E$7,報酬支払額!$G$10:$G$999)","v":0},{"$f":"SUMIF(報酬支払額!$B$10:$B$999,報酬支払先情報!$A24&\"|\"&F$7,報酬支払額!$G$10:$G$999)","v":0},{"$f":"SUMIF(報酬支払額!$B$10:$B$999,報酬支払先情報!$A24&\"|\"&G$7,報酬支払額!$G$10:$G$999)","v":0},{"$f":"SUMIF(報酬支払額!$B$10:$B$999,報酬支払先情報!$A24&\"|\"&H$7,報酬支払額!$G$10:$G$999)","v":0},{"$f":"SUMIF(報酬支払額!$B$10:$B$999,報酬支払先情報!$A24&\"|\"&I$7,報酬支払額!$G$10:$G$999)","v":0},{"$f":"SUMIF(報酬支払額!$B$10:$B$999,報酬支払先情報!$A24&\"|\"&J$7,報酬支払額!$G$10:$G$999)","v":0},{"$f":"SUMIF(報酬支払額!$B$10:$B$999,報酬支払先情報!$A24&\"|\"&K$7,報酬支払額!$H$10:$H$999)","v":0},{"$f":"SUMIF(報酬支払額!$B$10:$B$999,報酬支払先情報!$A24&\"|\"&L$7,報酬支払額!$H$10:$H$999)","v":0},{"$f":"SUMIF(報酬支払額!$B$10:$B$999,報酬支払先情報!$A24&\"|\"&M$7,報酬支払額!$H$10:$H$999)","v":0},{"$f":"SUMIF(報酬支払額!$B$10:$B$999,報酬支払先情報!$A24&\"|\"&N$7,報酬支払額!$H$10:$H$999)","v":0},{"$f":"SUMIF(報酬支払額!$B$10:$B$999,報酬支払先情報!$A24&\"|\"&O$7,報酬支払額!$H$10:$H$999)","v":0},{"$f":"SUMIF(報酬支払額!$B$10:$B$999,報酬支払先情報!$A24&\"|\"&P$7,報酬支払額!$H$10:$H$999)","v":0},{"$f":"SUMIF(報酬支払額!$B$10:$B$999,報酬支払先情報!$A24&\"|\"&Q$7,報酬支払額!$H$10:$H$999)","v":0},{"$f":"SUMIF(報酬支払額!$B$10:$B$999,報酬支払先情報!$A24&\"|\"&R$7,報酬支払額!$H$10:$H$999)","v":0},null,17,"",0,0,0,0,0,0,0,0,null,17,"",0,0,0,0,0,0,0,0,0,0,0,null,null,"計",{"$f":"SUM(AU8:AU23)","v":4},{"$f":"SUM(AV8:AV23)","v":1},{"$f":"SUM(AW8:AW23)","v":1631938},{"$f":"SUM(AX8:AX23)","v":150284}]
[{"$f":"報酬支払先情報!A25","v":18},{"$f":"報酬支払先情報!B25&\"\"","v":""},{"$f":"SUMIF(報酬支払額!$B$10:$B$999,報酬支払先情報!$A25&\"|\"&C$7,報酬支払額!$G$10:$G$999)","v":0},{"$f":"SUMIF(報酬支払額!$B$10:$B$999,報酬支払先情報!$A25&\"|\"&D$7,報酬支払額!$G$10:$G$999)","v":0},{"$f":"SUMIF(報酬支払額!$B$10:$B$999,報酬支払先情報!$A25&\"|\"&E$7,報酬支払額!$G$10:$G$999)","v":0},{"$f":"SUMIF(報酬支払額!$B$10:$B$999,報酬支払先情報!$A25&\"|\"&F$7,報酬支払額!$G$10:$G$999)","v":0},{"$f":"SUMIF(報酬支払額!$B$10:$B$999,報酬支払先情報!$A25&\"|\"&G$7,報酬支払額!$G$10:$G$999)","v":0},{"$f":"SUMIF(報酬支払額!$B$10:$B$999,報酬支払先情報!$A25&\"|\"&H$7,報酬支払額!$G$10:$G$999)","v":0},{"$f":"SUMIF(報酬支払額!$B$10:$B$999,報酬支払先情報!$A25&\"|\"&I$7,報酬支払額!$G$10:$G$999)","v":0},{"$f":"SUMIF(報酬支払額!$B$10:$B$999,報酬支払先情報!$A25&\"|\"&J$7,報酬支払額!$G$10:$G$999)","v":0},{"$f":"SUMIF(報酬支払額!$B$10:$B$999,報酬支払先情報!$A25&\"|\"&K$7,報酬支払額!$H$10:$H$999)","v":0},{"$f":"SUMIF(報酬支払額!$B$10:$B$999,報酬支払先情報!$A25&\"|\"&L$7,報酬支払額!$H$10:$H$999)","v":0},{"$f":"SUMIF(報酬支払額!$B$10:$B$999,報酬支払先情報!$A25&\"|\"&M$7,報酬支払額!$H$10:$H$999)","v":0},{"$f":"SUMIF(報酬支払額!$B$10:$B$999,報酬支払先情報!$A25&\"|\"&N$7,報酬支払額!$H$10:$H$999)","v":0},{"$f":"SUMIF(報酬支払額!$B$10:$B$999,報酬支払先情報!$A25&\"|\"&O$7,報酬支払額!$H$10:$H$999)","v":0},{"$f":"SUMIF(報酬支払額!$B$10:$B$999,報酬支払先情報!$A25&\"|\"&P$7,報酬支払額!$H$10:$H$999)","v":0},{"$f":"SUMIF(報酬支払額!$B$10:$B$999,報酬支払先情報!$A25&\"|\"&Q$7,報酬支払額!$H$10:$H$999)","v":0},{"$f":"SUMIF(報酬支払額!$B$10:$B$999,報酬支払先情報!$A25&\"|\"&R$7,報酬支払額!$H$10:$H$999)","v":0},null,18,"",0,0,0,0,0,0,0,0,null,18,"",0,0,0,0,0,0,0,0,0,0,0]
[{"$f":"報酬支払先情報!A26","v":19},{"$f":"報酬支払先情報!B26&\"\"","v":""},{"$f":"SUMIF(報酬支払額!$B$10:$B$999,報酬支払先情報!$A26&\"|\"&C$7,報酬支払額!$G$10:$G$999)","v":0},{"$f":"SUMIF(報酬支払額!$B$10:$B$999,報酬支払先情報!$A26&\"|\"&D$7,報酬支払額!$G$10:$G$999)","v":0},{"$f":"SUMIF(報酬支払額!$B$10:$B$999,報酬支払先情報!$A26&\"|\"&E$7,報酬支払額!$G$10:$G$999)","v":0},{"$f":"SUMIF(報酬支払額!$B$10:$B$999,報酬支払先情報!$A26&\"|\"&F$7,報酬支払額!$G$10:$G$999)","v":0},{"$f":"SUMIF(報酬支払額!$B$10:$B$999,報酬支払先情報!$A26&\"|\"&G$7,報酬支払額!$G$10:$G$999)","v":0},{"$f":"SUMIF(報酬支払額!$B$10:$B$999,報酬支払先情報!$A26&\"|\"&H$7,報酬支払額!$G$10:$G$999)","v":0},{"$f":"SUMIF(報酬支払額!$B$10:$B$999,報酬支払先情報!$A26&\"|\"&I$7,報酬支払額!$G$10:$G$999)","v":0},{"$f":"SUMIF(報酬支払額!$B$10:$B$999,報酬支払先情報!$A26&\"|\"&J$7,報酬支払額!$G$10:$G$999)","v":0},{"$f":"SUMIF(報酬支払額!$B$10:$B$999,報酬支払先情報!$A26&\"|\"&K$7,報酬支払額!$H$10:$H$999)","v":0},{"$f":"SUMIF(報酬支払額!$B$10:$B$999,報酬支払先情報!$A26&\"|\"&L$7,報酬支払額!$H$10:$H$999)","v":0},{"$f":"SUMIF(報酬支払額!$B$10:$B$999,報酬支払先情報!$A26&\"|\"&M$7,報酬支払額!$H$10:$H$999)","v":0},{"$f":"SUMIF(報酬支払額!$B$10:$B$999,報酬支払先情報!$A26&\"|\"&N$7,報酬支払額!$H$10:$H$999)","v":0},{"$f":"SUMIF(報酬支払額!$B$10:$B$999,報酬支払先情報!$A26&\"|\"&O$7,報酬支払額!$H$10:$H$999)","v":0},{"$f":"SUMIF(報酬支払額!$B$10:$B$999,報酬支払先情報!$A26&\"|\"&P$7,報酬支払額!$H$10:$H$999)","v":0},{"$f":"SUMIF(報酬支払額!$B$10:$B$999,報酬支払先情報!$A26&\"|\"&Q$7,報酬支払額!$H$10:$H$999)","v":0},{"$f":"SUMIF(報酬支払額!$B$10:$B$999,報酬支払先情報!$A26&\"|\"&R$7,報酬支払額!$H$10:$H$999)","v":0},null,19,"",0,0,0,0,0,0,0,0,null,19,"",0,0,0,0,0,0,0,0,0,0,0,null,null,"要提出",{"$f":"INDEX($AO$1:$AO$2,AU$6,1)","v":3},{"$f":"INDEX($AO$1:$AO$2,AV$6,1)","v":1},{"$f":"SUM(AP$1:AP$2)","v":1601938},{"$f":"SUM(AQ$1:AQ$2)","v":148242}]
[{"$f":"報酬支払先情報!A27","v":20},{"$f":"報酬支払先情報!B27&\"\"","v":""},{"$f":"SUMIF(報酬支払額!$B$10:$B$999,報酬支払先情報!$A27&\"|\"&C$7,報酬支払額!$G$10:$G$999)","v":0},{"$f":"SUMIF(報酬支払額!$B$10:$B$999,報酬支払先情報!$A27&\"|\"&D$7,報酬支払額!$G$10:$G$999)","v":0},{"$f":"SUMIF(報酬支払額!$B$10:$B$999,報酬支払先情報!$A27&\"|\"&E$7,報酬支払額!$G$10:$G$999)","v":0},{"$f":"SUMIF(報酬支払額!$B$10:$B$999,報酬支払先情報!$A27&\"|\"&F$7,報酬支払額!$G$10:$G$999)","v":0},{"$f":"SUMIF(報酬支払額!$B$10:$B$999,報酬支払先情報!$A27&\"|\"&G$7,報酬支払額!$G$10:$G$999)","v":0},{"$f":"SUMIF(報酬支払額!$B$10:$B$999,報酬支払先情報!$A27&\"|\"&H$7,報酬支払額!$G$10:$G$999)","v":0},{"$f":"SUMIF(報酬支払額!$B$10:$B$999,報酬支払先情報!$A27&\"|\"&I$7,報酬支払額!$G$10:$G$999)","v":0},{"$f":"SUMIF(報酬支払額!$B$10:$B$999,報酬支払先情報!$A27&\"|\"&J$7,報酬支払額!$G$10:$G$999)","v":0},{"$f":"SUMIF(報酬支払額!$B$10:$B$999,報酬支払先情報!$A27&\"|\"&K$7,報酬支払額!$H$10:$H$999)","v":0},{"$f":"SUMIF(報酬支払額!$B$10:$B$999,報酬支払先情報!$A27&\"|\"&L$7,報酬支払額!$H$10:$H$999)","v":0},{"$f":"SUMIF(報酬支払額!$B$10:$B$999,報酬支払先情報!$A27&\"|\"&M$7,報酬支払額!$H$10:$H$999)","v":0},{"$f":"SUMIF(報酬支払額!$B$10:$B$999,報酬支払先情報!$A27&\"|\"&N$7,報酬支払額!$H$10:$H$999)","v":0},{"$f":"SUMIF(報酬支払額!$B$10:$B$999,報酬支払先情報!$A27&\"|\"&O$7,報酬支払額!$H$10:$H$999)","v":0},{"$f":"SUMIF(報酬支払額!$B$10:$B$999,報酬支払先情報!$A27&\"|\"&P$7,報酬支払額!$H$10:$H$999)","v":0},{"$f":"SUMIF(報酬支払額!$B$10:$B$999,報酬支払先情報!$A27&\"|\"&Q$7,報酬支払額!$H$10:$H$999)","v":0},{"$f":"SUMIF(報酬支払額!$B$10:$B$999,報酬支払先情報!$A27&\"|\"&R$7,報酬支払額!$H$10:$H$999)","v":0},null,20,"",0,0,0,0,0,0,0,0,null,20,"",0,0,0,0,0,0,0,0,0,0,0]
[{"$f":"報酬支払先情報!A28","v":0},{"$f":"報酬支払先情報!B28&\"\"","v":""},{"$f":"SUMIF(報酬支払額!$B$10:$B$999,報酬支払先情報!$A28&\"|\"&C$7,報酬支払額!$G$10:$G$999)","v":0},{"$f":"SUMIF(報酬支払額!$B$10:$B$999,報酬支払先情報!$A28&\"|\"&D$7,報酬支払額!$G$10:$G$999)","v":0},{"$f":"SUMIF(報酬支払額!$B$10:$B$999,報酬支払先情報!$A28&\"|\"&E$7,報酬支払額!$G$10:$G$999)","v":0},{"$f":"SUMIF(報酬支払額!$B$10:$B$999,報酬支払先情報!$A28&\"|\"&F$7,報酬支払額!$G$10:$G$999)","v":0},{"$f":"SUMIF(報酬支払額!$B$10:$B$999,報酬支払先情報!$A28&\"|\"&G$7,報酬支払額!$G$10:$G$999)","v":0},{"$f":"SUMIF(報酬支払額!$B$10:$B$999,報酬支払先情報!$A28&\"|\"&H$7,報酬支払額!$G$10:$G$999)","v":0},{"$f":"SUMIF(報酬支払額!$B$10:$B$999,報酬支払先情報!$A28&\"|\"&I$7,報酬支払額!$G$10:$G$999)","v":0},{"$f":"SUMIF(報酬支払額!$B$10:$B$999,報酬支払先情報!$A28&\"|\"&J$7,報酬支払額!$G$10:$G$999)","v":0},{"$f":"SUMIF(報酬支払額!$B$10:$B$999,報酬支払先情報!$A28&\"|\"&K$7,報酬支払額!$H$10:$H$999)","v":0},{"$f":"SUMIF(報酬支払額!$B$10:$B$999,報酬支払先情報!$A28&\"|\"&L$7,報酬支払額!$H$10:$H$999)","v":0},{"$f":"SUMIF(報酬支払額!$B$10:$B$999,報酬支払先情報!$A28&\"|\"&M$7,報酬支払額!$H$10:$H$999)","v":0},{"$f":"SUMIF(報酬支払額!$B$10:$B$999,報酬支払先情報!$A28&\"|\"&N$7,報酬支払額!$H$10:$H$999)","v":0},{"$f":"SUMIF(報酬支払額!$B$10:$B$999,報酬支払先情報!$A28&\"|\"&O$7,報酬支払額!$H$10:$H$999)","v":0},{"$f":"SUMIF(報酬支払額!$B$10:$B$999,報酬支払先情報!$A28&\"|\"&P$7,報酬支払額!$H$10:$H$999)","v":0},{"$f":"SUMIF(報酬支払額!$B$10:$B$999,報酬支払先情報!$A28&\"|\"&Q$7,報酬支払額!$H$10:$H$999)","v":0},{"$f":"SUMIF(報酬支払額!$B$10:$B$999,報酬支払先情報!$A28&\"|\"&R$7,報酬支払額!$H$10:$H$999)","v":0},null,0,{"$f":"B28","v":""},{"$f":"IF(C28>0,1,0)","v":0},{"$f":"IF(D28>0,1,0)","v":0},{"$f":"IF(E28>0,1,0)","v":0},{"$f":"IF(F28>0,1,0)","v":0},{"$f":"IF(G28>0,1,0)","v":0},{"$f":"IF(H28>0,1,0)","v":0},{"$f":"IF(I28>0,1,0)","v":0},{"$f":"IF(J28>0,1,0)","v":0},null,0,{"$f":"U28","v":""},{"$f":"IF(C28>AG$6,1,0)","v":0},{"$f":"IF(D28>AH$6,1,0)","v":0},{"$f":"IF(E28>AI$6,1,0)","v":0},{"$f":"IF(F28>AJ$6,1,0)","v":0},{"$f":"IF(G28>AK$6,1,0)","v":0},{"$f":"IF(H28>AL$6,1,0)","v":0},{"$f":"IF(I28>AM$6,1,0)","v":0},{"$f":"IF(J28>AN$6,1,0)","v":0},{"$f":"SUM(AG28:AN28)","v":0},{"$f":"IF($AO28>0,SUM(C28:J28),0)","v":0},{"$f":"IF($AO28>0,SUM(K28:R28),0)","v":0}]
[{"$f":"報酬支払先情報!A29","v":0},{"$f":"報酬支払先情報!B29&\"\"","v":""},{"$f":"SUMIF(報酬支払額!$B$10:$B$999,報酬支払先情報!$A29&\"|\"&C$7,報酬支払額!$G$10:$G$999)","v":0},{"$f":"SUMIF(報酬支払額!$B$10:$B$999,報酬支払先情報!$A29&\"|\"&D$7,報酬支払額!$G$10:$G$999)","v":0},{"$f":"SUMIF(報酬支払額!$B$10:$B$999,報酬支払先情報!$A29&\"|\"&E$7,報酬支払額!$G$10:$G$999)","v":0},{"$f":"SUMIF(報酬支払額!$B$10:$B$999,報酬支払先情報!$A29&\"|\"&F$7,報酬支払額!$G$10:$G$999)","v":0},{"$f":"SUMIF(報酬支払額!$B$10:$B$999,報酬支払先情報!$A29&\"|\"&G$7,報酬支払額!$G$10:$G$999)","v":0},{"$f":"SUMIF(報酬支払額!$B$10:$B$999,報酬支払先情報!$A29&\"|\"&H$7,報酬支払額!$G$10:$G$999)","v":0},{"$f":"SUMIF(報酬支払額!$B$10:$B$999,報酬支払先情報!$A29&\"|\"&I$7,報酬支払額!$G$10:$G$999)","v":0},{"$f":"SUMIF(報酬支払額!$B$10:$B$999,報酬支払先情報!$A29&\"|\"&J$7,報酬支払額!$G$10:$G$999)","v":0},{"$f":"SUMIF(報酬支払額!$B$10:$B$999,報酬支払先情報!$A29&\"|\"&K$7,報酬支払額!$H$10:$H$999)","v":0},{"$f":"SUMIF(報酬支払額!$B$10:$B$999,報酬支払先情報!$A29&\"|\"&L$7,報酬支払額!$H$10:$H$999)","v":0},{"$f":"SUMIF(報酬支払額!$B$10:$B$999,報酬支払先情報!$A29&\"|\"&M$7,報酬支払額!$H$10:$H$999)","v":0},{"$f":"SUMIF(報酬支払額!$B$10:$B$999,報酬支払先情報!$A29&\"|\"&N$7,報酬支払額!$H$10:$H$999)","v":0},{"$f":"SUMIF(報酬支払額!$B$10:$B$999,報酬支払先情報!$A29&\"|\"&O$7,報酬支払額!$H$10:$H$999)","v":0},{"$f":"SUMIF(報酬支払額!$B$10:$B$999,報酬支払先情報!$A29&\"|\"&P$7,報酬支払額!$H$10:$H$999)","v":0},{"$f":"SUMIF(報酬支払額!$B$10:$B$999,報酬支払先情報!$A29&\"|\"&Q$7,報酬支払額!$H$10:$H$999)","v":0},{"$f":"SUMIF(報酬支払額!$B$10:$B$999,報酬支払先情報!$A29&\"|\"&R$7,報酬支払額!$H$10:$H$999)","v":0},null,0,"",0,0,0,0,0,0,0,0,null,0,"",0,0,0,0,0,0,0,0,0,0,0]
[{"$f":"報酬支払先情報!A30","v":0},{"$f":"報酬支払先情報!B30&\"\"","v":""},{"$f":"SUMIF(報酬支払額!$B$10:$B$999,報酬支払先情報!$A30&\"|\"&C$7,報酬支払額!$G$10:$G$999)","v":0},{"$f":"SUMIF(報酬支払額!$B$10:$B$999,報酬支払先情報!$A30&\"|\"&D$7,報酬支払額!$G$10:$G$999)","v":0},{"$f":"SUMIF(報酬支払額!$B$10:$B$999,報酬支払先情報!$A30&\"|\"&E$7,報酬支払額!$G$10:$G$999)","v":0},{"$f":"SUMIF(報酬支払額!$B$10:$B$999,報酬支払先情報!$A30&\"|\"&F$7,報酬支払額!$G$10:$G$999)","v":0},{"$f":"SUMIF(報酬支払額!$B$10:$B$999,報酬支払先情報!$A30&\"|\"&G$7,報酬支払額!$G$10:$G$999)","v":0},{"$f":"SUMIF(報酬支払額!$B$10:$B$999,報酬支払先情報!$A30&\"|\"&H$7,報酬支払額!$G$10:$G$999)","v":0},{"$f":"SUMIF(報酬支払額!$B$10:$B$999,報酬支払先情報!$A30&\"|\"&I$7,報酬支払額!$G$10:$G$999)","v":0},{"$f":"SUMIF(報酬支払額!$B$10:$B$999,報酬支払先情報!$A30&\"|\"&J$7,報酬支払額!$G$10:$G$999)","v":0},{"$f":"SUMIF(報酬支払額!$B$10:$B$999,報酬支払先情報!$A30&\"|\"&K$7,報酬支払額!$H$10:$H$999)","v":0},{"$f":"SUMIF(報酬支払額!$B$10:$B$999,報酬支払先情報!$A30&\"|\"&L$7,報酬支払額!$H$10:$H$999)","v":0},{"$f":"SUMIF(報酬支払額!$B$10:$B$999,報酬支払先情報!$A30&\"|\"&M$7,報酬支払額!$H$10:$H$999)","v":0},{"$f":"SUMIF(報酬支払額!$B$10:$B$999,報酬支払先情報!$A30&\"|\"&N$7,報酬支払額!$H$10:$H$999)","v":0},{"$f":"SUMIF(報酬支払額!$B$10:$B$999,報酬支払先情報!$A30&\"|\"&O$7,報酬支払額!$H$10:$H$999)","v":0},{"$f":"SUMIF(報酬支払額!$B$10:$B$999,報酬支払先情報!$A30&\"|\"&P$7,報酬支払額!$H$10:$H$999)","v":0},{"$f":"SUMIF(報酬支払額!$B$10:$B$999,報酬支払先情報!$A30&\"|\"&Q$7,報酬支払額!$H$10:$H$999)","v":0},{"$f":"SUMIF(報酬支払額!$B$10:$B$999,報酬支払先情報!$A30&\"|\"&R$7,報酬支払額!$H$10:$H$999)","v":0},null,0,"",0,0,0,0,0,0,0,0,null,0,"",0,0,0,0,0,0,0,0,0,0,0]
[{"$f":"報酬支払先情報!A31","v":0},{"$f":"報酬支払先情報!B31&\"\"","v":""},{"$f":"SUMIF(報酬支払額!$B$10:$B$999,報酬支払先情報!$A31&\"|\"&C$7,報酬支払額!$G$10:$G$999)","v":0},{"$f":"SUMIF(報酬支払額!$B$10:$B$999,報酬支払先情報!$A31&\"|\"&D$7,報酬支払額!$G$10:$G$999)","v":0},{"$f":"SUMIF(報酬支払額!$B$10:$B$999,報酬支払先情報!$A31&\"|\"&E$7,報酬支払額!$G$10:$G$999)","v":0},{"$f":"SUMIF(報酬支払額!$B$10:$B$999,報酬支払先情報!$A31&\"|\"&F$7,報酬支払額!$G$10:$G$999)","v":0},{"$f":"SUMIF(報酬支払額!$B$10:$B$999,報酬支払先情報!$A31&\"|\"&G$7,報酬支払額!$G$10:$G$999)","v":0},{"$f":"SUMIF(報酬支払額!$B$10:$B$999,報酬支払先情報!$A31&\"|\"&H$7,報酬支払額!$G$10:$G$999)","v":0},{"$f":"SUMIF(報酬支払額!$B$10:$B$999,報酬支払先情報!$A31&\"|\"&I$7,報酬支払額!$G$10:$G$999)","v":0},{"$f":"SUMIF(報酬支払額!$B$10:$B$999,報酬支払先情報!$A31&\"|\"&J$7,報酬支払額!$G$10:$G$999)","v":0},{"$f":"SUMIF(報酬支払額!$B$10:$B$999,報酬支払先情報!$A31&\"|\"&K$7,報酬支払額!$H$10:$H$999)","v":0},{"$f":"SUMIF(報酬支払額!$B$10:$B$999,報酬支払先情報!$A31&\"|\"&L$7,報酬支払額!$H$10:$H$999)","v":0},{"$f":"SUMIF(報酬支払額!$B$10:$B$999,報酬支払先情報!$A31&\"|\"&M$7,報酬支払額!$H$10:$H$999)","v":0},{"$f":"SUMIF(報酬支払額!$B$10:$B$999,報酬支払先情報!$A31&\"|\"&N$7,報酬支払額!$H$10:$H$999)","v":0},{"$f":"SUMIF(報酬支払額!$B$10:$B$999,報酬支払先情報!$A31&\"|\"&O$7,報酬支払額!$H$10:$H$999)","v":0},{"$f":"SUMIF(報酬支払額!$B$10:$B$999,報酬支払先情報!$A31&\"|\"&P$7,報酬支払額!$H$10:$H$999)","v":0},{"$f":"SUMIF(報酬支払額!$B$10:$B$999,報酬支払先情報!$A31&\"|\"&Q$7,報酬支払額!$H$10:$H$999)","v":0},{"$f":"SUMIF(報酬支払額!$B$10:$B$999,報酬支払先情報!$A31&\"|\"&R$7,報酬支払額!$H$10:$H$999)","v":0},null,0,"",0,0,0,0,0,0,0,0,null,0,"",0,0,0,0,0,0,0,0,0,0,0]
[{"$f":"報酬支払先情報!A32","v":0},{"$f":"報酬支払先情報!B32&\"\"","v":""},{"$f":"SUMIF(報酬支払額!$B$10:$B$999,報酬支払先情報!$A32&\"|\"&C$7,報酬支払額!$G$10:$G$999)","v":0},{"$f":"SUMIF(報酬支払額!$B$10:$B$999,報酬支払先情報!$A32&\"|\"&D$7,報酬支払額!$G$10:$G$999)","v":0},{"$f":"SUMIF(報酬支払額!$B$10:$B$999,報酬支払先情報!$A32&\"|\"&E$7,報酬支払額!$G$10:$G$999)","v":0},{"$f":"SUMIF(報酬支払額!$B$10:$B$999,報酬支払先情報!$A32&\"|\"&F$7,報酬支払額!$G$10:$G$999)","v":0},{"$f":"SUMIF(報酬支払額!$B$10:$B$999,報酬支払先情報!$A32&\"|\"&G$7,報酬支払額!$G$10:$G$999)","v":0},{"$f":"SUMIF(報酬支払額!$B$10:$B$999,報酬支払先情報!$A32&\"|\"&H$7,報酬支払額!$G$10:$G$999)","v":0},{"$f":"SUMIF(報酬支払額!$B$10:$B$999,報酬支払先情報!$A32&\"|\"&I$7,報酬支払額!$G$10:$G$999)","v":0},{"$f":"SUMIF(報酬支払額!$B$10:$B$999,報酬支払先情報!$A32&\"|\"&J$7,報酬支払額!$G$10:$G$999)","v":0},{"$f":"SUMIF(報酬支払額!$B$10:$B$999,報酬支払先情報!$A32&\"|\"&K$7,報酬支払額!$H$10:$H$999)","v":0},{"$f":"SUMIF(報酬支払額!$B$10:$B$999,報酬支払先情報!$A32&\"|\"&L$7,報酬支払額!$H$10:$H$999)","v":0},{"$f":"SUMIF(報酬支払額!$B$10:$B$999,報酬支払先情報!$A32&\"|\"&M$7,報酬支払額!$H$10:$H$999)","v":0},{"$f":"SUMIF(報酬支払額!$B$10:$B$999,報酬支払先情報!$A32&\"|\"&N$7,報酬支払額!$H$10:$H$999)","v":0},{"$f":"SUMIF(報酬支払額!$B$10:$B$999,報酬支払先情報!$A32&\"|\"&O$7,報酬支払額!$H$10:$H$999)","v":0},{"$f":"SUMIF(報酬支払額!$B$10:$B$999,報酬支払先情報!$A32&\"|\"&P$7,報酬支払額!$H$10:$H$999)","v":0},{"$f":"SUMIF(報酬支払額!$B$10:$B$999,報酬支払先情報!$A32&\"|\"&Q$7,報酬支払額!$H$10:$H$999)","v":0},{"$f":"SUMIF(報酬支払額!$B$10:$B$999,報酬支払先情報!$A32&\"|\"&R$7,報酬支払額!$H$10:$H$999)","v":0},null,0,"",0,0,0,0,0,0,0,0,null,0,"",0,0,0,0,0,0,0,0,0,0,0]
[{"$f":"報酬支払先情報!A33","v":0},{"$f":"報酬支払先情報!B33&\"\"","v":""},{"$f":"SUMIF(報酬支払額!$B$10:$B$999,報酬支払先情報!$A33&\"|\"&C$7,報酬支払額!$G$10:$G$999)","v":0},{"$f":"SUMIF(報酬支払額!$B$10:$B$999,報酬支払先情報!$A33&\"|\"&D$7,報酬支払額!$G$10:$G$999)","v":0},{"$f":"SUMIF(報酬支払額!$B$10:$B$999,報酬支払先情報!$A33&\"|\"&E$7,報酬支払額!$G$10:$G$999)","v":0},{"$f":"SUMIF(報酬支払額!$B$10:$B$999,報酬支払先情報!$A33&\"|\"&F$7,報酬支払額!$G$10:$G$999)","v":0},{"$f":"SUMIF(報酬支払額!$B$10:$B$999,報酬支払先情報!$A33&\"|\"&G$7,報酬支払額!$G$10:$G$999)","v":0},{"$f":"SUMIF(報酬支払額!$B$10:$B$999,報酬支払先情報!$A33&\"|\"&H$7,報酬支払額!$G$10:$G$999)","v":0},{"$f":"SUMIF(報酬支払額!$B$10:$B$999,報酬支払先情報!$A33&\"|\"&I$7,報酬支払額!$G$10:$G$999)","v":0},{"$f":"SUMIF(報酬支払額!$B$10:$B$999,報酬支払先情報!$A33&\"|\"&J$7,報酬支払額!$G$10:$G$999)","v":0},{"$f":"SUMIF(報酬支払額!$B$10:$B$999,報酬支払先情報!$A33&\"|\"&K$7,報酬支払額!$H$10:$H$999)","v":0},{"$f":"SUMIF(報酬支払額!$B$10:$B$999,報酬支払先情報!$A33&\"|\"&L$7,報酬支払額!$H$10:$H$999)","v":0},{"$f":"SUMIF(報酬支払額!$B$10:$B$999,報酬支払先情報!$A33&\"|\"&M$7,報酬支払額!$H$10:$H$999)","v":0},{"$f":"SUMIF(報酬支払額!$B$10:$B$999,報酬支払先情報!$A33&\"|\"&N$7,報酬支払額!$H$10:$H$999)","v":0},{"$f":"SUMIF(報酬支払額!$B$10:$B$999,報酬支払先情報!$A33&\"|\"&O$7,報酬支払額!$H$10:$H$999)","v":0},{"$f":"SUMIF(報酬支払額!$B$10:$B$999,報酬支払先情報!$A33&\"|\"&P$7,報酬支払額!$H$10:$H$999)","v":0},{"$f":"SUMIF(報酬支払額!$B$10:$B$999,報酬支払先情報!$A33&\"|\"&Q$7,報酬支払額!$H$10:$H$999)","v":0},{"$f":"SUMIF(報酬支払額!$B$10:$B$999,報酬支払先情報!$A33&\"|\"&R$7,報酬支払額!$H$10:$H$999)","v":0},null,0,"",0,0,0,0,0,0,0,0,null,0,"",0,0,0,0,0,0,0,0,0,0,0]
[{"$f":"報酬支払先情報!A34","v":0},{"$f":"報酬支払先情報!B34&\"\"","v":""},{"$f":"SUMIF(報酬支払額!$B$10:$B$999,報酬支払先情報!$A34&\"|\"&C$7,報酬支払額!$G$10:$G$999)","v":0},{"$f":"SUMIF(報酬支払額!$B$10:$B$999,報酬支払先情報!$A34&\"|\"&D$7,報酬支払額!$G$10:$G$999)","v":0},{"$f":"SUMIF(報酬支払額!$B$10:$B$999,報酬支払先情報!$A34&\"|\"&E$7,報酬支払額!$G$10:$G$999)","v":0},{"$f":"SUMIF(報酬支払額!$B$10:$B$999,報酬支払先情報!$A34&\"|\"&F$7,報酬支払額!$G$10:$G$999)","v":0},{"$f":"SUMIF(報酬支払額!$B$10:$B$999,報酬支払先情報!$A34&\"|\"&G$7,報酬支払額!$G$10:$G$999)","v":0},{"$f":"SUMIF(報酬支払額!$B$10:$B$999,報酬支払先情報!$A34&\"|\"&H$7,報酬支払額!$G$10:$G$999)","v":0},{"$f":"SUMIF(報酬支払額!$B$10:$B$999,報酬支払先情報!$A34&\"|\"&I$7,報酬支払額!$G$10:$G$999)","v":0},{"$f":"SUMIF(報酬支払額!$B$10:$B$999,報酬支払先情報!$A34&\"|\"&J$7,報酬支払額!$G$10:$G$999)","v":0},{"$f":"SUMIF(報酬支払額!$B$10:$B$999,報酬支払先情報!$A34&\"|\"&K$7,報酬支払額!$H$10:$H$999)","v":0},{"$f":"SUMIF(報酬支払額!$B$10:$B$999,報酬支払先情報!$A34&\"|\"&L$7,報酬支払額!$H$10:$H$999)","v":0},{"$f":"SUMIF(報酬支払額!$B$10:$B$999,報酬支払先情報!$A34&\"|\"&M$7,報酬支払額!$H$10:$H$999)","v":0},{"$f":"SUMIF(報酬支払額!$B$10:$B$999,報酬支払先情報!$A34&\"|\"&N$7,報酬支払額!$H$10:$H$999)","v":0},{"$f":"SUMIF(報酬支払額!$B$10:$B$999,報酬支払先情報!$A34&\"|\"&O$7,報酬支払額!$H$10:$H$999)","v":0},{"$f":"SUMIF(報酬支払額!$B$10:$B$999,報酬支払先情報!$A34&\"|\"&P$7,報酬支払額!$H$10:$H$999)","v":0},{"$f":"SUMIF(報酬支払額!$B$10:$B$999,報酬支払先情報!$A34&\"|\"&Q$7,報酬支払額!$H$10:$H$999)","v":0},{"$f":"SUMIF(報酬支払額!$B$10:$B$999,報酬支払先情報!$A34&\"|\"&R$7,報酬支払額!$H$10:$H$999)","v":0},null,0,"",0,0,0,0,0,0,0,0,null,0,"",0,0,0,0,0,0,0,0,0,0,0]
[{"$f":"報酬支払先情報!A35","v":0},{"$f":"報酬支払先情報!B35&\"\"","v":""},{"$f":"SUMIF(報酬支払額!$B$10:$B$999,報酬支払先情報!$A35&\"|\"&C$7,報酬支払額!$G$10:$G$999)","v":0},{"$f":"SUMIF(報酬支払額!$B$10:$B$999,報酬支払先情報!$A35&\"|\"&D$7,報酬支払額!$G$10:$G$999)","v":0},{"$f":"SUMIF(報酬支払額!$B$10:$B$999,報酬支払先情報!$A35&\"|\"&E$7,報酬支払額!$G$10:$G$999)","v":0},{"$f":"SUMIF(報酬支払額!$B$10:$B$999,報酬支払先情報!$A35&\"|\"&F$7,報酬支払額!$G$10:$G$999)","v":0},{"$f":"SUMIF(報酬支払額!$B$10:$B$999,報酬支払先情報!$A35&\"|\"&G$7,報酬支払額!$G$10:$G$999)","v":0},{"$f":"SUMIF(報酬支払額!$B$10:$B$999,報酬支払先情報!$A35&\"|\"&H$7,報酬支払額!$G$10:$G$999)","v":0},{"$f":"SUMIF(報酬支払額!$B$10:$B$999,報酬支払先情報!$A35&\"|\"&I$7,報酬支払額!$G$10:$G$999)","v":0},{"$f":"SUMIF(報酬支払額!$B$10:$B$999,報酬支払先情報!$A35&\"|\"&J$7,報酬支払額!$G$10:$G$999)","v":0},{"$f":"SUMIF(報酬支払額!$B$10:$B$999,報酬支払先情報!$A35&\"|\"&K$7,報酬支払額!$H$10:$H$999)","v":0},{"$f":"SUMIF(報酬支払額!$B$10:$B$999,報酬支払先情報!$A35&\"|\"&L$7,報酬支払額!$H$10:$H$999)","v":0},{"$f":"SUMIF(報酬支払額!$B$10:$B$999,報酬支払先情報!$A35&\"|\"&M$7,報酬支払額!$H$10:$H$999)","v":0},{"$f":"SUMIF(報酬支払額!$B$10:$B$999,報酬支払先情報!$A35&\"|\"&N$7,報酬支払額!$H$10:$H$999)","v":0},{"$f":"SUMIF(報酬支払額!$B$10:$B$999,報酬支払先情報!$A35&\"|\"&O$7,報酬支払額!$H$10:$H$999)","v":0},{"$f":"SUMIF(報酬支払額!$B$10:$B$999,報酬支払先情報!$A35&\"|\"&P$7,報酬支払額!$H$10:$H$999)","v":0},{"$f":"SUMIF(報酬支払額!$B$10:$B$999,報酬支払先情報!$A35&\"|\"&Q$7,報酬支払額!$H$10:$H$999)","v":0},{"$f":"SUMIF(報酬支払額!$B$10:$B$999,報酬支払先情報!$A35&\"|\"&R$7,報酬支払額!$H$10:$H$999)","v":0},null,0,"",0,0,0,0,0,0,0,0,null,0,"",0,0,0,0,0,0,0,0,0,0,0]
[{"$f":"報酬支払先情報!A36","v":0},{"$f":"報酬支払先情報!B36&\"\"","v":""},{"$f":"SUMIF(報酬支払額!$B$10:$B$999,報酬支払先情報!$A36&\"|\"&C$7,報酬支払額!$G$10:$G$999)","v":0},{"$f":"SUMIF(報酬支払額!$B$10:$B$999,報酬支払先情報!$A36&\"|\"&D$7,報酬支払額!$G$10:$G$999)","v":0},{"$f":"SUMIF(報酬支払額!$B$10:$B$999,報酬支払先情報!$A36&\"|\"&E$7,報酬支払額!$G$10:$G$999)","v":0},{"$f":"SUMIF(報酬支払額!$B$10:$B$999,報酬支払先情報!$A36&\"|\"&F$7,報酬支払額!$G$10:$G$999)","v":0},{"$f":"SUMIF(報酬支払額!$B$10:$B$999,報酬支払先情報!$A36&\"|\"&G$7,報酬支払額!$G$10:$G$999)","v":0},{"$f":"SUMIF(報酬支払額!$B$10:$B$999,報酬支払先情報!$A36&\"|\"&H$7,報酬支払額!$G$10:$G$999)","v":0},{"$f":"SUMIF(報酬支払額!$B$10:$B$999,報酬支払先情報!$A36&\"|\"&I$7,報酬支払額!$G$10:$G$999)","v":0},{"$f":"SUMIF(報酬支払額!$B$10:$B$999,報酬支払先情報!$A36&\"|\"&J$7,報酬支払額!$G$10:$G$999)","v":0},{"$f":"SUMIF(報酬支払額!$B$10:$B$999,報酬支払先情報!$A36&\"|\"&K$7,報酬支払額!$H$10:$H$999)","v":0},{"$f":"SUMIF(報酬支払額!$B$10:$B$999,報酬支払先情報!$A36&\"|\"&L$7,報酬支払額!$H$10:$H$999)","v":0},{"$f":"SUMIF(報酬支払額!$B$10:$B$999,報酬支払先情報!$A36&\"|\"&M$7,報酬支払額!$H$10:$H$999)","v":0},{"$f":"SUMIF(報酬支払額!$B$10:$B$999,報酬支払先情報!$A36&\"|\"&N$7,報酬支払額!$H$10:$H$999)","v":0},{"$f":"SUMIF(報酬支払額!$B$10:$B$999,報酬支払先情報!$A36&\"|\"&O$7,報酬支払額!$H$10:$H$999)","v":0},{"$f":"SUMIF(報酬支払額!$B$10:$B$999,報酬支払先情報!$A36&\"|\"&P$7,報酬支払額!$H$10:$H$999)","v":0},{"$f":"SUMIF(報酬支払額!$B$10:$B$999,報酬支払先情報!$A36&\"|\"&Q$7,報酬支払額!$H$10:$H$999)","v":0},{"$f":"SUMIF(報酬支払額!$B$10:$B$999,報酬支払先情報!$A36&\"|\"&R$7,報酬支払額!$H$10:$H$999)","v":0},null,0,"",0,0,0,0,0,0,0,0,null,0,"",0,0,0,0,0,0,0,0,0,0,0]
[{"$f":"報酬支払先情報!A37","v":0},{"$f":"報酬支払先情報!B37&\"\"","v":""},{"$f":"SUMIF(報酬支払額!$B$10:$B$999,報酬支払先情報!$A37&\"|\"&C$7,報酬支払額!$G$10:$G$999)","v":0},{"$f":"SUMIF(報酬支払額!$B$10:$B$999,報酬支払先情報!$A37&\"|\"&D$7,報酬支払額!$G$10:$G$999)","v":0},{"$f":"SUMIF(報酬支払額!$B$10:$B$999,報酬支払先情報!$A37&\"|\"&E$7,報酬支払額!$G$10:$G$999)","v":0},{"$f":"SUMIF(報酬支払額!$B$10:$B$999,報酬支払先情報!$A37&\"|\"&F$7,報酬支払額!$G$10:$G$999)","v":0},{"$f":"SUMIF(報酬支払額!$B$10:$B$999,報酬支払先情報!$A37&\"|\"&G$7,報酬支払額!$G$10:$G$999)","v":0},{"$f":"SUMIF(報酬支払額!$B$10:$B$999,報酬支払先情報!$A37&\"|\"&H$7,報酬支払額!$G$10:$G$999)","v":0},{"$f":"SUMIF(報酬支払額!$B$10:$B$999,報酬支払先情報!$A37&\"|\"&I$7,報酬支払額!$G$10:$G$999)","v":0},{"$f":"SUMIF(報酬支払額!$B$10:$B$999,報酬支払先情報!$A37&\"|\"&J$7,報酬支払額!$G$10:$G$999)","v":0},{"$f":"SUMIF(報酬支払額!$B$10:$B$999,報酬支払先情報!$A37&\"|\"&K$7,報酬支払額!$H$10:$H$999)","v":0},{"$f":"SUMIF(報酬支払額!$B$10:$B$999,報酬支払先情報!$A37&\"|\"&L$7,報酬支払額!$H$10:$H$999)","v":0},{"$f":"SUMIF(報酬支払額!$B$10:$B$999,報酬支払先情報!$A37&\"|\"&M$7,報酬支払額!$H$10:$H$999)","v":0},{"$f":"SUMIF(報酬支払額!$B$10:$B$999,報酬支払先情報!$A37&\"|\"&N$7,報酬支払額!$H$10:$H$999)","v":0},{"$f":"SUMIF(報酬支払額!$B$10:$B$999,報酬支払先情報!$A37&\"|\"&O$7,報酬支払額!$H$10:$H$999)","v":0},{"$f":"SUMIF(報酬支払額!$B$10:$B$999,報酬支払先情報!$A37&\"|\"&P$7,報酬支払額!$H$10:$H$999)","v":0},{"$f":"SUMIF(報酬支払額!$B$10:$B$999,報酬支払先情報!$A37&\"|\"&Q$7,報酬支払額!$H$10:$H$999)","v":0},{"$f":"SUMIF(報酬支払額!$B$10:$B$999,報酬支払先情報!$A37&\"|\"&R$7,報酬支払額!$H$10:$H$999)","v":0},null,0,"",0,0,0,0,0,0,0,0,null,0,"",0,0,0,0,0,0,0,0,0,0,0]
[{"$f":"報酬支払先情報!A38","v":0},{"$f":"報酬支払先情報!B38&\"\"","v":""},{"$f":"SUMIF(報酬支払額!$B$10:$B$999,報酬支払先情報!$A38&\"|\"&C$7,報酬支払額!$G$10:$G$999)","v":0},{"$f":"SUMIF(報酬支払額!$B$10:$B$999,報酬支払先情報!$A38&\"|\"&D$7,報酬支払額!$G$10:$G$999)","v":0},{"$f":"SUMIF(報酬支払額!$B$10:$B$999,報酬支払先情報!$A38&\"|\"&E$7,報酬支払額!$G$10:$G$999)","v":0},{"$f":"SUMIF(報酬支払額!$B$10:$B$999,報酬支払先情報!$A38&\"|\"&F$7,報酬支払額!$G$10:$G$999)","v":0},{"$f":"SUMIF(報酬支払額!$B$10:$B$999,報酬支払先情報!$A38&\"|\"&G$7,報酬支払額!$G$10:$G$999)","v":0},{"$f":"SUMIF(報酬支払額!$B$10:$B$999,報酬支払先情報!$A38&\"|\"&H$7,報酬支払額!$G$10:$G$999)","v":0},{"$f":"SUMIF(報酬支払額!$B$10:$B$999,報酬支払先情報!$A38&\"|\"&I$7,報酬支払額!$G$10:$G$999)","v":0},{"$f":"SUMIF(報酬支払額!$B$10:$B$999,報酬支払先情報!$A38&\"|\"&J$7,報酬支払額!$G$10:$G$999)","v":0},{"$f":"SUMIF(報酬支払額!$B$10:$B$999,報酬支払先情報!$A38&\"|\"&K$7,報酬支払額!$H$10:$H$999)","v":0},{"$f":"SUMIF(報酬支払額!$B$10:$B$999,報酬支払先情報!$A38&\"|\"&L$7,報酬支払額!$H$10:$H$999)","v":0},{"$f":"SUMIF(報酬支払額!$B$10:$B$999,報酬支払先情報!$A38&\"|\"&M$7,報酬支払額!$H$10:$H$999)","v":0},{"$f":"SUMIF(報酬支払額!$B$10:$B$999,報酬支払先情報!$A38&\"|\"&N$7,報酬支払額!$H$10:$H$999)","v":0},{"$f":"SUMIF(報酬支払額!$B$10:$B$999,報酬支払先情報!$A38&\"|\"&O$7,報酬支払額!$H$10:$H$999)","v":0},{"$f":"SUMIF(報酬支払額!$B$10:$B$999,報酬支払先情報!$A38&\"|\"&P$7,報酬支払額!$H$10:$H$999)","v":0},{"$f":"SUMIF(報酬支払額!$B$10:$B$999,報酬支払先情報!$A38&\"|\"&Q$7,報酬支払額!$H$10:$H$999)","v":0},{"$f":"SUMIF(報酬支払額!$B$10:$B$999,報酬支払先情報!$A38&\"|\"&R$7,報酬支払額!$H$10:$H$999)","v":0},null,0,"",0,0,0,0,0,0,0,0,null,0,"",0,0,0,0,0,0,0,0,0,0,0]
[{"$f":"報酬支払先情報!A39","v":0},{"$f":"報酬支払先情報!B39&\"\"","v":""},{"$f":"SUMIF(報酬支払額!$B$10:$B$999,報酬支払先情報!$A39&\"|\"&C$7,報酬支払額!$G$10:$G$999)","v":0},{"$f":"SUMIF(報酬支払額!$B$10:$B$999,報酬支払先情報!$A39&\"|\"&D$7,報酬支払額!$G$10:$G$999)","v":0},{"$f":"SUMIF(報酬支払額!$B$10:$B$999,報酬支払先情報!$A39&\"|\"&E$7,報酬支払額!$G$10:$G$999)","v":0},{"$f":"SUMIF(報酬支払額!$B$10:$B$999,報酬支払先情報!$A39&\"|\"&F$7,報酬支払額!$G$10:$G$999)","v":0},{"$f":"SUMIF(報酬支払額!$B$10:$B$999,報酬支払先情報!$A39&\"|\"&G$7,報酬支払額!$G$10:$G$999)","v":0},{"$f":"SUMIF(報酬支払額!$B$10:$B$999,報酬支払先情報!$A39&\"|\"&H$7,報酬支払額!$G$10:$G$999)","v":0},{"$f":"SUMIF(報酬支払額!$B$10:$B$999,報酬支払先情報!$A39&\"|\"&I$7,報酬支払額!$G$10:$G$999)","v":0},{"$f":"SUMIF(報酬支払額!$B$10:$B$999,報酬支払先情報!$A39&\"|\"&J$7,報酬支払額!$G$10:$G$999)","v":0},{"$f":"SUMIF(報酬支払額!$B$10:$B$999,報酬支払先情報!$A39&\"|\"&K$7,報酬支払額!$H$10:$H$999)","v":0},{"$f":"SUMIF(報酬支払額!$B$10:$B$999,報酬支払先情報!$A39&\"|\"&L$7,報酬支払額!$H$10:$H$999)","v":0},{"$f":"SUMIF(報酬支払額!$B$10:$B$999,報酬支払先情報!$A39&\"|\"&M$7,報酬支払額!$H$10:$H$999)","v":0},{"$f":"SUMIF(報酬支払額!$B$10:$B$999,報酬支払先情報!$A39&\"|\"&N$7,報酬支払額!$H$10:$H$999)","v":0},{"$f":"SUMIF(報酬支払額!$B$10:$B$999,報酬支払先情報!$A39&\"|\"&O$7,報酬支払額!$H$10:$H$999)","v":0},{"$f":"SUMIF(報酬支払額!$B$10:$B$999,報酬支払先情報!$A39&\"|\"&P$7,報酬支払額!$H$10:$H$999)","v":0},{"$f":"SUMIF(報酬支払額!$B$10:$B$999,報酬支払先情報!$A39&\"|\"&Q$7,報酬支払額!$H$10:$H$999)","v":0},{"$f":"SUMIF(報酬支払額!$B$10:$B$999,報酬支払先情報!$A39&\"|\"&R$7,報酬支払額!$H$10:$H$999)","v":0},null,0,"",0,0,0,0,0,0,0,0,null,0,"",0,0,0,0,0,0,0,0,0,0,0]
[{"$f":"報酬支払先情報!A40","v":0},{"$f":"報酬支払先情報!B40&\"\"","v":""},{"$f":"SUMIF(報酬支払額!$B$10:$B$999,報酬支払先情報!$A40&\"|\"&C$7,報酬支払額!$G$10:$G$999)","v":0},{"$f":"SUMIF(報酬支払額!$B$10:$B$999,報酬支払先情報!$A40&\"|\"&D$7,報酬支払額!$G$10:$G$999)","v":0},{"$f":"SUMIF(報酬支払額!$B$10:$B$999,報酬支払先情報!$A40&\"|\"&E$7,報酬支払額!$G$10:$G$999)","v":0},{"$f":"SUMIF(報酬支払額!$B$10:$B$999,報酬支払先情報!$A40&\"|\"&F$7,報酬支払額!$G$10:$G$999)","v":0},{"$f":"SUMIF(報酬支払額!$B$10:$B$999,報酬支払先情報!$A40&\"|\"&G$7,報酬支払額!$G$10:$G$999)","v":0},{"$f":"SUMIF(報酬支払額!$B$10:$B$999,報酬支払先情報!$A40&\"|\"&H$7,報酬支払額!$G$10:$G$999)","v":0},{"$f":"SUMIF(報酬支払額!$B$10:$B$999,報酬支払先情報!$A40&\"|\"&I$7,報酬支払額!$G$10:$G$999)","v":0},{"$f":"SUMIF(報酬支払額!$B$10:$B$999,報酬支払先情報!$A40&\"|\"&J$7,報酬支払額!$G$10:$G$999)","v":0},{"$f":"SUMIF(報酬支払額!$B$10:$B$999,報酬支払先情報!$A40&\"|\"&K$7,報酬支払額!$H$10:$H$999)","v":0},{"$f":"SUMIF(報酬支払額!$B$10:$B$999,報酬支払先情報!$A40&\"|\"&L$7,報酬支払額!$H$10:$H$999)","v":0},{"$f":"SUMIF(報酬支払額!$B$10:$B$999,報酬支払先情報!$A40&\"|\"&M$7,報酬支払額!$H$10:$H$999)","v":0},{"$f":"SUMIF(報酬支払額!$B$10:$B$999,報酬支払先情報!$A40&\"|\"&N$7,報酬支払額!$H$10:$H$999)","v":0},{"$f":"SUMIF(報酬支払額!$B$10:$B$999,報酬支払先情報!$A40&\"|\"&O$7,報酬支払額!$H$10:$H$999)","v":0},{"$f":"SUMIF(報酬支払額!$B$10:$B$999,報酬支払先情報!$A40&\"|\"&P$7,報酬支払額!$H$10:$H$999)","v":0},{"$f":"SUMIF(報酬支払額!$B$10:$B$999,報酬支払先情報!$A40&\"|\"&Q$7,報酬支払額!$H$10:$H$999)","v":0},{"$f":"SUMIF(報酬支払額!$B$10:$B$999,報酬支払先情報!$A40&\"|\"&R$7,報酬支払額!$H$10:$H$999)","v":0},null,0,"",0,0,0,0,0,0,0,0,null,0,"",0,0,0,0,0,0,0,0,0,0,0]
[{"$f":"報酬支払先情報!A41","v":0},{"$f":"報酬支払先情報!B41&\"\"","v":""},{"$f":"SUMIF(報酬支払額!$B$10:$B$999,報酬支払先情報!$A41&\"|\"&C$7,報酬支払額!$G$10:$G$999)","v":0},{"$f":"SUMIF(報酬支払額!$B$10:$B$999,報酬支払先情報!$A41&\"|\"&D$7,報酬支払額!$G$10:$G$999)","v":0},{"$f":"SUMIF(報酬支払額!$B$10:$B$999,報酬支払先情報!$A41&\"|\"&E$7,報酬支払額!$G$10:$G$999)","v":0},{"$f":"SUMIF(報酬支払額!$B$10:$B$999,報酬支払先情報!$A41&\"|\"&F$7,報酬支払額!$G$10:$G$999)","v":0},{"$f":"SUMIF(報酬支払額!$B$10:$B$999,報酬支払先情報!$A41&\"|\"&G$7,報酬支払額!$G$10:$G$999)","v":0},{"$f":"SUMIF(報酬支払額!$B$10:$B$999,報酬支払先情報!$A41&\"|\"&H$7,報酬支払額!$G$10:$G$999)","v":0},{"$f":"SUMIF(報酬支払額!$B$10:$B$999,報酬支払先情報!$A41&\"|\"&I$7,報酬支払額!$G$10:$G$999)","v":0},{"$f":"SUMIF(報酬支払額!$B$10:$B$999,報酬支払先情報!$A41&\"|\"&J$7,報酬支払額!$G$10:$G$999)","v":0},{"$f":"SUMIF(報酬支払額!$B$10:$B$999,報酬支払先情報!$A41&\"|\"&K$7,報酬支払額!$H$10:$H$999)","v":0},{"$f":"SUMIF(報酬支払額!$B$10:$B$999,報酬支払先情報!$A41&\"|\"&L$7,報酬支払額!$H$10:$H$999)","v":0},{"$f":"SUMIF(報酬支払額!$B$10:$B$999,報酬支払先情報!$A41&\"|\"&M$7,報酬支払額!$H$10:$H$999)","v":0},{"$f":"SUMIF(報酬支払額!$B$10:$B$999,報酬支払先情報!$A41&\"|\"&N$7,報酬支払額!$H$10:$H$999)","v":0},{"$f":"SUMIF(報酬支払額!$B$10:$B$999,報酬支払先情報!$A41&\"|\"&O$7,報酬支払額!$H$10:$H$999)","v":0},{"$f":"SUMIF(報酬支払額!$B$10:$B$999,報酬支払先情報!$A41&\"|\"&P$7,報酬支払額!$H$10:$H$999)","v":0},{"$f":"SUMIF(報酬支払額!$B$10:$B$999,報酬支払先情報!$A41&\"|\"&Q$7,報酬支払額!$H$10:$H$999)","v":0},{"$f":"SUMIF(報酬支払額!$B$10:$B$999,報酬支払先情報!$A41&\"|\"&R$7,報酬支払額!$H$10:$H$999)","v":0},null,0,"",0,0,0,0,0,0,0,0,null,0,"",0,0,0,0,0,0,0,0,0,0,0]
[{"$f":"報酬支払先情報!A42","v":0},{"$f":"報酬支払先情報!B42&\"\"","v":""},{"$f":"SUMIF(報酬支払額!$B$10:$B$999,報酬支払先情報!$A42&\"|\"&C$7,報酬支払額!$G$10:$G$999)","v":0},{"$f":"SUMIF(報酬支払額!$B$10:$B$999,報酬支払先情報!$A42&\"|\"&D$7,報酬支払額!$G$10:$G$999)","v":0},{"$f":"SUMIF(報酬支払額!$B$10:$B$999,報酬支払先情報!$A42&\"|\"&E$7,報酬支払額!$G$10:$G$999)","v":0},{"$f":"SUMIF(報酬支払額!$B$10:$B$999,報酬支払先情報!$A42&\"|\"&F$7,報酬支払額!$G$10:$G$999)","v":0},{"$f":"SUMIF(報酬支払額!$B$10:$B$999,報酬支払先情報!$A42&\"|\"&G$7,報酬支払額!$G$10:$G$999)","v":0},{"$f":"SUMIF(報酬支払額!$B$10:$B$999,報酬支払先情報!$A42&\"|\"&H$7,報酬支払額!$G$10:$G$999)","v":0},{"$f":"SUMIF(報酬支払額!$B$10:$B$999,報酬支払先情報!$A42&\"|\"&I$7,報酬支払額!$G$10:$G$999)","v":0},{"$f":"SUMIF(報酬支払額!$B$10:$B$999,報酬支払先情報!$A42&\"|\"&J$7,報酬支払額!$G$10:$G$999)","v":0},{"$f":"SUMIF(報酬支払額!$B$10:$B$999,報酬支払先情報!$A42&\"|\"&K$7,報酬支払額!$H$10:$H$999)","v":0},{"$f":"SUMIF(報酬支払額!$B$10:$B$999,報酬支払先情報!$A42&\"|\"&L$7,報酬支払額!$H$10:$H$999)","v":0},{"$f":"SUMIF(報酬支払額!$B$10:$B$999,報酬支払先情報!$A42&\"|\"&M$7,報酬支払額!$H$10:$H$999)","v":0},{"$f":"SUMIF(報酬支払額!$B$10:$B$999,報酬支払先情報!$A42&\"|\"&N$7,報酬支払額!$H$10:$H$999)","v":0},{"$f":"SUMIF(報酬支払額!$B$10:$B$999,報酬支払先情報!$A42&\"|\"&O$7,報酬支払額!$H$10:$H$999)","v":0},{"$f":"SUMIF(報酬支払額!$B$10:$B$999,報酬支払先情報!$A42&\"|\"&P$7,報酬支払額!$H$10:$H$999)","v":0},{"$f":"SUMIF(報酬支払額!$B$10:$B$999,報酬支払先情報!$A42&\"|\"&Q$7,報酬支払額!$H$10:$H$999)","v":0},{"$f":"SUMIF(報酬支払額!$B$10:$B$999,報酬支払先情報!$A42&\"|\"&R$7,報酬支払額!$H$10:$H$999)","v":0},null,0,"",0,0,0,0,0,0,0,0,null,0,"",0,0,0,0,0,0,0,0,0,0,0]
[{"$f":"報酬支払先情報!A43","v":0},{"$f":"報酬支払先情報!B43&\"\"","v":""},{"$f":"SUMIF(報酬支払額!$B$10:$B$999,報酬支払先情報!$A43&\"|\"&C$7,報酬支払額!$G$10:$G$999)","v":0},{"$f":"SUMIF(報酬支払額!$B$10:$B$999,報酬支払先情報!$A43&\"|\"&D$7,報酬支払額!$G$10:$G$999)","v":0},{"$f":"SUMIF(報酬支払額!$B$10:$B$999,報酬支払先情報!$A43&\"|\"&E$7,報酬支払額!$G$10:$G$999)","v":0},{"$f":"SUMIF(報酬支払額!$B$10:$B$999,報酬支払先情報!$A43&\"|\"&F$7,報酬支払額!$G$10:$G$999)","v":0},{"$f":"SUMIF(報酬支払額!$B$10:$B$999,報酬支払先情報!$A43&\"|\"&G$7,報酬支払額!$G$10:$G$999)","v":0},{"$f":"SUMIF(報酬支払額!$B$10:$B$999,報酬支払先情報!$A43&\"|\"&H$7,報酬支払額!$G$10:$G$999)","v":0},{"$f":"SUMIF(報酬支払額!$B$10:$B$999,報酬支払先情報!$A43&\"|\"&I$7,報酬支払額!$G$10:$G$999)","v":0},{"$f":"SUMIF(報酬支払額!$B$10:$B$999,報酬支払先情報!$A43&\"|\"&J$7,報酬支払額!$G$10:$G$999)","v":0},{"$f":"SUMIF(報酬支払額!$B$10:$B$999,報酬支払先情報!$A43&\"|\"&K$7,報酬支払額!$H$10:$H$999)","v":0},{"$f":"SUMIF(報酬支払額!$B$10:$B$999,報酬支払先情報!$A43&\"|\"&L$7,報酬支払額!$H$10:$H$999)","v":0},{"$f":"SUMIF(報酬支払額!$B$10:$B$999,報酬支払先情報!$A43&\"|\"&M$7,報酬支払額!$H$10:$H$999)","v":0},{"$f":"SUMIF(報酬支払額!$B$10:$B$999,報酬支払先情報!$A43&\"|\"&N$7,報酬支払額!$H$10:$H$999)","v":0},{"$f":"SUMIF(報酬支払額!$B$10:$B$999,報酬支払先情報!$A43&\"|\"&O$7,報酬支払額!$H$10:$H$999)","v":0},{"$f":"SUMIF(報酬支払額!$B$10:$B$999,報酬支払先情報!$A43&\"|\"&P$7,報酬支払額!$H$10:$H$999)","v":0},{"$f":"SUMIF(報酬支払額!$B$10:$B$999,報酬支払先情報!$A43&\"|\"&Q$7,報酬支払額!$H$10:$H$999)","v":0},{"$f":"SUMIF(報酬支払額!$B$10:$B$999,報酬支払先情報!$A43&\"|\"&R$7,報酬支払額!$H$10:$H$999)","v":0},null,0,"",0,0,0,0,0,0,0,0,null,0,"",0,0,0,0,0,0,0,0,0,0,0]
[{"$f":"報酬支払先情報!A44","v":0},{"$f":"報酬支払先情報!B44&\"\"","v":""},{"$f":"SUMIF(報酬支払額!$B$10:$B$999,報酬支払先情報!$A44&\"|\"&C$7,報酬支払額!$G$10:$G$999)","v":0},{"$f":"SUMIF(報酬支払額!$B$10:$B$999,報酬支払先情報!$A44&\"|\"&D$7,報酬支払額!$G$10:$G$999)","v":0},{"$f":"SUMIF(報酬支払額!$B$10:$B$999,報酬支払先情報!$A44&\"|\"&E$7,報酬支払額!$G$10:$G$999)","v":0},{"$f":"SUMIF(報酬支払額!$B$10:$B$999,報酬支払先情報!$A44&\"|\"&F$7,報酬支払額!$G$10:$G$999)","v":0},{"$f":"SUMIF(報酬支払額!$B$10:$B$999,報酬支払先情報!$A44&\"|\"&G$7,報酬支払額!$G$10:$G$999)","v":0},{"$f":"SUMIF(報酬支払額!$B$10:$B$999,報酬支払先情報!$A44&\"|\"&H$7,報酬支払額!$G$10:$G$999)","v":0},{"$f":"SUMIF(報酬支払額!$B$10:$B$999,報酬支払先情報!$A44&\"|\"&I$7,報酬支払額!$G$10:$G$999)","v":0},{"$f":"SUMIF(報酬支払額!$B$10:$B$999,報酬支払先情報!$A44&\"|\"&J$7,報酬支払額!$G$10:$G$999)","v":0},{"$f":"SUMIF(報酬支払額!$B$10:$B$999,報酬支払先情報!$A44&\"|\"&K$7,報酬支払額!$H$10:$H$999)","v":0},{"$f":"SUMIF(報酬支払額!$B$10:$B$999,報酬支払先情報!$A44&\"|\"&L$7,報酬支払額!$H$10:$H$999)","v":0},{"$f":"SUMIF(報酬支払額!$B$10:$B$999,報酬支払先情報!$A44&\"|\"&M$7,報酬支払額!$H$10:$H$999)","v":0},{"$f":"SUMIF(報酬支払額!$B$10:$B$999,報酬支払先情報!$A44&\"|\"&N$7,報酬支払額!$H$10:$H$999)","v":0},{"$f":"SUMIF(報酬支払額!$B$10:$B$999,報酬支払先情報!$A44&\"|\"&O$7,報酬支払額!$H$10:$H$999)","v":0},{"$f":"SUMIF(報酬支払額!$B$10:$B$999,報酬支払先情報!$A44&\"|\"&P$7,報酬支払額!$H$10:$H$999)","v":0},{"$f":"SUMIF(報酬支払額!$B$10:$B$999,報酬支払先情報!$A44&\"|\"&Q$7,報酬支払額!$H$10:$H$999)","v":0},{"$f":"SUMIF(報酬支払額!$B$10:$B$999,報酬支払先情報!$A44&\"|\"&R$7,報酬支払額!$H$10:$H$999)","v":0},null,0,"",0,0,0,0,0,0,0,0,null,0,"",0,0,0,0,0,0,0,0,0,0,0]
[{"$f":"報酬支払先情報!A45","v":0},{"$f":"報酬支払先情報!B45&\"\"","v":""},{"$f":"SUMIF(報酬支払額!$B$10:$B$999,報酬支払先情報!$A45&\"|\"&C$7,報酬支払額!$G$10:$G$999)","v":0},{"$f":"SUMIF(報酬支払額!$B$10:$B$999,報酬支払先情報!$A45&\"|\"&D$7,報酬支払額!$G$10:$G$999)","v":0},{"$f":"SUMIF(報酬支払額!$B$10:$B$999,報酬支払先情報!$A45&\"|\"&E$7,報酬支払額!$G$10:$G$999)","v":0},{"$f":"SUMIF(報酬支払額!$B$10:$B$999,報酬支払先情報!$A45&\"|\"&F$7,報酬支払額!$G$10:$G$999)","v":0},{"$f":"SUMIF(報酬支払額!$B$10:$B$999,報酬支払先情報!$A45&\"|\"&G$7,報酬支払額!$G$10:$G$999)","v":0},{"$f":"SUMIF(報酬支払額!$B$10:$B$999,報酬支払先情報!$A45&\"|\"&H$7,報酬支払額!$G$10:$G$999)","v":0},{"$f":"SUMIF(報酬支払額!$B$10:$B$999,報酬支払先情報!$A45&\"|\"&I$7,報酬支払額!$G$10:$G$999)","v":0},{"$f":"SUMIF(報酬支払額!$B$10:$B$999,報酬支払先情報!$A45&\"|\"&J$7,報酬支払額!$G$10:$G$999)","v":0},{"$f":"SUMIF(報酬支払額!$B$10:$B$999,報酬支払先情報!$A45&\"|\"&K$7,報酬支払額!$H$10:$H$999)","v":0},{"$f":"SUMIF(報酬支払額!$B$10:$B$999,報酬支払先情報!$A45&\"|\"&L$7,報酬支払額!$H$10:$H$999)","v":0},{"$f":"SUMIF(報酬支払額!$B$10:$B$999,報酬支払先情報!$A45&\"|\"&M$7,報酬支払額!$H$10:$H$999)","v":0},{"$f":"SUMIF(報酬支払額!$B$10:$B$999,報酬支払先情報!$A45&\"|\"&N$7,報酬支払額!$H$10:$H$999)","v":0},{"$f":"SUMIF(報酬支払額!$B$10:$B$999,報酬支払先情報!$A45&\"|\"&O$7,報酬支払額!$H$10:$H$999)","v":0},{"$f":"SUMIF(報酬支払額!$B$10:$B$999,報酬支払先情報!$A45&\"|\"&P$7,報酬支払額!$H$10:$H$999)","v":0},{"$f":"SUMIF(報酬支払額!$B$10:$B$999,報酬支払先情報!$A45&\"|\"&Q$7,報酬支払額!$H$10:$H$999)","v":0},{"$f":"SUMIF(報酬支払額!$B$10:$B$999,報酬支払先情報!$A45&\"|\"&R$7,報酬支払額!$H$10:$H$999)","v":0},null,0,"",0,0,0,0,0,0,0,0,null,0,"",0,0,0,0,0,0,0,0,0,0,0]
[{"$f":"報酬支払先情報!A46","v":0},{"$f":"報酬支払先情報!B46&\"\"","v":""},{"$f":"SUMIF(報酬支払額!$B$10:$B$999,報酬支払先情報!$A46&\"|\"&C$7,報酬支払額!$G$10:$G$999)","v":0},{"$f":"SUMIF(報酬支払額!$B$10:$B$999,報酬支払先情報!$A46&\"|\"&D$7,報酬支払額!$G$10:$G$999)","v":0},{"$f":"SUMIF(報酬支払額!$B$10:$B$999,報酬支払先情報!$A46&\"|\"&E$7,報酬支払額!$G$10:$G$999)","v":0},{"$f":"SUMIF(報酬支払額!$B$10:$B$999,報酬支払先情報!$A46&\"|\"&F$7,報酬支払額!$G$10:$G$999)","v":0},{"$f":"SUMIF(報酬支払額!$B$10:$B$999,報酬支払先情報!$A46&\"|\"&G$7,報酬支払額!$G$10:$G$999)","v":0},{"$f":"SUMIF(報酬支払額!$B$10:$B$999,報酬支払先情報!$A46&\"|\"&H$7,報酬支払額!$G$10:$G$999)","v":0},{"$f":"SUMIF(報酬支払額!$B$10:$B$999,報酬支払先情報!$A46&\"|\"&I$7,報酬支払額!$G$10:$G$999)","v":0},{"$f":"SUMIF(報酬支払額!$B$10:$B$999,報酬支払先情報!$A46&\"|\"&J$7,報酬支払額!$G$10:$G$999)","v":0},{"$f":"SUMIF(報酬支払額!$B$10:$B$999,報酬支払先情報!$A46&\"|\"&K$7,報酬支払額!$H$10:$H$999)","v":0},{"$f":"SUMIF(報酬支払額!$B$10:$B$999,報酬支払先情報!$A46&\"|\"&L$7,報酬支払額!$H$10:$H$999)","v":0},{"$f":"SUMIF(報酬支払額!$B$10:$B$999,報酬支払先情報!$A46&\"|\"&M$7,報酬支払額!$H$10:$H$999)","v":0},{"$f":"SUMIF(報酬支払額!$B$10:$B$999,報酬支払先情報!$A46&\"|\"&N$7,報酬支払額!$H$10:$H$999)","v":0},{"$f":"SUMIF(報酬支払額!$B$10:$B$999,報酬支払先情報!$A46&\"|\"&O$7,報酬支払額!$H$10:$H$999)","v":0},{"$f":"SUMIF(報酬支払額!$B$10:$B$999,報酬支払先情報!$A46&\"|\"&P$7,報酬支払額!$H$10:$H$999)","v":0},{"$f":"SUMIF(報酬支払額!$B$10:$B$999,報酬支払先情報!$A46&\"|\"&Q$7,報酬支払額!$H$10:$H$999)","v":0},{"$f":"SUMIF(報酬支払額!$B$10:$B$999,報酬支払先情報!$A46&\"|\"&R$7,報酬支払額!$H$10:$H$999)","v":0},null,0,"",0,0,0,0,0,0,0,0,null,0,"",0,0,0,0,0,0,0,0,0,0,0]
[{"$f":"報酬支払先情報!A47","v":0},{"$f":"報酬支払先情報!B47&\"\"","v":""},{"$f":"SUMIF(報酬支払額!$B$10:$B$999,報酬支払先情報!$A47&\"|\"&C$7,報酬支払額!$G$10:$G$999)","v":0},{"$f":"SUMIF(報酬支払額!$B$10:$B$999,報酬支払先情報!$A47&\"|\"&D$7,報酬支払額!$G$10:$G$999)","v":0},{"$f":"SUMIF(報酬支払額!$B$10:$B$999,報酬支払先情報!$A47&\"|\"&E$7,報酬支払額!$G$10:$G$999)","v":0},{"$f":"SUMIF(報酬支払額!$B$10:$B$999,報酬支払先情報!$A47&\"|\"&F$7,報酬支払額!$G$10:$G$999)","v":0},{"$f":"SUMIF(報酬支払額!$B$10:$B$999,報酬支払先情報!$A47&\"|\"&G$7,報酬支払額!$G$10:$G$999)","v":0},{"$f":"SUMIF(報酬支払額!$B$10:$B$999,報酬支払先情報!$A47&\"|\"&H$7,報酬支払額!$G$10:$G$999)","v":0},{"$f":"SUMIF(報酬支払額!$B$10:$B$999,報酬支払先情報!$A47&\"|\"&I$7,報酬支払額!$G$10:$G$999)","v":0},{"$f":"SUMIF(報酬支払額!$B$10:$B$999,報酬支払先情報!$A47&\"|\"&J$7,報酬支払額!$G$10:$G$999)","v":0},{"$f":"SUMIF(報酬支払額!$B$10:$B$999,報酬支払先情報!$A47&\"|\"&K$7,報酬支払額!$H$10:$H$999)","v":0},{"$f":"SUMIF(報酬支払額!$B$10:$B$999,報酬支払先情報!$A47&\"|\"&L$7,報酬支払額!$H$10:$H$999)","v":0},{"$f":"SUMIF(報酬支払額!$B$10:$B$999,報酬支払先情報!$A47&\"|\"&M$7,報酬支払額!$H$10:$H$999)","v":0},{"$f":"SUMIF(報酬支払額!$B$10:$B$999,報酬支払先情報!$A47&\"|\"&N$7,報酬支払額!$H$10:$H$999)","v":0},{"$f":"SUMIF(報酬支払額!$B$10:$B$999,報酬支払先情報!$A47&\"|\"&O$7,報酬支払額!$H$10:$H$999)","v":0},{"$f":"SUMIF(報酬支払額!$B$10:$B$999,報酬支払先情報!$A47&\"|\"&P$7,報酬支払額!$H$10:$H$999)","v":0},{"$f":"SUMIF(報酬支払額!$B$10:$B$999,報酬支払先情報!$A47&\"|\"&Q$7,報酬支払額!$H$10:$H$999)","v":0},{"$f":"SUMIF(報酬支払額!$B$10:$B$999,報酬支払先情報!$A47&\"|\"&R$7,報酬支払額!$H$10:$H$999)","v":0},null,0,"",0,0,0,0,0,0,0,0,null,0,"",0,0,0,0,0,0,0,0,0,0,0]
[{"$f":"報酬支払先情報!A48","v":0},{"$f":"報酬支払先情報!B48&\"\"","v":""},{"$f":"SUMIF(報酬支払額!$B$10:$B$999,報酬支払先情報!$A48&\"|\"&C$7,報酬支払額!$G$10:$G$999)","v":0},{"$f":"SUMIF(報酬支払額!$B$10:$B$999,報酬支払先情報!$A48&\"|\"&D$7,報酬支払額!$G$10:$G$999)","v":0},{"$f":"SUMIF(報酬支払額!$B$10:$B$999,報酬支払先情報!$A48&\"|\"&E$7,報酬支払額!$G$10:$G$999)","v":0},{"$f":"SUMIF(報酬支払額!$B$10:$B$999,報酬支払先情報!$A48&\"|\"&F$7,報酬支払額!$G$10:$G$999)","v":0},{"$f":"SUMIF(報酬支払額!$B$10:$B$999,報酬支払先情報!$A48&\"|\"&G$7,報酬支払額!$G$10:$G$999)","v":0},{"$f":"SUMIF(報酬支払額!$B$10:$B$999,報酬支払先情報!$A48&\"|\"&H$7,報酬支払額!$G$10:$G$999)","v":0},{"$f":"SUMIF(報酬支払額!$B$10:$B$999,報酬支払先情報!$A48&\"|\"&I$7,報酬支払額!$G$10:$G$999)","v":0},{"$f":"SUMIF(報酬支払額!$B$10:$B$999,報酬支払先情報!$A48&\"|\"&J$7,報酬支払額!$G$10:$G$999)","v":0},{"$f":"SUMIF(報酬支払額!$B$10:$B$999,報酬支払先情報!$A48&\"|\"&K$7,報酬支払額!$H$10:$H$999)","v":0},{"$f":"SUMIF(報酬支払額!$B$10:$B$999,報酬支払先情報!$A48&\"|\"&L$7,報酬支払額!$H$10:$H$999)","v":0},{"$f":"SUMIF(報酬支払額!$B$10:$B$999,報酬支払先情報!$A48&\"|\"&M$7,報酬支払額!$H$10:$H$999)","v":0},{"$f":"SUMIF(報酬支払額!$B$10:$B$999,報酬支払先情報!$A48&\"|\"&N$7,報酬支払額!$H$10:$H$999)","v":0},{"$f":"SUMIF(報酬支払額!$B$10:$B$999,報酬支払先情報!$A48&\"|\"&O$7,報酬支払額!$H$10:$H$999)","v":0},{"$f":"SUMIF(報酬支払額!$B$10:$B$999,報酬支払先情報!$A48&\"|\"&P$7,報酬支払額!$H$10:$H$999)","v":0},{"$f":"SUMIF(報酬支払額!$B$10:$B$999,報酬支払先情報!$A48&\"|\"&Q$7,報酬支払額!$H$10:$H$999)","v":0},{"$f":"SUMIF(報酬支払額!$B$10:$B$999,報酬支払先情報!$A48&\"|\"&R$7,報酬支払額!$H$10:$H$999)","v":0},null,0,"",0,0,0,0,0,0,0,0,null,0,"",0,0,0,0,0,0,0,0,0,0,0]
[{"$f":"報酬支払先情報!A49","v":0},{"$f":"報酬支払先情報!B49&\"\"","v":""},{"$f":"SUMIF(報酬支払額!$B$10:$B$999,報酬支払先情報!$A49&\"|\"&C$7,報酬支払額!$G$10:$G$999)","v":0},{"$f":"SUMIF(報酬支払額!$B$10:$B$999,報酬支払先情報!$A49&\"|\"&D$7,報酬支払額!$G$10:$G$999)","v":0},{"$f":"SUMIF(報酬支払額!$B$10:$B$999,報酬支払先情報!$A49&\"|\"&E$7,報酬支払額!$G$10:$G$999)","v":0},{"$f":"SUMIF(報酬支払額!$B$10:$B$999,報酬支払先情報!$A49&\"|\"&F$7,報酬支払額!$G$10:$G$999)","v":0},{"$f":"SUMIF(報酬支払額!$B$10:$B$999,報酬支払先情報!$A49&\"|\"&G$7,報酬支払額!$G$10:$G$999)","v":0},{"$f":"SUMIF(報酬支払額!$B$10:$B$999,報酬支払先情報!$A49&\"|\"&H$7,報酬支払額!$G$10:$G$999)","v":0},{"$f":"SUMIF(報酬支払額!$B$10:$B$999,報酬支払先情報!$A49&\"|\"&I$7,報酬支払額!$G$10:$G$999)","v":0},{"$f":"SUMIF(報酬支払額!$B$10:$B$999,報酬支払先情報!$A49&\"|\"&J$7,報酬支払額!$G$10:$G$999)","v":0},{"$f":"SUMIF(報酬支払額!$B$10:$B$999,報酬支払先情報!$A49&\"|\"&K$7,報酬支払額!$H$10:$H$999)","v":0},{"$f":"SUMIF(報酬支払額!$B$10:$B$999,報酬支払先情報!$A49&\"|\"&L$7,報酬支払額!$H$10:$H$999)","v":0},{"$f":"SUMIF(報酬支払額!$B$10:$B$999,報酬支払先情報!$A49&\"|\"&M$7,報酬支払額!$H$10:$H$999)","v":0},{"$f":"SUMIF(報酬支払額!$B$10:$B$999,報酬支払先情報!$A49&\"|\"&N$7,報酬支払額!$H$10:$H$999)","v":0},{"$f":"SUMIF(報酬支払額!$B$10:$B$999,報酬支払先情報!$A49&\"|\"&O$7,報酬支払額!$H$10:$H$999)","v":0},{"$f":"SUMIF(報酬支払額!$B$10:$B$999,報酬支払先情報!$A49&\"|\"&P$7,報酬支払額!$H$10:$H$999)","v":0},{"$f":"SUMIF(報酬支払額!$B$10:$B$999,報酬支払先情報!$A49&\"|\"&Q$7,報酬支払額!$H$10:$H$999)","v":0},{"$f":"SUMIF(報酬支払額!$B$10:$B$999,報酬支払先情報!$A49&\"|\"&R$7,報酬支払額!$H$10:$H$999)","v":0},null,0,"",0,0,0,0,0,0,0,0,null,0,"",0,0,0,0,0,0,0,0,0,0,0]
[{"$f":"報酬支払先情報!A50","v":0},{"$f":"報酬支払先情報!B50&\"\"","v":""},{"$f":"SUMIF(報酬支払額!$B$10:$B$999,報酬支払先情報!$A50&\"|\"&C$7,報酬支払額!$G$10:$G$999)","v":0},{"$f":"SUMIF(報酬支払額!$B$10:$B$999,報酬支払先情報!$A50&\"|\"&D$7,報酬支払額!$G$10:$G$999)","v":0},{"$f":"SUMIF(報酬支払額!$B$10:$B$999,報酬支払先情報!$A50&\"|\"&E$7,報酬支払額!$G$10:$G$999)","v":0},{"$f":"SUMIF(報酬支払額!$B$10:$B$999,報酬支払先情報!$A50&\"|\"&F$7,報酬支払額!$G$10:$G$999)","v":0},{"$f":"SUMIF(報酬支払額!$B$10:$B$999,報酬支払先情報!$A50&\"|\"&G$7,報酬支払額!$G$10:$G$999)","v":0},{"$f":"SUMIF(報酬支払額!$B$10:$B$999,報酬支払先情報!$A50&\"|\"&H$7,報酬支払額!$G$10:$G$999)","v":0},{"$f":"SUMIF(報酬支払額!$B$10:$B$999,報酬支払先情報!$A50&\"|\"&I$7,報酬支払額!$G$10:$G$999)","v":0},{"$f":"SUMIF(報酬支払額!$B$10:$B$999,報酬支払先情報!$A50&\"|\"&J$7,報酬支払額!$G$10:$G$999)","v":0},{"$f":"SUMIF(報酬支払額!$B$10:$B$999,報酬支払先情報!$A50&\"|\"&K$7,報酬支払額!$H$10:$H$999)","v":0},{"$f":"SUMIF(報酬支払額!$B$10:$B$999,報酬支払先情報!$A50&\"|\"&L$7,報酬支払額!$H$10:$H$999)","v":0},{"$f":"SUMIF(報酬支払額!$B$10:$B$999,報酬支払先情報!$A50&\"|\"&M$7,報酬支払額!$H$10:$H$999)","v":0},{"$f":"SUMIF(報酬支払額!$B$10:$B$999,報酬支払先情報!$A50&\"|\"&N$7,報酬支払額!$H$10:$H$999)","v":0},{"$f":"SUMIF(報酬支払額!$B$10:$B$999,報酬支払先情報!$A50&\"|\"&O$7,報酬支払額!$H$10:$H$999)","v":0},{"$f":"SUMIF(報酬支払額!$B$10:$B$999,報酬支払先情報!$A50&\"|\"&P$7,報酬支払額!$H$10:$H$999)","v":0},{"$f":"SUMIF(報酬支払額!$B$10:$B$999,報酬支払先情報!$A50&\"|\"&Q$7,報酬支払額!$H$10:$H$999)","v":0},{"$f":"SUMIF(報酬支払額!$B$10:$B$999,報酬支払先情報!$A50&\"|\"&R$7,報酬支払額!$H$10:$H$999)","v":0},null,0,"",0,0,0,0,0,0,0,0,null,0,"",0,0,0,0,0,0,0,0,0,0,0]
[{"$f":"報酬支払先情報!A51","v":0},{"$f":"報酬支払先情報!B51&\"\"","v":""},{"$f":"SUMIF(報酬支払額!$B$10:$B$999,報酬支払先情報!$A51&\"|\"&C$7,報酬支払額!$G$10:$G$999)","v":0},{"$f":"SUMIF(報酬支払額!$B$10:$B$999,報酬支払先情報!$A51&\"|\"&D$7,報酬支払額!$G$10:$G$999)","v":0},{"$f":"SUMIF(報酬支払額!$B$10:$B$999,報酬支払先情報!$A51&\"|\"&E$7,報酬支払額!$G$10:$G$999)","v":0},{"$f":"SUMIF(報酬支払額!$B$10:$B$999,報酬支払先情報!$A51&\"|\"&F$7,報酬支払額!$G$10:$G$999)","v":0},{"$f":"SUMIF(報酬支払額!$B$10:$B$999,報酬支払先情報!$A51&\"|\"&G$7,報酬支払額!$G$10:$G$999)","v":0},{"$f":"SUMIF(報酬支払額!$B$10:$B$999,報酬支払先情報!$A51&\"|\"&H$7,報酬支払額!$G$10:$G$999)","v":0},{"$f":"SUMIF(報酬支払額!$B$10:$B$999,報酬支払先情報!$A51&\"|\"&I$7,報酬支払額!$G$10:$G$999)","v":0},{"$f":"SUMIF(報酬支払額!$B$10:$B$999,報酬支払先情報!$A51&\"|\"&J$7,報酬支払額!$G$10:$G$999)","v":0},{"$f":"SUMIF(報酬支払額!$B$10:$B$999,報酬支払先情報!$A51&\"|\"&K$7,報酬支払額!$H$10:$H$999)","v":0},{"$f":"SUMIF(報酬支払額!$B$10:$B$999,報酬支払先情報!$A51&\"|\"&L$7,報酬支払額!$H$10:$H$999)","v":0},{"$f":"SUMIF(報酬支払額!$B$10:$B$999,報酬支払先情報!$A51&\"|\"&M$7,報酬支払額!$H$10:$H$999)","v":0},{"$f":"SUMIF(報酬支払額!$B$10:$B$999,報酬支払先情報!$A51&\"|\"&N$7,報酬支払額!$H$10:$H$999)","v":0},{"$f":"SUMIF(報酬支払額!$B$10:$B$999,報酬支払先情報!$A51&\"|\"&O$7,報酬支払額!$H$10:$H$999)","v":0},{"$f":"SUMIF(報酬支払額!$B$10:$B$999,報酬支払先情報!$A51&\"|\"&P$7,報酬支払額!$H$10:$H$999)","v":0},{"$f":"SUMIF(報酬支払額!$B$10:$B$999,報酬支払先情報!$A51&\"|\"&Q$7,報酬支払額!$H$10:$H$999)","v":0},{"$f":"SUMIF(報酬支払額!$B$10:$B$999,報酬支払先情報!$A51&\"|\"&R$7,報酬支払額!$H$10:$H$999)","v":0},null,0,"",0,0,0,0,0,0,0,0,null,0,"",0,0,0,0,0,0,0,0,0,0,0]
[{"$f":"報酬支払先情報!A52","v":0},{"$f":"報酬支払先情報!B52&\"\"","v":""},{"$f":"SUMIF(報酬支払額!$B$10:$B$999,報酬支払先情報!$A52&\"|\"&C$7,報酬支払額!$G$10:$G$999)","v":0},{"$f":"SUMIF(報酬支払額!$B$10:$B$999,報酬支払先情報!$A52&\"|\"&D$7,報酬支払額!$G$10:$G$999)","v":0},{"$f":"SUMIF(報酬支払額!$B$10:$B$999,報酬支払先情報!$A52&\"|\"&E$7,報酬支払額!$G$10:$G$999)","v":0},{"$f":"SUMIF(報酬支払額!$B$10:$B$999,報酬支払先情報!$A52&\"|\"&F$7,報酬支払額!$G$10:$G$999)","v":0},{"$f":"SUMIF(報酬支払額!$B$10:$B$999,報酬支払先情報!$A52&\"|\"&G$7,報酬支払額!$G$10:$G$999)","v":0},{"$f":"SUMIF(報酬支払額!$B$10:$B$999,報酬支払先情報!$A52&\"|\"&H$7,報酬支払額!$G$10:$G$999)","v":0},{"$f":"SUMIF(報酬支払額!$B$10:$B$999,報酬支払先情報!$A52&\"|\"&I$7,報酬支払額!$G$10:$G$999)","v":0},{"$f":"SUMIF(報酬支払額!$B$10:$B$999,報酬支払先情報!$A52&\"|\"&J$7,報酬支払額!$G$10:$G$999)","v":0},{"$f":"SUMIF(報酬支払額!$B$10:$B$999,報酬支払先情報!$A52&\"|\"&K$7,報酬支払額!$H$10:$H$999)","v":0},{"$f":"SUMIF(報酬支払額!$B$10:$B$999,報酬支払先情報!$A52&\"|\"&L$7,報酬支払額!$H$10:$H$999)","v":0},{"$f":"SUMIF(報酬支払額!$B$10:$B$999,報酬支払先情報!$A52&\"|\"&M$7,報酬支払額!$H$10:$H$999)","v":0},{"$f":"SUMIF(報酬支払額!$B$10:$B$999,報酬支払先情報!$A52&\"|\"&N$7,報酬支払額!$H$10:$H$999)","v":0},{"$f":"SUMIF(報酬支払額!$B$10:$B$999,報酬支払先情報!$A52&\"|\"&O$7,報酬支払額!$H$10:$H$999)","v":0},{"$f":"SUMIF(報酬支払額!$B$10:$B$999,報酬支払先情報!$A52&\"|\"&P$7,報酬支払額!$H$10:$H$999)","v":0},{"$f":"SUMIF(報酬支払額!$B$10:$B$999,報酬支払先情報!$A52&\"|\"&Q$7,報酬支払額!$H$10:$H$999)","v":0},{"$f":"SUMIF(報酬支払額!$B$10:$B$999,報酬支払先情報!$A52&\"|\"&R$7,報酬支払額!$H$10:$H$999)","v":0},null,0,"",0,0,0,0,0,0,0,0,null,0,"",0,0,0,0,0,0,0,0,0,0,0]
[{"$f":"報酬支払先情報!A53","v":0},{"$f":"報酬支払先情報!B53&\"\"","v":""},{"$f":"SUMIF(報酬支払額!$B$10:$B$999,報酬支払先情報!$A53&\"|\"&C$7,報酬支払額!$G$10:$G$999)","v":0},{"$f":"SUMIF(報酬支払額!$B$10:$B$999,報酬支払先情報!$A53&\"|\"&D$7,報酬支払額!$G$10:$G$999)","v":0},{"$f":"SUMIF(報酬支払額!$B$10:$B$999,報酬支払先情報!$A53&\"|\"&E$7,報酬支払額!$G$10:$G$999)","v":0},{"$f":"SUMIF(報酬支払額!$B$10:$B$999,報酬支払先情報!$A53&\"|\"&F$7,報酬支払額!$G$10:$G$999)","v":0},{"$f":"SUMIF(報酬支払額!$B$10:$B$999,報酬支払先情報!$A53&\"|\"&G$7,報酬支払額!$G$10:$G$999)","v":0},{"$f":"SUMIF(報酬支払額!$B$10:$B$999,報酬支払先情報!$A53&\"|\"&H$7,報酬支払額!$G$10:$G$999)","v":0},{"$f":"SUMIF(報酬支払額!$B$10:$B$999,報酬支払先情報!$A53&\"|\"&I$7,報酬支払額!$G$10:$G$999)","v":0},{"$f":"SUMIF(報酬支払額!$B$10:$B$999,報酬支払先情報!$A53&\"|\"&J$7,報酬支払額!$G$10:$G$999)","v":0},{"$f":"SUMIF(報酬支払額!$B$10:$B$999,報酬支払先情報!$A53&\"|\"&K$7,報酬支払額!$H$10:$H$999)","v":0},{"$f":"SUMIF(報酬支払額!$B$10:$B$999,報酬支払先情報!$A53&\"|\"&L$7,報酬支払額!$H$10:$H$999)","v":0},{"$f":"SUMIF(報酬支払額!$B$10:$B$999,報酬支払先情報!$A53&\"|\"&M$7,報酬支払額!$H$10:$H$999)","v":0},{"$f":"SUMIF(報酬支払額!$B$10:$B$999,報酬支払先情報!$A53&\"|\"&N$7,報酬支払額!$H$10:$H$999)","v":0},{"$f":"SUMIF(報酬支払額!$B$10:$B$999,報酬支払先情報!$A53&\"|\"&O$7,報酬支払額!$H$10:$H$999)","v":0},{"$f":"SUMIF(報酬支払額!$B$10:$B$999,報酬支払先情報!$A53&\"|\"&P$7,報酬支払額!$H$10:$H$999)","v":0},{"$f":"SUMIF(報酬支払額!$B$10:$B$999,報酬支払先情報!$A53&\"|\"&Q$7,報酬支払額!$H$10:$H$999)","v":0},{"$f":"SUMIF(報酬支払額!$B$10:$B$999,報酬支払先情報!$A53&\"|\"&R$7,報酬支払額!$H$10:$H$999)","v":0},null,0,"",0,0,0,0,0,0,0,0,null,0,"",0,0,0,0,0,0,0,0,0,0,0]
[{"$f":"報酬支払先情報!A54","v":0},{"$f":"報酬支払先情報!B54&\"\"","v":""},{"$f":"SUMIF(報酬支払額!$B$10:$B$999,報酬支払先情報!$A54&\"|\"&C$7,報酬支払額!$G$10:$G$999)","v":0},{"$f":"SUMIF(報酬支払額!$B$10:$B$999,報酬支払先情報!$A54&\"|\"&D$7,報酬支払額!$G$10:$G$999)","v":0},{"$f":"SUMIF(報酬支払額!$B$10:$B$999,報酬支払先情報!$A54&\"|\"&E$7,報酬支払額!$G$10:$G$999)","v":0},{"$f":"SUMIF(報酬支払額!$B$10:$B$999,報酬支払先情報!$A54&\"|\"&F$7,報酬支払額!$G$10:$G$999)","v":0},{"$f":"SUMIF(報酬支払額!$B$10:$B$999,報酬支払先情報!$A54&\"|\"&G$7,報酬支払額!$G$10:$G$999)","v":0},{"$f":"SUMIF(報酬支払額!$B$10:$B$999,報酬支払先情報!$A54&\"|\"&H$7,報酬支払額!$G$10:$G$999)","v":0},{"$f":"SUMIF(報酬支払額!$B$10:$B$999,報酬支払先情報!$A54&\"|\"&I$7,報酬支払額!$G$10:$G$999)","v":0},{"$f":"SUMIF(報酬支払額!$B$10:$B$999,報酬支払先情報!$A54&\"|\"&J$7,報酬支払額!$G$10:$G$999)","v":0},{"$f":"SUMIF(報酬支払額!$B$10:$B$999,報酬支払先情報!$A54&\"|\"&K$7,報酬支払額!$H$10:$H$999)","v":0},{"$f":"SUMIF(報酬支払額!$B$10:$B$999,報酬支払先情報!$A54&\"|\"&L$7,報酬支払額!$H$10:$H$999)","v":0},{"$f":"SUMIF(報酬支払額!$B$10:$B$999,報酬支払先情報!$A54&\"|\"&M$7,報酬支払額!$H$10:$H$999)","v":0},{"$f":"SUMIF(報酬支払額!$B$10:$B$999,報酬支払先情報!$A54&\"|\"&N$7,報酬支払額!$H$10:$H$999)","v":0},{"$f":"SUMIF(報酬支払額!$B$10:$B$999,報酬支払先情報!$A54&\"|\"&O$7,報酬支払額!$H$10:$H$999)","v":0},{"$f":"SUMIF(報酬支払額!$B$10:$B$999,報酬支払先情報!$A54&\"|\"&P$7,報酬支払額!$H$10:$H$999)","v":0},{"$f":"SUMIF(報酬支払額!$B$10:$B$999,報酬支払先情報!$A54&\"|\"&Q$7,報酬支払額!$H$10:$H$999)","v":0},{"$f":"SUMIF(報酬支払額!$B$10:$B$999,報酬支払先情報!$A54&\"|\"&R$7,報酬支払額!$H$10:$H$999)","v":0},null,0,"",0,0,0,0,0,0,0,0,null,0,"",0,0,0,0,0,0,0,0,0,0,0]
[{"$f":"報酬支払先情報!A55","v":0},{"$f":"報酬支払先情報!B55&\"\"","v":""},{"$f":"SUMIF(報酬支払額!$B$10:$B$999,報酬支払先情報!$A55&\"|\"&C$7,報酬支払額!$G$10:$G$999)","v":0},{"$f":"SUMIF(報酬支払額!$B$10:$B$999,報酬支払先情報!$A55&\"|\"&D$7,報酬支払額!$G$10:$G$999)","v":0},{"$f":"SUMIF(報酬支払額!$B$10:$B$999,報酬支払先情報!$A55&\"|\"&E$7,報酬支払額!$G$10:$G$999)","v":0},{"$f":"SUMIF(報酬支払額!$B$10:$B$999,報酬支払先情報!$A55&\"|\"&F$7,報酬支払額!$G$10:$G$999)","v":0},{"$f":"SUMIF(報酬支払額!$B$10:$B$999,報酬支払先情報!$A55&\"|\"&G$7,報酬支払額!$G$10:$G$999)","v":0},{"$f":"SUMIF(報酬支払額!$B$10:$B$999,報酬支払先情報!$A55&\"|\"&H$7,報酬支払額!$G$10:$G$999)","v":0},{"$f":"SUMIF(報酬支払額!$B$10:$B$999,報酬支払先情報!$A55&\"|\"&I$7,報酬支払額!$G$10:$G$999)","v":0},{"$f":"SUMIF(報酬支払額!$B$10:$B$999,報酬支払先情報!$A55&\"|\"&J$7,報酬支払額!$G$10:$G$999)","v":0},{"$f":"SUMIF(報酬支払額!$B$10:$B$999,報酬支払先情報!$A55&\"|\"&K$7,報酬支払額!$H$10:$H$999)","v":0},{"$f":"SUMIF(報酬支払額!$B$10:$B$999,報酬支払先情報!$A55&\"|\"&L$7,報酬支払額!$H$10:$H$999)","v":0},{"$f":"SUMIF(報酬支払額!$B$10:$B$999,報酬支払先情報!$A55&\"|\"&M$7,報酬支払額!$H$10:$H$999)","v":0},{"$f":"SUMIF(報酬支払額!$B$10:$B$999,報酬支払先情報!$A55&\"|\"&N$7,報酬支払額!$H$10:$H$999)","v":0},{"$f":"SUMIF(報酬支払額!$B$10:$B$999,報酬支払先情報!$A55&\"|\"&O$7,報酬支払額!$H$10:$H$999)","v":0},{"$f":"SUMIF(報酬支払額!$B$10:$B$999,報酬支払先情報!$A55&\"|\"&P$7,報酬支払額!$H$10:$H$999)","v":0},{"$f":"SUMIF(報酬支払額!$B$10:$B$999,報酬支払先情報!$A55&\"|\"&Q$7,報酬支払額!$H$10:$H$999)","v":0},{"$f":"SUMIF(報酬支払額!$B$10:$B$999,報酬支払先情報!$A55&\"|\"&R$7,報酬支払額!$H$10:$H$999)","v":0},null,0,"",0,0,0,0,0,0,0,0,null,0,"",0,0,0,0,0,0,0,0,0,0,0]
[{"$f":"報酬支払先情報!A56","v":0},{"$f":"報酬支払先情報!B56&\"\"","v":""},{"$f":"SUMIF(報酬支払額!$B$10:$B$999,報酬支払先情報!$A56&\"|\"&C$7,報酬支払額!$G$10:$G$999)","v":0},{"$f":"SUMIF(報酬支払額!$B$10:$B$999,報酬支払先情報!$A56&\"|\"&D$7,報酬支払額!$G$10:$G$999)","v":0},{"$f":"SUMIF(報酬支払額!$B$10:$B$999,報酬支払先情報!$A56&\"|\"&E$7,報酬支払額!$G$10:$G$999)","v":0},{"$f":"SUMIF(報酬支払額!$B$10:$B$999,報酬支払先情報!$A56&\"|\"&F$7,報酬支払額!$G$10:$G$999)","v":0},{"$f":"SUMIF(報酬支払額!$B$10:$B$999,報酬支払先情報!$A56&\"|\"&G$7,報酬支払額!$G$10:$G$999)","v":0},{"$f":"SUMIF(報酬支払額!$B$10:$B$999,報酬支払先情報!$A56&\"|\"&H$7,報酬支払額!$G$10:$G$999)","v":0},{"$f":"SUMIF(報酬支払額!$B$10:$B$999,報酬支払先情報!$A56&\"|\"&I$7,報酬支払額!$G$10:$G$999)","v":0},{"$f":"SUMIF(報酬支払額!$B$10:$B$999,報酬支払先情報!$A56&\"|\"&J$7,報酬支払額!$G$10:$G$999)","v":0},{"$f":"SUMIF(報酬支払額!$B$10:$B$999,報酬支払先情報!$A56&\"|\"&K$7,報酬支払額!$H$10:$H$999)","v":0},{"$f":"SUMIF(報酬支払額!$B$10:$B$999,報酬支払先情報!$A56&\"|\"&L$7,報酬支払額!$H$10:$H$999)","v":0},{"$f":"SUMIF(報酬支払額!$B$10:$B$999,報酬支払先情報!$A56&\"|\"&M$7,報酬支払額!$H$10:$H$999)","v":0},{"$f":"SUMIF(報酬支払額!$B$10:$B$999,報酬支払先情報!$A56&\"|\"&N$7,報酬支払額!$H$10:$H$999)","v":0},{"$f":"SUMIF(報酬支払額!$B$10:$B$999,報酬支払先情報!$A56&\"|\"&O$7,報酬支払額!$H$10:$H$999)","v":0},{"$f":"SUMIF(報酬支払額!$B$10:$B$999,報酬支払先情報!$A56&\"|\"&P$7,報酬支払額!$H$10:$H$999)","v":0},{"$f":"SUMIF(報酬支払額!$B$10:$B$999,報酬支払先情報!$A56&\"|\"&Q$7,報酬支払額!$H$10:$H$999)","v":0},{"$f":"SUMIF(報酬支払額!$B$10:$B$999,報酬支払先情報!$A56&\"|\"&R$7,報酬支払額!$H$10:$H$999)","v":0},null,0,"",0,0,0,0,0,0,0,0,null,0,"",0,0,0,0,0,0,0,0,0,0,0]
[{"$f":"報酬支払先情報!A57","v":0},{"$f":"報酬支払先情報!B57&\"\"","v":""},{"$f":"SUMIF(報酬支払額!$B$10:$B$999,報酬支払先情報!$A57&\"|\"&C$7,報酬支払額!$G$10:$G$999)","v":0},{"$f":"SUMIF(報酬支払額!$B$10:$B$999,報酬支払先情報!$A57&\"|\"&D$7,報酬支払額!$G$10:$G$999)","v":0},{"$f":"SUMIF(報酬支払額!$B$10:$B$999,報酬支払先情報!$A57&\"|\"&E$7,報酬支払額!$G$10:$G$999)","v":0},{"$f":"SUMIF(報酬支払額!$B$10:$B$999,報酬支払先情報!$A57&\"|\"&F$7,報酬支払額!$G$10:$G$999)","v":0},{"$f":"SUMIF(報酬支払額!$B$10:$B$999,報酬支払先情報!$A57&\"|\"&G$7,報酬支払額!$G$10:$G$999)","v":0},{"$f":"SUMIF(報酬支払額!$B$10:$B$999,報酬支払先情報!$A57&\"|\"&H$7,報酬支払額!$G$10:$G$999)","v":0},{"$f":"SUMIF(報酬支払額!$B$10:$B$999,報酬支払先情報!$A57&\"|\"&I$7,報酬支払額!$G$10:$G$999)","v":0},{"$f":"SUMIF(報酬支払額!$B$10:$B$999,報酬支払先情報!$A57&\"|\"&J$7,報酬支払額!$G$10:$G$999)","v":0},{"$f":"SUMIF(報酬支払額!$B$10:$B$999,報酬支払先情報!$A57&\"|\"&K$7,報酬支払額!$H$10:$H$999)","v":0},{"$f":"SUMIF(報酬支払額!$B$10:$B$999,報酬支払先情報!$A57&\"|\"&L$7,報酬支払額!$H$10:$H$999)","v":0},{"$f":"SUMIF(報酬支払額!$B$10:$B$999,報酬支払先情報!$A57&\"|\"&M$7,報酬支払額!$H$10:$H$999)","v":0},{"$f":"SUMIF(報酬支払額!$B$10:$B$999,報酬支払先情報!$A57&\"|\"&N$7,報酬支払額!$H$10:$H$999)","v":0},{"$f":"SUMIF(報酬支払額!$B$10:$B$999,報酬支払先情報!$A57&\"|\"&O$7,報酬支払額!$H$10:$H$999)","v":0},{"$f":"SUMIF(報酬支払額!$B$10:$B$999,報酬支払先情報!$A57&\"|\"&P$7,報酬支払額!$H$10:$H$999)","v":0},{"$f":"SUMIF(報酬支払額!$B$10:$B$999,報酬支払先情報!$A57&\"|\"&Q$7,報酬支払額!$H$10:$H$999)","v":0},{"$f":"SUMIF(報酬支払額!$B$10:$B$999,報酬支払先情報!$A57&\"|\"&R$7,報酬支払額!$H$10:$H$999)","v":0},null,0,"",0,0,0,0,0,0,0,0,null,0,"",0,0,0,0,0,0,0,0,0,0,0]
[{"$f":"報酬支払先情報!A58","v":0},{"$f":"報酬支払先情報!B58&\"\"","v":""},{"$f":"SUMIF(報酬支払額!$B$10:$B$999,報酬支払先情報!$A58&\"|\"&C$7,報酬支払額!$G$10:$G$999)","v":0},{"$f":"SUMIF(報酬支払額!$B$10:$B$999,報酬支払先情報!$A58&\"|\"&D$7,報酬支払額!$G$10:$G$999)","v":0},{"$f":"SUMIF(報酬支払額!$B$10:$B$999,報酬支払先情報!$A58&\"|\"&E$7,報酬支払額!$G$10:$G$999)","v":0},{"$f":"SUMIF(報酬支払額!$B$10:$B$999,報酬支払先情報!$A58&\"|\"&F$7,報酬支払額!$G$10:$G$999)","v":0},{"$f":"SUMIF(報酬支払額!$B$10:$B$999,報酬支払先情報!$A58&\"|\"&G$7,報酬支払額!$G$10:$G$999)","v":0},{"$f":"SUMIF(報酬支払額!$B$10:$B$999,報酬支払先情報!$A58&\"|\"&H$7,報酬支払額!$G$10:$G$999)","v":0},{"$f":"SUMIF(報酬支払額!$B$10:$B$999,報酬支払先情報!$A58&\"|\"&I$7,報酬支払額!$G$10:$G$999)","v":0},{"$f":"SUMIF(報酬支払額!$B$10:$B$999,報酬支払先情報!$A58&\"|\"&J$7,報酬支払額!$G$10:$G$999)","v":0},{"$f":"SUMIF(報酬支払額!$B$10:$B$999,報酬支払先情報!$A58&\"|\"&K$7,報酬支払額!$H$10:$H$999)","v":0},{"$f":"SUMIF(報酬支払額!$B$10:$B$999,報酬支払先情報!$A58&\"|\"&L$7,報酬支払額!$H$10:$H$999)","v":0},{"$f":"SUMIF(報酬支払額!$B$10:$B$999,報酬支払先情報!$A58&\"|\"&M$7,報酬支払額!$H$10:$H$999)","v":0},{"$f":"SUMIF(報酬支払額!$B$10:$B$999,報酬支払先情報!$A58&\"|\"&N$7,報酬支払額!$H$10:$H$999)","v":0},{"$f":"SUMIF(報酬支払額!$B$10:$B$999,報酬支払先情報!$A58&\"|\"&O$7,報酬支払額!$H$10:$H$999)","v":0},{"$f":"SUMIF(報酬支払額!$B$10:$B$999,報酬支払先情報!$A58&\"|\"&P$7,報酬支払額!$H$10:$H$999)","v":0},{"$f":"SUMIF(報酬支払額!$B$10:$B$999,報酬支払先情報!$A58&\"|\"&Q$7,報酬支払額!$H$10:$H$999)","v":0},{"$f":"SUMIF(報酬支払額!$B$10:$B$999,報酬支払先情報!$A58&\"|\"&R$7,報酬支払額!$H$10:$H$999)","v":0},null,0,"",0,0,0,0,0,0,0,0,null,0,"",0,0,0,0,0,0,0,0,0,0,0]
[{"$f":"報酬支払先情報!A59","v":0},{"$f":"報酬支払先情報!B59&\"\"","v":""},{"$f":"SUMIF(報酬支払額!$B$10:$B$999,報酬支払先情報!$A59&\"|\"&C$7,報酬支払額!$G$10:$G$999)","v":0},{"$f":"SUMIF(報酬支払額!$B$10:$B$999,報酬支払先情報!$A59&\"|\"&D$7,報酬支払額!$G$10:$G$999)","v":0},{"$f":"SUMIF(報酬支払額!$B$10:$B$999,報酬支払先情報!$A59&\"|\"&E$7,報酬支払額!$G$10:$G$999)","v":0},{"$f":"SUMIF(報酬支払額!$B$10:$B$999,報酬支払先情報!$A59&\"|\"&F$7,報酬支払額!$G$10:$G$999)","v":0},{"$f":"SUMIF(報酬支払額!$B$10:$B$999,報酬支払先情報!$A59&\"|\"&G$7,報酬支払額!$G$10:$G$999)","v":0},{"$f":"SUMIF(報酬支払額!$B$10:$B$999,報酬支払先情報!$A59&\"|\"&H$7,報酬支払額!$G$10:$G$999)","v":0},{"$f":"SUMIF(報酬支払額!$B$10:$B$999,報酬支払先情報!$A59&\"|\"&I$7,報酬支払額!$G$10:$G$999)","v":0},{"$f":"SUMIF(報酬支払額!$B$10:$B$999,報酬支払先情報!$A59&\"|\"&J$7,報酬支払額!$G$10:$G$999)","v":0},{"$f":"SUMIF(報酬支払額!$B$10:$B$999,報酬支払先情報!$A59&\"|\"&K$7,報酬支払額!$H$10:$H$999)","v":0},{"$f":"SUMIF(報酬支払額!$B$10:$B$999,報酬支払先情報!$A59&\"|\"&L$7,報酬支払額!$H$10:$H$999)","v":0},{"$f":"SUMIF(報酬支払額!$B$10:$B$999,報酬支払先情報!$A59&\"|\"&M$7,報酬支払額!$H$10:$H$999)","v":0},{"$f":"SUMIF(報酬支払額!$B$10:$B$999,報酬支払先情報!$A59&\"|\"&N$7,報酬支払額!$H$10:$H$999)","v":0},{"$f":"SUMIF(報酬支払額!$B$10:$B$999,報酬支払先情報!$A59&\"|\"&O$7,報酬支払額!$H$10:$H$999)","v":0},{"$f":"SUMIF(報酬支払額!$B$10:$B$999,報酬支払先情報!$A59&\"|\"&P$7,報酬支払額!$H$10:$H$999)","v":0},{"$f":"SUMIF(報酬支払額!$B$10:$B$999,報酬支払先情報!$A59&\"|\"&Q$7,報酬支払額!$H$10:$H$999)","v":0},{"$f":"SUMIF(報酬支払額!$B$10:$B$999,報酬支払先情報!$A59&\"|\"&R$7,報酬支払額!$H$10:$H$999)","v":0},null,0,"",0,0,0,0,0,0,0,0,null,0,"",0,0,0,0,0,0,0,0,0,0,0]
[{"$f":"報酬支払先情報!A60","v":0},{"$f":"報酬支払先情報!B60&\"\"","v":""},{"$f":"SUMIF(報酬支払額!$B$10:$B$999,報酬支払先情報!$A60&\"|\"&C$7,報酬支払額!$G$10:$G$999)","v":0},{"$f":"SUMIF(報酬支払額!$B$10:$B$999,報酬支払先情報!$A60&\"|\"&D$7,報酬支払額!$G$10:$G$999)","v":0},{"$f":"SUMIF(報酬支払額!$B$10:$B$999,報酬支払先情報!$A60&\"|\"&E$7,報酬支払額!$G$10:$G$999)","v":0},{"$f":"SUMIF(報酬支払額!$B$10:$B$999,報酬支払先情報!$A60&\"|\"&F$7,報酬支払額!$G$10:$G$999)","v":0},{"$f":"SUMIF(報酬支払額!$B$10:$B$999,報酬支払先情報!$A60&\"|\"&G$7,報酬支払額!$G$10:$G$999)","v":0},{"$f":"SUMIF(報酬支払額!$B$10:$B$999,報酬支払先情報!$A60&\"|\"&H$7,報酬支払額!$G$10:$G$999)","v":0},{"$f":"SUMIF(報酬支払額!$B$10:$B$999,報酬支払先情報!$A60&\"|\"&I$7,報酬支払額!$G$10:$G$999)","v":0},{"$f":"SUMIF(報酬支払額!$B$10:$B$999,報酬支払先情報!$A60&\"|\"&J$7,報酬支払額!$G$10:$G$999)","v":0},{"$f":"SUMIF(報酬支払額!$B$10:$B$999,報酬支払先情報!$A60&\"|\"&K$7,報酬支払額!$H$10:$H$999)","v":0},{"$f":"SUMIF(報酬支払額!$B$10:$B$999,報酬支払先情報!$A60&\"|\"&L$7,報酬支払額!$H$10:$H$999)","v":0},{"$f":"SUMIF(報酬支払額!$B$10:$B$999,報酬支払先情報!$A60&\"|\"&M$7,報酬支払額!$H$10:$H$999)","v":0},{"$f":"SUMIF(報酬支払額!$B$10:$B$999,報酬支払先情報!$A60&\"|\"&N$7,報酬支払額!$H$10:$H$999)","v":0},{"$f":"SUMIF(報酬支払額!$B$10:$B$999,報酬支払先情報!$A60&\"|\"&O$7,報酬支払額!$H$10:$H$999)","v":0},{"$f":"SUMIF(報酬支払額!$B$10:$B$999,報酬支払先情報!$A60&\"|\"&P$7,報酬支払額!$H$10:$H$999)","v":0},{"$f":"SUMIF(報酬支払額!$B$10:$B$999,報酬支払先情報!$A60&\"|\"&Q$7,報酬支払額!$H$10:$H$999)","v":0},{"$f":"SUMIF(報酬支払額!$B$10:$B$999,報酬支払先情報!$A60&\"|\"&R$7,報酬支払額!$H$10:$H$999)","v":0},null,0,"",0,0,0,0,0,0,0,0,null,0,"",0,0,0,0,0,0,0,0,0,0,0]
[{"$f":"報酬支払先情報!A61","v":0},{"$f":"報酬支払先情報!B61&\"\"","v":""},{"$f":"SUMIF(報酬支払額!$B$10:$B$999,報酬支払先情報!$A61&\"|\"&C$7,報酬支払額!$G$10:$G$999)","v":0},{"$f":"SUMIF(報酬支払額!$B$10:$B$999,報酬支払先情報!$A61&\"|\"&D$7,報酬支払額!$G$10:$G$999)","v":0},{"$f":"SUMIF(報酬支払額!$B$10:$B$999,報酬支払先情報!$A61&\"|\"&E$7,報酬支払額!$G$10:$G$999)","v":0},{"$f":"SUMIF(報酬支払額!$B$10:$B$999,報酬支払先情報!$A61&\"|\"&F$7,報酬支払額!$G$10:$G$999)","v":0},{"$f":"SUMIF(報酬支払額!$B$10:$B$999,報酬支払先情報!$A61&\"|\"&G$7,報酬支払額!$G$10:$G$999)","v":0},{"$f":"SUMIF(報酬支払額!$B$10:$B$999,報酬支払先情報!$A61&\"|\"&H$7,報酬支払額!$G$10:$G$999)","v":0},{"$f":"SUMIF(報酬支払額!$B$10:$B$999,報酬支払先情報!$A61&\"|\"&I$7,報酬支払額!$G$10:$G$999)","v":0},{"$f":"SUMIF(報酬支払額!$B$10:$B$999,報酬支払先情報!$A61&\"|\"&J$7,報酬支払額!$G$10:$G$999)","v":0},{"$f":"SUMIF(報酬支払額!$B$10:$B$999,報酬支払先情報!$A61&\"|\"&K$7,報酬支払額!$H$10:$H$999)","v":0},{"$f":"SUMIF(報酬支払額!$B$10:$B$999,報酬支払先情報!$A61&\"|\"&L$7,報酬支払額!$H$10:$H$999)","v":0},{"$f":"SUMIF(報酬支払額!$B$10:$B$999,報酬支払先情報!$A61&\"|\"&M$7,報酬支払額!$H$10:$H$999)","v":0},{"$f":"SUMIF(報酬支払額!$B$10:$B$999,報酬支払先情報!$A61&\"|\"&N$7,報酬支払額!$H$10:$H$999)","v":0},{"$f":"SUMIF(報酬支払額!$B$10:$B$999,報酬支払先情報!$A61&\"|\"&O$7,報酬支払額!$H$10:$H$999)","v":0},{"$f":"SUMIF(報酬支払額!$B$10:$B$999,報酬支払先情報!$A61&\"|\"&P$7,報酬支払額!$H$10:$H$999)","v":0},{"$f":"SUMIF(報酬支払額!$B$10:$B$999,報酬支払先情報!$A61&\"|\"&Q$7,報酬支払額!$H$10:$H$999)","v":0},{"$f":"SUMIF(報酬支払額!$B$10:$B$999,報酬支払先情報!$A61&\"|\"&R$7,報酬支払額!$H$10:$H$999)","v":0},null,0,"",0,0,0,0,0,0,0,0,null,0,"",0,0,0,0,0,0,0,0,0,0,0]
[{"$f":"報酬支払先情報!A62","v":0},{"$f":"報酬支払先情報!B62&\"\"","v":""},{"$f":"SUMIF(報酬支払額!$B$10:$B$999,報酬支払先情報!$A62&\"|\"&C$7,報酬支払額!$G$10:$G$999)","v":0},{"$f":"SUMIF(報酬支払額!$B$10:$B$999,報酬支払先情報!$A62&\"|\"&D$7,報酬支払額!$G$10:$G$999)","v":0},{"$f":"SUMIF(報酬支払額!$B$10:$B$999,報酬支払先情報!$A62&\"|\"&E$7,報酬支払額!$G$10:$G$999)","v":0},{"$f":"SUMIF(報酬支払額!$B$10:$B$999,報酬支払先情報!$A62&\"|\"&F$7,報酬支払額!$G$10:$G$999)","v":0},{"$f":"SUMIF(報酬支払額!$B$10:$B$999,報酬支払先情報!$A62&\"|\"&G$7,報酬支払額!$G$10:$G$999)","v":0},{"$f":"SUMIF(報酬支払額!$B$10:$B$999,報酬支払先情報!$A62&\"|\"&H$7,報酬支払額!$G$10:$G$999)","v":0},{"$f":"SUMIF(報酬支払額!$B$10:$B$999,報酬支払先情報!$A62&\"|\"&I$7,報酬支払額!$G$10:$G$999)","v":0},{"$f":"SUMIF(報酬支払額!$B$10:$B$999,報酬支払先情報!$A62&\"|\"&J$7,報酬支払額!$G$10:$G$999)","v":0},{"$f":"SUMIF(報酬支払額!$B$10:$B$999,報酬支払先情報!$A62&\"|\"&K$7,報酬支払額!$H$10:$H$999)","v":0},{"$f":"SUMIF(報酬支払額!$B$10:$B$999,報酬支払先情報!$A62&\"|\"&L$7,報酬支払額!$H$10:$H$999)","v":0},{"$f":"SUMIF(報酬支払額!$B$10:$B$999,報酬支払先情報!$A62&\"|\"&M$7,報酬支払額!$H$10:$H$999)","v":0},{"$f":"SUMIF(報酬支払額!$B$10:$B$999,報酬支払先情報!$A62&\"|\"&N$7,報酬支払額!$H$10:$H$999)","v":0},{"$f":"SUMIF(報酬支払額!$B$10:$B$999,報酬支払先情報!$A62&\"|\"&O$7,報酬支払額!$H$10:$H$999)","v":0},{"$f":"SUMIF(報酬支払額!$B$10:$B$999,報酬支払先情報!$A62&\"|\"&P$7,報酬支払額!$H$10:$H$999)","v":0},{"$f":"SUMIF(報酬支払額!$B$10:$B$999,報酬支払先情報!$A62&\"|\"&Q$7,報酬支払額!$H$10:$H$999)","v":0},{"$f":"SUMIF(報酬支払額!$B$10:$B$999,報酬支払先情報!$A62&\"|\"&R$7,報酬支払額!$H$10:$H$999)","v":0},null,0,"",0,0,0,0,0,0,0,0,null,0,"",0,0,0,0,0,0,0,0,0,0,0]
[{"$f":"報酬支払先情報!A63","v":0},{"$f":"報酬支払先情報!B63&\"\"","v":""},{"$f":"SUMIF(報酬支払額!$B$10:$B$999,報酬支払先情報!$A63&\"|\"&C$7,報酬支払額!$G$10:$G$999)","v":0},{"$f":"SUMIF(報酬支払額!$B$10:$B$999,報酬支払先情報!$A63&\"|\"&D$7,報酬支払額!$G$10:$G$999)","v":0},{"$f":"SUMIF(報酬支払額!$B$10:$B$999,報酬支払先情報!$A63&\"|\"&E$7,報酬支払額!$G$10:$G$999)","v":0},{"$f":"SUMIF(報酬支払額!$B$10:$B$999,報酬支払先情報!$A63&\"|\"&F$7,報酬支払額!$G$10:$G$999)","v":0},{"$f":"SUMIF(報酬支払額!$B$10:$B$999,報酬支払先情報!$A63&\"|\"&G$7,報酬支払額!$G$10:$G$999)","v":0},{"$f":"SUMIF(報酬支払額!$B$10:$B$999,報酬支払先情報!$A63&\"|\"&H$7,報酬支払額!$G$10:$G$999)","v":0},{"$f":"SUMIF(報酬支払額!$B$10:$B$999,報酬支払先情報!$A63&\"|\"&I$7,報酬支払額!$G$10:$G$999)","v":0},{"$f":"SUMIF(報酬支払額!$B$10:$B$999,報酬支払先情報!$A63&\"|\"&J$7,報酬支払額!$G$10:$G$999)","v":0},{"$f":"SUMIF(報酬支払額!$B$10:$B$999,報酬支払先情報!$A63&\"|\"&K$7,報酬支払額!$H$10:$H$999)","v":0},{"$f":"SUMIF(報酬支払額!$B$10:$B$999,報酬支払先情報!$A63&\"|\"&L$7,報酬支払額!$H$10:$H$999)","v":0},{"$f":"SUMIF(報酬支払額!$B$10:$B$999,報酬支払先情報!$A63&\"|\"&M$7,報酬支払額!$H$10:$H$999)","v":0},{"$f":"SUMIF(報酬支払額!$B$10:$B$999,報酬支払先情報!$A63&\"|\"&N$7,報酬支払額!$H$10:$H$999)","v":0},{"$f":"SUMIF(報酬支払額!$B$10:$B$999,報酬支払先情報!$A63&\"|\"&O$7,報酬支払額!$H$10:$H$999)","v":0},{"$f":"SUMIF(報酬支払額!$B$10:$B$999,報酬支払先情報!$A63&\"|\"&P$7,報酬支払額!$H$10:$H$999)","v":0},{"$f":"SUMIF(報酬支払額!$B$10:$B$999,報酬支払先情報!$A63&\"|\"&Q$7,報酬支払額!$H$10:$H$999)","v":0},{"$f":"SUMIF(報酬支払額!$B$10:$B$999,報酬支払先情報!$A63&\"|\"&R$7,報酬支払額!$H$10:$H$999)","v":0},null,0,"",0,0,0,0,0,0,0,0,null,0,"",0,0,0,0,0,0,0,0,0,0,0]
[{"$f":"報酬支払先情報!A64","v":0},{"$f":"報酬支払先情報!B64&\"\"","v":""},{"$f":"SUMIF(報酬支払額!$B$10:$B$999,報酬支払先情報!$A64&\"|\"&C$7,報酬支払額!$G$10:$G$999)","v":0},{"$f":"SUMIF(報酬支払額!$B$10:$B$999,報酬支払先情報!$A64&\"|\"&D$7,報酬支払額!$G$10:$G$999)","v":0},{"$f":"SUMIF(報酬支払額!$B$10:$B$999,報酬支払先情報!$A64&\"|\"&E$7,報酬支払額!$G$10:$G$999)","v":0},{"$f":"SUMIF(報酬支払額!$B$10:$B$999,報酬支払先情報!$A64&\"|\"&F$7,報酬支払額!$G$10:$G$999)","v":0},{"$f":"SUMIF(報酬支払額!$B$10:$B$999,報酬支払先情報!$A64&\"|\"&G$7,報酬支払額!$G$10:$G$999)","v":0},{"$f":"SUMIF(報酬支払額!$B$10:$B$999,報酬支払先情報!$A64&\"|\"&H$7,報酬支払額!$G$10:$G$999)","v":0},{"$f":"SUMIF(報酬支払額!$B$10:$B$999,報酬支払先情報!$A64&\"|\"&I$7,報酬支払額!$G$10:$G$999)","v":0},{"$f":"SUMIF(報酬支払額!$B$10:$B$999,報酬支払先情報!$A64&\"|\"&J$7,報酬支払額!$G$10:$G$999)","v":0},{"$f":"SUMIF(報酬支払額!$B$10:$B$999,報酬支払先情報!$A64&\"|\"&K$7,報酬支払額!$H$10:$H$999)","v":0},{"$f":"SUMIF(報酬支払額!$B$10:$B$999,報酬支払先情報!$A64&\"|\"&L$7,報酬支払額!$H$10:$H$999)","v":0},{"$f":"SUMIF(報酬支払額!$B$10:$B$999,報酬支払先情報!$A64&\"|\"&M$7,報酬支払額!$H$10:$H$999)","v":0},{"$f":"SUMIF(報酬支払額!$B$10:$B$999,報酬支払先情報!$A64&\"|\"&N$7,報酬支払額!$H$10:$H$999)","v":0},{"$f":"SUMIF(報酬支払額!$B$10:$B$999,報酬支払先情報!$A64&\"|\"&O$7,報酬支払額!$H$10:$H$999)","v":0},{"$f":"SUMIF(報酬支払額!$B$10:$B$999,報酬支払先情報!$A64&\"|\"&P$7,報酬支払額!$H$10:$H$999)","v":0},{"$f":"SUMIF(報酬支払額!$B$10:$B$999,報酬支払先情報!$A64&\"|\"&Q$7,報酬支払額!$H$10:$H$999)","v":0},{"$f":"SUMIF(報酬支払額!$B$10:$B$999,報酬支払先情報!$A64&\"|\"&R$7,報酬支払額!$H$10:$H$999)","v":0},null,0,"",0,0,0,0,0,0,0,0,null,0,"",0,0,0,0,0,0,0,0,0,0,0]
[{"$f":"報酬支払先情報!A65","v":0},{"$f":"報酬支払先情報!B65&\"\"","v":""},{"$f":"SUMIF(報酬支払額!$B$10:$B$999,報酬支払先情報!$A65&\"|\"&C$7,報酬支払額!$G$10:$G$999)","v":0},{"$f":"SUMIF(報酬支払額!$B$10:$B$999,報酬支払先情報!$A65&\"|\"&D$7,報酬支払額!$G$10:$G$999)","v":0},{"$f":"SUMIF(報酬支払額!$B$10:$B$999,報酬支払先情報!$A65&\"|\"&E$7,報酬支払額!$G$10:$G$999)","v":0},{"$f":"SUMIF(報酬支払額!$B$10:$B$999,報酬支払先情報!$A65&\"|\"&F$7,報酬支払額!$G$10:$G$999)","v":0},{"$f":"SUMIF(報酬支払額!$B$10:$B$999,報酬支払先情報!$A65&\"|\"&G$7,報酬支払額!$G$10:$G$999)","v":0},{"$f":"SUMIF(報酬支払額!$B$10:$B$999,報酬支払先情報!$A65&\"|\"&H$7,報酬支払額!$G$10:$G$999)","v":0},{"$f":"SUMIF(報酬支払額!$B$10:$B$999,報酬支払先情報!$A65&\"|\"&I$7,報酬支払額!$G$10:$G$999)","v":0},{"$f":"SUMIF(報酬支払額!$B$10:$B$999,報酬支払先情報!$A65&\"|\"&J$7,報酬支払額!$G$10:$G$999)","v":0},{"$f":"SUMIF(報酬支払額!$B$10:$B$999,報酬支払先情報!$A65&\"|\"&K$7,報酬支払額!$H$10:$H$999)","v":0},{"$f":"SUMIF(報酬支払額!$B$10:$B$999,報酬支払先情報!$A65&\"|\"&L$7,報酬支払額!$H$10:$H$999)","v":0},{"$f":"SUMIF(報酬支払額!$B$10:$B$999,報酬支払先情報!$A65&\"|\"&M$7,報酬支払額!$H$10:$H$999)","v":0},{"$f":"SUMIF(報酬支払額!$B$10:$B$999,報酬支払先情報!$A65&\"|\"&N$7,報酬支払額!$H$10:$H$999)","v":0},{"$f":"SUMIF(報酬支払額!$B$10:$B$999,報酬支払先情報!$A65&\"|\"&O$7,報酬支払額!$H$10:$H$999)","v":0},{"$f":"SUMIF(報酬支払額!$B$10:$B$999,報酬支払先情報!$A65&\"|\"&P$7,報酬支払額!$H$10:$H$999)","v":0},{"$f":"SUMIF(報酬支払額!$B$10:$B$999,報酬支払先情報!$A65&\"|\"&Q$7,報酬支払額!$H$10:$H$999)","v":0},{"$f":"SUMIF(報酬支払額!$B$10:$B$999,報酬支払先情報!$A65&\"|\"&R$7,報酬支払額!$H$10:$H$999)","v":0},null,0,"",0,0,0,0,0,0,0,0,null,0,"",0,0,0,0,0,0,0,0,0,0,0]
[{"$f":"報酬支払先情報!A66","v":0},{"$f":"報酬支払先情報!B66&\"\"","v":""},{"$f":"SUMIF(報酬支払額!$B$10:$B$999,報酬支払先情報!$A66&\"|\"&C$7,報酬支払額!$G$10:$G$999)","v":0},{"$f":"SUMIF(報酬支払額!$B$10:$B$999,報酬支払先情報!$A66&\"|\"&D$7,報酬支払額!$G$10:$G$999)","v":0},{"$f":"SUMIF(報酬支払額!$B$10:$B$999,報酬支払先情報!$A66&\"|\"&E$7,報酬支払額!$G$10:$G$999)","v":0},{"$f":"SUMIF(報酬支払額!$B$10:$B$999,報酬支払先情報!$A66&\"|\"&F$7,報酬支払額!$G$10:$G$999)","v":0},{"$f":"SUMIF(報酬支払額!$B$10:$B$999,報酬支払先情報!$A66&\"|\"&G$7,報酬支払額!$G$10:$G$999)","v":0},{"$f":"SUMIF(報酬支払額!$B$10:$B$999,報酬支払先情報!$A66&\"|\"&H$7,報酬支払額!$G$10:$G$999)","v":0},{"$f":"SUMIF(報酬支払額!$B$10:$B$999,報酬支払先情報!$A66&\"|\"&I$7,報酬支払額!$G$10:$G$999)","v":0},{"$f":"SUMIF(報酬支払額!$B$10:$B$999,報酬支払先情報!$A66&\"|\"&J$7,報酬支払額!$G$10:$G$999)","v":0},{"$f":"SUMIF(報酬支払額!$B$10:$B$999,報酬支払先情報!$A66&\"|\"&K$7,報酬支払額!$H$10:$H$999)","v":0},{"$f":"SUMIF(報酬支払額!$B$10:$B$999,報酬支払先情報!$A66&\"|\"&L$7,報酬支払額!$H$10:$H$999)","v":0},{"$f":"SUMIF(報酬支払額!$B$10:$B$999,報酬支払先情報!$A66&\"|\"&M$7,報酬支払額!$H$10:$H$999)","v":0},{"$f":"SUMIF(報酬支払額!$B$10:$B$999,報酬支払先情報!$A66&\"|\"&N$7,報酬支払額!$H$10:$H$999)","v":0},{"$f":"SUMIF(報酬支払額!$B$10:$B$999,報酬支払先情報!$A66&\"|\"&O$7,報酬支払額!$H$10:$H$999)","v":0},{"$f":"SUMIF(報酬支払額!$B$10:$B$999,報酬支払先情報!$A66&\"|\"&P$7,報酬支払額!$H$10:$H$999)","v":0},{"$f":"SUMIF(報酬支払額!$B$10:$B$999,報酬支払先情報!$A66&\"|\"&Q$7,報酬支払額!$H$10:$H$999)","v":0},{"$f":"SUMIF(報酬支払額!$B$10:$B$999,報酬支払先情報!$A66&\"|\"&R$7,報酬支払額!$H$10:$H$999)","v":0},null,0,"",0,0,0,0,0,0,0,0,null,0,"",0,0,0,0,0,0,0,0,0,0,0]
[{"$f":"報酬支払先情報!A67","v":0},{"$f":"報酬支払先情報!B67&\"\"","v":""},{"$f":"SUMIF(報酬支払額!$B$10:$B$999,報酬支払先情報!$A67&\"|\"&C$7,報酬支払額!$G$10:$G$999)","v":0},{"$f":"SUMIF(報酬支払額!$B$10:$B$999,報酬支払先情報!$A67&\"|\"&D$7,報酬支払額!$G$10:$G$999)","v":0},{"$f":"SUMIF(報酬支払額!$B$10:$B$999,報酬支払先情報!$A67&\"|\"&E$7,報酬支払額!$G$10:$G$999)","v":0},{"$f":"SUMIF(報酬支払額!$B$10:$B$999,報酬支払先情報!$A67&\"|\"&F$7,報酬支払額!$G$10:$G$999)","v":0},{"$f":"SUMIF(報酬支払額!$B$10:$B$999,報酬支払先情報!$A67&\"|\"&G$7,報酬支払額!$G$10:$G$999)","v":0},{"$f":"SUMIF(報酬支払額!$B$10:$B$999,報酬支払先情報!$A67&\"|\"&H$7,報酬支払額!$G$10:$G$999)","v":0},{"$f":"SUMIF(報酬支払額!$B$10:$B$999,報酬支払先情報!$A67&\"|\"&I$7,報酬支払額!$G$10:$G$999)","v":0},{"$f":"SUMIF(報酬支払額!$B$10:$B$999,報酬支払先情報!$A67&\"|\"&J$7,報酬支払額!$G$10:$G$999)","v":0},{"$f":"SUMIF(報酬支払額!$B$10:$B$999,報酬支払先情報!$A67&\"|\"&K$7,報酬支払額!$H$10:$H$999)","v":0},{"$f":"SUMIF(報酬支払額!$B$10:$B$999,報酬支払先情報!$A67&\"|\"&L$7,報酬支払額!$H$10:$H$999)","v":0},{"$f":"SUMIF(報酬支払額!$B$10:$B$999,報酬支払先情報!$A67&\"|\"&M$7,報酬支払額!$H$10:$H$999)","v":0},{"$f":"SUMIF(報酬支払額!$B$10:$B$999,報酬支払先情報!$A67&\"|\"&N$7,報酬支払額!$H$10:$H$999)","v":0},{"$f":"SUMIF(報酬支払額!$B$10:$B$999,報酬支払先情報!$A67&\"|\"&O$7,報酬支払額!$H$10:$H$999)","v":0},{"$f":"SUMIF(報酬支払額!$B$10:$B$999,報酬支払先情報!$A67&\"|\"&P$7,報酬支払額!$H$10:$H$999)","v":0},{"$f":"SUMIF(報酬支払額!$B$10:$B$999,報酬支払先情報!$A67&\"|\"&Q$7,報酬支払額!$H$10:$H$999)","v":0},{"$f":"SUMIF(報酬支払額!$B$10:$B$999,報酬支払先情報!$A67&\"|\"&R$7,報酬支払額!$H$10:$H$999)","v":0},null,0,"",0,0,0,0,0,0,0,0,null,0,"",0,0,0,0,0,0,0,0,0,0,0]
[{"$f":"報酬支払先情報!A68","v":0},{"$f":"報酬支払先情報!B68&\"\"","v":""},{"$f":"SUMIF(報酬支払額!$B$10:$B$999,報酬支払先情報!$A68&\"|\"&C$7,報酬支払額!$G$10:$G$999)","v":0},{"$f":"SUMIF(報酬支払額!$B$10:$B$999,報酬支払先情報!$A68&\"|\"&D$7,報酬支払額!$G$10:$G$999)","v":0},{"$f":"SUMIF(報酬支払額!$B$10:$B$999,報酬支払先情報!$A68&\"|\"&E$7,報酬支払額!$G$10:$G$999)","v":0},{"$f":"SUMIF(報酬支払額!$B$10:$B$999,報酬支払先情報!$A68&\"|\"&F$7,報酬支払額!$G$10:$G$999)","v":0},{"$f":"SUMIF(報酬支払額!$B$10:$B$999,報酬支払先情報!$A68&\"|\"&G$7,報酬支払額!$G$10:$G$999)","v":0},{"$f":"SUMIF(報酬支払額!$B$10:$B$999,報酬支払先情報!$A68&\"|\"&H$7,報酬支払額!$G$10:$G$999)","v":0},{"$f":"SUMIF(報酬支払額!$B$10:$B$999,報酬支払先情報!$A68&\"|\"&I$7,報酬支払額!$G$10:$G$999)","v":0},{"$f":"SUMIF(報酬支払額!$B$10:$B$999,報酬支払先情報!$A68&\"|\"&J$7,報酬支払額!$G$10:$G$999)","v":0},{"$f":"SUMIF(報酬支払額!$B$10:$B$999,報酬支払先情報!$A68&\"|\"&K$7,報酬支払額!$H$10:$H$999)","v":0},{"$f":"SUMIF(報酬支払額!$B$10:$B$999,報酬支払先情報!$A68&\"|\"&L$7,報酬支払額!$H$10:$H$999)","v":0},{"$f":"SUMIF(報酬支払額!$B$10:$B$999,報酬支払先情報!$A68&\"|\"&M$7,報酬支払額!$H$10:$H$999)","v":0},{"$f":"SUMIF(報酬支払額!$B$10:$B$999,報酬支払先情報!$A68&\"|\"&N$7,報酬支払額!$H$10:$H$999)","v":0},{"$f":"SUMIF(報酬支払額!$B$10:$B$999,報酬支払先情報!$A68&\"|\"&O$7,報酬支払額!$H$10:$H$999)","v":0},{"$f":"SUMIF(報酬支払額!$B$10:$B$999,報酬支払先情報!$A68&\"|\"&P$7,報酬支払額!$H$10:$H$999)","v":0},{"$f":"SUMIF(報酬支払額!$B$10:$B$999,報酬支払先情報!$A68&\"|\"&Q$7,報酬支払額!$H$10:$H$999)","v":0},{"$f":"SUMIF(報酬支払額!$B$10:$B$999,報酬支払先情報!$A68&\"|\"&R$7,報酬支払額!$H$10:$H$999)","v":0},null,0,"",0,0,0,0,0,0,0,0,null,0,"",0,0,0,0,0,0,0,0,0,0,0]
[{"$f":"報酬支払先情報!A69","v":0},{"$f":"報酬支払先情報!B69&\"\"","v":""},{"$f":"SUMIF(報酬支払額!$B$10:$B$999,報酬支払先情報!$A69&\"|\"&C$7,報酬支払額!$G$10:$G$999)","v":0},{"$f":"SUMIF(報酬支払額!$B$10:$B$999,報酬支払先情報!$A69&\"|\"&D$7,報酬支払額!$G$10:$G$999)","v":0},{"$f":"SUMIF(報酬支払額!$B$10:$B$999,報酬支払先情報!$A69&\"|\"&E$7,報酬支払額!$G$10:$G$999)","v":0},{"$f":"SUMIF(報酬支払額!$B$10:$B$999,報酬支払先情報!$A69&\"|\"&F$7,報酬支払額!$G$10:$G$999)","v":0},{"$f":"SUMIF(報酬支払額!$B$10:$B$999,報酬支払先情報!$A69&\"|\"&G$7,報酬支払額!$G$10:$G$999)","v":0},{"$f":"SUMIF(報酬支払額!$B$10:$B$999,報酬支払先情報!$A69&\"|\"&H$7,報酬支払額!$G$10:$G$999)","v":0},{"$f":"SUMIF(報酬支払額!$B$10:$B$999,報酬支払先情報!$A69&\"|\"&I$7,報酬支払額!$G$10:$G$999)","v":0},{"$f":"SUMIF(報酬支払額!$B$10:$B$999,報酬支払先情報!$A69&\"|\"&J$7,報酬支払額!$G$10:$G$999)","v":0},{"$f":"SUMIF(報酬支払額!$B$10:$B$999,報酬支払先情報!$A69&\"|\"&K$7,報酬支払額!$H$10:$H$999)","v":0},{"$f":"SUMIF(報酬支払額!$B$10:$B$999,報酬支払先情報!$A69&\"|\"&L$7,報酬支払額!$H$10:$H$999)","v":0},{"$f":"SUMIF(報酬支払額!$B$10:$B$999,報酬支払先情報!$A69&\"|\"&M$7,報酬支払額!$H$10:$H$999)","v":0},{"$f":"SUMIF(報酬支払額!$B$10:$B$999,報酬支払先情報!$A69&\"|\"&N$7,報酬支払額!$H$10:$H$999)","v":0},{"$f":"SUMIF(報酬支払額!$B$10:$B$999,報酬支払先情報!$A69&\"|\"&O$7,報酬支払額!$H$10:$H$999)","v":0},{"$f":"SUMIF(報酬支払額!$B$10:$B$999,報酬支払先情報!$A69&\"|\"&P$7,報酬支払額!$H$10:$H$999)","v":0},{"$f":"SUMIF(報酬支払額!$B$10:$B$999,報酬支払先情報!$A69&\"|\"&Q$7,報酬支払額!$H$10:$H$999)","v":0},{"$f":"SUMIF(報酬支払額!$B$10:$B$999,報酬支払先情報!$A69&\"|\"&R$7,報酬支払額!$H$10:$H$999)","v":0},null,0,"",0,0,0,0,0,0,0,0,null,0,"",0,0,0,0,0,0,0,0,0,0,0]
[{"$f":"報酬支払先情報!A70","v":0},{"$f":"報酬支払先情報!B70&\"\"","v":""},{"$f":"SUMIF(報酬支払額!$B$10:$B$999,報酬支払先情報!$A70&\"|\"&C$7,報酬支払額!$G$10:$G$999)","v":0},{"$f":"SUMIF(報酬支払額!$B$10:$B$999,報酬支払先情報!$A70&\"|\"&D$7,報酬支払額!$G$10:$G$999)","v":0},{"$f":"SUMIF(報酬支払額!$B$10:$B$999,報酬支払先情報!$A70&\"|\"&E$7,報酬支払額!$G$10:$G$999)","v":0},{"$f":"SUMIF(報酬支払額!$B$10:$B$999,報酬支払先情報!$A70&\"|\"&F$7,報酬支払額!$G$10:$G$999)","v":0},{"$f":"SUMIF(報酬支払額!$B$10:$B$999,報酬支払先情報!$A70&\"|\"&G$7,報酬支払額!$G$10:$G$999)","v":0},{"$f":"SUMIF(報酬支払額!$B$10:$B$999,報酬支払先情報!$A70&\"|\"&H$7,報酬支払額!$G$10:$G$999)","v":0},{"$f":"SUMIF(報酬支払額!$B$10:$B$999,報酬支払先情報!$A70&\"|\"&I$7,報酬支払額!$G$10:$G$999)","v":0},{"$f":"SUMIF(報酬支払額!$B$10:$B$999,報酬支払先情報!$A70&\"|\"&J$7,報酬支払額!$G$10:$G$999)","v":0},{"$f":"SUMIF(報酬支払額!$B$10:$B$999,報酬支払先情報!$A70&\"|\"&K$7,報酬支払額!$H$10:$H$999)","v":0},{"$f":"SUMIF(報酬支払額!$B$10:$B$999,報酬支払先情報!$A70&\"|\"&L$7,報酬支払額!$H$10:$H$999)","v":0},{"$f":"SUMIF(報酬支払額!$B$10:$B$999,報酬支払先情報!$A70&\"|\"&M$7,報酬支払額!$H$10:$H$999)","v":0},{"$f":"SUMIF(報酬支払額!$B$10:$B$999,報酬支払先情報!$A70&\"|\"&N$7,報酬支払額!$H$10:$H$999)","v":0},{"$f":"SUMIF(報酬支払額!$B$10:$B$999,報酬支払先情報!$A70&\"|\"&O$7,報酬支払額!$H$10:$H$999)","v":0},{"$f":"SUMIF(報酬支払額!$B$10:$B$999,報酬支払先情報!$A70&\"|\"&P$7,報酬支払額!$H$10:$H$999)","v":0},{"$f":"SUMIF(報酬支払額!$B$10:$B$999,報酬支払先情報!$A70&\"|\"&Q$7,報酬支払額!$H$10:$H$999)","v":0},{"$f":"SUMIF(報酬支払額!$B$10:$B$999,報酬支払先情報!$A70&\"|\"&R$7,報酬支払額!$H$10:$H$999)","v":0},null,0,"",0,0,0,0,0,0,0,0,null,0,"",0,0,0,0,0,0,0,0,0,0,0]
[{"$f":"報酬支払先情報!A71","v":0},{"$f":"報酬支払先情報!B71&\"\"","v":""},{"$f":"SUMIF(報酬支払額!$B$10:$B$999,報酬支払先情報!$A71&\"|\"&C$7,報酬支払額!$G$10:$G$999)","v":0},{"$f":"SUMIF(報酬支払額!$B$10:$B$999,報酬支払先情報!$A71&\"|\"&D$7,報酬支払額!$G$10:$G$999)","v":0},{"$f":"SUMIF(報酬支払額!$B$10:$B$999,報酬支払先情報!$A71&\"|\"&E$7,報酬支払額!$G$10:$G$999)","v":0},{"$f":"SUMIF(報酬支払額!$B$10:$B$999,報酬支払先情報!$A71&\"|\"&F$7,報酬支払額!$G$10:$G$999)","v":0},{"$f":"SUMIF(報酬支払額!$B$10:$B$999,報酬支払先情報!$A71&\"|\"&G$7,報酬支払額!$G$10:$G$999)","v":0},{"$f":"SUMIF(報酬支払額!$B$10:$B$999,報酬支払先情報!$A71&\"|\"&H$7,報酬支払額!$G$10:$G$999)","v":0},{"$f":"SUMIF(報酬支払額!$B$10:$B$999,報酬支払先情報!$A71&\"|\"&I$7,報酬支払額!$G$10:$G$999)","v":0},{"$f":"SUMIF(報酬支払額!$B$10:$B$999,報酬支払先情報!$A71&\"|\"&J$7,報酬支払額!$G$10:$G$999)","v":0},{"$f":"SUMIF(報酬支払額!$B$10:$B$999,報酬支払先情報!$A71&\"|\"&K$7,報酬支払額!$H$10:$H$999)","v":0},{"$f":"SUMIF(報酬支払額!$B$10:$B$999,報酬支払先情報!$A71&\"|\"&L$7,報酬支払額!$H$10:$H$999)","v":0},{"$f":"SUMIF(報酬支払額!$B$10:$B$999,報酬支払先情報!$A71&\"|\"&M$7,報酬支払額!$H$10:$H$999)","v":0},{"$f":"SUMIF(報酬支払額!$B$10:$B$999,報酬支払先情報!$A71&\"|\"&N$7,報酬支払額!$H$10:$H$999)","v":0},{"$f":"SUMIF(報酬支払額!$B$10:$B$999,報酬支払先情報!$A71&\"|\"&O$7,報酬支払額!$H$10:$H$999)","v":0},{"$f":"SUMIF(報酬支払額!$B$10:$B$999,報酬支払先情報!$A71&\"|\"&P$7,報酬支払額!$H$10:$H$999)","v":0},{"$f":"SUMIF(報酬支払額!$B$10:$B$999,報酬支払先情報!$A71&\"|\"&Q$7,報酬支払額!$H$10:$H$999)","v":0},{"$f":"SUMIF(報酬支払額!$B$10:$B$999,報酬支払先情報!$A71&\"|\"&R$7,報酬支払額!$H$10:$H$999)","v":0},null,0,"",0,0,0,0,0,0,0,0,null,0,"",0,0,0,0,0,0,0,0,0,0,0]
[{"$f":"報酬支払先情報!A72","v":0},{"$f":"報酬支払先情報!B72&\"\"","v":""},{"$f":"SUMIF(報酬支払額!$B$10:$B$999,報酬支払先情報!$A72&\"|\"&C$7,報酬支払額!$G$10:$G$999)","v":0},{"$f":"SUMIF(報酬支払額!$B$10:$B$999,報酬支払先情報!$A72&\"|\"&D$7,報酬支払額!$G$10:$G$999)","v":0},{"$f":"SUMIF(報酬支払額!$B$10:$B$999,報酬支払先情報!$A72&\"|\"&E$7,報酬支払額!$G$10:$G$999)","v":0},{"$f":"SUMIF(報酬支払額!$B$10:$B$999,報酬支払先情報!$A72&\"|\"&F$7,報酬支払額!$G$10:$G$999)","v":0},{"$f":"SUMIF(報酬支払額!$B$10:$B$999,報酬支払先情報!$A72&\"|\"&G$7,報酬支払額!$G$10:$G$999)","v":0},{"$f":"SUMIF(報酬支払額!$B$10:$B$999,報酬支払先情報!$A72&\"|\"&H$7,報酬支払額!$G$10:$G$999)","v":0},{"$f":"SUMIF(報酬支払額!$B$10:$B$999,報酬支払先情報!$A72&\"|\"&I$7,報酬支払額!$G$10:$G$999)","v":0},{"$f":"SUMIF(報酬支払額!$B$10:$B$999,報酬支払先情報!$A72&\"|\"&J$7,報酬支払額!$G$10:$G$999)","v":0},{"$f":"SUMIF(報酬支払額!$B$10:$B$999,報酬支払先情報!$A72&\"|\"&K$7,報酬支払額!$H$10:$H$999)","v":0},{"$f":"SUMIF(報酬支払額!$B$10:$B$999,報酬支払先情報!$A72&\"|\"&L$7,報酬支払額!$H$10:$H$999)","v":0},{"$f":"SUMIF(報酬支払額!$B$10:$B$999,報酬支払先情報!$A72&\"|\"&M$7,報酬支払額!$H$10:$H$999)","v":0},{"$f":"SUMIF(報酬支払額!$B$10:$B$999,報酬支払先情報!$A72&\"|\"&N$7,報酬支払額!$H$10:$H$999)","v":0},{"$f":"SUMIF(報酬支払額!$B$10:$B$999,報酬支払先情報!$A72&\"|\"&O$7,報酬支払額!$H$10:$H$999)","v":0},{"$f":"SUMIF(報酬支払額!$B$10:$B$999,報酬支払先情報!$A72&\"|\"&P$7,報酬支払額!$H$10:$H$999)","v":0},{"$f":"SUMIF(報酬支払額!$B$10:$B$999,報酬支払先情報!$A72&\"|\"&Q$7,報酬支払額!$H$10:$H$999)","v":0},{"$f":"SUMIF(報酬支払額!$B$10:$B$999,報酬支払先情報!$A72&\"|\"&R$7,報酬支払額!$H$10:$H$999)","v":0},null,{"$f":"A72","v":0},"",0,0,0,0,0,0,0,0,null,0,"",0,0,0,0,0,0,0,0,0,0,0]
[{"$f":"報酬支払先情報!A73","v":0},{"$f":"報酬支払先情報!B73&\"\"","v":""},{"$f":"SUMIF(報酬支払額!$B$10:$B$999,報酬支払先情報!$A73&\"|\"&C$7,報酬支払額!$G$10:$G$999)","v":0},{"$f":"SUMIF(報酬支払額!$B$10:$B$999,報酬支払先情報!$A73&\"|\"&D$7,報酬支払額!$G$10:$G$999)","v":0},{"$f":"SUMIF(報酬支払額!$B$10:$B$999,報酬支払先情報!$A73&\"|\"&E$7,報酬支払額!$G$10:$G$999)","v":0},{"$f":"SUMIF(報酬支払額!$B$10:$B$999,報酬支払先情報!$A73&\"|\"&F$7,報酬支払額!$G$10:$G$999)","v":0},{"$f":"SUMIF(報酬支払額!$B$10:$B$999,報酬支払先情報!$A73&\"|\"&G$7,報酬支払額!$G$10:$G$999)","v":0},{"$f":"SUMIF(報酬支払額!$B$10:$B$999,報酬支払先情報!$A73&\"|\"&H$7,報酬支払額!$G$10:$G$999)","v":0},{"$f":"SUMIF(報酬支払額!$B$10:$B$999,報酬支払先情報!$A73&\"|\"&I$7,報酬支払額!$G$10:$G$999)","v":0},{"$f":"SUMIF(報酬支払額!$B$10:$B$999,報酬支払先情報!$A73&\"|\"&J$7,報酬支払額!$G$10:$G$999)","v":0},{"$f":"SUMIF(報酬支払額!$B$10:$B$999,報酬支払先情報!$A73&\"|\"&K$7,報酬支払額!$H$10:$H$999)","v":0},{"$f":"SUMIF(報酬支払額!$B$10:$B$999,報酬支払先情報!$A73&\"|\"&L$7,報酬支払額!$H$10:$H$999)","v":0},{"$f":"SUMIF(報酬支払額!$B$10:$B$999,報酬支払先情報!$A73&\"|\"&M$7,報酬支払額!$H$10:$H$999)","v":0},{"$f":"SUMIF(報酬支払額!$B$10:$B$999,報酬支払先情報!$A73&\"|\"&N$7,報酬支払額!$H$10:$H$999)","v":0},{"$f":"SUMIF(報酬支払額!$B$10:$B$999,報酬支払先情報!$A73&\"|\"&O$7,報酬支払額!$H$10:$H$999)","v":0},{"$f":"SUMIF(報酬支払額!$B$10:$B$999,報酬支払先情報!$A73&\"|\"&P$7,報酬支払額!$H$10:$H$999)","v":0},{"$f":"SUMIF(報酬支払額!$B$10:$B$999,報酬支払先情報!$A73&\"|\"&Q$7,報酬支払額!$H$10:$H$999)","v":0},{"$f":"SUMIF(報酬支払額!$B$10:$B$999,報酬支払先情報!$A73&\"|\"&R$7,報酬支払額!$H$10:$H$999)","v":0},null,0,"",0,0,0,0,0,0,0,0,null,{"$f":"A73","v":0},"",0,0,0,0,0,0,0,0,0,0,0]
[{"$f":"報酬支払先情報!A74","v":0},{"$f":"報酬支払先情報!B74&\"\"","v":""},{"$f":"SUMIF(報酬支払額!$B$10:$B$999,報酬支払先情報!$A74&\"|\"&C$7,報酬支払額!$G$10:$G$999)","v":0},{"$f":"SUMIF(報酬支払額!$B$10:$B$999,報酬支払先情報!$A74&\"|\"&D$7,報酬支払額!$G$10:$G$999)","v":0},{"$f":"SUMIF(報酬支払額!$B$10:$B$999,報酬支払先情報!$A74&\"|\"&E$7,報酬支払額!$G$10:$G$999)","v":0},{"$f":"SUMIF(報酬支払額!$B$10:$B$999,報酬支払先情報!$A74&\"|\"&F$7,報酬支払額!$G$10:$G$999)","v":0},{"$f":"SUMIF(報酬支払額!$B$10:$B$999,報酬支払先情報!$A74&\"|\"&G$7,報酬支払額!$G$10:$G$999)","v":0},{"$f":"SUMIF(報酬支払額!$B$10:$B$999,報酬支払先情報!$A74&\"|\"&H$7,報酬支払額!$G$10:$G$999)","v":0},{"$f":"SUMIF(報酬支払額!$B$10:$B$999,報酬支払先情報!$A74&\"|\"&I$7,報酬支払額!$G$10:$G$999)","v":0},{"$f":"SUMIF(報酬支払額!$B$10:$B$999,報酬支払先情報!$A74&\"|\"&J$7,報酬支払額!$G$10:$G$999)","v":0},{"$f":"SUMIF(報酬支払額!$B$10:$B$999,報酬支払先情報!$A74&\"|\"&K$7,報酬支払額!$H$10:$H$999)","v":0},{"$f":"SUMIF(報酬支払額!$B$10:$B$999,報酬支払先情報!$A74&\"|\"&L$7,報酬支払額!$H$10:$H$999)","v":0},{"$f":"SUMIF(報酬支払額!$B$10:$B$999,報酬支払先情報!$A74&\"|\"&M$7,報酬支払額!$H$10:$H$999)","v":0},{"$f":"SUMIF(報酬支払額!$B$10:$B$999,報酬支払先情報!$A74&\"|\"&N$7,報酬支払額!$H$10:$H$999)","v":0},{"$f":"SUMIF(報酬支払額!$B$10:$B$999,報酬支払先情報!$A74&\"|\"&O$7,報酬支払額!$H$10:$H$999)","v":0},{"$f":"SUMIF(報酬支払額!$B$10:$B$999,報酬支払先情報!$A74&\"|\"&P$7,報酬支払額!$H$10:$H$999)","v":0},{"$f":"SUMIF(報酬支払額!$B$10:$B$999,報酬支払先情報!$A74&\"|\"&Q$7,報酬支払額!$H$10:$H$999)","v":0},{"$f":"SUMIF(報酬支払額!$B$10:$B$999,報酬支払先情報!$A74&\"|\"&R$7,報酬支払額!$H$10:$H$999)","v":0},null,0,"",0,0,0,0,0,0,0,0,null,0,"",0,0,0,0,0,0,0,0,0,0,0]
[{"$f":"報酬支払先情報!A75","v":0},{"$f":"報酬支払先情報!B75&\"\"","v":""},{"$f":"SUMIF(報酬支払額!$B$10:$B$999,報酬支払先情報!$A75&\"|\"&C$7,報酬支払額!$G$10:$G$999)","v":0},{"$f":"SUMIF(報酬支払額!$B$10:$B$999,報酬支払先情報!$A75&\"|\"&D$7,報酬支払額!$G$10:$G$999)","v":0},{"$f":"SUMIF(報酬支払額!$B$10:$B$999,報酬支払先情報!$A75&\"|\"&E$7,報酬支払額!$G$10:$G$999)","v":0},{"$f":"SUMIF(報酬支払額!$B$10:$B$999,報酬支払先情報!$A75&\"|\"&F$7,報酬支払額!$G$10:$G$999)","v":0},{"$f":"SUMIF(報酬支払額!$B$10:$B$999,報酬支払先情報!$A75&\"|\"&G$7,報酬支払額!$G$10:$G$999)","v":0},{"$f":"SUMIF(報酬支払額!$B$10:$B$999,報酬支払先情報!$A75&\"|\"&H$7,報酬支払額!$G$10:$G$999)","v":0},{"$f":"SUMIF(報酬支払額!$B$10:$B$999,報酬支払先情報!$A75&\"|\"&I$7,報酬支払額!$G$10:$G$999)","v":0},{"$f":"SUMIF(報酬支払額!$B$10:$B$999,報酬支払先情報!$A75&\"|\"&J$7,報酬支払額!$G$10:$G$999)","v":0},{"$f":"SUMIF(報酬支払額!$B$10:$B$999,報酬支払先情報!$A75&\"|\"&K$7,報酬支払額!$H$10:$H$999)","v":0},{"$f":"SUMIF(報酬支払額!$B$10:$B$999,報酬支払先情報!$A75&\"|\"&L$7,報酬支払額!$H$10:$H$999)","v":0},{"$f":"SUMIF(報酬支払額!$B$10:$B$999,報酬支払先情報!$A75&\"|\"&M$7,報酬支払額!$H$10:$H$999)","v":0},{"$f":"SUMIF(報酬支払額!$B$10:$B$999,報酬支払先情報!$A75&\"|\"&N$7,報酬支払額!$H$10:$H$999)","v":0},{"$f":"SUMIF(報酬支払額!$B$10:$B$999,報酬支払先情報!$A75&\"|\"&O$7,報酬支払額!$H$10:$H$999)","v":0},{"$f":"SUMIF(報酬支払額!$B$10:$B$999,報酬支払先情報!$A75&\"|\"&P$7,報酬支払額!$H$10:$H$999)","v":0},{"$f":"SUMIF(報酬支払額!$B$10:$B$999,報酬支払先情報!$A75&\"|\"&Q$7,報酬支払額!$H$10:$H$999)","v":0},{"$f":"SUMIF(報酬支払額!$B$10:$B$999,報酬支払先情報!$A75&\"|\"&R$7,報酬支払額!$H$10:$H$999)","v":0},null,0,"",0,0,0,0,0,0,0,0,null,0,"",0,0,0,0,0,0,0,0,0,0,0]
[{"$f":"報酬支払先情報!A76","v":0},{"$f":"報酬支払先情報!B76&\"\"","v":""},{"$f":"SUMIF(報酬支払額!$B$10:$B$999,報酬支払先情報!$A76&\"|\"&C$7,報酬支払額!$G$10:$G$999)","v":0},{"$f":"SUMIF(報酬支払額!$B$10:$B$999,報酬支払先情報!$A76&\"|\"&D$7,報酬支払額!$G$10:$G$999)","v":0},{"$f":"SUMIF(報酬支払額!$B$10:$B$999,報酬支払先情報!$A76&\"|\"&E$7,報酬支払額!$G$10:$G$999)","v":0},{"$f":"SUMIF(報酬支払額!$B$10:$B$999,報酬支払先情報!$A76&\"|\"&F$7,報酬支払額!$G$10:$G$999)","v":0},{"$f":"SUMIF(報酬支払額!$B$10:$B$999,報酬支払先情報!$A76&\"|\"&G$7,報酬支払額!$G$10:$G$999)","v":0},{"$f":"SUMIF(報酬支払額!$B$10:$B$999,報酬支払先情報!$A76&\"|\"&H$7,報酬支払額!$G$10:$G$999)","v":0},{"$f":"SUMIF(報酬支払額!$B$10:$B$999,報酬支払先情報!$A76&\"|\"&I$7,報酬支払額!$G$10:$G$999)","v":0},{"$f":"SUMIF(報酬支払額!$B$10:$B$999,報酬支払先情報!$A76&\"|\"&J$7,報酬支払額!$G$10:$G$999)","v":0},{"$f":"SUMIF(報酬支払額!$B$10:$B$999,報酬支払先情報!$A76&\"|\"&K$7,報酬支払額!$H$10:$H$999)","v":0},{"$f":"SUMIF(報酬支払額!$B$10:$B$999,報酬支払先情報!$A76&\"|\"&L$7,報酬支払額!$H$10:$H$999)","v":0},{"$f":"SUMIF(報酬支払額!$B$10:$B$999,報酬支払先情報!$A76&\"|\"&M$7,報酬支払額!$H$10:$H$999)","v":0},{"$f":"SUMIF(報酬支払額!$B$10:$B$999,報酬支払先情報!$A76&\"|\"&N$7,報酬支払額!$H$10:$H$999)","v":0},{"$f":"SUMIF(報酬支払額!$B$10:$B$999,報酬支払先情報!$A76&\"|\"&O$7,報酬支払額!$H$10:$H$999)","v":0},{"$f":"SUMIF(報酬支払額!$B$10:$B$999,報酬支払先情報!$A76&\"|\"&P$7,報酬支払額!$H$10:$H$999)","v":0},{"$f":"SUMIF(報酬支払額!$B$10:$B$999,報酬支払先情報!$A76&\"|\"&Q$7,報酬支払額!$H$10:$H$999)","v":0},{"$f":"SUMIF(報酬支払額!$B$10:$B$999,報酬支払先情報!$A76&\"|\"&R$7,報酬支払額!$H$10:$H$999)","v":0},null,0,"",0,0,0,0,0,0,0,0,null,0,"",0,0,0,0,0,0,0,0,0,0,0]
[{"$f":"報酬支払先情報!A77","v":0},{"$f":"報酬支払先情報!B77&\"\"","v":""},{"$f":"SUMIF(報酬支払額!$B$10:$B$999,報酬支払先情報!$A77&\"|\"&C$7,報酬支払額!$G$10:$G$999)","v":0},{"$f":"SUMIF(報酬支払額!$B$10:$B$999,報酬支払先情報!$A77&\"|\"&D$7,報酬支払額!$G$10:$G$999)","v":0},{"$f":"SUMIF(報酬支払額!$B$10:$B$999,報酬支払先情報!$A77&\"|\"&E$7,報酬支払額!$G$10:$G$999)","v":0},{"$f":"SUMIF(報酬支払額!$B$10:$B$999,報酬支払先情報!$A77&\"|\"&F$7,報酬支払額!$G$10:$G$999)","v":0},{"$f":"SUMIF(報酬支払額!$B$10:$B$999,報酬支払先情報!$A77&\"|\"&G$7,報酬支払額!$G$10:$G$999)","v":0},{"$f":"SUMIF(報酬支払額!$B$10:$B$999,報酬支払先情報!$A77&\"|\"&H$7,報酬支払額!$G$10:$G$999)","v":0},{"$f":"SUMIF(報酬支払額!$B$10:$B$999,報酬支払先情報!$A77&\"|\"&I$7,報酬支払額!$G$10:$G$999)","v":0},{"$f":"SUMIF(報酬支払額!$B$10:$B$999,報酬支払先情報!$A77&\"|\"&J$7,報酬支払額!$G$10:$G$999)","v":0},{"$f":"SUMIF(報酬支払額!$B$10:$B$999,報酬支払先情報!$A77&\"|\"&K$7,報酬支払額!$H$10:$H$999)","v":0},{"$f":"SUMIF(報酬支払額!$B$10:$B$999,報酬支払先情報!$A77&\"|\"&L$7,報酬支払額!$H$10:$H$999)","v":0},{"$f":"SUMIF(報酬支払額!$B$10:$B$999,報酬支払先情報!$A77&\"|\"&M$7,報酬支払額!$H$10:$H$999)","v":0},{"$f":"SUMIF(報酬支払額!$B$10:$B$999,報酬支払先情報!$A77&\"|\"&N$7,報酬支払額!$H$10:$H$999)","v":0},{"$f":"SUMIF(報酬支払額!$B$10:$B$999,報酬支払先情報!$A77&\"|\"&O$7,報酬支払額!$H$10:$H$999)","v":0},{"$f":"SUMIF(報酬支払額!$B$10:$B$999,報酬支払先情報!$A77&\"|\"&P$7,報酬支払額!$H$10:$H$999)","v":0},{"$f":"SUMIF(報酬支払額!$B$10:$B$999,報酬支払先情報!$A77&\"|\"&Q$7,報酬支払額!$H$10:$H$999)","v":0},{"$f":"SUMIF(報酬支払額!$B$10:$B$999,報酬支払先情報!$A77&\"|\"&R$7,報酬支払額!$H$10:$H$999)","v":0},null,0,"",0,0,0,0,0,0,0,0,null,0,"",0,0,0,0,0,0,0,0,0,0,0]
[{"$f":"報酬支払先情報!A78","v":0},{"$f":"報酬支払先情報!B78&\"\"","v":""},{"$f":"SUMIF(報酬支払額!$B$10:$B$999,報酬支払先情報!$A78&\"|\"&C$7,報酬支払額!$G$10:$G$999)","v":0},{"$f":"SUMIF(報酬支払額!$B$10:$B$999,報酬支払先情報!$A78&\"|\"&D$7,報酬支払額!$G$10:$G$999)","v":0},{"$f":"SUMIF(報酬支払額!$B$10:$B$999,報酬支払先情報!$A78&\"|\"&E$7,報酬支払額!$G$10:$G$999)","v":0},{"$f":"SUMIF(報酬支払額!$B$10:$B$999,報酬支払先情報!$A78&\"|\"&F$7,報酬支払額!$G$10:$G$999)","v":0},{"$f":"SUMIF(報酬支払額!$B$10:$B$999,報酬支払先情報!$A78&\"|\"&G$7,報酬支払額!$G$10:$G$999)","v":0},{"$f":"SUMIF(報酬支払額!$B$10:$B$999,報酬支払先情報!$A78&\"|\"&H$7,報酬支払額!$G$10:$G$999)","v":0},{"$f":"SUMIF(報酬支払額!$B$10:$B$999,報酬支払先情報!$A78&\"|\"&I$7,報酬支払額!$G$10:$G$999)","v":0},{"$f":"SUMIF(報酬支払額!$B$10:$B$999,報酬支払先情報!$A78&\"|\"&J$7,報酬支払額!$G$10:$G$999)","v":0},{"$f":"SUMIF(報酬支払額!$B$10:$B$999,報酬支払先情報!$A78&\"|\"&K$7,報酬支払額!$H$10:$H$999)","v":0},{"$f":"SUMIF(報酬支払額!$B$10:$B$999,報酬支払先情報!$A78&\"|\"&L$7,報酬支払額!$H$10:$H$999)","v":0},{"$f":"SUMIF(報酬支払額!$B$10:$B$999,報酬支払先情報!$A78&\"|\"&M$7,報酬支払額!$H$10:$H$999)","v":0},{"$f":"SUMIF(報酬支払額!$B$10:$B$999,報酬支払先情報!$A78&\"|\"&N$7,報酬支払額!$H$10:$H$999)","v":0},{"$f":"SUMIF(報酬支払額!$B$10:$B$999,報酬支払先情報!$A78&\"|\"&O$7,報酬支払額!$H$10:$H$999)","v":0},{"$f":"SUMIF(報酬支払額!$B$10:$B$999,報酬支払先情報!$A78&\"|\"&P$7,報酬支払額!$H$10:$H$999)","v":0},{"$f":"SUMIF(報酬支払額!$B$10:$B$999,報酬支払先情報!$A78&\"|\"&Q$7,報酬支払額!$H$10:$H$999)","v":0},{"$f":"SUMIF(報酬支払額!$B$10:$B$999,報酬支払先情報!$A78&\"|\"&R$7,報酬支払額!$H$10:$H$999)","v":0},null,0,"",0,0,0,0,0,0,0,0,null,0,"",0,0,0,0,0,0,0,0,0,0,0]
[{"$f":"報酬支払先情報!A79","v":0},{"$f":"報酬支払先情報!B79&\"\"","v":""},{"$f":"SUMIF(報酬支払額!$B$10:$B$999,報酬支払先情報!$A79&\"|\"&C$7,報酬支払額!$G$10:$G$999)","v":0},{"$f":"SUMIF(報酬支払額!$B$10:$B$999,報酬支払先情報!$A79&\"|\"&D$7,報酬支払額!$G$10:$G$999)","v":0},{"$f":"SUMIF(報酬支払額!$B$10:$B$999,報酬支払先情報!$A79&\"|\"&E$7,報酬支払額!$G$10:$G$999)","v":0},{"$f":"SUMIF(報酬支払額!$B$10:$B$999,報酬支払先情報!$A79&\"|\"&F$7,報酬支払額!$G$10:$G$999)","v":0},{"$f":"SUMIF(報酬支払額!$B$10:$B$999,報酬支払先情報!$A79&\"|\"&G$7,報酬支払額!$G$10:$G$999)","v":0},{"$f":"SUMIF(報酬支払額!$B$10:$B$999,報酬支払先情報!$A79&\"|\"&H$7,報酬支払額!$G$10:$G$999)","v":0},{"$f":"SUMIF(報酬支払額!$B$10:$B$999,報酬支払先情報!$A79&\"|\"&I$7,報酬支払額!$G$10:$G$999)","v":0},{"$f":"SUMIF(報酬支払額!$B$10:$B$999,報酬支払先情報!$A79&\"|\"&J$7,報酬支払額!$G$10:$G$999)","v":0},{"$f":"SUMIF(報酬支払額!$B$10:$B$999,報酬支払先情報!$A79&\"|\"&K$7,報酬支払額!$H$10:$H$999)","v":0},{"$f":"SUMIF(報酬支払額!$B$10:$B$999,報酬支払先情報!$A79&\"|\"&L$7,報酬支払額!$H$10:$H$999)","v":0},{"$f":"SUMIF(報酬支払額!$B$10:$B$999,報酬支払先情報!$A79&\"|\"&M$7,報酬支払額!$H$10:$H$999)","v":0},{"$f":"SUMIF(報酬支払額!$B$10:$B$999,報酬支払先情報!$A79&\"|\"&N$7,報酬支払額!$H$10:$H$999)","v":0},{"$f":"SUMIF(報酬支払額!$B$10:$B$999,報酬支払先情報!$A79&\"|\"&O$7,報酬支払額!$H$10:$H$999)","v":0},{"$f":"SUMIF(報酬支払額!$B$10:$B$999,報酬支払先情報!$A79&\"|\"&P$7,報酬支払額!$H$10:$H$999)","v":0},{"$f":"SUMIF(報酬支払額!$B$10:$B$999,報酬支払先情報!$A79&\"|\"&Q$7,報酬支払額!$H$10:$H$999)","v":0},{"$f":"SUMIF(報酬支払額!$B$10:$B$999,報酬支払先情報!$A79&\"|\"&R$7,報酬支払額!$H$10:$H$999)","v":0},null,0,"",0,0,0,0,0,0,0,0,null,0,"",0,0,0,0,0,0,0,0,0,0,0]
[{"$f":"報酬支払先情報!A80","v":0},{"$f":"報酬支払先情報!B80&\"\"","v":""},{"$f":"SUMIF(報酬支払額!$B$10:$B$999,報酬支払先情報!$A80&\"|\"&C$7,報酬支払額!$G$10:$G$999)","v":0},{"$f":"SUMIF(報酬支払額!$B$10:$B$999,報酬支払先情報!$A80&\"|\"&D$7,報酬支払額!$G$10:$G$999)","v":0},{"$f":"SUMIF(報酬支払額!$B$10:$B$999,報酬支払先情報!$A80&\"|\"&E$7,報酬支払額!$G$10:$G$999)","v":0},{"$f":"SUMIF(報酬支払額!$B$10:$B$999,報酬支払先情報!$A80&\"|\"&F$7,報酬支払額!$G$10:$G$999)","v":0},{"$f":"SUMIF(報酬支払額!$B$10:$B$999,報酬支払先情報!$A80&\"|\"&G$7,報酬支払額!$G$10:$G$999)","v":0},{"$f":"SUMIF(報酬支払額!$B$10:$B$999,報酬支払先情報!$A80&\"|\"&H$7,報酬支払額!$G$10:$G$999)","v":0},{"$f":"SUMIF(報酬支払額!$B$10:$B$999,報酬支払先情報!$A80&\"|\"&I$7,報酬支払額!$G$10:$G$999)","v":0},{"$f":"SUMIF(報酬支払額!$B$10:$B$999,報酬支払先情報!$A80&\"|\"&J$7,報酬支払額!$G$10:$G$999)","v":0},{"$f":"SUMIF(報酬支払額!$B$10:$B$999,報酬支払先情報!$A80&\"|\"&K$7,報酬支払額!$H$10:$H$999)","v":0},{"$f":"SUMIF(報酬支払額!$B$10:$B$999,報酬支払先情報!$A80&\"|\"&L$7,報酬支払額!$H$10:$H$999)","v":0},{"$f":"SUMIF(報酬支払額!$B$10:$B$999,報酬支払先情報!$A80&\"|\"&M$7,報酬支払額!$H$10:$H$999)","v":0},{"$f":"SUMIF(報酬支払額!$B$10:$B$999,報酬支払先情報!$A80&\"|\"&N$7,報酬支払額!$H$10:$H$999)","v":0},{"$f":"SUMIF(報酬支払額!$B$10:$B$999,報酬支払先情報!$A80&\"|\"&O$7,報酬支払額!$H$10:$H$999)","v":0},{"$f":"SUMIF(報酬支払額!$B$10:$B$999,報酬支払先情報!$A80&\"|\"&P$7,報酬支払額!$H$10:$H$999)","v":0},{"$f":"SUMIF(報酬支払額!$B$10:$B$999,報酬支払先情報!$A80&\"|\"&Q$7,報酬支払額!$H$10:$H$999)","v":0},{"$f":"SUMIF(報酬支払額!$B$10:$B$999,報酬支払先情報!$A80&\"|\"&R$7,報酬支払額!$H$10:$H$999)","v":0},null,0,"",0,0,0,0,0,0,0,0,null,0,"",0,0,0,0,0,0,0,0,0,0,0]
[{"$f":"報酬支払先情報!A81","v":0},{"$f":"報酬支払先情報!B81&\"\"","v":""},{"$f":"SUMIF(報酬支払額!$B$10:$B$999,報酬支払先情報!$A81&\"|\"&C$7,報酬支払額!$G$10:$G$999)","v":0},{"$f":"SUMIF(報酬支払額!$B$10:$B$999,報酬支払先情報!$A81&\"|\"&D$7,報酬支払額!$G$10:$G$999)","v":0},{"$f":"SUMIF(報酬支払額!$B$10:$B$999,報酬支払先情報!$A81&\"|\"&E$7,報酬支払額!$G$10:$G$999)","v":0},{"$f":"SUMIF(報酬支払額!$B$10:$B$999,報酬支払先情報!$A81&\"|\"&F$7,報酬支払額!$G$10:$G$999)","v":0},{"$f":"SUMIF(報酬支払額!$B$10:$B$999,報酬支払先情報!$A81&\"|\"&G$7,報酬支払額!$G$10:$G$999)","v":0},{"$f":"SUMIF(報酬支払額!$B$10:$B$999,報酬支払先情報!$A81&\"|\"&H$7,報酬支払額!$G$10:$G$999)","v":0},{"$f":"SUMIF(報酬支払額!$B$10:$B$999,報酬支払先情報!$A81&\"|\"&I$7,報酬支払額!$G$10:$G$999)","v":0},{"$f":"SUMIF(報酬支払額!$B$10:$B$999,報酬支払先情報!$A81&\"|\"&J$7,報酬支払額!$G$10:$G$999)","v":0},{"$f":"SUMIF(報酬支払額!$B$10:$B$999,報酬支払先情報!$A81&\"|\"&K$7,報酬支払額!$H$10:$H$999)","v":0},{"$f":"SUMIF(報酬支払額!$B$10:$B$999,報酬支払先情報!$A81&\"|\"&L$7,報酬支払額!$H$10:$H$999)","v":0},{"$f":"SUMIF(報酬支払額!$B$10:$B$999,報酬支払先情報!$A81&\"|\"&M$7,報酬支払額!$H$10:$H$999)","v":0},{"$f":"SUMIF(報酬支払額!$B$10:$B$999,報酬支払先情報!$A81&\"|\"&N$7,報酬支払額!$H$10:$H$999)","v":0},{"$f":"SUMIF(報酬支払額!$B$10:$B$999,報酬支払先情報!$A81&\"|\"&O$7,報酬支払額!$H$10:$H$999)","v":0},{"$f":"SUMIF(報酬支払額!$B$10:$B$999,報酬支払先情報!$A81&\"|\"&P$7,報酬支払額!$H$10:$H$999)","v":0},{"$f":"SUMIF(報酬支払額!$B$10:$B$999,報酬支払先情報!$A81&\"|\"&Q$7,報酬支払額!$H$10:$H$999)","v":0},{"$f":"SUMIF(報酬支払額!$B$10:$B$999,報酬支払先情報!$A81&\"|\"&R$7,報酬支払額!$H$10:$H$999)","v":0},null,0,"",0,0,0,0,0,0,0,0,null,0,"",0,0,0,0,0,0,0,0,0,0,0]
[{"$f":"報酬支払先情報!A82","v":0},{"$f":"報酬支払先情報!B82&\"\"","v":""},{"$f":"SUMIF(報酬支払額!$B$10:$B$999,報酬支払先情報!$A82&\"|\"&C$7,報酬支払額!$G$10:$G$999)","v":0},{"$f":"SUMIF(報酬支払額!$B$10:$B$999,報酬支払先情報!$A82&\"|\"&D$7,報酬支払額!$G$10:$G$999)","v":0},{"$f":"SUMIF(報酬支払額!$B$10:$B$999,報酬支払先情報!$A82&\"|\"&E$7,報酬支払額!$G$10:$G$999)","v":0},{"$f":"SUMIF(報酬支払額!$B$10:$B$999,報酬支払先情報!$A82&\"|\"&F$7,報酬支払額!$G$10:$G$999)","v":0},{"$f":"SUMIF(報酬支払額!$B$10:$B$999,報酬支払先情報!$A82&\"|\"&G$7,報酬支払額!$G$10:$G$999)","v":0},{"$f":"SUMIF(報酬支払額!$B$10:$B$999,報酬支払先情報!$A82&\"|\"&H$7,報酬支払額!$G$10:$G$999)","v":0},{"$f":"SUMIF(報酬支払額!$B$10:$B$999,報酬支払先情報!$A82&\"|\"&I$7,報酬支払額!$G$10:$G$999)","v":0},{"$f":"SUMIF(報酬支払額!$B$10:$B$999,報酬支払先情報!$A82&\"|\"&J$7,報酬支払額!$G$10:$G$999)","v":0},{"$f":"SUMIF(報酬支払額!$B$10:$B$999,報酬支払先情報!$A82&\"|\"&K$7,報酬支払額!$H$10:$H$999)","v":0},{"$f":"SUMIF(報酬支払額!$B$10:$B$999,報酬支払先情報!$A82&\"|\"&L$7,報酬支払額!$H$10:$H$999)","v":0},{"$f":"SUMIF(報酬支払額!$B$10:$B$999,報酬支払先情報!$A82&\"|\"&M$7,報酬支払額!$H$10:$H$999)","v":0},{"$f":"SUMIF(報酬支払額!$B$10:$B$999,報酬支払先情報!$A82&\"|\"&N$7,報酬支払額!$H$10:$H$999)","v":0},{"$f":"SUMIF(報酬支払額!$B$10:$B$999,報酬支払先情報!$A82&\"|\"&O$7,報酬支払額!$H$10:$H$999)","v":0},{"$f":"SUMIF(報酬支払額!$B$10:$B$999,報酬支払先情報!$A82&\"|\"&P$7,報酬支払額!$H$10:$H$999)","v":0},{"$f":"SUMIF(報酬支払額!$B$10:$B$999,報酬支払先情報!$A82&\"|\"&Q$7,報酬支払額!$H$10:$H$999)","v":0},{"$f":"SUMIF(報酬支払額!$B$10:$B$999,報酬支払先情報!$A82&\"|\"&R$7,報酬支払額!$H$10:$H$999)","v":0},null,0,"",0,0,0,0,0,0,0,0,null,0,"",0,0,0,0,0,0,0,0,0,0,0]
[{"$f":"報酬支払先情報!A83","v":0},{"$f":"報酬支払先情報!B83&\"\"","v":""},{"$f":"SUMIF(報酬支払額!$B$10:$B$999,報酬支払先情報!$A83&\"|\"&C$7,報酬支払額!$G$10:$G$999)","v":0},{"$f":"SUMIF(報酬支払額!$B$10:$B$999,報酬支払先情報!$A83&\"|\"&D$7,報酬支払額!$G$10:$G$999)","v":0},{"$f":"SUMIF(報酬支払額!$B$10:$B$999,報酬支払先情報!$A83&\"|\"&E$7,報酬支払額!$G$10:$G$999)","v":0},{"$f":"SUMIF(報酬支払額!$B$10:$B$999,報酬支払先情報!$A83&\"|\"&F$7,報酬支払額!$G$10:$G$999)","v":0},{"$f":"SUMIF(報酬支払額!$B$10:$B$999,報酬支払先情報!$A83&\"|\"&G$7,報酬支払額!$G$10:$G$999)","v":0},{"$f":"SUMIF(報酬支払額!$B$10:$B$999,報酬支払先情報!$A83&\"|\"&H$7,報酬支払額!$G$10:$G$999)","v":0},{"$f":"SUMIF(報酬支払額!$B$10:$B$999,報酬支払先情報!$A83&\"|\"&I$7,報酬支払額!$G$10:$G$999)","v":0},{"$f":"SUMIF(報酬支払額!$B$10:$B$999,報酬支払先情報!$A83&\"|\"&J$7,報酬支払額!$G$10:$G$999)","v":0},{"$f":"SUMIF(報酬支払額!$B$10:$B$999,報酬支払先情報!$A83&\"|\"&K$7,報酬支払額!$H$10:$H$999)","v":0},{"$f":"SUMIF(報酬支払額!$B$10:$B$999,報酬支払先情報!$A83&\"|\"&L$7,報酬支払額!$H$10:$H$999)","v":0},{"$f":"SUMIF(報酬支払額!$B$10:$B$999,報酬支払先情報!$A83&\"|\"&M$7,報酬支払額!$H$10:$H$999)","v":0},{"$f":"SUMIF(報酬支払額!$B$10:$B$999,報酬支払先情報!$A83&\"|\"&N$7,報酬支払額!$H$10:$H$999)","v":0},{"$f":"SUMIF(報酬支払額!$B$10:$B$999,報酬支払先情報!$A83&\"|\"&O$7,報酬支払額!$H$10:$H$999)","v":0},{"$f":"SUMIF(報酬支払額!$B$10:$B$999,報酬支払先情報!$A83&\"|\"&P$7,報酬支払額!$H$10:$H$999)","v":0},{"$f":"SUMIF(報酬支払額!$B$10:$B$999,報酬支払先情報!$A83&\"|\"&Q$7,報酬支払額!$H$10:$H$999)","v":0},{"$f":"SUMIF(報酬支払額!$B$10:$B$999,報酬支払先情報!$A83&\"|\"&R$7,報酬支払額!$H$10:$H$999)","v":0},null,0,"",0,0,0,0,0,0,0,0,null,0,"",0,0,0,0,0,0,0,0,0,0,0]
[{"$f":"報酬支払先情報!A84","v":0},{"$f":"報酬支払先情報!B84&\"\"","v":""},{"$f":"SUMIF(報酬支払額!$B$10:$B$999,報酬支払先情報!$A84&\"|\"&C$7,報酬支払額!$G$10:$G$999)","v":0},{"$f":"SUMIF(報酬支払額!$B$10:$B$999,報酬支払先情報!$A84&\"|\"&D$7,報酬支払額!$G$10:$G$999)","v":0},{"$f":"SUMIF(報酬支払額!$B$10:$B$999,報酬支払先情報!$A84&\"|\"&E$7,報酬支払額!$G$10:$G$999)","v":0},{"$f":"SUMIF(報酬支払額!$B$10:$B$999,報酬支払先情報!$A84&\"|\"&F$7,報酬支払額!$G$10:$G$999)","v":0},{"$f":"SUMIF(報酬支払額!$B$10:$B$999,報酬支払先情報!$A84&\"|\"&G$7,報酬支払額!$G$10:$G$999)","v":0},{"$f":"SUMIF(報酬支払額!$B$10:$B$999,報酬支払先情報!$A84&\"|\"&H$7,報酬支払額!$G$10:$G$999)","v":0},{"$f":"SUMIF(報酬支払額!$B$10:$B$999,報酬支払先情報!$A84&\"|\"&I$7,報酬支払額!$G$10:$G$999)","v":0},{"$f":"SUMIF(報酬支払額!$B$10:$B$999,報酬支払先情報!$A84&\"|\"&J$7,報酬支払額!$G$10:$G$999)","v":0},{"$f":"SUMIF(報酬支払額!$B$10:$B$999,報酬支払先情報!$A84&\"|\"&K$7,報酬支払額!$H$10:$H$999)","v":0},{"$f":"SUMIF(報酬支払額!$B$10:$B$999,報酬支払先情報!$A84&\"|\"&L$7,報酬支払額!$H$10:$H$999)","v":0},{"$f":"SUMIF(報酬支払額!$B$10:$B$999,報酬支払先情報!$A84&\"|\"&M$7,報酬支払額!$H$10:$H$999)","v":0},{"$f":"SUMIF(報酬支払額!$B$10:$B$999,報酬支払先情報!$A84&\"|\"&N$7,報酬支払額!$H$10:$H$999)","v":0},{"$f":"SUMIF(報酬支払額!$B$10:$B$999,報酬支払先情報!$A84&\"|\"&O$7,報酬支払額!$H$10:$H$999)","v":0},{"$f":"SUMIF(報酬支払額!$B$10:$B$999,報酬支払先情報!$A84&\"|\"&P$7,報酬支払額!$H$10:$H$999)","v":0},{"$f":"SUMIF(報酬支払額!$B$10:$B$999,報酬支払先情報!$A84&\"|\"&Q$7,報酬支払額!$H$10:$H$999)","v":0},{"$f":"SUMIF(報酬支払額!$B$10:$B$999,報酬支払先情報!$A84&\"|\"&R$7,報酬支払額!$H$10:$H$999)","v":0},null,0,"",0,0,0,0,0,0,0,0,null,0,"",0,0,0,0,0,0,0,0,0,0,0]
[{"$f":"報酬支払先情報!A85","v":0},{"$f":"報酬支払先情報!B85&\"\"","v":""},{"$f":"SUMIF(報酬支払額!$B$10:$B$999,報酬支払先情報!$A85&\"|\"&C$7,報酬支払額!$G$10:$G$999)","v":0},{"$f":"SUMIF(報酬支払額!$B$10:$B$999,報酬支払先情報!$A85&\"|\"&D$7,報酬支払額!$G$10:$G$999)","v":0},{"$f":"SUMIF(報酬支払額!$B$10:$B$999,報酬支払先情報!$A85&\"|\"&E$7,報酬支払額!$G$10:$G$999)","v":0},{"$f":"SUMIF(報酬支払額!$B$10:$B$999,報酬支払先情報!$A85&\"|\"&F$7,報酬支払額!$G$10:$G$999)","v":0},{"$f":"SUMIF(報酬支払額!$B$10:$B$999,報酬支払先情報!$A85&\"|\"&G$7,報酬支払額!$G$10:$G$999)","v":0},{"$f":"SUMIF(報酬支払額!$B$10:$B$999,報酬支払先情報!$A85&\"|\"&H$7,報酬支払額!$G$10:$G$999)","v":0},{"$f":"SUMIF(報酬支払額!$B$10:$B$999,報酬支払先情報!$A85&\"|\"&I$7,報酬支払額!$G$10:$G$999)","v":0},{"$f":"SUMIF(報酬支払額!$B$10:$B$999,報酬支払先情報!$A85&\"|\"&J$7,報酬支払額!$G$10:$G$999)","v":0},{"$f":"SUMIF(報酬支払額!$B$10:$B$999,報酬支払先情報!$A85&\"|\"&K$7,報酬支払額!$H$10:$H$999)","v":0},{"$f":"SUMIF(報酬支払額!$B$10:$B$999,報酬支払先情報!$A85&\"|\"&L$7,報酬支払額!$H$10:$H$999)","v":0},{"$f":"SUMIF(報酬支払額!$B$10:$B$999,報酬支払先情報!$A85&\"|\"&M$7,報酬支払額!$H$10:$H$999)","v":0},{"$f":"SUMIF(報酬支払額!$B$10:$B$999,報酬支払先情報!$A85&\"|\"&N$7,報酬支払額!$H$10:$H$999)","v":0},{"$f":"SUMIF(報酬支払額!$B$10:$B$999,報酬支払先情報!$A85&\"|\"&O$7,報酬支払額!$H$10:$H$999)","v":0},{"$f":"SUMIF(報酬支払額!$B$10:$B$999,報酬支払先情報!$A85&\"|\"&P$7,報酬支払額!$H$10:$H$999)","v":0},{"$f":"SUMIF(報酬支払額!$B$10:$B$999,報酬支払先情報!$A85&\"|\"&Q$7,報酬支払額!$H$10:$H$999)","v":0},{"$f":"SUMIF(報酬支払額!$B$10:$B$999,報酬支払先情報!$A85&\"|\"&R$7,報酬支払額!$H$10:$H$999)","v":0},null,0,"",0,0,0,0,0,0,0,0,null,0,"",0,0,0,0,0,0,0,0,0,0,0]
[{"$f":"報酬支払先情報!A86","v":0},{"$f":"報酬支払先情報!B86&\"\"","v":""},{"$f":"SUMIF(報酬支払額!$B$10:$B$999,報酬支払先情報!$A86&\"|\"&C$7,報酬支払額!$G$10:$G$999)","v":0},{"$f":"SUMIF(報酬支払額!$B$10:$B$999,報酬支払先情報!$A86&\"|\"&D$7,報酬支払額!$G$10:$G$999)","v":0},{"$f":"SUMIF(報酬支払額!$B$10:$B$999,報酬支払先情報!$A86&\"|\"&E$7,報酬支払額!$G$10:$G$999)","v":0},{"$f":"SUMIF(報酬支払額!$B$10:$B$999,報酬支払先情報!$A86&\"|\"&F$7,報酬支払額!$G$10:$G$999)","v":0},{"$f":"SUMIF(報酬支払額!$B$10:$B$999,報酬支払先情報!$A86&\"|\"&G$7,報酬支払額!$G$10:$G$999)","v":0},{"$f":"SUMIF(報酬支払額!$B$10:$B$999,報酬支払先情報!$A86&\"|\"&H$7,報酬支払額!$G$10:$G$999)","v":0},{"$f":"SUMIF(報酬支払額!$B$10:$B$999,報酬支払先情報!$A86&\"|\"&I$7,報酬支払額!$G$10:$G$999)","v":0},{"$f":"SUMIF(報酬支払額!$B$10:$B$999,報酬支払先情報!$A86&\"|\"&J$7,報酬支払額!$G$10:$G$999)","v":0},{"$f":"SUMIF(報酬支払額!$B$10:$B$999,報酬支払先情報!$A86&\"|\"&K$7,報酬支払額!$H$10:$H$999)","v":0},{"$f":"SUMIF(報酬支払額!$B$10:$B$999,報酬支払先情報!$A86&\"|\"&L$7,報酬支払額!$H$10:$H$999)","v":0},{"$f":"SUMIF(報酬支払額!$B$10:$B$999,報酬支払先情報!$A86&\"|\"&M$7,報酬支払額!$H$10:$H$999)","v":0},{"$f":"SUMIF(報酬支払額!$B$10:$B$999,報酬支払先情報!$A86&\"|\"&N$7,報酬支払額!$H$10:$H$999)","v":0},{"$f":"SUMIF(報酬支払額!$B$10:$B$999,報酬支払先情報!$A86&\"|\"&O$7,報酬支払額!$H$10:$H$999)","v":0},{"$f":"SUMIF(報酬支払額!$B$10:$B$999,報酬支払先情報!$A86&\"|\"&P$7,報酬支払額!$H$10:$H$999)","v":0},{"$f":"SUMIF(報酬支払額!$B$10:$B$999,報酬支払先情報!$A86&\"|\"&Q$7,報酬支払額!$H$10:$H$999)","v":0},{"$f":"SUMIF(報酬支払額!$B$10:$B$999,報酬支払先情報!$A86&\"|\"&R$7,報酬支払額!$H$10:$H$999)","v":0},null,0,"",0,0,0,0,0,0,0,0,null,0,"",0,0,0,0,0,0,0,0,0,0,0]
[{"$f":"報酬支払先情報!A87","v":0},{"$f":"報酬支払先情報!B87&\"\"","v":""},{"$f":"SUMIF(報酬支払額!$B$10:$B$999,報酬支払先情報!$A87&\"|\"&C$7,報酬支払額!$G$10:$G$999)","v":0},{"$f":"SUMIF(報酬支払額!$B$10:$B$999,報酬支払先情報!$A87&\"|\"&D$7,報酬支払額!$G$10:$G$999)","v":0},{"$f":"SUMIF(報酬支払額!$B$10:$B$999,報酬支払先情報!$A87&\"|\"&E$7,報酬支払額!$G$10:$G$999)","v":0},{"$f":"SUMIF(報酬支払額!$B$10:$B$999,報酬支払先情報!$A87&\"|\"&F$7,報酬支払額!$G$10:$G$999)","v":0},{"$f":"SUMIF(報酬支払額!$B$10:$B$999,報酬支払先情報!$A87&\"|\"&G$7,報酬支払額!$G$10:$G$999)","v":0},{"$f":"SUMIF(報酬支払額!$B$10:$B$999,報酬支払先情報!$A87&\"|\"&H$7,報酬支払額!$G$10:$G$999)","v":0},{"$f":"SUMIF(報酬支払額!$B$10:$B$999,報酬支払先情報!$A87&\"|\"&I$7,報酬支払額!$G$10:$G$999)","v":0},{"$f":"SUMIF(報酬支払額!$B$10:$B$999,報酬支払先情報!$A87&\"|\"&J$7,報酬支払額!$G$10:$G$999)","v":0},{"$f":"SUMIF(報酬支払額!$B$10:$B$999,報酬支払先情報!$A87&\"|\"&K$7,報酬支払額!$H$10:$H$999)","v":0},{"$f":"SUMIF(報酬支払額!$B$10:$B$999,報酬支払先情報!$A87&\"|\"&L$7,報酬支払額!$H$10:$H$999)","v":0},{"$f":"SUMIF(報酬支払額!$B$10:$B$999,報酬支払先情報!$A87&\"|\"&M$7,報酬支払額!$H$10:$H$999)","v":0},{"$f":"SUMIF(報酬支払額!$B$10:$B$999,報酬支払先情報!$A87&\"|\"&N$7,報酬支払額!$H$10:$H$999)","v":0},{"$f":"SUMIF(報酬支払額!$B$10:$B$999,報酬支払先情報!$A87&\"|\"&O$7,報酬支払額!$H$10:$H$999)","v":0},{"$f":"SUMIF(報酬支払額!$B$10:$B$999,報酬支払先情報!$A87&\"|\"&P$7,報酬支払額!$H$10:$H$999)","v":0},{"$f":"SUMIF(報酬支払額!$B$10:$B$999,報酬支払先情報!$A87&\"|\"&Q$7,報酬支払額!$H$10:$H$999)","v":0},{"$f":"SUMIF(報酬支払額!$B$10:$B$999,報酬支払先情報!$A87&\"|\"&R$7,報酬支払額!$H$10:$H$999)","v":0},null,0,"",0,0,0,0,0,0,0,0,null,0,"",0,0,0,0,0,0,0,0,0,0,0]
[{"$f":"報酬支払先情報!A88","v":0},{"$f":"報酬支払先情報!B88&\"\"","v":""},{"$f":"SUMIF(報酬支払額!$B$10:$B$999,報酬支払先情報!$A88&\"|\"&C$7,報酬支払額!$G$10:$G$999)","v":0},{"$f":"SUMIF(報酬支払額!$B$10:$B$999,報酬支払先情報!$A88&\"|\"&D$7,報酬支払額!$G$10:$G$999)","v":0},{"$f":"SUMIF(報酬支払額!$B$10:$B$999,報酬支払先情報!$A88&\"|\"&E$7,報酬支払額!$G$10:$G$999)","v":0},{"$f":"SUMIF(報酬支払額!$B$10:$B$999,報酬支払先情報!$A88&\"|\"&F$7,報酬支払額!$G$10:$G$999)","v":0},{"$f":"SUMIF(報酬支払額!$B$10:$B$999,報酬支払先情報!$A88&\"|\"&G$7,報酬支払額!$G$10:$G$999)","v":0},{"$f":"SUMIF(報酬支払額!$B$10:$B$999,報酬支払先情報!$A88&\"|\"&H$7,報酬支払額!$G$10:$G$999)","v":0},{"$f":"SUMIF(報酬支払額!$B$10:$B$999,報酬支払先情報!$A88&\"|\"&I$7,報酬支払額!$G$10:$G$999)","v":0},{"$f":"SUMIF(報酬支払額!$B$10:$B$999,報酬支払先情報!$A88&\"|\"&J$7,報酬支払額!$G$10:$G$999)","v":0},{"$f":"SUMIF(報酬支払額!$B$10:$B$999,報酬支払先情報!$A88&\"|\"&K$7,報酬支払額!$H$10:$H$999)","v":0},{"$f":"SUMIF(報酬支払額!$B$10:$B$999,報酬支払先情報!$A88&\"|\"&L$7,報酬支払額!$H$10:$H$999)","v":0},{"$f":"SUMIF(報酬支払額!$B$10:$B$999,報酬支払先情報!$A88&\"|\"&M$7,報酬支払額!$H$10:$H$999)","v":0},{"$f":"SUMIF(報酬支払額!$B$10:$B$999,報酬支払先情報!$A88&\"|\"&N$7,報酬支払額!$H$10:$H$999)","v":0},{"$f":"SUMIF(報酬支払額!$B$10:$B$999,報酬支払先情報!$A88&\"|\"&O$7,報酬支払額!$H$10:$H$999)","v":0},{"$f":"SUMIF(報酬支払額!$B$10:$B$999,報酬支払先情報!$A88&\"|\"&P$7,報酬支払額!$H$10:$H$999)","v":0},{"$f":"SUMIF(報酬支払額!$B$10:$B$999,報酬支払先情報!$A88&\"|\"&Q$7,報酬支払額!$H$10:$H$999)","v":0},{"$f":"SUMIF(報酬支払額!$B$10:$B$999,報酬支払先情報!$A88&\"|\"&R$7,報酬支払額!$H$10:$H$999)","v":0},null,0,"",0,0,0,0,0,0,0,0,null,0,"",0,0,0,0,0,0,0,0,0,0,0]
[{"$f":"報酬支払先情報!A89","v":0},{"$f":"報酬支払先情報!B89&\"\"","v":""},{"$f":"SUMIF(報酬支払額!$B$10:$B$999,報酬支払先情報!$A89&\"|\"&C$7,報酬支払額!$G$10:$G$999)","v":0},{"$f":"SUMIF(報酬支払額!$B$10:$B$999,報酬支払先情報!$A89&\"|\"&D$7,報酬支払額!$G$10:$G$999)","v":0},{"$f":"SUMIF(報酬支払額!$B$10:$B$999,報酬支払先情報!$A89&\"|\"&E$7,報酬支払額!$G$10:$G$999)","v":0},{"$f":"SUMIF(報酬支払額!$B$10:$B$999,報酬支払先情報!$A89&\"|\"&F$7,報酬支払額!$G$10:$G$999)","v":0},{"$f":"SUMIF(報酬支払額!$B$10:$B$999,報酬支払先情報!$A89&\"|\"&G$7,報酬支払額!$G$10:$G$999)","v":0},{"$f":"SUMIF(報酬支払額!$B$10:$B$999,報酬支払先情報!$A89&\"|\"&H$7,報酬支払額!$G$10:$G$999)","v":0},{"$f":"SUMIF(報酬支払額!$B$10:$B$999,報酬支払先情報!$A89&\"|\"&I$7,報酬支払額!$G$10:$G$999)","v":0},{"$f":"SUMIF(報酬支払額!$B$10:$B$999,報酬支払先情報!$A89&\"|\"&J$7,報酬支払額!$G$10:$G$999)","v":0},{"$f":"SUMIF(報酬支払額!$B$10:$B$999,報酬支払先情報!$A89&\"|\"&K$7,報酬支払額!$H$10:$H$999)","v":0},{"$f":"SUMIF(報酬支払額!$B$10:$B$999,報酬支払先情報!$A89&\"|\"&L$7,報酬支払額!$H$10:$H$999)","v":0},{"$f":"SUMIF(報酬支払額!$B$10:$B$999,報酬支払先情報!$A89&\"|\"&M$7,報酬支払額!$H$10:$H$999)","v":0},{"$f":"SUMIF(報酬支払額!$B$10:$B$999,報酬支払先情報!$A89&\"|\"&N$7,報酬支払額!$H$10:$H$999)","v":0},{"$f":"SUMIF(報酬支払額!$B$10:$B$999,報酬支払先情報!$A89&\"|\"&O$7,報酬支払額!$H$10:$H$999)","v":0},{"$f":"SUMIF(報酬支払額!$B$10:$B$999,報酬支払先情報!$A89&\"|\"&P$7,報酬支払額!$H$10:$H$999)","v":0},{"$f":"SUMIF(報酬支払額!$B$10:$B$999,報酬支払先情報!$A89&\"|\"&Q$7,報酬支払額!$H$10:$H$999)","v":0},{"$f":"SUMIF(報酬支払額!$B$10:$B$999,報酬支払先情報!$A89&\"|\"&R$7,報酬支払額!$H$10:$H$999)","v":0},null,0,"",0,0,0,0,0,0,0,0,null,0,"",0,0,0,0,0,0,0,0,0,0,0]
[{"$f":"報酬支払先情報!A90","v":0},{"$f":"報酬支払先情報!B90&\"\"","v":""},{"$f":"SUMIF(報酬支払額!$B$10:$B$999,報酬支払先情報!$A90&\"|\"&C$7,報酬支払額!$G$10:$G$999)","v":0},{"$f":"SUMIF(報酬支払額!$B$10:$B$999,報酬支払先情報!$A90&\"|\"&D$7,報酬支払額!$G$10:$G$999)","v":0},{"$f":"SUMIF(報酬支払額!$B$10:$B$999,報酬支払先情報!$A90&\"|\"&E$7,報酬支払額!$G$10:$G$999)","v":0},{"$f":"SUMIF(報酬支払額!$B$10:$B$999,報酬支払先情報!$A90&\"|\"&F$7,報酬支払額!$G$10:$G$999)","v":0},{"$f":"SUMIF(報酬支払額!$B$10:$B$999,報酬支払先情報!$A90&\"|\"&G$7,報酬支払額!$G$10:$G$999)","v":0},{"$f":"SUMIF(報酬支払額!$B$10:$B$999,報酬支払先情報!$A90&\"|\"&H$7,報酬支払額!$G$10:$G$999)","v":0},{"$f":"SUMIF(報酬支払額!$B$10:$B$999,報酬支払先情報!$A90&\"|\"&I$7,報酬支払額!$G$10:$G$999)","v":0},{"$f":"SUMIF(報酬支払額!$B$10:$B$999,報酬支払先情報!$A90&\"|\"&J$7,報酬支払額!$G$10:$G$999)","v":0},{"$f":"SUMIF(報酬支払額!$B$10:$B$999,報酬支払先情報!$A90&\"|\"&K$7,報酬支払額!$H$10:$H$999)","v":0},{"$f":"SUMIF(報酬支払額!$B$10:$B$999,報酬支払先情報!$A90&\"|\"&L$7,報酬支払額!$H$10:$H$999)","v":0},{"$f":"SUMIF(報酬支払額!$B$10:$B$999,報酬支払先情報!$A90&\"|\"&M$7,報酬支払額!$H$10:$H$999)","v":0},{"$f":"SUMIF(報酬支払額!$B$10:$B$999,報酬支払先情報!$A90&\"|\"&N$7,報酬支払額!$H$10:$H$999)","v":0},{"$f":"SUMIF(報酬支払額!$B$10:$B$999,報酬支払先情報!$A90&\"|\"&O$7,報酬支払額!$H$10:$H$999)","v":0},{"$f":"SUMIF(報酬支払額!$B$10:$B$999,報酬支払先情報!$A90&\"|\"&P$7,報酬支払額!$H$10:$H$999)","v":0},{"$f":"SUMIF(報酬支払額!$B$10:$B$999,報酬支払先情報!$A90&\"|\"&Q$7,報酬支払額!$H$10:$H$999)","v":0},{"$f":"SUMIF(報酬支払額!$B$10:$B$999,報酬支払先情報!$A90&\"|\"&R$7,報酬支払額!$H$10:$H$999)","v":0},null,0,"",0,0,0,0,0,0,0,0,null,0,"",0,0,0,0,0,0,0,0,0,0,0]
[{"$f":"報酬支払先情報!A91","v":0},{"$f":"報酬支払先情報!B91&\"\"","v":""},{"$f":"SUMIF(報酬支払額!$B$10:$B$999,報酬支払先情報!$A91&\"|\"&C$7,報酬支払額!$G$10:$G$999)","v":0},{"$f":"SUMIF(報酬支払額!$B$10:$B$999,報酬支払先情報!$A91&\"|\"&D$7,報酬支払額!$G$10:$G$999)","v":0},{"$f":"SUMIF(報酬支払額!$B$10:$B$999,報酬支払先情報!$A91&\"|\"&E$7,報酬支払額!$G$10:$G$999)","v":0},{"$f":"SUMIF(報酬支払額!$B$10:$B$999,報酬支払先情報!$A91&\"|\"&F$7,報酬支払額!$G$10:$G$999)","v":0},{"$f":"SUMIF(報酬支払額!$B$10:$B$999,報酬支払先情報!$A91&\"|\"&G$7,報酬支払額!$G$10:$G$999)","v":0},{"$f":"SUMIF(報酬支払額!$B$10:$B$999,報酬支払先情報!$A91&\"|\"&H$7,報酬支払額!$G$10:$G$999)","v":0},{"$f":"SUMIF(報酬支払額!$B$10:$B$999,報酬支払先情報!$A91&\"|\"&I$7,報酬支払額!$G$10:$G$999)","v":0},{"$f":"SUMIF(報酬支払額!$B$10:$B$999,報酬支払先情報!$A91&\"|\"&J$7,報酬支払額!$G$10:$G$999)","v":0},{"$f":"SUMIF(報酬支払額!$B$10:$B$999,報酬支払先情報!$A91&\"|\"&K$7,報酬支払額!$H$10:$H$999)","v":0},{"$f":"SUMIF(報酬支払額!$B$10:$B$999,報酬支払先情報!$A91&\"|\"&L$7,報酬支払額!$H$10:$H$999)","v":0},{"$f":"SUMIF(報酬支払額!$B$10:$B$999,報酬支払先情報!$A91&\"|\"&M$7,報酬支払額!$H$10:$H$999)","v":0},{"$f":"SUMIF(報酬支払額!$B$10:$B$999,報酬支払先情報!$A91&\"|\"&N$7,報酬支払額!$H$10:$H$999)","v":0},{"$f":"SUMIF(報酬支払額!$B$10:$B$999,報酬支払先情報!$A91&\"|\"&O$7,報酬支払額!$H$10:$H$999)","v":0},{"$f":"SUMIF(報酬支払額!$B$10:$B$999,報酬支払先情報!$A91&\"|\"&P$7,報酬支払額!$H$10:$H$999)","v":0},{"$f":"SUMIF(報酬支払額!$B$10:$B$999,報酬支払先情報!$A91&\"|\"&Q$7,報酬支払額!$H$10:$H$999)","v":0},{"$f":"SUMIF(報酬支払額!$B$10:$B$999,報酬支払先情報!$A91&\"|\"&R$7,報酬支払額!$H$10:$H$999)","v":0},null,0,"",0,0,0,0,0,0,0,0,null,0,"",0,0,0,0,0,0,0,0,0,0,0]
[{"$f":"報酬支払先情報!A92","v":0},{"$f":"報酬支払先情報!B92&\"\"","v":""},{"$f":"SUMIF(報酬支払額!$B$10:$B$999,報酬支払先情報!$A92&\"|\"&C$7,報酬支払額!$G$10:$G$999)","v":0},{"$f":"SUMIF(報酬支払額!$B$10:$B$999,報酬支払先情報!$A92&\"|\"&D$7,報酬支払額!$G$10:$G$999)","v":0},{"$f":"SUMIF(報酬支払額!$B$10:$B$999,報酬支払先情報!$A92&\"|\"&E$7,報酬支払額!$G$10:$G$999)","v":0},{"$f":"SUMIF(報酬支払額!$B$10:$B$999,報酬支払先情報!$A92&\"|\"&F$7,報酬支払額!$G$10:$G$999)","v":0},{"$f":"SUMIF(報酬支払額!$B$10:$B$999,報酬支払先情報!$A92&\"|\"&G$7,報酬支払額!$G$10:$G$999)","v":0},{"$f":"SUMIF(報酬支払額!$B$10:$B$999,報酬支払先情報!$A92&\"|\"&H$7,報酬支払額!$G$10:$G$999)","v":0},{"$f":"SUMIF(報酬支払額!$B$10:$B$999,報酬支払先情報!$A92&\"|\"&I$7,報酬支払額!$G$10:$G$999)","v":0},{"$f":"SUMIF(報酬支払額!$B$10:$B$999,報酬支払先情報!$A92&\"|\"&J$7,報酬支払額!$G$10:$G$999)","v":0},{"$f":"SUMIF(報酬支払額!$B$10:$B$999,報酬支払先情報!$A92&\"|\"&K$7,報酬支払額!$H$10:$H$999)","v":0},{"$f":"SUMIF(報酬支払額!$B$10:$B$999,報酬支払先情報!$A92&\"|\"&L$7,報酬支払額!$H$10:$H$999)","v":0},{"$f":"SUMIF(報酬支払額!$B$10:$B$999,報酬支払先情報!$A92&\"|\"&M$7,報酬支払額!$H$10:$H$999)","v":0},{"$f":"SUMIF(報酬支払額!$B$10:$B$999,報酬支払先情報!$A92&\"|\"&N$7,報酬支払額!$H$10:$H$999)","v":0},{"$f":"SUMIF(報酬支払額!$B$10:$B$999,報酬支払先情報!$A92&\"|\"&O$7,報酬支払額!$H$10:$H$999)","v":0},{"$f":"SUMIF(報酬支払額!$B$10:$B$999,報酬支払先情報!$A92&\"|\"&P$7,報酬支払額!$H$10:$H$999)","v":0},{"$f":"SUMIF(報酬支払額!$B$10:$B$999,報酬支払先情報!$A92&\"|\"&Q$7,報酬支払額!$H$10:$H$999)","v":0},{"$f":"SUMIF(報酬支払額!$B$10:$B$999,報酬支払先情報!$A92&\"|\"&R$7,報酬支払額!$H$10:$H$999)","v":0},null,0,{"$f":"B92","v":""},{"$f":"IF(C92>0,1,0)","v":0},{"$f":"IF(D92>0,1,0)","v":0},{"$f":"IF(E92>0,1,0)","v":0},{"$f":"IF(F92>0,1,0)","v":0},{"$f":"IF(G92>0,1,0)","v":0},{"$f":"IF(H92>0,1,0)","v":0},{"$f":"IF(I92>0,1,0)","v":0},{"$f":"IF(J92>0,1,0)","v":0},null,0,{"$f":"U92","v":""},{"$f":"IF(C92>AG$6,1,0)","v":0},{"$f":"IF(D92>AH$6,1,0)","v":0},{"$f":"IF(E92>AI$6,1,0)","v":0},{"$f":"IF(F92>AJ$6,1,0)","v":0},{"$f":"IF(G92>AK$6,1,0)","v":0},{"$f":"IF(H92>AL$6,1,0)","v":0},{"$f":"IF(I92>AM$6,1,0)","v":0},{"$f":"IF(J92>AN$6,1,0)","v":0},{"$f":"SUM(AG92:AN92)","v":0},{"$f":"IF($AO92>0,SUM(C92:J92),0)","v":0},{"$f":"IF($AO92>0,SUM(K92:R92),0)","v":0}]
[{"$f":"報酬支払先情報!A93","v":0},{"$f":"報酬支払先情報!B93&\"\"","v":""},{"$f":"SUMIF(報酬支払額!$B$10:$B$999,報酬支払先情報!$A93&\"|\"&C$7,報酬支払額!$G$10:$G$999)","v":0},{"$f":"SUMIF(報酬支払額!$B$10:$B$999,報酬支払先情報!$A93&\"|\"&D$7,報酬支払額!$G$10:$G$999)","v":0},{"$f":"SUMIF(報酬支払額!$B$10:$B$999,報酬支払先情報!$A93&\"|\"&E$7,報酬支払額!$G$10:$G$999)","v":0},{"$f":"SUMIF(報酬支払額!$B$10:$B$999,報酬支払先情報!$A93&\"|\"&F$7,報酬支払額!$G$10:$G$999)","v":0},{"$f":"SUMIF(報酬支払額!$B$10:$B$999,報酬支払先情報!$A93&\"|\"&G$7,報酬支払額!$G$10:$G$999)","v":0},{"$f":"SUMIF(報酬支払額!$B$10:$B$999,報酬支払先情報!$A93&\"|\"&H$7,報酬支払額!$G$10:$G$999)","v":0},{"$f":"SUMIF(報酬支払額!$B$10:$B$999,報酬支払先情報!$A93&\"|\"&I$7,報酬支払額!$G$10:$G$999)","v":0},{"$f":"SUMIF(報酬支払額!$B$10:$B$999,報酬支払先情報!$A93&\"|\"&J$7,報酬支払額!$G$10:$G$999)","v":0},{"$f":"SUMIF(報酬支払額!$B$10:$B$999,報酬支払先情報!$A93&\"|\"&K$7,報酬支払額!$H$10:$H$999)","v":0},{"$f":"SUMIF(報酬支払額!$B$10:$B$999,報酬支払先情報!$A93&\"|\"&L$7,報酬支払額!$H$10:$H$999)","v":0},{"$f":"SUMIF(報酬支払額!$B$10:$B$999,報酬支払先情報!$A93&\"|\"&M$7,報酬支払額!$H$10:$H$999)","v":0},{"$f":"SUMIF(報酬支払額!$B$10:$B$999,報酬支払先情報!$A93&\"|\"&N$7,報酬支払額!$H$10:$H$999)","v":0},{"$f":"SUMIF(報酬支払額!$B$10:$B$999,報酬支払先情報!$A93&\"|\"&O$7,報酬支払額!$H$10:$H$999)","v":0},{"$f":"SUMIF(報酬支払額!$B$10:$B$999,報酬支払先情報!$A93&\"|\"&P$7,報酬支払額!$H$10:$H$999)","v":0},{"$f":"SUMIF(報酬支払額!$B$10:$B$999,報酬支払先情報!$A93&\"|\"&Q$7,報酬支払額!$H$10:$H$999)","v":0},{"$f":"SUMIF(報酬支払額!$B$10:$B$999,報酬支払先情報!$A93&\"|\"&R$7,報酬支払額!$H$10:$H$999)","v":0},null,0,"",0,0,0,0,0,0,0,0,null,0,"",0,0,0,0,0,0,0,0,0,0,0]
[{"$f":"報酬支払先情報!A94","v":0},{"$f":"報酬支払先情報!B94&\"\"","v":""},{"$f":"SUMIF(報酬支払額!$B$10:$B$999,報酬支払先情報!$A94&\"|\"&C$7,報酬支払額!$G$10:$G$999)","v":0},{"$f":"SUMIF(報酬支払額!$B$10:$B$999,報酬支払先情報!$A94&\"|\"&D$7,報酬支払額!$G$10:$G$999)","v":0},{"$f":"SUMIF(報酬支払額!$B$10:$B$999,報酬支払先情報!$A94&\"|\"&E$7,報酬支払額!$G$10:$G$999)","v":0},{"$f":"SUMIF(報酬支払額!$B$10:$B$999,報酬支払先情報!$A94&\"|\"&F$7,報酬支払額!$G$10:$G$999)","v":0},{"$f":"SUMIF(報酬支払額!$B$10:$B$999,報酬支払先情報!$A94&\"|\"&G$7,報酬支払額!$G$10:$G$999)","v":0},{"$f":"SUMIF(報酬支払額!$B$10:$B$999,報酬支払先情報!$A94&\"|\"&H$7,報酬支払額!$G$10:$G$999)","v":0},{"$f":"SUMIF(報酬支払額!$B$10:$B$999,報酬支払先情報!$A94&\"|\"&I$7,報酬支払額!$G$10:$G$999)","v":0},{"$f":"SUMIF(報酬支払額!$B$10:$B$999,報酬支払先情報!$A94&\"|\"&J$7,報酬支払額!$G$10:$G$999)","v":0},{"$f":"SUMIF(報酬支払額!$B$10:$B$999,報酬支払先情報!$A94&\"|\"&K$7,報酬支払額!$H$10:$H$999)","v":0},{"$f":"SUMIF(報酬支払額!$B$10:$B$999,報酬支払先情報!$A94&\"|\"&L$7,報酬支払額!$H$10:$H$999)","v":0},{"$f":"SUMIF(報酬支払額!$B$10:$B$999,報酬支払先情報!$A94&\"|\"&M$7,報酬支払額!$H$10:$H$999)","v":0},{"$f":"SUMIF(報酬支払額!$B$10:$B$999,報酬支払先情報!$A94&\"|\"&N$7,報酬支払額!$H$10:$H$999)","v":0},{"$f":"SUMIF(報酬支払額!$B$10:$B$999,報酬支払先情報!$A94&\"|\"&O$7,報酬支払額!$H$10:$H$999)","v":0},{"$f":"SUMIF(報酬支払額!$B$10:$B$999,報酬支払先情報!$A94&\"|\"&P$7,報酬支払額!$H$10:$H$999)","v":0},{"$f":"SUMIF(報酬支払額!$B$10:$B$999,報酬支払先情報!$A94&\"|\"&Q$7,報酬支払額!$H$10:$H$999)","v":0},{"$f":"SUMIF(報酬支払額!$B$10:$B$999,報酬支払先情報!$A94&\"|\"&R$7,報酬支払額!$H$10:$H$999)","v":0},null,0,"",0,0,0,0,0,0,0,0,null,0,"",0,0,0,0,0,0,0,0,0,0,0]
[{"$f":"報酬支払先情報!A95","v":0},{"$f":"報酬支払先情報!B95&\"\"","v":""},{"$f":"SUMIF(報酬支払額!$B$10:$B$999,報酬支払先情報!$A95&\"|\"&C$7,報酬支払額!$G$10:$G$999)","v":0},{"$f":"SUMIF(報酬支払額!$B$10:$B$999,報酬支払先情報!$A95&\"|\"&D$7,報酬支払額!$G$10:$G$999)","v":0},{"$f":"SUMIF(報酬支払額!$B$10:$B$999,報酬支払先情報!$A95&\"|\"&E$7,報酬支払額!$G$10:$G$999)","v":0},{"$f":"SUMIF(報酬支払額!$B$10:$B$999,報酬支払先情報!$A95&\"|\"&F$7,報酬支払額!$G$10:$G$999)","v":0},{"$f":"SUMIF(報酬支払額!$B$10:$B$999,報酬支払先情報!$A95&\"|\"&G$7,報酬支払額!$G$10:$G$999)","v":0},{"$f":"SUMIF(報酬支払額!$B$10:$B$999,報酬支払先情報!$A95&\"|\"&H$7,報酬支払額!$G$10:$G$999)","v":0},{"$f":"SUMIF(報酬支払額!$B$10:$B$999,報酬支払先情報!$A95&\"|\"&I$7,報酬支払額!$G$10:$G$999)","v":0},{"$f":"SUMIF(報酬支払額!$B$10:$B$999,報酬支払先情報!$A95&\"|\"&J$7,報酬支払額!$G$10:$G$999)","v":0},{"$f":"SUMIF(報酬支払額!$B$10:$B$999,報酬支払先情報!$A95&\"|\"&K$7,報酬支払額!$H$10:$H$999)","v":0},{"$f":"SUMIF(報酬支払額!$B$10:$B$999,報酬支払先情報!$A95&\"|\"&L$7,報酬支払額!$H$10:$H$999)","v":0},{"$f":"SUMIF(報酬支払額!$B$10:$B$999,報酬支払先情報!$A95&\"|\"&M$7,報酬支払額!$H$10:$H$999)","v":0},{"$f":"SUMIF(報酬支払額!$B$10:$B$999,報酬支払先情報!$A95&\"|\"&N$7,報酬支払額!$H$10:$H$999)","v":0},{"$f":"SUMIF(報酬支払額!$B$10:$B$999,報酬支払先情報!$A95&\"|\"&O$7,報酬支払額!$H$10:$H$999)","v":0},{"$f":"SUMIF(報酬支払額!$B$10:$B$999,報酬支払先情報!$A95&\"|\"&P$7,報酬支払額!$H$10:$H$999)","v":0},{"$f":"SUMIF(報酬支払額!$B$10:$B$999,報酬支払先情報!$A95&\"|\"&Q$7,報酬支払額!$H$10:$H$999)","v":0},{"$f":"SUMIF(報酬支払額!$B$10:$B$999,報酬支払先情報!$A95&\"|\"&R$7,報酬支払額!$H$10:$H$999)","v":0},null,0,"",0,0,0,0,0,0,0,0,null,0,"",0,0,0,0,0,0,0,0,0,0,0]
[{"$f":"報酬支払先情報!A96","v":0},{"$f":"報酬支払先情報!B96&\"\"","v":""},{"$f":"SUMIF(報酬支払額!$B$10:$B$999,報酬支払先情報!$A96&\"|\"&C$7,報酬支払額!$G$10:$G$999)","v":0},{"$f":"SUMIF(報酬支払額!$B$10:$B$999,報酬支払先情報!$A96&\"|\"&D$7,報酬支払額!$G$10:$G$999)","v":0},{"$f":"SUMIF(報酬支払額!$B$10:$B$999,報酬支払先情報!$A96&\"|\"&E$7,報酬支払額!$G$10:$G$999)","v":0},{"$f":"SUMIF(報酬支払額!$B$10:$B$999,報酬支払先情報!$A96&\"|\"&F$7,報酬支払額!$G$10:$G$999)","v":0},{"$f":"SUMIF(報酬支払額!$B$10:$B$999,報酬支払先情報!$A96&\"|\"&G$7,報酬支払額!$G$10:$G$999)","v":0},{"$f":"SUMIF(報酬支払額!$B$10:$B$999,報酬支払先情報!$A96&\"|\"&H$7,報酬支払額!$G$10:$G$999)","v":0},{"$f":"SUMIF(報酬支払額!$B$10:$B$999,報酬支払先情報!$A96&\"|\"&I$7,報酬支払額!$G$10:$G$999)","v":0},{"$f":"SUMIF(報酬支払額!$B$10:$B$999,報酬支払先情報!$A96&\"|\"&J$7,報酬支払額!$G$10:$G$999)","v":0},{"$f":"SUMIF(報酬支払額!$B$10:$B$999,報酬支払先情報!$A96&\"|\"&K$7,報酬支払額!$H$10:$H$999)","v":0},{"$f":"SUMIF(報酬支払額!$B$10:$B$999,報酬支払先情報!$A96&\"|\"&L$7,報酬支払額!$H$10:$H$999)","v":0},{"$f":"SUMIF(報酬支払額!$B$10:$B$999,報酬支払先情報!$A96&\"|\"&M$7,報酬支払額!$H$10:$H$999)","v":0},{"$f":"SUMIF(報酬支払額!$B$10:$B$999,報酬支払先情報!$A96&\"|\"&N$7,報酬支払額!$H$10:$H$999)","v":0},{"$f":"SUMIF(報酬支払額!$B$10:$B$999,報酬支払先情報!$A96&\"|\"&O$7,報酬支払額!$H$10:$H$999)","v":0},{"$f":"SUMIF(報酬支払額!$B$10:$B$999,報酬支払先情報!$A96&\"|\"&P$7,報酬支払額!$H$10:$H$999)","v":0},{"$f":"SUMIF(報酬支払額!$B$10:$B$999,報酬支払先情報!$A96&\"|\"&Q$7,報酬支払額!$H$10:$H$999)","v":0},{"$f":"SUMIF(報酬支払額!$B$10:$B$999,報酬支払先情報!$A96&\"|\"&R$7,報酬支払額!$H$10:$H$999)","v":0},null,0,"",0,0,0,0,0,0,0,0,null,0,"",0,0,0,0,0,0,0,0,0,0,0]
[{"$f":"報酬支払先情報!A97","v":0},{"$f":"報酬支払先情報!B97&\"\"","v":""},{"$f":"SUMIF(報酬支払額!$B$10:$B$999,報酬支払先情報!$A97&\"|\"&C$7,報酬支払額!$G$10:$G$999)","v":0},{"$f":"SUMIF(報酬支払額!$B$10:$B$999,報酬支払先情報!$A97&\"|\"&D$7,報酬支払額!$G$10:$G$999)","v":0},{"$f":"SUMIF(報酬支払額!$B$10:$B$999,報酬支払先情報!$A97&\"|\"&E$7,報酬支払額!$G$10:$G$999)","v":0},{"$f":"SUMIF(報酬支払額!$B$10:$B$999,報酬支払先情報!$A97&\"|\"&F$7,報酬支払額!$G$10:$G$999)","v":0},{"$f":"SUMIF(報酬支払額!$B$10:$B$999,報酬支払先情報!$A97&\"|\"&G$7,報酬支払額!$G$10:$G$999)","v":0},{"$f":"SUMIF(報酬支払額!$B$10:$B$999,報酬支払先情報!$A97&\"|\"&H$7,報酬支払額!$G$10:$G$999)","v":0},{"$f":"SUMIF(報酬支払額!$B$10:$B$999,報酬支払先情報!$A97&\"|\"&I$7,報酬支払額!$G$10:$G$999)","v":0},{"$f":"SUMIF(報酬支払額!$B$10:$B$999,報酬支払先情報!$A97&\"|\"&J$7,報酬支払額!$G$10:$G$999)","v":0},{"$f":"SUMIF(報酬支払額!$B$10:$B$999,報酬支払先情報!$A97&\"|\"&K$7,報酬支払額!$H$10:$H$999)","v":0},{"$f":"SUMIF(報酬支払額!$B$10:$B$999,報酬支払先情報!$A97&\"|\"&L$7,報酬支払額!$H$10:$H$999)","v":0},{"$f":"SUMIF(報酬支払額!$B$10:$B$999,報酬支払先情報!$A97&\"|\"&M$7,報酬支払額!$H$10:$H$999)","v":0},{"$f":"SUMIF(報酬支払額!$B$10:$B$999,報酬支払先情報!$A97&\"|\"&N$7,報酬支払額!$H$10:$H$999)","v":0},{"$f":"SUMIF(報酬支払額!$B$10:$B$999,報酬支払先情報!$A97&\"|\"&O$7,報酬支払額!$H$10:$H$999)","v":0},{"$f":"SUMIF(報酬支払額!$B$10:$B$999,報酬支払先情報!$A97&\"|\"&P$7,報酬支払額!$H$10:$H$999)","v":0},{"$f":"SUMIF(報酬支払額!$B$10:$B$999,報酬支払先情報!$A97&\"|\"&Q$7,報酬支払額!$H$10:$H$999)","v":0},{"$f":"SUMIF(報酬支払額!$B$10:$B$999,報酬支払先情報!$A97&\"|\"&R$7,報酬支払額!$H$10:$H$999)","v":0},null,0,"",0,0,0,0,0,0,0,0,null,0,"",0,0,0,0,0,0,0,0,0,0,0]
[{"$f":"報酬支払先情報!A98","v":0},{"$f":"報酬支払先情報!B98&\"\"","v":""},{"$f":"SUMIF(報酬支払額!$B$10:$B$999,報酬支払先情報!$A98&\"|\"&C$7,報酬支払額!$G$10:$G$999)","v":0},{"$f":"SUMIF(報酬支払額!$B$10:$B$999,報酬支払先情報!$A98&\"|\"&D$7,報酬支払額!$G$10:$G$999)","v":0},{"$f":"SUMIF(報酬支払額!$B$10:$B$999,報酬支払先情報!$A98&\"|\"&E$7,報酬支払額!$G$10:$G$999)","v":0},{"$f":"SUMIF(報酬支払額!$B$10:$B$999,報酬支払先情報!$A98&\"|\"&F$7,報酬支払額!$G$10:$G$999)","v":0},{"$f":"SUMIF(報酬支払額!$B$10:$B$999,報酬支払先情報!$A98&\"|\"&G$7,報酬支払額!$G$10:$G$999)","v":0},{"$f":"SUMIF(報酬支払額!$B$10:$B$999,報酬支払先情報!$A98&\"|\"&H$7,報酬支払額!$G$10:$G$999)","v":0},{"$f":"SUMIF(報酬支払額!$B$10:$B$999,報酬支払先情報!$A98&\"|\"&I$7,報酬支払額!$G$10:$G$999)","v":0},{"$f":"SUMIF(報酬支払額!$B$10:$B$999,報酬支払先情報!$A98&\"|\"&J$7,報酬支払額!$G$10:$G$999)","v":0},{"$f":"SUMIF(報酬支払額!$B$10:$B$999,報酬支払先情報!$A98&\"|\"&K$7,報酬支払額!$H$10:$H$999)","v":0},{"$f":"SUMIF(報酬支払額!$B$10:$B$999,報酬支払先情報!$A98&\"|\"&L$7,報酬支払額!$H$10:$H$999)","v":0},{"$f":"SUMIF(報酬支払額!$B$10:$B$999,報酬支払先情報!$A98&\"|\"&M$7,報酬支払額!$H$10:$H$999)","v":0},{"$f":"SUMIF(報酬支払額!$B$10:$B$999,報酬支払先情報!$A98&\"|\"&N$7,報酬支払額!$H$10:$H$999)","v":0},{"$f":"SUMIF(報酬支払額!$B$10:$B$999,報酬支払先情報!$A98&\"|\"&O$7,報酬支払額!$H$10:$H$999)","v":0},{"$f":"SUMIF(報酬支払額!$B$10:$B$999,報酬支払先情報!$A98&\"|\"&P$7,報酬支払額!$H$10:$H$999)","v":0},{"$f":"SUMIF(報酬支払額!$B$10:$B$999,報酬支払先情報!$A98&\"|\"&Q$7,報酬支払額!$H$10:$H$999)","v":0},{"$f":"SUMIF(報酬支払額!$B$10:$B$999,報酬支払先情報!$A98&\"|\"&R$7,報酬支払額!$H$10:$H$999)","v":0},null,0,"",0,0,0,0,0,0,0,0,null,0,"",0,0,0,0,0,0,0,0,0,0,0]
[{"$f":"報酬支払先情報!A99","v":0},{"$f":"報酬支払先情報!B99&\"\"","v":""},{"$f":"SUMIF(報酬支払額!$B$10:$B$999,報酬支払先情報!$A99&\"|\"&C$7,報酬支払額!$G$10:$G$999)","v":0},{"$f":"SUMIF(報酬支払額!$B$10:$B$999,報酬支払先情報!$A99&\"|\"&D$7,報酬支払額!$G$10:$G$999)","v":0},{"$f":"SUMIF(報酬支払額!$B$10:$B$999,報酬支払先情報!$A99&\"|\"&E$7,報酬支払額!$G$10:$G$999)","v":0},{"$f":"SUMIF(報酬支払額!$B$10:$B$999,報酬支払先情報!$A99&\"|\"&F$7,報酬支払額!$G$10:$G$999)","v":0},{"$f":"SUMIF(報酬支払額!$B$10:$B$999,報酬支払先情報!$A99&\"|\"&G$7,報酬支払額!$G$10:$G$999)","v":0},{"$f":"SUMIF(報酬支払額!$B$10:$B$999,報酬支払先情報!$A99&\"|\"&H$7,報酬支払額!$G$10:$G$999)","v":0},{"$f":"SUMIF(報酬支払額!$B$10:$B$999,報酬支払先情報!$A99&\"|\"&I$7,報酬支払額!$G$10:$G$999)","v":0},{"$f":"SUMIF(報酬支払額!$B$10:$B$999,報酬支払先情報!$A99&\"|\"&J$7,報酬支払額!$G$10:$G$999)","v":0},{"$f":"SUMIF(報酬支払額!$B$10:$B$999,報酬支払先情報!$A99&\"|\"&K$7,報酬支払額!$H$10:$H$999)","v":0},{"$f":"SUMIF(報酬支払額!$B$10:$B$999,報酬支払先情報!$A99&\"|\"&L$7,報酬支払額!$H$10:$H$999)","v":0},{"$f":"SUMIF(報酬支払額!$B$10:$B$999,報酬支払先情報!$A99&\"|\"&M$7,報酬支払額!$H$10:$H$999)","v":0},{"$f":"SUMIF(報酬支払額!$B$10:$B$999,報酬支払先情報!$A99&\"|\"&N$7,報酬支払額!$H$10:$H$999)","v":0},{"$f":"SUMIF(報酬支払額!$B$10:$B$999,報酬支払先情報!$A99&\"|\"&O$7,報酬支払額!$H$10:$H$999)","v":0},{"$f":"SUMIF(報酬支払額!$B$10:$B$999,報酬支払先情報!$A99&\"|\"&P$7,報酬支払額!$H$10:$H$999)","v":0},{"$f":"SUMIF(報酬支払額!$B$10:$B$999,報酬支払先情報!$A99&\"|\"&Q$7,報酬支払額!$H$10:$H$999)","v":0},{"$f":"SUMIF(報酬支払額!$B$10:$B$999,報酬支払先情報!$A99&\"|\"&R$7,報酬支払額!$H$10:$H$999)","v":0},null,0,"",0,0,0,0,0,0,0,0,null,0,"",0,0,0,0,0,0,0,0,0,0,0]
[{"$f":"報酬支払先情報!A100","v":0},{"$f":"報酬支払先情報!B100&\"\"","v":""},{"$f":"SUMIF(報酬支払額!$B$10:$B$999,報酬支払先情報!$A100&\"|\"&C$7,報酬支払額!$G$10:$G$999)","v":0},{"$f":"SUMIF(報酬支払額!$B$10:$B$999,報酬支払先情報!$A100&\"|\"&D$7,報酬支払額!$G$10:$G$999)","v":0},{"$f":"SUMIF(報酬支払額!$B$10:$B$999,報酬支払先情報!$A100&\"|\"&E$7,報酬支払額!$G$10:$G$999)","v":0},{"$f":"SUMIF(報酬支払額!$B$10:$B$999,報酬支払先情報!$A100&\"|\"&F$7,報酬支払額!$G$10:$G$999)","v":0},{"$f":"SUMIF(報酬支払額!$B$10:$B$999,報酬支払先情報!$A100&\"|\"&G$7,報酬支払額!$G$10:$G$999)","v":0},{"$f":"SUMIF(報酬支払額!$B$10:$B$999,報酬支払先情報!$A100&\"|\"&H$7,報酬支払額!$G$10:$G$999)","v":0},{"$f":"SUMIF(報酬支払額!$B$10:$B$999,報酬支払先情報!$A100&\"|\"&I$7,報酬支払額!$G$10:$G$999)","v":0},{"$f":"SUMIF(報酬支払額!$B$10:$B$999,報酬支払先情報!$A100&\"|\"&J$7,報酬支払額!$G$10:$G$999)","v":0},{"$f":"SUMIF(報酬支払額!$B$10:$B$999,報酬支払先情報!$A100&\"|\"&K$7,報酬支払額!$H$10:$H$999)","v":0},{"$f":"SUMIF(報酬支払額!$B$10:$B$999,報酬支払先情報!$A100&\"|\"&L$7,報酬支払額!$H$10:$H$999)","v":0},{"$f":"SUMIF(報酬支払額!$B$10:$B$999,報酬支払先情報!$A100&\"|\"&M$7,報酬支払額!$H$10:$H$999)","v":0},{"$f":"SUMIF(報酬支払額!$B$10:$B$999,報酬支払先情報!$A100&\"|\"&N$7,報酬支払額!$H$10:$H$999)","v":0},{"$f":"SUMIF(報酬支払額!$B$10:$B$999,報酬支払先情報!$A100&\"|\"&O$7,報酬支払額!$H$10:$H$999)","v":0},{"$f":"SUMIF(報酬支払額!$B$10:$B$999,報酬支払先情報!$A100&\"|\"&P$7,報酬支払額!$H$10:$H$999)","v":0},{"$f":"SUMIF(報酬支払額!$B$10:$B$999,報酬支払先情報!$A100&\"|\"&Q$7,報酬支払額!$H$10:$H$999)","v":0},{"$f":"SUMIF(報酬支払額!$B$10:$B$999,報酬支払先情報!$A100&\"|\"&R$7,報酬支払額!$H$10:$H$999)","v":0},null,0,"",0,0,0,0,0,0,0,0,null,0,"",0,0,0,0,0,0,0,0,0,0,0]
[{"$f":"報酬支払先情報!A101","v":0},{"$f":"報酬支払先情報!B101&\"\"","v":""},{"$f":"SUMIF(報酬支払額!$B$10:$B$999,報酬支払先情報!$A101&\"|\"&C$7,報酬支払額!$G$10:$G$999)","v":0},{"$f":"SUMIF(報酬支払額!$B$10:$B$999,報酬支払先情報!$A101&\"|\"&D$7,報酬支払額!$G$10:$G$999)","v":0},{"$f":"SUMIF(報酬支払額!$B$10:$B$999,報酬支払先情報!$A101&\"|\"&E$7,報酬支払額!$G$10:$G$999)","v":0},{"$f":"SUMIF(報酬支払額!$B$10:$B$999,報酬支払先情報!$A101&\"|\"&F$7,報酬支払額!$G$10:$G$999)","v":0},{"$f":"SUMIF(報酬支払額!$B$10:$B$999,報酬支払先情報!$A101&\"|\"&G$7,報酬支払額!$G$10:$G$999)","v":0},{"$f":"SUMIF(報酬支払額!$B$10:$B$999,報酬支払先情報!$A101&\"|\"&H$7,報酬支払額!$G$10:$G$999)","v":0},{"$f":"SUMIF(報酬支払額!$B$10:$B$999,報酬支払先情報!$A101&\"|\"&I$7,報酬支払額!$G$10:$G$999)","v":0},{"$f":"SUMIF(報酬支払額!$B$10:$B$999,報酬支払先情報!$A101&\"|\"&J$7,報酬支払額!$G$10:$G$999)","v":0},{"$f":"SUMIF(報酬支払額!$B$10:$B$999,報酬支払先情報!$A101&\"|\"&K$7,報酬支払額!$H$10:$H$999)","v":0},{"$f":"SUMIF(報酬支払額!$B$10:$B$999,報酬支払先情報!$A101&\"|\"&L$7,報酬支払額!$H$10:$H$999)","v":0},{"$f":"SUMIF(報酬支払額!$B$10:$B$999,報酬支払先情報!$A101&\"|\"&M$7,報酬支払額!$H$10:$H$999)","v":0},{"$f":"SUMIF(報酬支払額!$B$10:$B$999,報酬支払先情報!$A101&\"|\"&N$7,報酬支払額!$H$10:$H$999)","v":0},{"$f":"SUMIF(報酬支払額!$B$10:$B$999,報酬支払先情報!$A101&\"|\"&O$7,報酬支払額!$H$10:$H$999)","v":0},{"$f":"SUMIF(報酬支払額!$B$10:$B$999,報酬支払先情報!$A101&\"|\"&P$7,報酬支払額!$H$10:$H$999)","v":0},{"$f":"SUMIF(報酬支払額!$B$10:$B$999,報酬支払先情報!$A101&\"|\"&Q$7,報酬支払額!$H$10:$H$999)","v":0},{"$f":"SUMIF(報酬支払額!$B$10:$B$999,報酬支払先情報!$A101&\"|\"&R$7,報酬支払額!$H$10:$H$999)","v":0},null,0,"",0,0,0,0,0,0,0,0,null,0,"",0,0,0,0,0,0,0,0,0,0,0]
[{"$f":"報酬支払先情報!A102","v":0},{"$f":"報酬支払先情報!B102&\"\"","v":""},{"$f":"SUMIF(報酬支払額!$B$10:$B$999,報酬支払先情報!$A102&\"|\"&C$7,報酬支払額!$G$10:$G$999)","v":0},{"$f":"SUMIF(報酬支払額!$B$10:$B$999,報酬支払先情報!$A102&\"|\"&D$7,報酬支払額!$G$10:$G$999)","v":0},{"$f":"SUMIF(報酬支払額!$B$10:$B$999,報酬支払先情報!$A102&\"|\"&E$7,報酬支払額!$G$10:$G$999)","v":0},{"$f":"SUMIF(報酬支払額!$B$10:$B$999,報酬支払先情報!$A102&\"|\"&F$7,報酬支払額!$G$10:$G$999)","v":0},{"$f":"SUMIF(報酬支払額!$B$10:$B$999,報酬支払先情報!$A102&\"|\"&G$7,報酬支払額!$G$10:$G$999)","v":0},{"$f":"SUMIF(報酬支払額!$B$10:$B$999,報酬支払先情報!$A102&\"|\"&H$7,報酬支払額!$G$10:$G$999)","v":0},{"$f":"SUMIF(報酬支払額!$B$10:$B$999,報酬支払先情報!$A102&\"|\"&I$7,報酬支払額!$G$10:$G$999)","v":0},{"$f":"SUMIF(報酬支払額!$B$10:$B$999,報酬支払先情報!$A102&\"|\"&J$7,報酬支払額!$G$10:$G$999)","v":0},{"$f":"SUMIF(報酬支払額!$B$10:$B$999,報酬支払先情報!$A102&\"|\"&K$7,報酬支払額!$H$10:$H$999)","v":0},{"$f":"SUMIF(報酬支払額!$B$10:$B$999,報酬支払先情報!$A102&\"|\"&L$7,報酬支払額!$H$10:$H$999)","v":0},{"$f":"SUMIF(報酬支払額!$B$10:$B$999,報酬支払先情報!$A102&\"|\"&M$7,報酬支払額!$H$10:$H$999)","v":0},{"$f":"SUMIF(報酬支払額!$B$10:$B$999,報酬支払先情報!$A102&\"|\"&N$7,報酬支払額!$H$10:$H$999)","v":0},{"$f":"SUMIF(報酬支払額!$B$10:$B$999,報酬支払先情報!$A102&\"|\"&O$7,報酬支払額!$H$10:$H$999)","v":0},{"$f":"SUMIF(報酬支払額!$B$10:$B$999,報酬支払先情報!$A102&\"|\"&P$7,報酬支払額!$H$10:$H$999)","v":0},{"$f":"SUMIF(報酬支払額!$B$10:$B$999,報酬支払先情報!$A102&\"|\"&Q$7,報酬支払額!$H$10:$H$999)","v":0},{"$f":"SUMIF(報酬支払額!$B$10:$B$999,報酬支払先情報!$A102&\"|\"&R$7,報酬支払額!$H$10:$H$999)","v":0},null,0,"",0,0,0,0,0,0,0,0,null,0,"",0,0,0,0,0,0,0,0,0,0,0]
[{"$f":"報酬支払先情報!A103","v":0},{"$f":"報酬支払先情報!B103&\"\"","v":""},{"$f":"SUMIF(報酬支払額!$B$10:$B$999,報酬支払先情報!$A103&\"|\"&C$7,報酬支払額!$G$10:$G$999)","v":0},{"$f":"SUMIF(報酬支払額!$B$10:$B$999,報酬支払先情報!$A103&\"|\"&D$7,報酬支払額!$G$10:$G$999)","v":0},{"$f":"SUMIF(報酬支払額!$B$10:$B$999,報酬支払先情報!$A103&\"|\"&E$7,報酬支払額!$G$10:$G$999)","v":0},{"$f":"SUMIF(報酬支払額!$B$10:$B$999,報酬支払先情報!$A103&\"|\"&F$7,報酬支払額!$G$10:$G$999)","v":0},{"$f":"SUMIF(報酬支払額!$B$10:$B$999,報酬支払先情報!$A103&\"|\"&G$7,報酬支払額!$G$10:$G$999)","v":0},{"$f":"SUMIF(報酬支払額!$B$10:$B$999,報酬支払先情報!$A103&\"|\"&H$7,報酬支払額!$G$10:$G$999)","v":0},{"$f":"SUMIF(報酬支払額!$B$10:$B$999,報酬支払先情報!$A103&\"|\"&I$7,報酬支払額!$G$10:$G$999)","v":0},{"$f":"SUMIF(報酬支払額!$B$10:$B$999,報酬支払先情報!$A103&\"|\"&J$7,報酬支払額!$G$10:$G$999)","v":0},{"$f":"SUMIF(報酬支払額!$B$10:$B$999,報酬支払先情報!$A103&\"|\"&K$7,報酬支払額!$H$10:$H$999)","v":0},{"$f":"SUMIF(報酬支払額!$B$10:$B$999,報酬支払先情報!$A103&\"|\"&L$7,報酬支払額!$H$10:$H$999)","v":0},{"$f":"SUMIF(報酬支払額!$B$10:$B$999,報酬支払先情報!$A103&\"|\"&M$7,報酬支払額!$H$10:$H$999)","v":0},{"$f":"SUMIF(報酬支払額!$B$10:$B$999,報酬支払先情報!$A103&\"|\"&N$7,報酬支払額!$H$10:$H$999)","v":0},{"$f":"SUMIF(報酬支払額!$B$10:$B$999,報酬支払先情報!$A103&\"|\"&O$7,報酬支払額!$H$10:$H$999)","v":0},{"$f":"SUMIF(報酬支払額!$B$10:$B$999,報酬支払先情報!$A103&\"|\"&P$7,報酬支払額!$H$10:$H$999)","v":0},{"$f":"SUMIF(報酬支払額!$B$10:$B$999,報酬支払先情報!$A103&\"|\"&Q$7,報酬支払額!$H$10:$H$999)","v":0},{"$f":"SUMIF(報酬支払額!$B$10:$B$999,報酬支払先情報!$A103&\"|\"&R$7,報酬支払額!$H$10:$H$999)","v":0},null,0,"",0,0,0,0,0,0,0,0,null,0,"",0,0,0,0,0,0,0,0,0,0,0]
[{"$f":"報酬支払先情報!A104","v":0},{"$f":"報酬支払先情報!B104&\"\"","v":""},{"$f":"SUMIF(報酬支払額!$B$10:$B$999,報酬支払先情報!$A104&\"|\"&C$7,報酬支払額!$G$10:$G$999)","v":0},{"$f":"SUMIF(報酬支払額!$B$10:$B$999,報酬支払先情報!$A104&\"|\"&D$7,報酬支払額!$G$10:$G$999)","v":0},{"$f":"SUMIF(報酬支払額!$B$10:$B$999,報酬支払先情報!$A104&\"|\"&E$7,報酬支払額!$G$10:$G$999)","v":0},{"$f":"SUMIF(報酬支払額!$B$10:$B$999,報酬支払先情報!$A104&\"|\"&F$7,報酬支払額!$G$10:$G$999)","v":0},{"$f":"SUMIF(報酬支払額!$B$10:$B$999,報酬支払先情報!$A104&\"|\"&G$7,報酬支払額!$G$10:$G$999)","v":0},{"$f":"SUMIF(報酬支払額!$B$10:$B$999,報酬支払先情報!$A104&\"|\"&H$7,報酬支払額!$G$10:$G$999)","v":0},{"$f":"SUMIF(報酬支払額!$B$10:$B$999,報酬支払先情報!$A104&\"|\"&I$7,報酬支払額!$G$10:$G$999)","v":0},{"$f":"SUMIF(報酬支払額!$B$10:$B$999,報酬支払先情報!$A104&\"|\"&J$7,報酬支払額!$G$10:$G$999)","v":0},{"$f":"SUMIF(報酬支払額!$B$10:$B$999,報酬支払先情報!$A104&\"|\"&K$7,報酬支払額!$H$10:$H$999)","v":0},{"$f":"SUMIF(報酬支払額!$B$10:$B$999,報酬支払先情報!$A104&\"|\"&L$7,報酬支払額!$H$10:$H$999)","v":0},{"$f":"SUMIF(報酬支払額!$B$10:$B$999,報酬支払先情報!$A104&\"|\"&M$7,報酬支払額!$H$10:$H$999)","v":0},{"$f":"SUMIF(報酬支払額!$B$10:$B$999,報酬支払先情報!$A104&\"|\"&N$7,報酬支払額!$H$10:$H$999)","v":0},{"$f":"SUMIF(報酬支払額!$B$10:$B$999,報酬支払先情報!$A104&\"|\"&O$7,報酬支払額!$H$10:$H$999)","v":0},{"$f":"SUMIF(報酬支払額!$B$10:$B$999,報酬支払先情報!$A104&\"|\"&P$7,報酬支払額!$H$10:$H$999)","v":0},{"$f":"SUMIF(報酬支払額!$B$10:$B$999,報酬支払先情報!$A104&\"|\"&Q$7,報酬支払額!$H$10:$H$999)","v":0},{"$f":"SUMIF(報酬支払額!$B$10:$B$999,報酬支払先情報!$A104&\"|\"&R$7,報酬支払額!$H$10:$H$999)","v":0},null,0,"",0,0,0,0,0,0,0,0,null,0,"",0,0,0,0,0,0,0,0,0,0,0]
[{"$f":"報酬支払先情報!A105","v":0},{"$f":"報酬支払先情報!B105&\"\"","v":""},{"$f":"SUMIF(報酬支払額!$B$10:$B$999,報酬支払先情報!$A105&\"|\"&C$7,報酬支払額!$G$10:$G$999)","v":0},{"$f":"SUMIF(報酬支払額!$B$10:$B$999,報酬支払先情報!$A105&\"|\"&D$7,報酬支払額!$G$10:$G$999)","v":0},{"$f":"SUMIF(報酬支払額!$B$10:$B$999,報酬支払先情報!$A105&\"|\"&E$7,報酬支払額!$G$10:$G$999)","v":0},{"$f":"SUMIF(報酬支払額!$B$10:$B$999,報酬支払先情報!$A105&\"|\"&F$7,報酬支払額!$G$10:$G$999)","v":0},{"$f":"SUMIF(報酬支払額!$B$10:$B$999,報酬支払先情報!$A105&\"|\"&G$7,報酬支払額!$G$10:$G$999)","v":0},{"$f":"SUMIF(報酬支払額!$B$10:$B$999,報酬支払先情報!$A105&\"|\"&H$7,報酬支払額!$G$10:$G$999)","v":0},{"$f":"SUMIF(報酬支払額!$B$10:$B$999,報酬支払先情報!$A105&\"|\"&I$7,報酬支払額!$G$10:$G$999)","v":0},{"$f":"SUMIF(報酬支払額!$B$10:$B$999,報酬支払先情報!$A105&\"|\"&J$7,報酬支払額!$G$10:$G$999)","v":0},{"$f":"SUMIF(報酬支払額!$B$10:$B$999,報酬支払先情報!$A105&\"|\"&K$7,報酬支払額!$H$10:$H$999)","v":0},{"$f":"SUMIF(報酬支払額!$B$10:$B$999,報酬支払先情報!$A105&\"|\"&L$7,報酬支払額!$H$10:$H$999)","v":0},{"$f":"SUMIF(報酬支払額!$B$10:$B$999,報酬支払先情報!$A105&\"|\"&M$7,報酬支払額!$H$10:$H$999)","v":0},{"$f":"SUMIF(報酬支払額!$B$10:$B$999,報酬支払先情報!$A105&\"|\"&N$7,報酬支払額!$H$10:$H$999)","v":0},{"$f":"SUMIF(報酬支払額!$B$10:$B$999,報酬支払先情報!$A105&\"|\"&O$7,報酬支払額!$H$10:$H$999)","v":0},{"$f":"SUMIF(報酬支払額!$B$10:$B$999,報酬支払先情報!$A105&\"|\"&P$7,報酬支払額!$H$10:$H$999)","v":0},{"$f":"SUMIF(報酬支払額!$B$10:$B$999,報酬支払先情報!$A105&\"|\"&Q$7,報酬支払額!$H$10:$H$999)","v":0},{"$f":"SUMIF(報酬支払額!$B$10:$B$999,報酬支払先情報!$A105&\"|\"&R$7,報酬支払額!$H$10:$H$999)","v":0},null,0,"",0,0,0,0,0,0,0,0,null,0,"",0,0,0,0,0,0,0,0,0,0,0]
[{"$f":"報酬支払先情報!A106","v":0},{"$f":"報酬支払先情報!B106&\"\"","v":""},{"$f":"SUMIF(報酬支払額!$B$10:$B$999,報酬支払先情報!$A106&\"|\"&C$7,報酬支払額!$G$10:$G$999)","v":0},{"$f":"SUMIF(報酬支払額!$B$10:$B$999,報酬支払先情報!$A106&\"|\"&D$7,報酬支払額!$G$10:$G$999)","v":0},{"$f":"SUMIF(報酬支払額!$B$10:$B$999,報酬支払先情報!$A106&\"|\"&E$7,報酬支払額!$G$10:$G$999)","v":0},{"$f":"SUMIF(報酬支払額!$B$10:$B$999,報酬支払先情報!$A106&\"|\"&F$7,報酬支払額!$G$10:$G$999)","v":0},{"$f":"SUMIF(報酬支払額!$B$10:$B$999,報酬支払先情報!$A106&\"|\"&G$7,報酬支払額!$G$10:$G$999)","v":0},{"$f":"SUMIF(報酬支払額!$B$10:$B$999,報酬支払先情報!$A106&\"|\"&H$7,報酬支払額!$G$10:$G$999)","v":0},{"$f":"SUMIF(報酬支払額!$B$10:$B$999,報酬支払先情報!$A106&\"|\"&I$7,報酬支払額!$G$10:$G$999)","v":0},{"$f":"SUMIF(報酬支払額!$B$10:$B$999,報酬支払先情報!$A106&\"|\"&J$7,報酬支払額!$G$10:$G$999)","v":0},{"$f":"SUMIF(報酬支払額!$B$10:$B$999,報酬支払先情報!$A106&\"|\"&K$7,報酬支払額!$H$10:$H$999)","v":0},{"$f":"SUMIF(報酬支払額!$B$10:$B$999,報酬支払先情報!$A106&\"|\"&L$7,報酬支払額!$H$10:$H$999)","v":0},{"$f":"SUMIF(報酬支払額!$B$10:$B$999,報酬支払先情報!$A106&\"|\"&M$7,報酬支払額!$H$10:$H$999)","v":0},{"$f":"SUMIF(報酬支払額!$B$10:$B$999,報酬支払先情報!$A106&\"|\"&N$7,報酬支払額!$H$10:$H$999)","v":0},{"$f":"SUMIF(報酬支払額!$B$10:$B$999,報酬支払先情報!$A106&\"|\"&O$7,報酬支払額!$H$10:$H$999)","v":0},{"$f":"SUMIF(報酬支払額!$B$10:$B$999,報酬支払先情報!$A106&\"|\"&P$7,報酬支払額!$H$10:$H$999)","v":0},{"$f":"SUMIF(報酬支払額!$B$10:$B$999,報酬支払先情報!$A106&\"|\"&Q$7,報酬支払額!$H$10:$H$999)","v":0},{"$f":"SUMIF(報酬支払額!$B$10:$B$999,報酬支払先情報!$A106&\"|\"&R$7,報酬支払額!$H$10:$H$999)","v":0},null,0,"",0,0,0,0,0,0,0,0,null,0,"",0,0,0,0,0,0,0,0,0,0,0]
[{"$f":"報酬支払先情報!A107","v":0},{"$f":"報酬支払先情報!B107&\"\"","v":""},{"$f":"SUMIF(報酬支払額!$B$10:$B$999,報酬支払先情報!$A107&\"|\"&C$7,報酬支払額!$G$10:$G$999)","v":0},{"$f":"SUMIF(報酬支払額!$B$10:$B$999,報酬支払先情報!$A107&\"|\"&D$7,報酬支払額!$G$10:$G$999)","v":0},{"$f":"SUMIF(報酬支払額!$B$10:$B$999,報酬支払先情報!$A107&\"|\"&E$7,報酬支払額!$G$10:$G$999)","v":0},{"$f":"SUMIF(報酬支払額!$B$10:$B$999,報酬支払先情報!$A107&\"|\"&F$7,報酬支払額!$G$10:$G$999)","v":0},{"$f":"SUMIF(報酬支払額!$B$10:$B$999,報酬支払先情報!$A107&\"|\"&G$7,報酬支払額!$G$10:$G$999)","v":0},{"$f":"SUMIF(報酬支払額!$B$10:$B$999,報酬支払先情報!$A107&\"|\"&H$7,報酬支払額!$G$10:$G$999)","v":0},{"$f":"SUMIF(報酬支払額!$B$10:$B$999,報酬支払先情報!$A107&\"|\"&I$7,報酬支払額!$G$10:$G$999)","v":0},{"$f":"SUMIF(報酬支払額!$B$10:$B$999,報酬支払先情報!$A107&\"|\"&J$7,報酬支払額!$G$10:$G$999)","v":0},{"$f":"SUMIF(報酬支払額!$B$10:$B$999,報酬支払先情報!$A107&\"|\"&K$7,報酬支払額!$H$10:$H$999)","v":0},{"$f":"SUMIF(報酬支払額!$B$10:$B$999,報酬支払先情報!$A107&\"|\"&L$7,報酬支払額!$H$10:$H$999)","v":0},{"$f":"SUMIF(報酬支払額!$B$10:$B$999,報酬支払先情報!$A107&\"|\"&M$7,報酬支払額!$H$10:$H$999)","v":0},{"$f":"SUMIF(報酬支払額!$B$10:$B$999,報酬支払先情報!$A107&\"|\"&N$7,報酬支払額!$H$10:$H$999)","v":0},{"$f":"SUMIF(報酬支払額!$B$10:$B$999,報酬支払先情報!$A107&\"|\"&O$7,報酬支払額!$H$10:$H$999)","v":0},{"$f":"SUMIF(報酬支払額!$B$10:$B$999,報酬支払先情報!$A107&\"|\"&P$7,報酬支払額!$H$10:$H$999)","v":0},{"$f":"SUMIF(報酬支払額!$B$10:$B$999,報酬支払先情報!$A107&\"|\"&Q$7,報酬支払額!$H$10:$H$999)","v":0},{"$f":"SUMIF(報酬支払額!$B$10:$B$999,報酬支払先情報!$A107&\"|\"&R$7,報酬支払額!$H$10:$H$999)","v":0},null,0,{"$f":"B107","v":""},{"$f":"IF(C107>0,1,0)","v":0},{"$f":"IF(D107>0,1,0)","v":0},{"$f":"IF(E107>0,1,0)","v":0},{"$f":"IF(F107>0,1,0)","v":0},{"$f":"IF(G107>0,1,0)","v":0},{"$f":"IF(H107>0,1,0)","v":0},{"$f":"IF(I107>0,1,0)","v":0},{"$f":"IF(J107>0,1,0)","v":0},null,0,{"$f":"U107","v":""},{"$f":"IF(C107>AG$6,1,0)","v":0},{"$f":"IF(D107>AH$6,1,0)","v":0},{"$f":"IF(E107>AI$6,1,0)","v":0},{"$f":"IF(F107>AJ$6,1,0)","v":0},{"$f":"IF(G107>AK$6,1,0)","v":0},{"$f":"IF(H107>AL$6,1,0)","v":0},{"$f":"IF(I107>AM$6,1,0)","v":0},{"$f":"IF(J107>AN$6,1,0)","v":0},{"$f":"SUM(AG107:AN107)","v":0},{"$f":"IF($AO107>0,SUM(C107:J107),0)","v":0},{"$f":"IF($AO107>0,SUM(K107:R107),0)","v":0}]

{"sheet":"不動産調書集計(非)","index":26,"n_rows":107,"n_cols":17,"rows_kept":107,"cut":false,"hidden":true,"merged":[]}
["不動産の使用料の支払調書",null,null,null,null,null,null,null,null,null,"あっせん手数料の支払調書"]
[]
[]
["しきい値",null,null,150000,null,null,null,null,null,null,"しきい値",null,150000]
[]
[]
["No","総額","提出義務ある分","提出義務",null,null,"人員","金額",null,null,"No","合計","提出義務",null,null,"人員","金額"]
[{"$f":"不動産支払先情報!A8","v":1},{"$f":"SUMIF(不動産支払額!$C$10:$C$999,$A8,不動産支払額!$H$10:$H$999)","v":2150000},{"$f":"SUMIF('不動産調書集計支払額(非)'!$F$9:$F$999,TEXT(A8,\"@\"),'不動産調書集計支払額(非)'!$D$9:$D$999)","v":2150000},{"$f":"IF(OR(C8>$D$4,M8=1),1,0)","v":1},null,"総額",{"$f":"COUNTIF(B8:B999,\">0\")","v":2},{"$f":"SUM(B8:B999)","v":3446000},null,null,{"$f":"A8","v":1},{"$f":"不動産支払先情報!L8","v":200000},{"$f":"IF(L8>$D$4,1,0)","v":1},null,"総額",{"$f":"COUNTIF(L8:L999,\">0\")","v":1},{"$f":"SUM(L8:L999)","v":200000}]
[{"$f":"不動産支払先情報!A9","v":2},{"$f":"SUMIF(不動産支払額!$C$10:$C$999,$A9,不動産支払額!$H$10:$H$999)","v":1296000},{"$f":"SUMIF('不動産調書集計支払額(非)'!$F$9:$F$999,TEXT(A9,\"@\"),'不動産調書集計支払額(非)'!$D$9:$D$999)","v":1296000},{"$f":"IF(OR(C9>$D$4,M9=1),1,0)","v":1},null,"提出分",{"$f":"SUM(D8:D999)","v":2},{"$f":"SUMIF(D8:D999,1,B8:B999)","v":3446000},null,null,{"$f":"A9","v":2},{"$f":"不動産支払先情報!L9","v":0},{"$f":"IF(L9>$D$4,1,0)","v":0},null,"提出分",{"$f":"SUM(M8:M999)","v":1},{"$f":"SUMIF(M8:M999,1,L8:L999)","v":200000}]
[{"$f":"不動産支払先情報!A10","v":3},{"$f":"SUMIF(不動産支払額!$C$10:$C$999,$A10,不動産支払額!$H$10:$H$999)","v":0},{"$f":"SUMIF('不動産調書集計支払額(非)'!$F$9:$F$999,TEXT(A10,\"@\"),'不動産調書集計支払額(非)'!$D$9:$D$999)","v":0},0,null,null,null,null,null,null,3,{"$f":"不動産支払先情報!L10","v":0},0]
[{"$f":"不動産支払先情報!A11","v":4},{"$f":"SUMIF(不動産支払額!$C$10:$C$999,$A11,不動産支払額!$H$10:$H$999)","v":0},{"$f":"SUMIF('不動産調書集計支払額(非)'!$F$9:$F$999,TEXT(A11,\"@\"),'不動産調書集計支払額(非)'!$D$9:$D$999)","v":0},0,null,null,null,null,null,null,4,{"$f":"不動産支払先情報!L11","v":0},0]
[{"$f":"不動産支払先情報!A12","v":5},{"$f":"SUMIF(不動産支払額!$C$10:$C$999,$A12,不動産支払額!$H$10:$H$999)","v":0},{"$f":"SUMIF('不動産調書集計支払額(非)'!$F$9:$F$999,TEXT(A12,\"@\"),'不動産調書集計支払額(非)'!$D$9:$D$999)","v":0},0,null,null,null,null,null,null,5,{"$f":"不動産支払先情報!L12","v":0},0]
[{"$f":"不動産支払先情報!A13","v":6},{"$f":"SUMIF(不動産支払額!$C$10:$C$999,$A13,不動産支払額!$H$10:$H$999)","v":0},{"$f":"SUMIF('不動産調書集計支払額(非)'!$F$9:$F$999,TEXT(A13,\"@\"),'不動産調書集計支払額(非)'!$D$9:$D$999)","v":0},0,null,null,null,null,null,null,6,{"$f":"不動産支払先情報!L13","v":0},0]
[{"$f":"不動産支払先情報!A14","v":7},{"$f":"SUMIF(不動産支払額!$C$10:$C$999,$A14,不動産支払額!$H$10:$H$999)","v":0},{"$f":"SUMIF('不動産調書集計支払額(非)'!$F$9:$F$999,TEXT(A14,\"@\"),'不動産調書集計支払額(非)'!$D$9:$D$999)","v":0},0,null,null,null,null,null,null,7,{"$f":"不動産支払先情報!L14","v":0},0]
[{"$f":"不動産支払先情報!A15","v":8},{"$f":"SUMIF(不動産支払額!$C$10:$C$999,$A15,不動産支払額!$H$10:$H$999)","v":0},{"$f":"SUMIF('不動産調書集計支払額(非)'!$F$9:$F$999,TEXT(A15,\"@\"),'不動産調書集計支払額(非)'!$D$9:$D$999)","v":0},0,null,null,null,null,null,null,8,{"$f":"不動産支払先情報!L15","v":0},0]
[{"$f":"不動産支払先情報!A16","v":9},{"$f":"SUMIF(不動産支払額!$C$10:$C$999,$A16,不動産支払額!$H$10:$H$999)","v":0},{"$f":"SUMIF('不動産調書集計支払額(非)'!$F$9:$F$999,TEXT(A16,\"@\"),'不動産調書集計支払額(非)'!$D$9:$D$999)","v":0},0,null,null,null,null,null,null,9,{"$f":"不動産支払先情報!L16","v":0},0]
[{"$f":"不動産支払先情報!A17","v":10},{"$f":"SUMIF(不動産支払額!$C$10:$C$999,$A17,不動産支払額!$H$10:$H$999)","v":0},{"$f":"SUMIF('不動産調書集計支払額(非)'!$F$9:$F$999,TEXT(A17,\"@\"),'不動産調書集計支払額(非)'!$D$9:$D$999)","v":0},0,null,null,null,null,null,null,10,{"$f":"不動産支払先情報!L17","v":0},0]
[{"$f":"不動産支払先情報!A18","v":11},{"$f":"SUMIF(不動産支払額!$C$10:$C$999,$A18,不動産支払額!$H$10:$H$999)","v":0},{"$f":"SUMIF('不動産調書集計支払額(非)'!$F$9:$F$999,TEXT(A18,\"@\"),'不動産調書集計支払額(非)'!$D$9:$D$999)","v":0},0,null,null,null,null,null,null,11,{"$f":"不動産支払先情報!L18","v":0},0]
[{"$f":"不動産支払先情報!A19","v":12},{"$f":"SUMIF(不動産支払額!$C$10:$C$999,$A19,不動産支払額!$H$10:$H$999)","v":0},{"$f":"SUMIF('不動産調書集計支払額(非)'!$F$9:$F$999,TEXT(A19,\"@\"),'不動産調書集計支払額(非)'!$D$9:$D$999)","v":0},0,null,null,null,null,null,null,12,{"$f":"不動産支払先情報!L19","v":0},0]
[{"$f":"不動産支払先情報!A20","v":13},{"$f":"SUMIF(不動産支払額!$C$10:$C$999,$A20,不動産支払額!$H$10:$H$999)","v":0},{"$f":"SUMIF('不動産調書集計支払額(非)'!$F$9:$F$999,TEXT(A20,\"@\"),'不動産調書集計支払額(非)'!$D$9:$D$999)","v":0},0,null,null,null,null,null,null,13,{"$f":"不動産支払先情報!L20","v":0},0]
[{"$f":"不動産支払先情報!A21","v":14},{"$f":"SUMIF(不動産支払額!$C$10:$C$999,$A21,不動産支払額!$H$10:$H$999)","v":0},{"$f":"SUMIF('不動産調書集計支払額(非)'!$F$9:$F$999,TEXT(A21,\"@\"),'不動産調書集計支払額(非)'!$D$9:$D$999)","v":0},0,null,null,null,null,null,null,14,{"$f":"不動産支払先情報!L21","v":0},0]
[{"$f":"不動産支払先情報!A22","v":15},{"$f":"SUMIF(不動産支払額!$C$10:$C$999,$A22,不動産支払額!$H$10:$H$999)","v":0},{"$f":"SUMIF('不動産調書集計支払額(非)'!$F$9:$F$999,TEXT(A22,\"@\"),'不動産調書集計支払額(非)'!$D$9:$D$999)","v":0},0,null,null,null,null,null,null,15,{"$f":"不動産支払先情報!L22","v":0},0]
[{"$f":"不動産支払先情報!A23","v":16},{"$f":"SUMIF(不動産支払額!$C$10:$C$999,$A23,不動産支払額!$H$10:$H$999)","v":0},{"$f":"SUMIF('不動産調書集計支払額(非)'!$F$9:$F$999,TEXT(A23,\"@\"),'不動産調書集計支払額(非)'!$D$9:$D$999)","v":0},0,null,null,null,null,null,null,16,{"$f":"不動産支払先情報!L23","v":0},0]
[{"$f":"不動産支払先情報!A24","v":17},{"$f":"SUMIF(不動産支払額!$C$10:$C$999,$A24,不動産支払額!$H$10:$H$999)","v":0},{"$f":"SUMIF('不動産調書集計支払額(非)'!$F$9:$F$999,TEXT(A24,\"@\"),'不動産調書集計支払額(非)'!$D$9:$D$999)","v":0},0,null,null,null,null,null,null,17,{"$f":"不動産支払先情報!L24","v":0},0]
[{"$f":"不動産支払先情報!A25","v":18},{"$f":"SUMIF(不動産支払額!$C$10:$C$999,$A25,不動産支払額!$H$10:$H$999)","v":0},{"$f":"SUMIF('不動産調書集計支払額(非)'!$F$9:$F$999,TEXT(A25,\"@\"),'不動産調書集計支払額(非)'!$D$9:$D$999)","v":0},0,null,null,null,null,null,null,18,{"$f":"不動産支払先情報!L25","v":0},0]
[{"$f":"不動産支払先情報!A26","v":19},{"$f":"SUMIF(不動産支払額!$C$10:$C$999,$A26,不動産支払額!$H$10:$H$999)","v":0},{"$f":"SUMIF('不動産調書集計支払額(非)'!$F$9:$F$999,TEXT(A26,\"@\"),'不動産調書集計支払額(非)'!$D$9:$D$999)","v":0},0,null,null,null,null,null,null,19,{"$f":"不動産支払先情報!L26","v":0},0]
[{"$f":"不動産支払先情報!A27","v":20},{"$f":"SUMIF(不動産支払額!$C$10:$C$999,$A27,不動産支払額!$H$10:$H$999)","v":0},{"$f":"SUMIF('不動産調書集計支払額(非)'!$F$9:$F$999,TEXT(A27,\"@\"),'不動産調書集計支払額(非)'!$D$9:$D$999)","v":0},0,null,null,null,null,null,null,20,{"$f":"不動産支払先情報!L27","v":0},0]
[{"$f":"不動産支払先情報!A28","v":0},{"$f":"SUMIF(不動産支払額!$C$10:$C$999,$A28,不動産支払額!$H$10:$H$999)","v":0},{"$f":"SUMIF('不動産調書集計支払額(非)'!$F$9:$F$999,TEXT(A28,\"@\"),'不動産調書集計支払額(非)'!$D$9:$D$999)","v":0},0,null,null,null,null,null,null,0,{"$f":"不動産支払先情報!L28","v":0},{"$f":"IF(L28>$D$4,1,0)","v":0}]
[{"$f":"不動産支払先情報!A29","v":0},{"$f":"SUMIF(不動産支払額!$C$10:$C$999,$A29,不動産支払額!$H$10:$H$999)","v":0},{"$f":"SUMIF('不動産調書集計支払額(非)'!$F$9:$F$999,TEXT(A29,\"@\"),'不動産調書集計支払額(非)'!$D$9:$D$999)","v":0},0,null,null,null,null,null,null,0,{"$f":"不動産支払先情報!L29","v":0},0]
[{"$f":"不動産支払先情報!A30","v":0},{"$f":"SUMIF(不動産支払額!$C$10:$C$999,$A30,不動産支払額!$H$10:$H$999)","v":0},{"$f":"SUMIF('不動産調書集計支払額(非)'!$F$9:$F$999,TEXT(A30,\"@\"),'不動産調書集計支払額(非)'!$D$9:$D$999)","v":0},0,null,null,null,null,null,null,0,{"$f":"不動産支払先情報!L30","v":0},0]
[{"$f":"不動産支払先情報!A31","v":0},{"$f":"SUMIF(不動産支払額!$C$10:$C$999,$A31,不動産支払額!$H$10:$H$999)","v":0},{"$f":"SUMIF('不動産調書集計支払額(非)'!$F$9:$F$999,TEXT(A31,\"@\"),'不動産調書集計支払額(非)'!$D$9:$D$999)","v":0},0,null,null,null,null,null,null,0,{"$f":"不動産支払先情報!L31","v":0},0]
[{"$f":"不動産支払先情報!A32","v":0},{"$f":"SUMIF(不動産支払額!$C$10:$C$999,$A32,不動産支払額!$H$10:$H$999)","v":0},{"$f":"SUMIF('不動産調書集計支払額(非)'!$F$9:$F$999,TEXT(A32,\"@\"),'不動産調書集計支払額(非)'!$D$9:$D$999)","v":0},0,null,null,null,null,null,null,0,{"$f":"不動産支払先情報!L32","v":0},0]
[{"$f":"不動産支払先情報!A33","v":0},{"$f":"SUMIF(不動産支払額!$C$10:$C$999,$A33,不動産支払額!$H$10:$H$999)","v":0},{"$f":"SUMIF('不動産調書集計支払額(非)'!$F$9:$F$999,TEXT(A33,\"@\"),'不動産調書集計支払額(非)'!$D$9:$D$999)","v":0},0,null,null,null,null,null,null,0,{"$f":"不動産支払先情報!L33","v":0},0]
[{"$f":"不動産支払先情報!A34","v":0},{"$f":"SUMIF(不動産支払額!$C$10:$C$999,$A34,不動産支払額!$H$10:$H$999)","v":0},{"$f":"SUMIF('不動産調書集計支払額(非)'!$F$9:$F$999,TEXT(A34,\"@\"),'不動産調書集計支払額(非)'!$D$9:$D$999)","v":0},0,null,null,null,null,null,null,0,{"$f":"不動産支払先情報!L34","v":0},0]
[{"$f":"不動産支払先情報!A35","v":0},{"$f":"SUMIF(不動産支払額!$C$10:$C$999,$A35,不動産支払額!$H$10:$H$999)","v":0},{"$f":"SUMIF('不動産調書集計支払額(非)'!$F$9:$F$999,TEXT(A35,\"@\"),'不動産調書集計支払額(非)'!$D$9:$D$999)","v":0},0,null,null,null,null,null,null,0,{"$f":"不動産支払先情報!L35","v":0},0]
[{"$f":"不動産支払先情報!A36","v":0},{"$f":"SUMIF(不動産支払額!$C$10:$C$999,$A36,不動産支払額!$H$10:$H$999)","v":0},{"$f":"SUMIF('不動産調書集計支払額(非)'!$F$9:$F$999,TEXT(A36,\"@\"),'不動産調書集計支払額(非)'!$D$9:$D$999)","v":0},0,null,null,null,null,null,null,0,{"$f":"不動産支払先情報!L36","v":0},0]
[{"$f":"不動産支払先情報!A37","v":0},{"$f":"SUMIF(不動産支払額!$C$10:$C$999,$A37,不動産支払額!$H$10:$H$999)","v":0},{"$f":"SUMIF('不動産調書集計支払額(非)'!$F$9:$F$999,TEXT(A37,\"@\"),'不動産調書集計支払額(非)'!$D$9:$D$999)","v":0},0,null,null,null,null,null,null,0,{"$f":"不動産支払先情報!L37","v":0},0]
[{"$f":"不動産支払先情報!A38","v":0},{"$f":"SUMIF(不動産支払額!$C$10:$C$999,$A38,不動産支払額!$H$10:$H$999)","v":0},{"$f":"SUMIF('不動産調書集計支払額(非)'!$F$9:$F$999,TEXT(A38,\"@\"),'不動産調書集計支払額(非)'!$D$9:$D$999)","v":0},0,null,null,null,null,null,null,0,{"$f":"不動産支払先情報!L38","v":0},0]
[{"$f":"不動産支払先情報!A39","v":0},{"$f":"SUMIF(不動産支払額!$C$10:$C$999,$A39,不動産支払額!$H$10:$H$999)","v":0},{"$f":"SUMIF('不動産調書集計支払額(非)'!$F$9:$F$999,TEXT(A39,\"@\"),'不動産調書集計支払額(非)'!$D$9:$D$999)","v":0},0,null,null,null,null,null,null,0,{"$f":"不動産支払先情報!L39","v":0},0]
[{"$f":"不動産支払先情報!A40","v":0},{"$f":"SUMIF(不動産支払額!$C$10:$C$999,$A40,不動産支払額!$H$10:$H$999)","v":0},{"$f":"SUMIF('不動産調書集計支払額(非)'!$F$9:$F$999,TEXT(A40,\"@\"),'不動産調書集計支払額(非)'!$D$9:$D$999)","v":0},0,null,null,null,null,null,null,0,{"$f":"不動産支払先情報!L40","v":0},0]
[{"$f":"不動産支払先情報!A41","v":0},{"$f":"SUMIF(不動産支払額!$C$10:$C$999,$A41,不動産支払額!$H$10:$H$999)","v":0},{"$f":"SUMIF('不動産調書集計支払額(非)'!$F$9:$F$999,TEXT(A41,\"@\"),'不動産調書集計支払額(非)'!$D$9:$D$999)","v":0},0,null,null,null,null,null,null,0,{"$f":"不動産支払先情報!L41","v":0},0]
[{"$f":"不動産支払先情報!A42","v":0},{"$f":"SUMIF(不動産支払額!$C$10:$C$999,$A42,不動産支払額!$H$10:$H$999)","v":0},{"$f":"SUMIF('不動産調書集計支払額(非)'!$F$9:$F$999,TEXT(A42,\"@\"),'不動産調書集計支払額(非)'!$D$9:$D$999)","v":0},0,null,null,null,null,null,null,0,{"$f":"不動産支払先情報!L42","v":0},0]
[{"$f":"不動産支払先情報!A43","v":0},{"$f":"SUMIF(不動産支払額!$C$10:$C$999,$A43,不動産支払額!$H$10:$H$999)","v":0},{"$f":"SUMIF('不動産調書集計支払額(非)'!$F$9:$F$999,TEXT(A43,\"@\"),'不動産調書集計支払額(非)'!$D$9:$D$999)","v":0},0,null,null,null,null,null,null,0,{"$f":"不動産支払先情報!L43","v":0},0]
[{"$f":"不動産支払先情報!A44","v":0},{"$f":"SUMIF(不動産支払額!$C$10:$C$999,$A44,不動産支払額!$H$10:$H$999)","v":0},{"$f":"SUMIF('不動産調書集計支払額(非)'!$F$9:$F$999,TEXT(A44,\"@\"),'不動産調書集計支払額(非)'!$D$9:$D$999)","v":0},0,null,null,null,null,null,null,0,{"$f":"不動産支払先情報!L44","v":0},0]
[{"$f":"不動産支払先情報!A45","v":0},{"$f":"SUMIF(不動産支払額!$C$10:$C$999,$A45,不動産支払額!$H$10:$H$999)","v":0},{"$f":"SUMIF('不動産調書集計支払額(非)'!$F$9:$F$999,TEXT(A45,\"@\"),'不動産調書集計支払額(非)'!$D$9:$D$999)","v":0},0,null,null,null,null,null,null,0,{"$f":"不動産支払先情報!L45","v":0},0]
[{"$f":"不動産支払先情報!A46","v":0},{"$f":"SUMIF(不動産支払額!$C$10:$C$999,$A46,不動産支払額!$H$10:$H$999)","v":0},{"$f":"SUMIF('不動産調書集計支払額(非)'!$F$9:$F$999,TEXT(A46,\"@\"),'不動産調書集計支払額(非)'!$D$9:$D$999)","v":0},0,null,null,null,null,null,null,0,{"$f":"不動産支払先情報!L46","v":0},0]
[{"$f":"不動産支払先情報!A47","v":0},{"$f":"SUMIF(不動産支払額!$C$10:$C$999,$A47,不動産支払額!$H$10:$H$999)","v":0},{"$f":"SUMIF('不動産調書集計支払額(非)'!$F$9:$F$999,TEXT(A47,\"@\"),'不動産調書集計支払額(非)'!$D$9:$D$999)","v":0},0,null,null,null,null,null,null,0,{"$f":"不動産支払先情報!L47","v":0},0]
[{"$f":"不動産支払先情報!A48","v":0},{"$f":"SUMIF(不動産支払額!$C$10:$C$999,$A48,不動産支払額!$H$10:$H$999)","v":0},{"$f":"SUMIF('不動産調書集計支払額(非)'!$F$9:$F$999,TEXT(A48,\"@\"),'不動産調書集計支払額(非)'!$D$9:$D$999)","v":0},0,null,null,null,null,null,null,0,{"$f":"不動産支払先情報!L48","v":0},0]
[{"$f":"不動産支払先情報!A49","v":0},{"$f":"SUMIF(不動産支払額!$C$10:$C$999,$A49,不動産支払額!$H$10:$H$999)","v":0},{"$f":"SUMIF('不動産調書集計支払額(非)'!$F$9:$F$999,TEXT(A49,\"@\"),'不動産調書集計支払額(非)'!$D$9:$D$999)","v":0},0,null,null,null,null,null,null,0,{"$f":"不動産支払先情報!L49","v":0},0]
[{"$f":"不動産支払先情報!A50","v":0},{"$f":"SUMIF(不動産支払額!$C$10:$C$999,$A50,不動産支払額!$H$10:$H$999)","v":0},{"$f":"SUMIF('不動産調書集計支払額(非)'!$F$9:$F$999,TEXT(A50,\"@\"),'不動産調書集計支払額(非)'!$D$9:$D$999)","v":0},0,null,null,null,null,null,null,0,{"$f":"不動産支払先情報!L50","v":0},0]
[{"$f":"不動産支払先情報!A51","v":0},{"$f":"SUMIF(不動産支払額!$C$10:$C$999,$A51,不動産支払額!$H$10:$H$999)","v":0},{"$f":"SUMIF('不動産調書集計支払額(非)'!$F$9:$F$999,TEXT(A51,\"@\"),'不動産調書集計支払額(非)'!$D$9:$D$999)","v":0},0,null,null,null,null,null,null,0,{"$f":"不動産支払先情報!L51","v":0},0]
[{"$f":"不動産支払先情報!A52","v":0},{"$f":"SUMIF(不動産支払額!$C$10:$C$999,$A52,不動産支払額!$H$10:$H$999)","v":0},{"$f":"SUMIF('不動産調書集計支払額(非)'!$F$9:$F$999,TEXT(A52,\"@\"),'不動産調書集計支払額(非)'!$D$9:$D$999)","v":0},0,null,null,null,null,null,null,0,{"$f":"不動産支払先情報!L52","v":0},0]
[{"$f":"不動産支払先情報!A53","v":0},{"$f":"SUMIF(不動産支払額!$C$10:$C$999,$A53,不動産支払額!$H$10:$H$999)","v":0},{"$f":"SUMIF('不動産調書集計支払額(非)'!$F$9:$F$999,TEXT(A53,\"@\"),'不動産調書集計支払額(非)'!$D$9:$D$999)","v":0},0,null,null,null,null,null,null,0,{"$f":"不動産支払先情報!L53","v":0},0]
[{"$f":"不動産支払先情報!A54","v":0},{"$f":"SUMIF(不動産支払額!$C$10:$C$999,$A54,不動産支払額!$H$10:$H$999)","v":0},{"$f":"SUMIF('不動産調書集計支払額(非)'!$F$9:$F$999,TEXT(A54,\"@\"),'不動産調書集計支払額(非)'!$D$9:$D$999)","v":0},0,null,null,null,null,null,null,0,{"$f":"不動産支払先情報!L54","v":0},0]
[{"$f":"不動産支払先情報!A55","v":0},{"$f":"SUMIF(不動産支払額!$C$10:$C$999,$A55,不動産支払額!$H$10:$H$999)","v":0},{"$f":"SUMIF('不動産調書集計支払額(非)'!$F$9:$F$999,TEXT(A55,\"@\"),'不動産調書集計支払額(非)'!$D$9:$D$999)","v":0},0,null,null,null,null,null,null,0,{"$f":"不動産支払先情報!L55","v":0},0]
[{"$f":"不動産支払先情報!A56","v":0},{"$f":"SUMIF(不動産支払額!$C$10:$C$999,$A56,不動産支払額!$H$10:$H$999)","v":0},{"$f":"SUMIF('不動産調書集計支払額(非)'!$F$9:$F$999,TEXT(A56,\"@\"),'不動産調書集計支払額(非)'!$D$9:$D$999)","v":0},0,null,null,null,null,null,null,0,{"$f":"不動産支払先情報!L56","v":0},0]
[{"$f":"不動産支払先情報!A57","v":0},{"$f":"SUMIF(不動産支払額!$C$10:$C$999,$A57,不動産支払額!$H$10:$H$999)","v":0},{"$f":"SUMIF('不動産調書集計支払額(非)'!$F$9:$F$999,TEXT(A57,\"@\"),'不動産調書集計支払額(非)'!$D$9:$D$999)","v":0},0,null,null,null,null,null,null,0,{"$f":"不動産支払先情報!L57","v":0},0]
[{"$f":"不動産支払先情報!A58","v":0},{"$f":"SUMIF(不動産支払額!$C$10:$C$999,$A58,不動産支払額!$H$10:$H$999)","v":0},{"$f":"SUMIF('不動産調書集計支払額(非)'!$F$9:$F$999,TEXT(A58,\"@\"),'不動産調書集計支払額(非)'!$D$9:$D$999)","v":0},0,null,null,null,null,null,null,0,{"$f":"不動産支払先情報!L58","v":0},0]
[{"$f":"不動産支払先情報!A59","v":0},{"$f":"SUMIF(不動産支払額!$C$10:$C$999,$A59,不動産支払額!$H$10:$H$999)","v":0},{"$f":"SUMIF('不動産調書集計支払額(非)'!$F$9:$F$999,TEXT(A59,\"@\"),'不動産調書集計支払額(非)'!$D$9:$D$999)","v":0},0,null,null,null,null,null,null,0,{"$f":"不動産支払先情報!L59","v":0},0]
[{"$f":"不動産支払先情報!A60","v":0},{"$f":"SUMIF(不動産支払額!$C$10:$C$999,$A60,不動産支払額!$H$10:$H$999)","v":0},{"$f":"SUMIF('不動産調書集計支払額(非)'!$F$9:$F$999,TEXT(A60,\"@\"),'不動産調書集計支払額(非)'!$D$9:$D$999)","v":0},0,null,null,null,null,null,null,0,{"$f":"不動産支払先情報!L60","v":0},0]
[{"$f":"不動産支払先情報!A61","v":0},{"$f":"SUMIF(不動産支払額!$C$10:$C$999,$A61,不動産支払額!$H$10:$H$999)","v":0},{"$f":"SUMIF('不動産調書集計支払額(非)'!$F$9:$F$999,TEXT(A61,\"@\"),'不動産調書集計支払額(非)'!$D$9:$D$999)","v":0},0,null,null,null,null,null,null,0,{"$f":"不動産支払先情報!L61","v":0},0]
[{"$f":"不動産支払先情報!A62","v":0},{"$f":"SUMIF(不動産支払額!$C$10:$C$999,$A62,不動産支払額!$H$10:$H$999)","v":0},{"$f":"SUMIF('不動産調書集計支払額(非)'!$F$9:$F$999,TEXT(A62,\"@\"),'不動産調書集計支払額(非)'!$D$9:$D$999)","v":0},0,null,null,null,null,null,null,0,{"$f":"不動産支払先情報!L62","v":0},0]
[{"$f":"不動産支払先情報!A63","v":0},{"$f":"SUMIF(不動産支払額!$C$10:$C$999,$A63,不動産支払額!$H$10:$H$999)","v":0},{"$f":"SUMIF('不動産調書集計支払額(非)'!$F$9:$F$999,TEXT(A63,\"@\"),'不動産調書集計支払額(非)'!$D$9:$D$999)","v":0},0,null,null,null,null,null,null,0,{"$f":"不動産支払先情報!L63","v":0},0]
[{"$f":"不動産支払先情報!A64","v":0},{"$f":"SUMIF(不動産支払額!$C$10:$C$999,$A64,不動産支払額!$H$10:$H$999)","v":0},{"$f":"SUMIF('不動産調書集計支払額(非)'!$F$9:$F$999,TEXT(A64,\"@\"),'不動産調書集計支払額(非)'!$D$9:$D$999)","v":0},0,null,null,null,null,null,null,0,{"$f":"不動産支払先情報!L64","v":0},0]
[{"$f":"不動産支払先情報!A65","v":0},{"$f":"SUMIF(不動産支払額!$C$10:$C$999,$A65,不動産支払額!$H$10:$H$999)","v":0},{"$f":"SUMIF('不動産調書集計支払額(非)'!$F$9:$F$999,TEXT(A65,\"@\"),'不動産調書集計支払額(非)'!$D$9:$D$999)","v":0},0,null,null,null,null,null,null,0,{"$f":"不動産支払先情報!L65","v":0},0]
[{"$f":"不動産支払先情報!A66","v":0},{"$f":"SUMIF(不動産支払額!$C$10:$C$999,$A66,不動産支払額!$H$10:$H$999)","v":0},{"$f":"SUMIF('不動産調書集計支払額(非)'!$F$9:$F$999,TEXT(A66,\"@\"),'不動産調書集計支払額(非)'!$D$9:$D$999)","v":0},0,null,null,null,null,null,null,0,{"$f":"不動産支払先情報!L66","v":0},0]
[{"$f":"不動産支払先情報!A67","v":0},{"$f":"SUMIF(不動産支払額!$C$10:$C$999,$A67,不動産支払額!$H$10:$H$999)","v":0},{"$f":"SUMIF('不動産調書集計支払額(非)'!$F$9:$F$999,TEXT(A67,\"@\"),'不動産調書集計支払額(非)'!$D$9:$D$999)","v":0},0,null,null,null,null,null,null,0,{"$f":"不動産支払先情報!L67","v":0},0]
[{"$f":"不動産支払先情報!A68","v":0},{"$f":"SUMIF(不動産支払額!$C$10:$C$999,$A68,不動産支払額!$H$10:$H$999)","v":0},{"$f":"SUMIF('不動産調書集計支払額(非)'!$F$9:$F$999,TEXT(A68,\"@\"),'不動産調書集計支払額(非)'!$D$9:$D$999)","v":0},0,null,null,null,null,null,null,0,{"$f":"不動産支払先情報!L68","v":0},0]
[{"$f":"不動産支払先情報!A69","v":0},{"$f":"SUMIF(不動産支払額!$C$10:$C$999,$A69,不動産支払額!$H$10:$H$999)","v":0},{"$f":"SUMIF('不動産調書集計支払額(非)'!$F$9:$F$999,TEXT(A69,\"@\"),'不動産調書集計支払額(非)'!$D$9:$D$999)","v":0},0,null,null,null,null,null,null,0,{"$f":"不動産支払先情報!L69","v":0},0]
[{"$f":"不動産支払先情報!A70","v":0},{"$f":"SUMIF(不動産支払額!$C$10:$C$999,$A70,不動産支払額!$H$10:$H$999)","v":0},{"$f":"SUMIF('不動産調書集計支払額(非)'!$F$9:$F$999,TEXT(A70,\"@\"),'不動産調書集計支払額(非)'!$D$9:$D$999)","v":0},0,null,null,null,null,null,null,0,{"$f":"不動産支払先情報!L70","v":0},0]
[{"$f":"不動産支払先情報!A71","v":0},{"$f":"SUMIF(不動産支払額!$C$10:$C$999,$A71,不動産支払額!$H$10:$H$999)","v":0},{"$f":"SUMIF('不動産調書集計支払額(非)'!$F$9:$F$999,TEXT(A71,\"@\"),'不動産調書集計支払額(非)'!$D$9:$D$999)","v":0},0,null,null,null,null,null,null,0,{"$f":"不動産支払先情報!L71","v":0},0]
[{"$f":"不動産支払先情報!A72","v":0},{"$f":"SUMIF(不動産支払額!$C$10:$C$999,$A72,不動産支払額!$H$10:$H$999)","v":0},{"$f":"SUMIF('不動産調書集計支払額(非)'!$F$9:$F$999,TEXT(A72,\"@\"),'不動産調書集計支払額(非)'!$D$9:$D$999)","v":0},0,null,null,null,null,null,null,0,{"$f":"不動産支払先情報!L72","v":0},0]
[{"$f":"不動産支払先情報!A73","v":0},{"$f":"SUMIF(不動産支払額!$C$10:$C$999,$A73,不動産支払額!$H$10:$H$999)","v":0},{"$f":"SUMIF('不動産調書集計支払額(非)'!$F$9:$F$999,TEXT(A73,\"@\"),'不動産調書集計支払額(非)'!$D$9:$D$999)","v":0},{"$f":"IF(OR(C73>$D$4,M73=1),1,0)","v":0},null,null,null,null,null,null,{"$f":"A73","v":0},{"$f":"不動産支払先情報!L73","v":0},0]
[{"$f":"不動産支払先情報!A74","v":0},{"$f":"SUMIF(不動産支払額!$C$10:$C$999,$A74,不動産支払額!$H$10:$H$999)","v":0},{"$f":"SUMIF('不動産調書集計支払額(非)'!$F$9:$F$999,TEXT(A74,\"@\"),'不動産調書集計支払額(非)'!$D$9:$D$999)","v":0},0,null,null,null,null,null,null,0,{"$f":"不動産支払先情報!L74","v":0},0]
[{"$f":"不動産支払先情報!A75","v":0},{"$f":"SUMIF(不動産支払額!$C$10:$C$999,$A75,不動産支払額!$H$10:$H$999)","v":0},{"$f":"SUMIF('不動産調書集計支払額(非)'!$F$9:$F$999,TEXT(A75,\"@\"),'不動産調書集計支払額(非)'!$D$9:$D$999)","v":0},0,null,null,null,null,null,null,0,{"$f":"不動産支払先情報!L75","v":0},0]
[{"$f":"不動産支払先情報!A76","v":0},{"$f":"SUMIF(不動産支払額!$C$10:$C$999,$A76,不動産支払額!$H$10:$H$999)","v":0},{"$f":"SUMIF('不動産調書集計支払額(非)'!$F$9:$F$999,TEXT(A76,\"@\"),'不動産調書集計支払額(非)'!$D$9:$D$999)","v":0},0,null,null,null,null,null,null,0,{"$f":"不動産支払先情報!L76","v":0},0]
[{"$f":"不動産支払先情報!A77","v":0},{"$f":"SUMIF(不動産支払額!$C$10:$C$999,$A77,不動産支払額!$H$10:$H$999)","v":0},{"$f":"SUMIF('不動産調書集計支払額(非)'!$F$9:$F$999,TEXT(A77,\"@\"),'不動産調書集計支払額(非)'!$D$9:$D$999)","v":0},0,null,null,null,null,null,null,0,{"$f":"不動産支払先情報!L77","v":0},0]
[{"$f":"不動産支払先情報!A78","v":0},{"$f":"SUMIF(不動産支払額!$C$10:$C$999,$A78,不動産支払額!$H$10:$H$999)","v":0},{"$f":"SUMIF('不動産調書集計支払額(非)'!$F$9:$F$999,TEXT(A78,\"@\"),'不動産調書集計支払額(非)'!$D$9:$D$999)","v":0},0,null,null,null,null,null,null,0,{"$f":"不動産支払先情報!L78","v":0},0]
[{"$f":"不動産支払先情報!A79","v":0},{"$f":"SUMIF(不動産支払額!$C$10:$C$999,$A79,不動産支払額!$H$10:$H$999)","v":0},{"$f":"SUMIF('不動産調書集計支払額(非)'!$F$9:$F$999,TEXT(A79,\"@\"),'不動産調書集計支払額(非)'!$D$9:$D$999)","v":0},0,null,null,null,null,null,null,0,{"$f":"不動産支払先情報!L79","v":0},0]
[{"$f":"不動産支払先情報!A80","v":0},{"$f":"SUMIF(不動産支払額!$C$10:$C$999,$A80,不動産支払額!$H$10:$H$999)","v":0},{"$f":"SUMIF('不動産調書集計支払額(非)'!$F$9:$F$999,TEXT(A80,\"@\"),'不動産調書集計支払額(非)'!$D$9:$D$999)","v":0},0,null,null,null,null,null,null,0,{"$f":"不動産支払先情報!L80","v":0},0]
[{"$f":"不動産支払先情報!A81","v":0},{"$f":"SUMIF(不動産支払額!$C$10:$C$999,$A81,不動産支払額!$H$10:$H$999)","v":0},{"$f":"SUMIF('不動産調書集計支払額(非)'!$F$9:$F$999,TEXT(A81,\"@\"),'不動産調書集計支払額(非)'!$D$9:$D$999)","v":0},0,null,null,null,null,null,null,0,{"$f":"不動産支払先情報!L81","v":0},0]
[{"$f":"不動産支払先情報!A82","v":0},{"$f":"SUMIF(不動産支払額!$C$10:$C$999,$A82,不動産支払額!$H$10:$H$999)","v":0},{"$f":"SUMIF('不動産調書集計支払額(非)'!$F$9:$F$999,TEXT(A82,\"@\"),'不動産調書集計支払額(非)'!$D$9:$D$999)","v":0},0,null,null,null,null,null,null,0,{"$f":"不動産支払先情報!L82","v":0},0]
[{"$f":"不動産支払先情報!A83","v":0},{"$f":"SUMIF(不動産支払額!$C$10:$C$999,$A83,不動産支払額!$H$10:$H$999)","v":0},{"$f":"SUMIF('不動産調書集計支払額(非)'!$F$9:$F$999,TEXT(A83,\"@\"),'不動産調書集計支払額(非)'!$D$9:$D$999)","v":0},0,null,null,null,null,null,null,0,{"$f":"不動産支払先情報!L83","v":0},0]
[{"$f":"不動産支払先情報!A84","v":0},{"$f":"SUMIF(不動産支払額!$C$10:$C$999,$A84,不動産支払額!$H$10:$H$999)","v":0},{"$f":"SUMIF('不動産調書集計支払額(非)'!$F$9:$F$999,TEXT(A84,\"@\"),'不動産調書集計支払額(非)'!$D$9:$D$999)","v":0},0,null,null,null,null,null,null,0,{"$f":"不動産支払先情報!L84","v":0},0]
[{"$f":"不動産支払先情報!A85","v":0},{"$f":"SUMIF(不動産支払額!$C$10:$C$999,$A85,不動産支払額!$H$10:$H$999)","v":0},{"$f":"SUMIF('不動産調書集計支払額(非)'!$F$9:$F$999,TEXT(A85,\"@\"),'不動産調書集計支払額(非)'!$D$9:$D$999)","v":0},0,null,null,null,null,null,null,0,{"$f":"不動産支払先情報!L85","v":0},0]
[{"$f":"不動産支払先情報!A86","v":0},{"$f":"SUMIF(不動産支払額!$C$10:$C$999,$A86,不動産支払額!$H$10:$H$999)","v":0},{"$f":"SUMIF('不動産調書集計支払額(非)'!$F$9:$F$999,TEXT(A86,\"@\"),'不動産調書集計支払額(非)'!$D$9:$D$999)","v":0},0,null,null,null,null,null,null,0,{"$f":"不動産支払先情報!L86","v":0},0]
[{"$f":"不動産支払先情報!A87","v":0},{"$f":"SUMIF(不動産支払額!$C$10:$C$999,$A87,不動産支払額!$H$10:$H$999)","v":0},{"$f":"SUMIF('不動産調書集計支払額(非)'!$F$9:$F$999,TEXT(A87,\"@\"),'不動産調書集計支払額(非)'!$D$9:$D$999)","v":0},0,null,null,null,null,null,null,0,{"$f":"不動産支払先情報!L87","v":0},0]
[{"$f":"不動産支払先情報!A88","v":0},{"$f":"SUMIF(不動産支払額!$C$10:$C$999,$A88,不動産支払額!$H$10:$H$999)","v":0},{"$f":"SUMIF('不動産調書集計支払額(非)'!$F$9:$F$999,TEXT(A88,\"@\"),'不動産調書集計支払額(非)'!$D$9:$D$999)","v":0},0,null,null,null,null,null,null,0,{"$f":"不動産支払先情報!L88","v":0},0]
[{"$f":"不動産支払先情報!A89","v":0},{"$f":"SUMIF(不動産支払額!$C$10:$C$999,$A89,不動産支払額!$H$10:$H$999)","v":0},{"$f":"SUMIF('不動産調書集計支払額(非)'!$F$9:$F$999,TEXT(A89,\"@\"),'不動産調書集計支払額(非)'!$D$9:$D$999)","v":0},0,null,null,null,null,null,null,0,{"$f":"不動産支払先情報!L89","v":0},0]
[{"$f":"不動産支払先情報!A90","v":0},{"$f":"SUMIF(不動産支払額!$C$10:$C$999,$A90,不動産支払額!$H$10:$H$999)","v":0},{"$f":"SUMIF('不動産調書集計支払額(非)'!$F$9:$F$999,TEXT(A90,\"@\"),'不動産調書集計支払額(非)'!$D$9:$D$999)","v":0},0,null,null,null,null,null,null,0,{"$f":"不動産支払先情報!L90","v":0},0]
[{"$f":"不動産支払先情報!A91","v":0},{"$f":"SUMIF(不動産支払額!$C$10:$C$999,$A91,不動産支払額!$H$10:$H$999)","v":0},{"$f":"SUMIF('不動産調書集計支払額(非)'!$F$9:$F$999,TEXT(A91,\"@\"),'不動産調書集計支払額(非)'!$D$9:$D$999)","v":0},0,null,null,null,null,null,null,0,{"$f":"不動産支払先情報!L91","v":0},0]
[{"$f":"不動産支払先情報!A92","v":0},{"$f":"SUMIF(不動産支払額!$C$10:$C$999,$A92,不動産支払額!$H$10:$H$999)","v":0},{"$f":"SUMIF('不動産調書集計支払額(非)'!$F$9:$F$999,TEXT(A92,\"@\"),'不動産調書集計支払額(非)'!$D$9:$D$999)","v":0},0,null,null,null,null,null,null,0,{"$f":"不動産支払先情報!L92","v":0},{"$f":"IF(L92>$D$4,1,0)","v":0}]
[{"$f":"不動産支払先情報!A93","v":0},{"$f":"SUMIF(不動産支払額!$C$10:$C$999,$A93,不動産支払額!$H$10:$H$999)","v":0},{"$f":"SUMIF('不動産調書集計支払額(非)'!$F$9:$F$999,TEXT(A93,\"@\"),'不動産調書集計支払額(非)'!$D$9:$D$999)","v":0},0,null,null,null,null,null,null,0,{"$f":"不動産支払先情報!L93","v":0},0]
[{"$f":"不動産支払先情報!A94","v":0},{"$f":"SUMIF(不動産支払額!$C$10:$C$999,$A94,不動産支払額!$H$10:$H$999)","v":0},{"$f":"SUMIF('不動産調書集計支払額(非)'!$F$9:$F$999,TEXT(A94,\"@\"),'不動産調書集計支払額(非)'!$D$9:$D$999)","v":0},0,null,null,null,null,null,null,0,{"$f":"不動産支払先情報!L94","v":0},{"$f":"IF(L94>$D$4,1,0)","v":0}]
[{"$f":"不動産支払先情報!A95","v":0},{"$f":"SUMIF(不動産支払額!$C$10:$C$999,$A95,不動産支払額!$H$10:$H$999)","v":0},{"$f":"SUMIF('不動産調書集計支払額(非)'!$F$9:$F$999,TEXT(A95,\"@\"),'不動産調書集計支払額(非)'!$D$9:$D$999)","v":0},0,null,null,null,null,null,null,0,{"$f":"不動産支払先情報!L95","v":0},0]
[{"$f":"不動産支払先情報!A96","v":0},{"$f":"SUMIF(不動産支払額!$C$10:$C$999,$A96,不動産支払額!$H$10:$H$999)","v":0},{"$f":"SUMIF('不動産調書集計支払額(非)'!$F$9:$F$999,TEXT(A96,\"@\"),'不動産調書集計支払額(非)'!$D$9:$D$999)","v":0},0,null,null,null,null,null,null,0,{"$f":"不動産支払先情報!L96","v":0},0]
[{"$f":"不動産支払先情報!A97","v":0},{"$f":"SUMIF(不動産支払額!$C$10:$C$999,$A97,不動産支払額!$H$10:$H$999)","v":0},{"$f":"SUMIF('不動産調書集計支払額(非)'!$F$9:$F$999,TEXT(A97,\"@\"),'不動産調書集計支払額(非)'!$D$9:$D$999)","v":0},0,null,null,null,null,null,null,0,{"$f":"不動産支払先情報!L97","v":0},0]
[{"$f":"不動産支払先情報!A98","v":0},{"$f":"SUMIF(不動産支払額!$C$10:$C$999,$A98,不動産支払額!$H$10:$H$999)","v":0},{"$f":"SUMIF('不動産調書集計支払額(非)'!$F$9:$F$999,TEXT(A98,\"@\"),'不動産調書集計支払額(非)'!$D$9:$D$999)","v":0},0,null,null,null,null,null,null,0,{"$f":"不動産支払先情報!L98","v":0},0]
[{"$f":"不動産支払先情報!A99","v":0},{"$f":"SUMIF(不動産支払額!$C$10:$C$999,$A99,不動産支払額!$H$10:$H$999)","v":0},{"$f":"SUMIF('不動産調書集計支払額(非)'!$F$9:$F$999,TEXT(A99,\"@\"),'不動産調書集計支払額(非)'!$D$9:$D$999)","v":0},0,null,null,null,null,null,null,0,{"$f":"不動産支払先情報!L99","v":0},0]
[{"$f":"不動産支払先情報!A100","v":0},{"$f":"SUMIF(不動産支払額!$C$10:$C$999,$A100,不動産支払額!$H$10:$H$999)","v":0},{"$f":"SUMIF('不動産調書集計支払額(非)'!$F$9:$F$999,TEXT(A100,\"@\"),'不動産調書集計支払額(非)'!$D$9:$D$999)","v":0},0,null,null,null,null,null,null,0,{"$f":"不動産支払先情報!L100","v":0},0]
[{"$f":"不動産支払先情報!A101","v":0},{"$f":"SUMIF(不動産支払額!$C$10:$C$999,$A101,不動産支払額!$H$10:$H$999)","v":0},{"$f":"SUMIF('不動産調書集計支払額(非)'!$F$9:$F$999,TEXT(A101,\"@\"),'不動産調書集計支払額(非)'!$D$9:$D$999)","v":0},0,null,null,null,null,null,null,0,{"$f":"不動産支払先情報!L101","v":0},0]
[{"$f":"不動産支払先情報!A102","v":0},{"$f":"SUMIF(不動産支払額!$C$10:$C$999,$A102,不動産支払額!$H$10:$H$999)","v":0},{"$f":"SUMIF('不動産調書集計支払額(非)'!$F$9:$F$999,TEXT(A102,\"@\"),'不動産調書集計支払額(非)'!$D$9:$D$999)","v":0},0,null,null,null,null,null,null,0,{"$f":"不動産支払先情報!L102","v":0},0]
[{"$f":"不動産支払先情報!A103","v":0},{"$f":"SUMIF(不動産支払額!$C$10:$C$999,$A103,不動産支払額!$H$10:$H$999)","v":0},{"$f":"SUMIF('不動産調書集計支払額(非)'!$F$9:$F$999,TEXT(A103,\"@\"),'不動産調書集計支払額(非)'!$D$9:$D$999)","v":0},0,null,null,null,null,null,null,0,{"$f":"不動産支払先情報!L103","v":0},0]
[{"$f":"不動産支払先情報!A104","v":0},{"$f":"SUMIF(不動産支払額!$C$10:$C$999,$A104,不動産支払額!$H$10:$H$999)","v":0},{"$f":"SUMIF('不動産調書集計支払額(非)'!$F$9:$F$999,TEXT(A104,\"@\"),'不動産調書集計支払額(非)'!$D$9:$D$999)","v":0},0,null,null,null,null,null,null,0,{"$f":"不動産支払先情報!L104","v":0},0]
[{"$f":"不動産支払先情報!A105","v":0},{"$f":"SUMIF(不動産支払額!$C$10:$C$999,$A105,不動産支払額!$H$10:$H$999)","v":0},{"$f":"SUMIF('不動産調書集計支払額(非)'!$F$9:$F$999,TEXT(A105,\"@\"),'不動産調書集計支払額(非)'!$D$9:$D$999)","v":0},0,null,null,null,null,null,null,0,{"$f":"不動産支払先情報!L105","v":0},0]
[{"$f":"不動産支払先情報!A106","v":0},{"$f":"SUMIF(不動産支払額!$C$10:$C$999,$A106,不動産支払額!$H$10:$H$999)","v":0},{"$f":"SUMIF('不動産調書集計支払額(非)'!$F$9:$F$999,TEXT(A106,\"@\"),'不動産調書集計支払額(非)'!$D$9:$D$999)","v":0},0,null,null,null,null,null,null,0,{"$f":"不動産支払先情報!L106","v":0},0]
[{"$f":"不動産支払先情報!A107","v":0},{"$f":"SUMIF(不動産支払額!$C$10:$C$999,$A107,不動産支払額!$H$10:$H$999)","v":0},{"$f":"SUMIF('不動産調書集計支払額(非)'!$F$9:$F$999,TEXT(A107,\"@\"),'不動産調書集計支払額(非)'!$D$9:$D$999)","v":0},0,null,null,null,null,null,null,0,{"$f":"不動産支払先情報!L107","v":0},0]

{"sheet":"不動産調書集計支払額(非)","index":27,"n_rows":508,"n_cols":6,"rows_kept":508,"cut":false,"hidden":true,"merged":[]}
[]
[]
[]
[]
[]
[]
[]
["行","No","法人・個人の別","支払金額","集計範囲","集計用列"]
[null,{"$f":"不動産支払額!C10","v":1},{"$f":"IF(不動産支払額!C10<>\"\",VLOOKUP(不動産支払額!C10,不動産支払先情報!$A$8:$B$999,2,FALSE),\"\")&\"\"","v":"個人"},{"$f":"不動産支払額!H10","v":2000000},{"$f":"IF(C9=\"法人\",VLOOKUP(不動産支払額!D10,不動産区分!$A$8:$B$30,2,FALSE),\"該当\")&\"\"","v":"該当"},{"$f":"B9&IF(E9<>\"\",\"\",\"集計しない\")","v":"1"}]
[null,{"$f":"不動産支払額!C11","v":1},{"$f":"IF(不動産支払額!C11<>\"\",VLOOKUP(不動産支払額!C11,不動産支払先情報!$A$8:$B$999,2,FALSE),\"\")&\"\"","v":"個人"},{"$f":"不動産支払額!H11","v":150000},{"$f":"IF(C10=\"法人\",VLOOKUP(不動産支払額!D11,不動産区分!$A$8:$B$30,2,FALSE),\"該当\")&\"\"","v":"該当"},{"$f":"B10&IF(E10<>\"\",\"\",\"集計しない\")","v":"1"}]
[null,{"$f":"不動産支払額!C12","v":2},{"$f":"IF(不動産支払額!C12<>\"\",VLOOKUP(不動産支払額!C12,不動産支払先情報!$A$8:$B$999,2,FALSE),\"\")&\"\"","v":"個人"},{"$f":"不動産支払額!H12","v":108000},{"$f":"IF(C11=\"法人\",VLOOKUP(不動産支払額!D12,不動産区分!$A$8:$B$30,2,FALSE),\"該当\")&\"\"","v":"該当"},"2"]
[null,{"$f":"不動産支払額!C13","v":2},{"$f":"IF(不動産支払額!C13<>\"\",VLOOKUP(不動産支払額!C13,不動産支払先情報!$A$8:$B$999,2,FALSE),\"\")&\"\"","v":"個人"},{"$f":"不動産支払額!H13","v":108000},{"$f":"IF(C12=\"法人\",VLOOKUP(不動産支払額!D13,不動産区分!$A$8:$B$30,2,FALSE),\"該当\")&\"\"","v":"該当"},"2"]
[null,{"$f":"不動産支払額!C14","v":2},{"$f":"IF(不動産支払額!C14<>\"\",VLOOKUP(不動産支払額!C14,不動産支払先情報!$A$8:$B$999,2,FALSE),\"\")&\"\"","v":"個人"},{"$f":"不動産支払額!H14","v":108000},{"$f":"IF(C13=\"法人\",VLOOKUP(不動産支払額!D14,不動産区分!$A$8:$B$30,2,FALSE),\"該当\")&\"\"","v":"該当"},"2"]
[null,{"$f":"不動産支払額!C15","v":2},{"$f":"IF(不動産支払額!C15<>\"\",VLOOKUP(不動産支払額!C15,不動産支払先情報!$A$8:$B$999,2,FALSE),\"\")&\"\"","v":"個人"},{"$f":"不動産支払額!H15","v":108000},{"$f":"IF(C14=\"法人\",VLOOKUP(不動産支払額!D15,不動産区分!$A$8:$B$30,2,FALSE),\"該当\")&\"\"","v":"該当"},"2"]
[null,{"$f":"不動産支払額!C16","v":2},{"$f":"IF(不動産支払額!C16<>\"\",VLOOKUP(不動産支払額!C16,不動産支払先情報!$A$8:$B$999,2,FALSE),\"\")&\"\"","v":"個人"},{"$f":"不動産支払額!H16","v":108000},{"$f":"IF(C15=\"法人\",VLOOKUP(不動産支払額!D16,不動産区分!$A$8:$B$30,2,FALSE),\"該当\")&\"\"","v":"該当"},"2"]
[null,{"$f":"不動産支払額!C17","v":2},{"$f":"IF(不動産支払額!C17<>\"\",VLOOKUP(不動産支払額!C17,不動産支払先情報!$A$8:$B$999,2,FALSE),\"\")&\"\"","v":"個人"},{"$f":"不動産支払額!H17","v":108000},{"$f":"IF(C16=\"法人\",VLOOKUP(不動産支払額!D17,不動産区分!$A$8:$B$30,2,FALSE),\"該当\")&\"\"","v":"該当"},"2"]
[null,{"$f":"不動産支払額!C18","v":2},{"$f":"IF(不動産支払額!C18<>\"\",VLOOKUP(不動産支払額!C18,不動産支払先情報!$A$8:$B$999,2,FALSE),\"\")&\"\"","v":"個人"},{"$f":"不動産支払額!H18","v":108000},{"$f":"IF(C17=\"法人\",VLOOKUP(不動産支払額!D18,不動産区分!$A$8:$B$30,2,FALSE),\"該当\")&\"\"","v":"該当"},"2"]
[null,{"$f":"不動産支払額!C19","v":2},{"$f":"IF(不動産支払額!C19<>\"\",VLOOKUP(不動産支払額!C19,不動産支払先情報!$A$8:$B$999,2,FALSE),\"\")&\"\"","v":"個人"},{"$f":"不動産支払額!H19","v":108000},{"$f":"IF(C18=\"法人\",VLOOKUP(不動産支払額!D19,不動産区分!$A$8:$B$30,2,FALSE),\"該当\")&\"\"","v":"該当"},"2"]
[null,{"$f":"不動産支払額!C20","v":2},{"$f":"IF(不動産支払額!C20<>\"\",VLOOKUP(不動産支払額!C20,不動産支払先情報!$A$8:$B$999,2,FALSE),\"\")&\"\"","v":"個人"},{"$f":"不動産支払額!H20","v":108000},{"$f":"IF(C19=\"法人\",VLOOKUP(不動産支払額!D20,不動産区分!$A$8:$B$30,2,FALSE),\"該当\")&\"\"","v":"該当"},"2"]
[null,{"$f":"不動産支払額!C21","v":2},{"$f":"IF(不動産支払額!C21<>\"\",VLOOKUP(不動産支払額!C21,不動産支払先情報!$A$8:$B$999,2,FALSE),\"\")&\"\"","v":"個人"},{"$f":"不動産支払額!H21","v":108000},{"$f":"IF(C20=\"法人\",VLOOKUP(不動産支払額!D21,不動産区分!$A$8:$B$30,2,FALSE),\"該当\")&\"\"","v":"該当"},"2"]
[null,{"$f":"不動産支払額!C22","v":2},{"$f":"IF(不動産支払額!C22<>\"\",VLOOKUP(不動産支払額!C22,不動産支払先情報!$A$8:$B$999,2,FALSE),\"\")&\"\"","v":"個人"},{"$f":"不動産支払額!H22","v":108000},{"$f":"IF(C21=\"法人\",VLOOKUP(不動産支払額!D22,不動産区分!$A$8:$B$30,2,FALSE),\"該当\")&\"\"","v":"該当"},"2"]
[null,{"$f":"不動産支払額!C23","v":2},{"$f":"IF(不動産支払額!C23<>\"\",VLOOKUP(不動産支払額!C23,不動産支払先情報!$A$8:$B$999,2,FALSE),\"\")&\"\"","v":"個人"},{"$f":"不動産支払額!H23","v":108000},{"$f":"IF(C22=\"法人\",VLOOKUP(不動産支払額!D23,不動産区分!$A$8:$B$30,2,FALSE),\"該当\")&\"\"","v":"該当"},"2"]
[null,{"$f":"不動産支払額!C24","v":0},{"$f":"IF(不動産支払額!C24<>\"\",VLOOKUP(不動産支払額!C24,不動産支払先情報!$A$8:$B$999,2,FALSE),\"\")&\"\"","v":""},{"$f":"不動産支払額!H24","v":0},{"$f":"IF(C23=\"法人\",VLOOKUP(不動産支払額!D24,不動産区分!$A$8:$B$30,2,FALSE),\"該当\")&\"\"","v":"該当"},"0"]
[null,{"$f":"不動産支払額!C25","v":0},{"$f":"IF(不動産支払額!C25<>\"\",VLOOKUP(不動産支払額!C25,不動産支払先情報!$A$8:$B$999,2,FALSE),\"\")&\"\"","v":""},{"$f":"不動産支払額!H25","v":0},{"$f":"IF(C24=\"法人\",VLOOKUP(不動産支払額!D25,不動産区分!$A$8:$B$30,2,FALSE),\"該当\")&\"\"","v":"該当"},"0"]
[null,{"$f":"不動産支払額!C26","v":0},{"$f":"IF(不動産支払額!C26<>\"\",VLOOKUP(不動産支払額!C26,不動産支払先情報!$A$8:$B$999,2,FALSE),\"\")&\"\"","v":""},{"$f":"不動産支払額!H26","v":0},{"$f":"IF(C25=\"法人\",VLOOKUP(不動産支払額!D26,不動産区分!$A$8:$B$30,2,FALSE),\"該当\")&\"\"","v":"該当"},"0"]
[null,{"$f":"不動産支払額!C27","v":0},{"$f":"IF(不動産支払額!C27<>\"\",VLOOKUP(不動産支払額!C27,不動産支払先情報!$A$8:$B$999,2,FALSE),\"\")&\"\"","v":""},{"$f":"不動産支払額!H27","v":0},{"$f":"IF(C26=\"法人\",VLOOKUP(不動産支払額!D27,不動産区分!$A$8:$B$30,2,FALSE),\"該当\")&\"\"","v":"該当"},"0"]
[null,{"$f":"不動産支払額!C28","v":0},{"$f":"IF(不動産支払額!C28<>\"\",VLOOKUP(不動産支払額!C28,不動産支払先情報!$A$8:$B$999,2,FALSE),\"\")&\"\"","v":""},{"$f":"不動産支払額!H28","v":0},{"$f":"IF(C27=\"法人\",VLOOKUP(不動産支払額!D28,不動産区分!$A$8:$B$30,2,FALSE),\"該当\")&\"\"","v":"該当"},"0"]
[null,{"$f":"不動産支払額!C29","v":0},{"$f":"IF(不動産支払額!C29<>\"\",VLOOKUP(不動産支払額!C29,不動産支払先情報!$A$8:$B$999,2,FALSE),\"\")&\"\"","v":""},{"$f":"不動産支払額!H29","v":0},{"$f":"IF(C28=\"法人\",VLOOKUP(不動産支払額!D29,不動産区分!$A$8:$B$30,2,FALSE),\"該当\")&\"\"","v":"該当"},"0"]
[null,{"$f":"不動産支払額!C30","v":0},{"$f":"IF(不動産支払額!C30<>\"\",VLOOKUP(不動産支払額!C30,不動産支払先情報!$A$8:$B$999,2,FALSE),\"\")&\"\"","v":""},{"$f":"不動産支払額!H30","v":0},{"$f":"IF(C29=\"法人\",VLOOKUP(不動産支払額!D30,不動産区分!$A$8:$B$30,2,FALSE),\"該当\")&\"\"","v":"該当"},"0"]
[null,{"$f":"不動産支払額!C31","v":0},{"$f":"IF(不動産支払額!C31<>\"\",VLOOKUP(不動産支払額!C31,不動産支払先情報!$A$8:$B$999,2,FALSE),\"\")&\"\"","v":""},{"$f":"不動産支払額!H31","v":0},{"$f":"IF(C30=\"法人\",VLOOKUP(不動産支払額!D31,不動産区分!$A$8:$B$30,2,FALSE),\"該当\")&\"\"","v":"該当"},"0"]
[null,{"$f":"不動産支払額!C32","v":0},{"$f":"IF(不動産支払額!C32<>\"\",VLOOKUP(不動産支払額!C32,不動産支払先情報!$A$8:$B$999,2,FALSE),\"\")&\"\"","v":""},{"$f":"不動産支払額!H32","v":0},{"$f":"IF(C31=\"法人\",VLOOKUP(不動産支払額!D32,不動産区分!$A$8:$B$30,2,FALSE),\"該当\")&\"\"","v":"該当"},"0"]
[null,{"$f":"不動産支払額!C33","v":0},{"$f":"IF(不動産支払額!C33<>\"\",VLOOKUP(不動産支払額!C33,不動産支払先情報!$A$8:$B$999,2,FALSE),\"\")&\"\"","v":""},{"$f":"不動産支払額!H33","v":0},{"$f":"IF(C32=\"法人\",VLOOKUP(不動産支払額!D33,不動産区分!$A$8:$B$30,2,FALSE),\"該当\")&\"\"","v":"該当"},"0"]
[null,{"$f":"不動産支払額!C34","v":0},{"$f":"IF(不動産支払額!C34<>\"\",VLOOKUP(不動産支払額!C34,不動産支払先情報!$A$8:$B$999,2,FALSE),\"\")&\"\"","v":""},{"$f":"不動産支払額!H34","v":0},{"$f":"IF(C33=\"法人\",VLOOKUP(不動産支払額!D34,不動産区分!$A$8:$B$30,2,FALSE),\"該当\")&\"\"","v":"該当"},"0"]
[null,{"$f":"不動産支払額!C35","v":0},{"$f":"IF(不動産支払額!C35<>\"\",VLOOKUP(不動産支払額!C35,不動産支払先情報!$A$8:$B$999,2,FALSE),\"\")&\"\"","v":""},{"$f":"不動産支払額!H35","v":0},{"$f":"IF(C34=\"法人\",VLOOKUP(不動産支払額!D35,不動産区分!$A$8:$B$30,2,FALSE),\"該当\")&\"\"","v":"該当"},"0"]
[null,{"$f":"不動産支払額!C36","v":0},{"$f":"IF(不動産支払額!C36<>\"\",VLOOKUP(不動産支払額!C36,不動産支払先情報!$A$8:$B$999,2,FALSE),\"\")&\"\"","v":""},{"$f":"不動産支払額!H36","v":0},{"$f":"IF(C35=\"法人\",VLOOKUP(不動産支払額!D36,不動産区分!$A$8:$B$30,2,FALSE),\"該当\")&\"\"","v":"該当"},"0"]
[null,{"$f":"不動産支払額!C37","v":0},{"$f":"IF(不動産支払額!C37<>\"\",VLOOKUP(不動産支払額!C37,不動産支払先情報!$A$8:$B$999,2,FALSE),\"\")&\"\"","v":""},{"$f":"不動産支払額!H37","v":0},{"$f":"IF(C36=\"法人\",VLOOKUP(不動産支払額!D37,不動産区分!$A$8:$B$30,2,FALSE),\"該当\")&\"\"","v":"該当"},"0"]
[null,{"$f":"不動産支払額!C38","v":0},{"$f":"IF(不動産支払額!C38<>\"\",VLOOKUP(不動産支払額!C38,不動産支払先情報!$A$8:$B$999,2,FALSE),\"\")&\"\"","v":""},{"$f":"不動産支払額!H38","v":0},{"$f":"IF(C37=\"法人\",VLOOKUP(不動産支払額!D38,不動産区分!$A$8:$B$30,2,FALSE),\"該当\")&\"\"","v":"該当"},"0"]
[null,{"$f":"不動産支払額!C39","v":0},{"$f":"IF(不動産支払額!C39<>\"\",VLOOKUP(不動産支払額!C39,不動産支払先情報!$A$8:$B$999,2,FALSE),\"\")&\"\"","v":""},{"$f":"不動産支払額!H39","v":0},{"$f":"IF(C38=\"法人\",VLOOKUP(不動産支払額!D39,不動産区分!$A$8:$B$30,2,FALSE),\"該当\")&\"\"","v":"該当"},"0"]
[null,{"$f":"不動産支払額!C40","v":0},{"$f":"IF(不動産支払額!C40<>\"\",VLOOKUP(不動産支払額!C40,不動産支払先情報!$A$8:$B$999,2,FALSE),\"\")&\"\"","v":""},{"$f":"不動産支払額!H40","v":0},{"$f":"IF(C39=\"法人\",VLOOKUP(不動産支払額!D40,不動産区分!$A$8:$B$30,2,FALSE),\"該当\")&\"\"","v":"該当"},"0"]
[null,{"$f":"不動産支払額!C41","v":0},{"$f":"IF(不動産支払額!C41<>\"\",VLOOKUP(不動産支払額!C41,不動産支払先情報!$A$8:$B$999,2,FALSE),\"\")&\"\"","v":""},{"$f":"不動産支払額!H41","v":0},{"$f":"IF(C40=\"法人\",VLOOKUP(不動産支払額!D41,不動産区分!$A$8:$B$30,2,FALSE),\"該当\")&\"\"","v":"該当"},"0"]
[null,{"$f":"不動産支払額!C42","v":0},{"$f":"IF(不動産支払額!C42<>\"\",VLOOKUP(不動産支払額!C42,不動産支払先情報!$A$8:$B$999,2,FALSE),\"\")&\"\"","v":""},{"$f":"不動産支払額!H42","v":0},{"$f":"IF(C41=\"法人\",VLOOKUP(不動産支払額!D42,不動産区分!$A$8:$B$30,2,FALSE),\"該当\")&\"\"","v":"該当"},"0"]
[null,{"$f":"不動産支払額!C43","v":0},{"$f":"IF(不動産支払額!C43<>\"\",VLOOKUP(不動産支払額!C43,不動産支払先情報!$A$8:$B$999,2,FALSE),\"\")&\"\"","v":""},{"$f":"不動産支払額!H43","v":0},{"$f":"IF(C42=\"法人\",VLOOKUP(不動産支払額!D43,不動産区分!$A$8:$B$30,2,FALSE),\"該当\")&\"\"","v":"該当"},"0"]
[null,{"$f":"不動産支払額!C44","v":0},{"$f":"IF(不動産支払額!C44<>\"\",VLOOKUP(不動産支払額!C44,不動産支払先情報!$A$8:$B$999,2,FALSE),\"\")&\"\"","v":""},{"$f":"不動産支払額!H44","v":0},{"$f":"IF(C43=\"法人\",VLOOKUP(不動産支払額!D44,不動産区分!$A$8:$B$30,2,FALSE),\"該当\")&\"\"","v":"該当"},"0"]
[null,{"$f":"不動産支払額!C45","v":0},{"$f":"IF(不動産支払額!C45<>\"\",VLOOKUP(不動産支払額!C45,不動産支払先情報!$A$8:$B$999,2,FALSE),\"\")&\"\"","v":""},{"$f":"不動産支払額!H45","v":0},{"$f":"IF(C44=\"法人\",VLOOKUP(不動産支払額!D45,不動産区分!$A$8:$B$30,2,FALSE),\"該当\")&\"\"","v":"該当"},"0"]
[null,{"$f":"不動産支払額!C46","v":0},{"$f":"IF(不動産支払額!C46<>\"\",VLOOKUP(不動産支払額!C46,不動産支払先情報!$A$8:$B$999,2,FALSE),\"\")&\"\"","v":""},{"$f":"不動産支払額!H46","v":0},{"$f":"IF(C45=\"法人\",VLOOKUP(不動産支払額!D46,不動産区分!$A$8:$B$30,2,FALSE),\"該当\")&\"\"","v":"該当"},"0"]
[null,{"$f":"不動産支払額!C47","v":0},{"$f":"IF(不動産支払額!C47<>\"\",VLOOKUP(不動産支払額!C47,不動産支払先情報!$A$8:$B$999,2,FALSE),\"\")&\"\"","v":""},{"$f":"不動産支払額!H47","v":0},{"$f":"IF(C46=\"法人\",VLOOKUP(不動産支払額!D47,不動産区分!$A$8:$B$30,2,FALSE),\"該当\")&\"\"","v":"該当"},"0"]
[null,{"$f":"不動産支払額!C48","v":0},{"$f":"IF(不動産支払額!C48<>\"\",VLOOKUP(不動産支払額!C48,不動産支払先情報!$A$8:$B$999,2,FALSE),\"\")&\"\"","v":""},{"$f":"不動産支払額!H48","v":0},{"$f":"IF(C47=\"法人\",VLOOKUP(不動産支払額!D48,不動産区分!$A$8:$B$30,2,FALSE),\"該当\")&\"\"","v":"該当"},"0"]
[null,{"$f":"不動産支払額!C49","v":0},{"$f":"IF(不動産支払額!C49<>\"\",VLOOKUP(不動産支払額!C49,不動産支払先情報!$A$8:$B$999,2,FALSE),\"\")&\"\"","v":""},{"$f":"不動産支払額!H49","v":0},{"$f":"IF(C48=\"法人\",VLOOKUP(不動産支払額!D49,不動産区分!$A$8:$B$30,2,FALSE),\"該当\")&\"\"","v":"該当"},"0"]
[null,{"$f":"不動産支払額!C50","v":0},{"$f":"IF(不動産支払額!C50<>\"\",VLOOKUP(不動産支払額!C50,不動産支払先情報!$A$8:$B$999,2,FALSE),\"\")&\"\"","v":""},{"$f":"不動産支払額!H50","v":0},{"$f":"IF(C49=\"法人\",VLOOKUP(不動産支払額!D50,不動産区分!$A$8:$B$30,2,FALSE),\"該当\")&\"\"","v":"該当"},"0"]
[null,{"$f":"不動産支払額!C51","v":0},{"$f":"IF(不動産支払額!C51<>\"\",VLOOKUP(不動産支払額!C51,不動産支払先情報!$A$8:$B$999,2,FALSE),\"\")&\"\"","v":""},{"$f":"不動産支払額!H51","v":0},{"$f":"IF(C50=\"法人\",VLOOKUP(不動産支払額!D51,不動産区分!$A$8:$B$30,2,FALSE),\"該当\")&\"\"","v":"該当"},"0"]
[null,{"$f":"不動産支払額!C52","v":0},{"$f":"IF(不動産支払額!C52<>\"\",VLOOKUP(不動産支払額!C52,不動産支払先情報!$A$8:$B$999,2,FALSE),\"\")&\"\"","v":""},{"$f":"不動産支払額!H52","v":0},{"$f":"IF(C51=\"法人\",VLOOKUP(不動産支払額!D52,不動産区分!$A$8:$B$30,2,FALSE),\"該当\")&\"\"","v":"該当"},"0"]
[null,{"$f":"不動産支払額!C53","v":0},{"$f":"IF(不動産支払額!C53<>\"\",VLOOKUP(不動産支払額!C53,不動産支払先情報!$A$8:$B$999,2,FALSE),\"\")&\"\"","v":""},{"$f":"不動産支払額!H53","v":0},{"$f":"IF(C52=\"法人\",VLOOKUP(不動産支払額!D53,不動産区分!$A$8:$B$30,2,FALSE),\"該当\")&\"\"","v":"該当"},"0"]
[null,{"$f":"不動産支払額!C54","v":0},{"$f":"IF(不動産支払額!C54<>\"\",VLOOKUP(不動産支払額!C54,不動産支払先情報!$A$8:$B$999,2,FALSE),\"\")&\"\"","v":""},{"$f":"不動産支払額!H54","v":0},{"$f":"IF(C53=\"法人\",VLOOKUP(不動産支払額!D54,不動産区分!$A$8:$B$30,2,FALSE),\"該当\")&\"\"","v":"該当"},"0"]
[null,{"$f":"不動産支払額!C55","v":0},{"$f":"IF(不動産支払額!C55<>\"\",VLOOKUP(不動産支払額!C55,不動産支払先情報!$A$8:$B$999,2,FALSE),\"\")&\"\"","v":""},{"$f":"不動産支払額!H55","v":0},{"$f":"IF(C54=\"法人\",VLOOKUP(不動産支払額!D55,不動産区分!$A$8:$B$30,2,FALSE),\"該当\")&\"\"","v":"該当"},"0"]
[null,{"$f":"不動産支払額!C56","v":0},{"$f":"IF(不動産支払額!C56<>\"\",VLOOKUP(不動産支払額!C56,不動産支払先情報!$A$8:$B$999,2,FALSE),\"\")&\"\"","v":""},{"$f":"不動産支払額!H56","v":0},{"$f":"IF(C55=\"法人\",VLOOKUP(不動産支払額!D56,不動産区分!$A$8:$B$30,2,FALSE),\"該当\")&\"\"","v":"該当"},"0"]
[null,{"$f":"不動産支払額!C57","v":0},{"$f":"IF(不動産支払額!C57<>\"\",VLOOKUP(不動産支払額!C57,不動産支払先情報!$A$8:$B$999,2,FALSE),\"\")&\"\"","v":""},{"$f":"不動産支払額!H57","v":0},{"$f":"IF(C56=\"法人\",VLOOKUP(不動産支払額!D57,不動産区分!$A$8:$B$30,2,FALSE),\"該当\")&\"\"","v":"該当"},"0"]
[null,{"$f":"不動産支払額!C58","v":0},{"$f":"IF(不動産支払額!C58<>\"\",VLOOKUP(不動産支払額!C58,不動産支払先情報!$A$8:$B$999,2,FALSE),\"\")&\"\"","v":""},{"$f":"不動産支払額!H58","v":0},{"$f":"IF(C57=\"法人\",VLOOKUP(不動産支払額!D58,不動産区分!$A$8:$B$30,2,FALSE),\"該当\")&\"\"","v":"該当"},"0"]
[null,{"$f":"不動産支払額!C59","v":0},{"$f":"IF(不動産支払額!C59<>\"\",VLOOKUP(不動産支払額!C59,不動産支払先情報!$A$8:$B$999,2,FALSE),\"\")&\"\"","v":""},{"$f":"不動産支払額!H59","v":0},{"$f":"IF(C58=\"法人\",VLOOKUP(不動産支払額!D59,不動産区分!$A$8:$B$30,2,FALSE),\"該当\")&\"\"","v":"該当"},"0"]
[null,{"$f":"不動産支払額!C60","v":0},{"$f":"IF(不動産支払額!C60<>\"\",VLOOKUP(不動産支払額!C60,不動産支払先情報!$A$8:$B$999,2,FALSE),\"\")&\"\"","v":""},{"$f":"不動産支払額!H60","v":0},{"$f":"IF(C59=\"法人\",VLOOKUP(不動産支払額!D60,不動産区分!$A$8:$B$30,2,FALSE),\"該当\")&\"\"","v":"該当"},"0"]
[null,{"$f":"不動産支払額!C61","v":0},{"$f":"IF(不動産支払額!C61<>\"\",VLOOKUP(不動産支払額!C61,不動産支払先情報!$A$8:$B$999,2,FALSE),\"\")&\"\"","v":""},{"$f":"不動産支払額!H61","v":0},{"$f":"IF(C60=\"法人\",VLOOKUP(不動産支払額!D61,不動産区分!$A$8:$B$30,2,FALSE),\"該当\")&\"\"","v":"該当"},"0"]
[null,{"$f":"不動産支払額!C62","v":0},{"$f":"IF(不動産支払額!C62<>\"\",VLOOKUP(不動産支払額!C62,不動産支払先情報!$A$8:$B$999,2,FALSE),\"\")&\"\"","v":""},{"$f":"不動産支払額!H62","v":0},{"$f":"IF(C61=\"法人\",VLOOKUP(不動産支払額!D62,不動産区分!$A$8:$B$30,2,FALSE),\"該当\")&\"\"","v":"該当"},"0"]
[null,{"$f":"不動産支払額!C63","v":0},{"$f":"IF(不動産支払額!C63<>\"\",VLOOKUP(不動産支払額!C63,不動産支払先情報!$A$8:$B$999,2,FALSE),\"\")&\"\"","v":""},{"$f":"不動産支払額!H63","v":0},{"$f":"IF(C62=\"法人\",VLOOKUP(不動産支払額!D63,不動産区分!$A$8:$B$30,2,FALSE),\"該当\")&\"\"","v":"該当"},"0"]
[null,{"$f":"不動産支払額!C64","v":0},{"$f":"IF(不動産支払額!C64<>\"\",VLOOKUP(不動産支払額!C64,不動産支払先情報!$A$8:$B$999,2,FALSE),\"\")&\"\"","v":""},{"$f":"不動産支払額!H64","v":0},{"$f":"IF(C63=\"法人\",VLOOKUP(不動産支払額!D64,不動産区分!$A$8:$B$30,2,FALSE),\"該当\")&\"\"","v":"該当"},"0"]
[null,{"$f":"不動産支払額!C65","v":0},{"$f":"IF(不動産支払額!C65<>\"\",VLOOKUP(不動産支払額!C65,不動産支払先情報!$A$8:$B$999,2,FALSE),\"\")&\"\"","v":""},{"$f":"不動産支払額!H65","v":0},{"$f":"IF(C64=\"法人\",VLOOKUP(不動産支払額!D65,不動産区分!$A$8:$B$30,2,FALSE),\"該当\")&\"\"","v":"該当"},"0"]
[null,{"$f":"不動産支払額!C66","v":0},{"$f":"IF(不動産支払額!C66<>\"\",VLOOKUP(不動産支払額!C66,不動産支払先情報!$A$8:$B$999,2,FALSE),\"\")&\"\"","v":""},{"$f":"不動産支払額!H66","v":0},{"$f":"IF(C65=\"法人\",VLOOKUP(不動産支払額!D66,不動産区分!$A$8:$B$30,2,FALSE),\"該当\")&\"\"","v":"該当"},"0"]
[null,{"$f":"不動産支払額!C67","v":0},{"$f":"IF(不動産支払額!C67<>\"\",VLOOKUP(不動産支払額!C67,不動産支払先情報!$A$8:$B$999,2,FALSE),\"\")&\"\"","v":""},{"$f":"不動産支払額!H67","v":0},{"$f":"IF(C66=\"法人\",VLOOKUP(不動産支払額!D67,不動産区分!$A$8:$B$30,2,FALSE),\"該当\")&\"\"","v":"該当"},"0"]
[null,{"$f":"不動産支払額!C68","v":0},{"$f":"IF(不動産支払額!C68<>\"\",VLOOKUP(不動産支払額!C68,不動産支払先情報!$A$8:$B$999,2,FALSE),\"\")&\"\"","v":""},{"$f":"不動産支払額!H68","v":0},{"$f":"IF(C67=\"法人\",VLOOKUP(不動産支払額!D68,不動産区分!$A$8:$B$30,2,FALSE),\"該当\")&\"\"","v":"該当"},"0"]
[null,{"$f":"不動産支払額!C69","v":0},{"$f":"IF(不動産支払額!C69<>\"\",VLOOKUP(不動産支払額!C69,不動産支払先情報!$A$8:$B$999,2,FALSE),\"\")&\"\"","v":""},{"$f":"不動産支払額!H69","v":0},{"$f":"IF(C68=\"法人\",VLOOKUP(不動産支払額!D69,不動産区分!$A$8:$B$30,2,FALSE),\"該当\")&\"\"","v":"該当"},"0"]
[null,{"$f":"不動産支払額!C70","v":0},{"$f":"IF(不動産支払額!C70<>\"\",VLOOKUP(不動産支払額!C70,不動産支払先情報!$A$8:$B$999,2,FALSE),\"\")&\"\"","v":""},{"$f":"不動産支払額!H70","v":0},{"$f":"IF(C69=\"法人\",VLOOKUP(不動産支払額!D70,不動産区分!$A$8:$B$30,2,FALSE),\"該当\")&\"\"","v":"該当"},"0"]
[null,{"$f":"不動産支払額!C71","v":0},{"$f":"IF(不動産支払額!C71<>\"\",VLOOKUP(不動産支払額!C71,不動産支払先情報!$A$8:$B$999,2,FALSE),\"\")&\"\"","v":""},{"$f":"不動産支払額!H71","v":0},{"$f":"IF(C70=\"法人\",VLOOKUP(不動産支払額!D71,不動産区分!$A$8:$B$30,2,FALSE),\"該当\")&\"\"","v":"該当"},"0"]
[null,{"$f":"不動産支払額!C72","v":0},{"$f":"IF(不動産支払額!C72<>\"\",VLOOKUP(不動産支払額!C72,不動産支払先情報!$A$8:$B$999,2,FALSE),\"\")&\"\"","v":""},{"$f":"不動産支払額!H72","v":0},{"$f":"IF(C71=\"法人\",VLOOKUP(不動産支払額!D72,不動産区分!$A$8:$B$30,2,FALSE),\"該当\")&\"\"","v":"該当"},"0"]
[null,{"$f":"不動産支払額!C73","v":0},{"$f":"IF(不動産支払額!C73<>\"\",VLOOKUP(不動産支払額!C73,不動産支払先情報!$A$8:$B$999,2,FALSE),\"\")&\"\"","v":""},{"$f":"不動産支払額!H73","v":0},{"$f":"IF(C72=\"法人\",VLOOKUP(不動産支払額!D73,不動産区分!$A$8:$B$30,2,FALSE),\"該当\")&\"\"","v":"該当"},"0"]
[null,{"$f":"不動産支払額!C74","v":0},{"$f":"IF(不動産支払額!C74<>\"\",VLOOKUP(不動産支払額!C74,不動産支払先情報!$A$8:$B$999,2,FALSE),\"\")&\"\"","v":""},{"$f":"不動産支払額!H74","v":0},{"$f":"IF(C73=\"法人\",VLOOKUP(不動産支払額!D74,不動産区分!$A$8:$B$30,2,FALSE),\"該当\")&\"\"","v":"該当"},"0"]
[null,{"$f":"不動産支払額!C75","v":0},{"$f":"IF(不動産支払額!C75<>\"\",VLOOKUP(不動産支払額!C75,不動産支払先情報!$A$8:$B$999,2,FALSE),\"\")&\"\"","v":""},{"$f":"不動産支払額!H75","v":0},{"$f":"IF(C74=\"法人\",VLOOKUP(不動産支払額!D75,不動産区分!$A$8:$B$30,2,FALSE),\"該当\")&\"\"","v":"該当"},{"$f":"B74&IF(E74<>\"\",\"\",\"集計しない\")","v":"0"}]
[null,{"$f":"不動産支払額!C76","v":0},{"$f":"IF(不動産支払額!C76<>\"\",VLOOKUP(不動産支払額!C76,不動産支払先情報!$A$8:$B$999,2,FALSE),\"\")&\"\"","v":""},{"$f":"不動産支払額!H76","v":0},{"$f":"IF(C75=\"法人\",VLOOKUP(不動産支払額!D76,不動産区分!$A$8:$B$30,2,FALSE),\"該当\")&\"\"","v":"該当"},"0"]
[null,{"$f":"不動産支払額!C77","v":0},{"$f":"IF(不動産支払額!C77<>\"\",VLOOKUP(不動産支払額!C77,不動産支払先情報!$A$8:$B$999,2,FALSE),\"\")&\"\"","v":""},{"$f":"不動産支払額!H77","v":0},{"$f":"IF(C76=\"法人\",VLOOKUP(不動産支払額!D77,不動産区分!$A$8:$B$30,2,FALSE),\"該当\")&\"\"","v":"該当"},"0"]
[null,{"$f":"不動産支払額!C78","v":0},{"$f":"IF(不動産支払額!C78<>\"\",VLOOKUP(不動産支払額!C78,不動産支払先情報!$A$8:$B$999,2,FALSE),\"\")&\"\"","v":""},{"$f":"不動産支払額!H78","v":0},{"$f":"IF(C77=\"法人\",VLOOKUP(不動産支払額!D78,不動産区分!$A$8:$B$30,2,FALSE),\"該当\")&\"\"","v":"該当"},"0"]
[null,{"$f":"不動産支払額!C79","v":0},{"$f":"IF(不動産支払額!C79<>\"\",VLOOKUP(不動産支払額!C79,不動産支払先情報!$A$8:$B$999,2,FALSE),\"\")&\"\"","v":""},{"$f":"不動産支払額!H79","v":0},{"$f":"IF(C78=\"法人\",VLOOKUP(不動産支払額!D79,不動産区分!$A$8:$B$30,2,FALSE),\"該当\")&\"\"","v":"該当"},"0"]
[null,{"$f":"不動産支払額!C80","v":0},{"$f":"IF(不動産支払額!C80<>\"\",VLOOKUP(不動産支払額!C80,不動産支払先情報!$A$8:$B$999,2,FALSE),\"\")&\"\"","v":""},{"$f":"不動産支払額!H80","v":0},{"$f":"IF(C79=\"法人\",VLOOKUP(不動産支払額!D80,不動産区分!$A$8:$B$30,2,FALSE),\"該当\")&\"\"","v":"該当"},"0"]
[null,{"$f":"不動産支払額!C81","v":0},{"$f":"IF(不動産支払額!C81<>\"\",VLOOKUP(不動産支払額!C81,不動産支払先情報!$A$8:$B$999,2,FALSE),\"\")&\"\"","v":""},{"$f":"不動産支払額!H81","v":0},{"$f":"IF(C80=\"法人\",VLOOKUP(不動産支払額!D81,不動産区分!$A$8:$B$30,2,FALSE),\"該当\")&\"\"","v":"該当"},"0"]
[null,{"$f":"不動産支払額!C82","v":0},{"$f":"IF(不動産支払額!C82<>\"\",VLOOKUP(不動産支払額!C82,不動産支払先情報!$A$8:$B$999,2,FALSE),\"\")&\"\"","v":""},{"$f":"不動産支払額!H82","v":0},{"$f":"IF(C81=\"法人\",VLOOKUP(不動産支払額!D82,不動産区分!$A$8:$B$30,2,FALSE),\"該当\")&\"\"","v":"該当"},"0"]
[null,{"$f":"不動産支払額!C83","v":0},{"$f":"IF(不動産支払額!C83<>\"\",VLOOKUP(不動産支払額!C83,不動産支払先情報!$A$8:$B$999,2,FALSE),\"\")&\"\"","v":""},{"$f":"不動産支払額!H83","v":0},{"$f":"IF(C82=\"法人\",VLOOKUP(不動産支払額!D83,不動産区分!$A$8:$B$30,2,FALSE),\"該当\")&\"\"","v":"該当"},"0"]
[null,{"$f":"不動産支払額!C84","v":0},{"$f":"IF(不動産支払額!C84<>\"\",VLOOKUP(不動産支払額!C84,不動産支払先情報!$A$8:$B$999,2,FALSE),\"\")&\"\"","v":""},{"$f":"不動産支払額!H84","v":0},{"$f":"IF(C83=\"法人\",VLOOKUP(不動産支払額!D84,不動産区分!$A$8:$B$30,2,FALSE),\"該当\")&\"\"","v":"該当"},"0"]
[null,{"$f":"不動産支払額!C85","v":0},{"$f":"IF(不動産支払額!C85<>\"\",VLOOKUP(不動産支払額!C85,不動産支払先情報!$A$8:$B$999,2,FALSE),\"\")&\"\"","v":""},{"$f":"不動産支払額!H85","v":0},{"$f":"IF(C84=\"法人\",VLOOKUP(不動産支払額!D85,不動産区分!$A$8:$B$30,2,FALSE),\"該当\")&\"\"","v":"該当"},"0"]
[null,{"$f":"不動産支払額!C86","v":0},{"$f":"IF(不動産支払額!C86<>\"\",VLOOKUP(不動産支払額!C86,不動産支払先情報!$A$8:$B$999,2,FALSE),\"\")&\"\"","v":""},{"$f":"不動産支払額!H86","v":0},{"$f":"IF(C85=\"法人\",VLOOKUP(不動産支払額!D86,不動産区分!$A$8:$B$30,2,FALSE),\"該当\")&\"\"","v":"該当"},"0"]
[null,{"$f":"不動産支払額!C87","v":0},{"$f":"IF(不動産支払額!C87<>\"\",VLOOKUP(不動産支払額!C87,不動産支払先情報!$A$8:$B$999,2,FALSE),\"\")&\"\"","v":""},{"$f":"不動産支払額!H87","v":0},{"$f":"IF(C86=\"法人\",VLOOKUP(不動産支払額!D87,不動産区分!$A$8:$B$30,2,FALSE),\"該当\")&\"\"","v":"該当"},"0"]
[null,{"$f":"不動産支払額!C88","v":0},{"$f":"IF(不動産支払額!C88<>\"\",VLOOKUP(不動産支払額!C88,不動産支払先情報!$A$8:$B$999,2,FALSE),\"\")&\"\"","v":""},{"$f":"不動産支払額!H88","v":0},{"$f":"IF(C87=\"法人\",VLOOKUP(不動産支払額!D88,不動産区分!$A$8:$B$30,2,FALSE),\"該当\")&\"\"","v":"該当"},"0"]
[null,{"$f":"不動産支払額!C89","v":0},{"$f":"IF(不動産支払額!C89<>\"\",VLOOKUP(不動産支払額!C89,不動産支払先情報!$A$8:$B$999,2,FALSE),\"\")&\"\"","v":""},{"$f":"不動産支払額!H89","v":0},{"$f":"IF(C88=\"法人\",VLOOKUP(不動産支払額!D89,不動産区分!$A$8:$B$30,2,FALSE),\"該当\")&\"\"","v":"該当"},"0"]
[null,{"$f":"不動産支払額!C90","v":0},{"$f":"IF(不動産支払額!C90<>\"\",VLOOKUP(不動産支払額!C90,不動産支払先情報!$A$8:$B$999,2,FALSE),\"\")&\"\"","v":""},{"$f":"不動産支払額!H90","v":0},{"$f":"IF(C89=\"法人\",VLOOKUP(不動産支払額!D90,不動産区分!$A$8:$B$30,2,FALSE),\"該当\")&\"\"","v":"該当"},"0"]
[null,{"$f":"不動産支払額!C91","v":0},{"$f":"IF(不動産支払額!C91<>\"\",VLOOKUP(不動産支払額!C91,不動産支払先情報!$A$8:$B$999,2,FALSE),\"\")&\"\"","v":""},{"$f":"不動産支払額!H91","v":0},{"$f":"IF(C90=\"法人\",VLOOKUP(不動産支払額!D91,不動産区分!$A$8:$B$30,2,FALSE),\"該当\")&\"\"","v":"該当"},"0"]
[null,{"$f":"不動産支払額!C92","v":0},{"$f":"IF(不動産支払額!C92<>\"\",VLOOKUP(不動産支払額!C92,不動産支払先情報!$A$8:$B$999,2,FALSE),\"\")&\"\"","v":""},{"$f":"不動産支払額!H92","v":0},{"$f":"IF(C91=\"法人\",VLOOKUP(不動産支払額!D92,不動産区分!$A$8:$B$30,2,FALSE),\"該当\")&\"\"","v":"該当"},"0"]
[null,{"$f":"不動産支払額!C93","v":0},{"$f":"IF(不動産支払額!C93<>\"\",VLOOKUP(不動産支払額!C93,不動産支払先情報!$A$8:$B$999,2,FALSE),\"\")&\"\"","v":""},{"$f":"不動産支払額!H93","v":0},{"$f":"IF(C92=\"法人\",VLOOKUP(不動産支払額!D93,不動産区分!$A$8:$B$30,2,FALSE),\"該当\")&\"\"","v":"該当"},"0"]
[null,{"$f":"不動産支払額!C94","v":0},{"$f":"IF(不動産支払額!C94<>\"\",VLOOKUP(不動産支払額!C94,不動産支払先情報!$A$8:$B$999,2,FALSE),\"\")&\"\"","v":""},{"$f":"不動産支払額!H94","v":0},{"$f":"IF(C93=\"法人\",VLOOKUP(不動産支払額!D94,不動産区分!$A$8:$B$30,2,FALSE),\"該当\")&\"\"","v":"該当"},"0"]
[null,{"$f":"不動産支払額!C95","v":0},{"$f":"IF(不動産支払額!C95<>\"\",VLOOKUP(不動産支払額!C95,不動産支払先情報!$A$8:$B$999,2,FALSE),\"\")&\"\"","v":""},{"$f":"不動産支払額!H95","v":0},{"$f":"IF(C94=\"法人\",VLOOKUP(不動産支払額!D95,不動産区分!$A$8:$B$30,2,FALSE),\"該当\")&\"\"","v":"該当"},"0"]
[null,{"$f":"不動産支払額!C96","v":0},{"$f":"IF(不動産支払額!C96<>\"\",VLOOKUP(不動産支払額!C96,不動産支払先情報!$A$8:$B$999,2,FALSE),\"\")&\"\"","v":""},{"$f":"不動産支払額!H96","v":0},{"$f":"IF(C95=\"法人\",VLOOKUP(不動産支払額!D96,不動産区分!$A$8:$B$30,2,FALSE),\"該当\")&\"\"","v":"該当"},"0"]
[null,{"$f":"不動産支払額!C97","v":0},{"$f":"IF(不動産支払額!C97<>\"\",VLOOKUP(不動産支払額!C97,不動産支払先情報!$A$8:$B$999,2,FALSE),\"\")&\"\"","v":""},{"$f":"不動産支払額!H97","v":0},{"$f":"IF(C96=\"法人\",VLOOKUP(不動産支払額!D97,不動産区分!$A$8:$B$30,2,FALSE),\"該当\")&\"\"","v":"該当"},"0"]
[null,{"$f":"不動産支払額!C98","v":0},{"$f":"IF(不動産支払額!C98<>\"\",VLOOKUP(不動産支払額!C98,不動産支払先情報!$A$8:$B$999,2,FALSE),\"\")&\"\"","v":""},{"$f":"不動産支払額!H98","v":0},{"$f":"IF(C97=\"法人\",VLOOKUP(不動産支払額!D98,不動産区分!$A$8:$B$30,2,FALSE),\"該当\")&\"\"","v":"該当"},"0"]
[null,{"$f":"不動産支払額!C99","v":0},{"$f":"IF(不動産支払額!C99<>\"\",VLOOKUP(不動産支払額!C99,不動産支払先情報!$A$8:$B$999,2,FALSE),\"\")&\"\"","v":""},{"$f":"不動産支払額!H99","v":0},{"$f":"IF(C98=\"法人\",VLOOKUP(不動産支払額!D99,不動産区分!$A$8:$B$30,2,FALSE),\"該当\")&\"\"","v":"該当"},"0"]
[null,{"$f":"不動産支払額!C100","v":0},{"$f":"IF(不動産支払額!C100<>\"\",VLOOKUP(不動産支払額!C100,不動産支払先情報!$A$8:$B$999,2,FALSE),\"\")&\"\"","v":""},{"$f":"不動産支払額!H100","v":0},{"$f":"IF(C99=\"法人\",VLOOKUP(不動産支払額!D100,不動産区分!$A$8:$B$30,2,FALSE),\"該当\")&\"\"","v":"該当"},"0"]
[null,{"$f":"不動産支払額!C101","v":0},{"$f":"IF(不動産支払額!C101<>\"\",VLOOKUP(不動産支払額!C101,不動産支払先情報!$A$8:$B$999,2,FALSE),\"\")&\"\"","v":""},{"$f":"不動産支払額!H101","v":0},{"$f":"IF(C100=\"法人\",VLOOKUP(不動産支払額!D101,不動産区分!$A$8:$B$30,2,FALSE),\"該当\")&\"\"","v":"該当"},"0"]
[null,{"$f":"不動産支払額!C102","v":0},{"$f":"IF(不動産支払額!C102<>\"\",VLOOKUP(不動産支払額!C102,不動産支払先情報!$A$8:$B$999,2,FALSE),\"\")&\"\"","v":""},{"$f":"不動産支払額!H102","v":0},{"$f":"IF(C101=\"法人\",VLOOKUP(不動産支払額!D102,不動産区分!$A$8:$B$30,2,FALSE),\"該当\")&\"\"","v":"該当"},"0"]
[null,{"$f":"不動産支払額!C103","v":0},{"$f":"IF(不動産支払額!C103<>\"\",VLOOKUP(不動産支払額!C103,不動産支払先情報!$A$8:$B$999,2,FALSE),\"\")&\"\"","v":""},{"$f":"不動産支払額!H103","v":0},{"$f":"IF(C102=\"法人\",VLOOKUP(不動産支払額!D103,不動産区分!$A$8:$B$30,2,FALSE),\"該当\")&\"\"","v":"該当"},"0"]
[null,{"$f":"不動産支払額!C104","v":0},{"$f":"IF(不動産支払額!C104<>\"\",VLOOKUP(不動産支払額!C104,不動産支払先情報!$A$8:$B$999,2,FALSE),\"\")&\"\"","v":""},{"$f":"不動産支払額!H104","v":0},{"$f":"IF(C103=\"法人\",VLOOKUP(不動産支払額!D104,不動産区分!$A$8:$B$30,2,FALSE),\"該当\")&\"\"","v":"該当"},"0"]
[null,{"$f":"不動産支払額!C105","v":0},{"$f":"IF(不動産支払額!C105<>\"\",VLOOKUP(不動産支払額!C105,不動産支払先情報!$A$8:$B$999,2,FALSE),\"\")&\"\"","v":""},{"$f":"不動産支払額!H105","v":0},{"$f":"IF(C104=\"法人\",VLOOKUP(不動産支払額!D105,不動産区分!$A$8:$B$30,2,FALSE),\"該当\")&\"\"","v":"該当"},"0"]
[null,{"$f":"不動産支払額!C106","v":0},{"$f":"IF(不動産支払額!C106<>\"\",VLOOKUP(不動産支払額!C106,不動産支払先情報!$A$8:$B$999,2,FALSE),\"\")&\"\"","v":""},{"$f":"不動産支払額!H106","v":0},{"$f":"IF(C105=\"法人\",VLOOKUP(不動産支払額!D106,不動産区分!$A$8:$B$30,2,FALSE),\"該当\")&\"\"","v":"該当"},"0"]
[null,{"$f":"不動産支払額!C107","v":0},{"$f":"IF(不動産支払額!C107<>\"\",VLOOKUP(不動産支払額!C107,不動産支払先情報!$A$8:$B$999,2,FALSE),\"\")&\"\"","v":""},{"$f":"不動産支払額!H107","v":0},{"$f":"IF(C106=\"法人\",VLOOKUP(不動産支払額!D107,不動産区分!$A$8:$B$30,2,FALSE),\"該当\")&\"\"","v":"該当"},"0"]
[null,{"$f":"不動産支払額!C108","v":0},{"$f":"IF(不動産支払額!C108<>\"\",VLOOKUP(不動産支払額!C108,不動産支払先情報!$A$8:$B$999,2,FALSE),\"\")&\"\"","v":""},{"$f":"不動産支払額!H108","v":0},{"$f":"IF(C107=\"法人\",VLOOKUP(不動産支払額!D108,不動産区分!$A$8:$B$30,2,FALSE),\"該当\")&\"\"","v":"該当"},"0"]
[null,{"$f":"不動産支払額!C109","v":0},{"$f":"IF(不動産支払額!C109<>\"\",VLOOKUP(不動産支払額!C109,不動産支払先情報!$A$8:$B$999,2,FALSE),\"\")&\"\"","v":""},{"$f":"不動産支払額!H109","v":0},{"$f":"IF(C108=\"法人\",VLOOKUP(不動産支払額!D109,不動産区分!$A$8:$B$30,2,FALSE),\"該当\")&\"\"","v":"該当"},"0"]
[null,{"$f":"不動産支払額!C110","v":0},{"$f":"IF(不動産支払額!C110<>\"\",VLOOKUP(不動産支払額!C110,不動産支払先情報!$A$8:$B$999,2,FALSE),\"\")&\"\"","v":""},{"$f":"不動産支払額!H110","v":0},{"$f":"IF(C109=\"法人\",VLOOKUP(不動産支払額!D110,不動産区分!$A$8:$B$30,2,FALSE),\"該当\")&\"\"","v":"該当"},{"$f":"B109&IF(E109<>\"\",\"\",\"集計しない\")","v":"0"}]
[null,{"$f":"不動産支払額!C111","v":0},{"$f":"IF(不動産支払額!C111<>\"\",VLOOKUP(不動産支払額!C111,不動産支払先情報!$A$8:$B$999,2,FALSE),\"\")&\"\"","v":""},{"$f":"不動産支払額!H111","v":0},{"$f":"IF(C110=\"法人\",VLOOKUP(不動産支払額!D111,不動産区分!$A$8:$B$30,2,FALSE),\"該当\")&\"\"","v":"該当"},"0"]
[null,{"$f":"不動産支払額!C112","v":0},{"$f":"IF(不動産支払額!C112<>\"\",VLOOKUP(不動産支払額!C112,不動産支払先情報!$A$8:$B$999,2,FALSE),\"\")&\"\"","v":""},{"$f":"不動産支払額!H112","v":0},{"$f":"IF(C111=\"法人\",VLOOKUP(不動産支払額!D112,不動産区分!$A$8:$B$30,2,FALSE),\"該当\")&\"\"","v":"該当"},"0"]
[null,{"$f":"不動産支払額!C113","v":0},{"$f":"IF(不動産支払額!C113<>\"\",VLOOKUP(不動産支払額!C113,不動産支払先情報!$A$8:$B$999,2,FALSE),\"\")&\"\"","v":""},{"$f":"不動産支払額!H113","v":0},{"$f":"IF(C112=\"法人\",VLOOKUP(不動産支払額!D113,不動産区分!$A$8:$B$30,2,FALSE),\"該当\")&\"\"","v":"該当"},"0"]
[null,{"$f":"不動産支払額!C114","v":0},{"$f":"IF(不動産支払額!C114<>\"\",VLOOKUP(不動産支払額!C114,不動産支払先情報!$A$8:$B$999,2,FALSE),\"\")&\"\"","v":""},{"$f":"不動産支払額!H114","v":0},{"$f":"IF(C113=\"法人\",VLOOKUP(不動産支払額!D114,不動産区分!$A$8:$B$30,2,FALSE),\"該当\")&\"\"","v":"該当"},"0"]
[null,{"$f":"不動産支払額!C115","v":0},{"$f":"IF(不動産支払額!C115<>\"\",VLOOKUP(不動産支払額!C115,不動産支払先情報!$A$8:$B$999,2,FALSE),\"\")&\"\"","v":""},{"$f":"不動産支払額!H115","v":0},{"$f":"IF(C114=\"法人\",VLOOKUP(不動産支払額!D115,不動産区分!$A$8:$B$30,2,FALSE),\"該当\")&\"\"","v":"該当"},"0"]
[null,{"$f":"不動産支払額!C116","v":0},{"$f":"IF(不動産支払額!C116<>\"\",VLOOKUP(不動産支払額!C116,不動産支払先情報!$A$8:$B$999,2,FALSE),\"\")&\"\"","v":""},{"$f":"不動産支払額!H116","v":0},{"$f":"IF(C115=\"法人\",VLOOKUP(不動産支払額!D116,不動産区分!$A$8:$B$30,2,FALSE),\"該当\")&\"\"","v":"該当"},"0"]
[null,{"$f":"不動産支払額!C117","v":0},{"$f":"IF(不動産支払額!C117<>\"\",VLOOKUP(不動産支払額!C117,不動産支払先情報!$A$8:$B$999,2,FALSE),\"\")&\"\"","v":""},{"$f":"不動産支払額!H117","v":0},{"$f":"IF(C116=\"法人\",VLOOKUP(不動産支払額!D117,不動産区分!$A$8:$B$30,2,FALSE),\"該当\")&\"\"","v":"該当"},"0"]
[null,{"$f":"不動産支払額!C118","v":0},{"$f":"IF(不動産支払額!C118<>\"\",VLOOKUP(不動産支払額!C118,不動産支払先情報!$A$8:$B$999,2,FALSE),\"\")&\"\"","v":""},{"$f":"不動産支払額!H118","v":0},{"$f":"IF(C117=\"法人\",VLOOKUP(不動産支払額!D118,不動産区分!$A$8:$B$30,2,FALSE),\"該当\")&\"\"","v":"該当"},"0"]
[null,{"$f":"不動産支払額!C119","v":0},{"$f":"IF(不動産支払額!C119<>\"\",VLOOKUP(不動産支払額!C119,不動産支払先情報!$A$8:$B$999,2,FALSE),\"\")&\"\"","v":""},{"$f":"不動産支払額!H119","v":0},{"$f":"IF(C118=\"法人\",VLOOKUP(不動産支払額!D119,不動産区分!$A$8:$B$30,2,FALSE),\"該当\")&\"\"","v":"該当"},"0"]
[null,{"$f":"不動産支払額!C120","v":0},{"$f":"IF(不動産支払額!C120<>\"\",VLOOKUP(不動産支払額!C120,不動産支払先情報!$A$8:$B$999,2,FALSE),\"\")&\"\"","v":""},{"$f":"不動産支払額!H120","v":0},{"$f":"IF(C119=\"法人\",VLOOKUP(不動産支払額!D120,不動産区分!$A$8:$B$30,2,FALSE),\"該当\")&\"\"","v":"該当"},"0"]
[null,{"$f":"不動産支払額!C121","v":0},{"$f":"IF(不動産支払額!C121<>\"\",VLOOKUP(不動産支払額!C121,不動産支払先情報!$A$8:$B$999,2,FALSE),\"\")&\"\"","v":""},{"$f":"不動産支払額!H121","v":0},{"$f":"IF(C120=\"法人\",VLOOKUP(不動産支払額!D121,不動産区分!$A$8:$B$30,2,FALSE),\"該当\")&\"\"","v":"該当"},"0"]
[null,{"$f":"不動産支払額!C122","v":0},{"$f":"IF(不動産支払額!C122<>\"\",VLOOKUP(不動産支払額!C122,不動産支払先情報!$A$8:$B$999,2,FALSE),\"\")&\"\"","v":""},{"$f":"不動産支払額!H122","v":0},{"$f":"IF(C121=\"法人\",VLOOKUP(不動産支払額!D122,不動産区分!$A$8:$B$30,2,FALSE),\"該当\")&\"\"","v":"該当"},"0"]
[null,{"$f":"不動産支払額!C123","v":0},{"$f":"IF(不動産支払額!C123<>\"\",VLOOKUP(不動産支払額!C123,不動産支払先情報!$A$8:$B$999,2,FALSE),\"\")&\"\"","v":""},{"$f":"不動産支払額!H123","v":0},{"$f":"IF(C122=\"法人\",VLOOKUP(不動産支払額!D123,不動産区分!$A$8:$B$30,2,FALSE),\"該当\")&\"\"","v":"該当"},"0"]
[null,{"$f":"不動産支払額!C124","v":0},{"$f":"IF(不動産支払額!C124<>\"\",VLOOKUP(不動産支払額!C124,不動産支払先情報!$A$8:$B$999,2,FALSE),\"\")&\"\"","v":""},{"$f":"不動産支払額!H124","v":0},{"$f":"IF(C123=\"法人\",VLOOKUP(不動産支払額!D124,不動産区分!$A$8:$B$30,2,FALSE),\"該当\")&\"\"","v":"該当"},"0"]
[null,{"$f":"不動産支払額!C125","v":0},{"$f":"IF(不動産支払額!C125<>\"\",VLOOKUP(不動産支払額!C125,不動産支払先情報!$A$8:$B$999,2,FALSE),\"\")&\"\"","v":""},{"$f":"不動産支払額!H125","v":0},{"$f":"IF(C124=\"法人\",VLOOKUP(不動産支払額!D125,不動産区分!$A$8:$B$30,2,FALSE),\"該当\")&\"\"","v":"該当"},"0"]
[null,{"$f":"不動産支払額!C126","v":0},{"$f":"IF(不動産支払額!C126<>\"\",VLOOKUP(不動産支払額!C126,不動産支払先情報!$A$8:$B$999,2,FALSE),\"\")&\"\"","v":""},{"$f":"不動産支払額!H126","v":0},{"$f":"IF(C125=\"法人\",VLOOKUP(不動産支払額!D126,不動産区分!$A$8:$B$30,2,FALSE),\"該当\")&\"\"","v":"該当"},"0"]
[null,{"$f":"不動産支払額!C127","v":0},{"$f":"IF(不動産支払額!C127<>\"\",VLOOKUP(不動産支払額!C127,不動産支払先情報!$A$8:$B$999,2,FALSE),\"\")&\"\"","v":""},{"$f":"不動産支払額!H127","v":0},{"$f":"IF(C126=\"法人\",VLOOKUP(不動産支払額!D127,不動産区分!$A$8:$B$30,2,FALSE),\"該当\")&\"\"","v":"該当"},"0"]
[null,{"$f":"不動産支払額!C128","v":0},{"$f":"IF(不動産支払額!C128<>\"\",VLOOKUP(不動産支払額!C128,不動産支払先情報!$A$8:$B$999,2,FALSE),\"\")&\"\"","v":""},{"$f":"不動産支払額!H128","v":0},{"$f":"IF(C127=\"法人\",VLOOKUP(不動産支払額!D128,不動産区分!$A$8:$B$30,2,FALSE),\"該当\")&\"\"","v":"該当"},"0"]
[null,{"$f":"不動産支払額!C129","v":0},{"$f":"IF(不動産支払額!C129<>\"\",VLOOKUP(不動産支払額!C129,不動産支払先情報!$A$8:$B$999,2,FALSE),\"\")&\"\"","v":""},{"$f":"不動産支払額!H129","v":0},{"$f":"IF(C128=\"法人\",VLOOKUP(不動産支払額!D129,不動産区分!$A$8:$B$30,2,FALSE),\"該当\")&\"\"","v":"該当"},"0"]
[null,{"$f":"不動産支払額!C130","v":0},{"$f":"IF(不動産支払額!C130<>\"\",VLOOKUP(不動産支払額!C130,不動産支払先情報!$A$8:$B$999,2,FALSE),\"\")&\"\"","v":""},{"$f":"不動産支払額!H130","v":0},{"$f":"IF(C129=\"法人\",VLOOKUP(不動産支払額!D130,不動産区分!$A$8:$B$30,2,FALSE),\"該当\")&\"\"","v":"該当"},"0"]
[null,{"$f":"不動産支払額!C131","v":0},{"$f":"IF(不動産支払額!C131<>\"\",VLOOKUP(不動産支払額!C131,不動産支払先情報!$A$8:$B$999,2,FALSE),\"\")&\"\"","v":""},{"$f":"不動産支払額!H131","v":0},{"$f":"IF(C130=\"法人\",VLOOKUP(不動産支払額!D131,不動産区分!$A$8:$B$30,2,FALSE),\"該当\")&\"\"","v":"該当"},"0"]
[null,{"$f":"不動産支払額!C132","v":0},{"$f":"IF(不動産支払額!C132<>\"\",VLOOKUP(不動産支払額!C132,不動産支払先情報!$A$8:$B$999,2,FALSE),\"\")&\"\"","v":""},{"$f":"不動産支払額!H132","v":0},{"$f":"IF(C131=\"法人\",VLOOKUP(不動産支払額!D132,不動産区分!$A$8:$B$30,2,FALSE),\"該当\")&\"\"","v":"該当"},"0"]
[null,{"$f":"不動産支払額!C133","v":0},{"$f":"IF(不動産支払額!C133<>\"\",VLOOKUP(不動産支払額!C133,不動産支払先情報!$A$8:$B$999,2,FALSE),\"\")&\"\"","v":""},{"$f":"不動産支払額!H133","v":0},{"$f":"IF(C132=\"法人\",VLOOKUP(不動産支払額!D133,不動産区分!$A$8:$B$30,2,FALSE),\"該当\")&\"\"","v":"該当"},"0"]
[null,{"$f":"不動産支払額!C134","v":0},{"$f":"IF(不動産支払額!C134<>\"\",VLOOKUP(不動産支払額!C134,不動産支払先情報!$A$8:$B$999,2,FALSE),\"\")&\"\"","v":""},{"$f":"不動産支払額!H134","v":0},{"$f":"IF(C133=\"法人\",VLOOKUP(不動産支払額!D134,不動産区分!$A$8:$B$30,2,FALSE),\"該当\")&\"\"","v":"該当"},"0"]
[null,{"$f":"不動産支払額!C135","v":0},{"$f":"IF(不動産支払額!C135<>\"\",VLOOKUP(不動産支払額!C135,不動産支払先情報!$A$8:$B$999,2,FALSE),\"\")&\"\"","v":""},{"$f":"不動産支払額!H135","v":0},{"$f":"IF(C134=\"法人\",VLOOKUP(不動産支払額!D135,不動産区分!$A$8:$B$30,2,FALSE),\"該当\")&\"\"","v":"該当"},"0"]
[null,{"$f":"不動産支払額!C136","v":0},{"$f":"IF(不動産支払額!C136<>\"\",VLOOKUP(不動産支払額!C136,不動産支払先情報!$A$8:$B$999,2,FALSE),\"\")&\"\"","v":""},{"$f":"不動産支払額!H136","v":0},{"$f":"IF(C135=\"法人\",VLOOKUP(不動産支払額!D136,不動産区分!$A$8:$B$30,2,FALSE),\"該当\")&\"\"","v":"該当"},"0"]
[null,{"$f":"不動産支払額!C137","v":0},{"$f":"IF(不動産支払額!C137<>\"\",VLOOKUP(不動産支払額!C137,不動産支払先情報!$A$8:$B$999,2,FALSE),\"\")&\"\"","v":""},{"$f":"不動産支払額!H137","v":0},{"$f":"IF(C136=\"法人\",VLOOKUP(不動産支払額!D137,不動産区分!$A$8:$B$30,2,FALSE),\"該当\")&\"\"","v":"該当"},"0"]
[null,{"$f":"不動産支払額!C138","v":0},{"$f":"IF(不動産支払額!C138<>\"\",VLOOKUP(不動産支払額!C138,不動産支払先情報!$A$8:$B$999,2,FALSE),\"\")&\"\"","v":""},{"$f":"不動産支払額!H138","v":0},{"$f":"IF(C137=\"法人\",VLOOKUP(不動産支払額!D138,不動産区分!$A$8:$B$30,2,FALSE),\"該当\")&\"\"","v":"該当"},"0"]
[null,{"$f":"不動産支払額!C139","v":0},{"$f":"IF(不動産支払額!C139<>\"\",VLOOKUP(不動産支払額!C139,不動産支払先情報!$A$8:$B$999,2,FALSE),\"\")&\"\"","v":""},{"$f":"不動産支払額!H139","v":0},{"$f":"IF(C138=\"法人\",VLOOKUP(不動産支払額!D139,不動産区分!$A$8:$B$30,2,FALSE),\"該当\")&\"\"","v":"該当"},"0"]
[null,{"$f":"不動産支払額!C140","v":0},{"$f":"IF(不動産支払額!C140<>\"\",VLOOKUP(不動産支払額!C140,不動産支払先情報!$A$8:$B$999,2,FALSE),\"\")&\"\"","v":""},{"$f":"不動産支払額!H140","v":0},{"$f":"IF(C139=\"法人\",VLOOKUP(不動産支払額!D140,不動産区分!$A$8:$B$30,2,FALSE),\"該当\")&\"\"","v":"該当"},"0"]
[null,{"$f":"不動産支払額!C141","v":0},{"$f":"IF(不動産支払額!C141<>\"\",VLOOKUP(不動産支払額!C141,不動産支払先情報!$A$8:$B$999,2,FALSE),\"\")&\"\"","v":""},{"$f":"不動産支払額!H141","v":0},{"$f":"IF(C140=\"法人\",VLOOKUP(不動産支払額!D141,不動産区分!$A$8:$B$30,2,FALSE),\"該当\")&\"\"","v":"該当"},"0"]
[null,{"$f":"不動産支払額!C142","v":0},{"$f":"IF(不動産支払額!C142<>\"\",VLOOKUP(不動産支払額!C142,不動産支払先情報!$A$8:$B$999,2,FALSE),\"\")&\"\"","v":""},{"$f":"不動産支払額!H142","v":0},{"$f":"IF(C141=\"法人\",VLOOKUP(不動産支払額!D142,不動産区分!$A$8:$B$30,2,FALSE),\"該当\")&\"\"","v":"該当"},"0"]
[null,{"$f":"不動産支払額!C143","v":0},{"$f":"IF(不動産支払額!C143<>\"\",VLOOKUP(不動産支払額!C143,不動産支払先情報!$A$8:$B$999,2,FALSE),\"\")&\"\"","v":""},{"$f":"不動産支払額!H143","v":0},{"$f":"IF(C142=\"法人\",VLOOKUP(不動産支払額!D143,不動産区分!$A$8:$B$30,2,FALSE),\"該当\")&\"\"","v":"該当"},"0"]
[null,{"$f":"不動産支払額!C144","v":0},{"$f":"IF(不動産支払額!C144<>\"\",VLOOKUP(不動産支払額!C144,不動産支払先情報!$A$8:$B$999,2,FALSE),\"\")&\"\"","v":""},{"$f":"不動産支払額!H144","v":0},{"$f":"IF(C143=\"法人\",VLOOKUP(不動産支払額!D144,不動産区分!$A$8:$B$30,2,FALSE),\"該当\")&\"\"","v":"該当"},"0"]
[null,{"$f":"不動産支払額!C145","v":0},{"$f":"IF(不動産支払額!C145<>\"\",VLOOKUP(不動産支払額!C145,不動産支払先情報!$A$8:$B$999,2,FALSE),\"\")&\"\"","v":""},{"$f":"不動産支払額!H145","v":0},{"$f":"IF(C144=\"法人\",VLOOKUP(不動産支払額!D145,不動産区分!$A$8:$B$30,2,FALSE),\"該当\")&\"\"","v":"該当"},"0"]
[null,{"$f":"不動産支払額!C146","v":0},{"$f":"IF(不動産支払額!C146<>\"\",VLOOKUP(不動産支払額!C146,不動産支払先情報!$A$8:$B$999,2,FALSE),\"\")&\"\"","v":""},{"$f":"不動産支払額!H146","v":0},{"$f":"IF(C145=\"法人\",VLOOKUP(不動産支払額!D146,不動産区分!$A$8:$B$30,2,FALSE),\"該当\")&\"\"","v":"該当"},"0"]
[null,{"$f":"不動産支払額!C147","v":0},{"$f":"IF(不動産支払額!C147<>\"\",VLOOKUP(不動産支払額!C147,不動産支払先情報!$A$8:$B$999,2,FALSE),\"\")&\"\"","v":""},{"$f":"不動産支払額!H147","v":0},{"$f":"IF(C146=\"法人\",VLOOKUP(不動産支払額!D147,不動産区分!$A$8:$B$30,2,FALSE),\"該当\")&\"\"","v":"該当"},"0"]
[null,{"$f":"不動産支払額!C148","v":0},{"$f":"IF(不動産支払額!C148<>\"\",VLOOKUP(不動産支払額!C148,不動産支払先情報!$A$8:$B$999,2,FALSE),\"\")&\"\"","v":""},{"$f":"不動産支払額!H148","v":0},{"$f":"IF(C147=\"法人\",VLOOKUP(不動産支払額!D148,不動産区分!$A$8:$B$30,2,FALSE),\"該当\")&\"\"","v":"該当"},"0"]
[null,{"$f":"不動産支払額!C149","v":0},{"$f":"IF(不動産支払額!C149<>\"\",VLOOKUP(不動産支払額!C149,不動産支払先情報!$A$8:$B$999,2,FALSE),\"\")&\"\"","v":""},{"$f":"不動産支払額!H149","v":0},{"$f":"IF(C148=\"法人\",VLOOKUP(不動産支払額!D149,不動産区分!$A$8:$B$30,2,FALSE),\"該当\")&\"\"","v":"該当"},"0"]
[null,{"$f":"不動産支払額!C150","v":0},{"$f":"IF(不動産支払額!C150<>\"\",VLOOKUP(不動産支払額!C150,不動産支払先情報!$A$8:$B$999,2,FALSE),\"\")&\"\"","v":""},{"$f":"不動産支払額!H150","v":0},{"$f":"IF(C149=\"法人\",VLOOKUP(不動産支払額!D150,不動産区分!$A$8:$B$30,2,FALSE),\"該当\")&\"\"","v":"該当"},"0"]
[null,{"$f":"不動産支払額!C151","v":0},{"$f":"IF(不動産支払額!C151<>\"\",VLOOKUP(不動産支払額!C151,不動産支払先情報!$A$8:$B$999,2,FALSE),\"\")&\"\"","v":""},{"$f":"不動産支払額!H151","v":0},{"$f":"IF(C150=\"法人\",VLOOKUP(不動産支払額!D151,不動産区分!$A$8:$B$30,2,FALSE),\"該当\")&\"\"","v":"該当"},"0"]
[null,{"$f":"不動産支払額!C152","v":0},{"$f":"IF(不動産支払額!C152<>\"\",VLOOKUP(不動産支払額!C152,不動産支払先情報!$A$8:$B$999,2,FALSE),\"\")&\"\"","v":""},{"$f":"不動産支払額!H152","v":0},{"$f":"IF(C151=\"法人\",VLOOKUP(不動産支払額!D152,不動産区分!$A$8:$B$30,2,FALSE),\"該当\")&\"\"","v":"該当"},"0"]
[null,{"$f":"不動産支払額!C153","v":0},{"$f":"IF(不動産支払額!C153<>\"\",VLOOKUP(不動産支払額!C153,不動産支払先情報!$A$8:$B$999,2,FALSE),\"\")&\"\"","v":""},{"$f":"不動産支払額!H153","v":0},{"$f":"IF(C152=\"法人\",VLOOKUP(不動産支払額!D153,不動産区分!$A$8:$B$30,2,FALSE),\"該当\")&\"\"","v":"該当"},"0"]
[null,{"$f":"不動産支払額!C154","v":0},{"$f":"IF(不動産支払額!C154<>\"\",VLOOKUP(不動産支払額!C154,不動産支払先情報!$A$8:$B$999,2,FALSE),\"\")&\"\"","v":""},{"$f":"不動産支払額!H154","v":0},{"$f":"IF(C153=\"法人\",VLOOKUP(不動産支払額!D154,不動産区分!$A$8:$B$30,2,FALSE),\"該当\")&\"\"","v":"該当"},"0"]
[null,{"$f":"不動産支払額!C155","v":0},{"$f":"IF(不動産支払額!C155<>\"\",VLOOKUP(不動産支払額!C155,不動産支払先情報!$A$8:$B$999,2,FALSE),\"\")&\"\"","v":""},{"$f":"不動産支払額!H155","v":0},{"$f":"IF(C154=\"法人\",VLOOKUP(不動産支払額!D155,不動産区分!$A$8:$B$30,2,FALSE),\"該当\")&\"\"","v":"該当"},"0"]
[null,{"$f":"不動産支払額!C156","v":0},{"$f":"IF(不動産支払額!C156<>\"\",VLOOKUP(不動産支払額!C156,不動産支払先情報!$A$8:$B$999,2,FALSE),\"\")&\"\"","v":""},{"$f":"不動産支払額!H156","v":0},{"$f":"IF(C155=\"法人\",VLOOKUP(不動産支払額!D156,不動産区分!$A$8:$B$30,2,FALSE),\"該当\")&\"\"","v":"該当"},"0"]
[null,{"$f":"不動産支払額!C157","v":0},{"$f":"IF(不動産支払額!C157<>\"\",VLOOKUP(不動産支払額!C157,不動産支払先情報!$A$8:$B$999,2,FALSE),\"\")&\"\"","v":""},{"$f":"不動産支払額!H157","v":0},{"$f":"IF(C156=\"法人\",VLOOKUP(不動産支払額!D157,不動産区分!$A$8:$B$30,2,FALSE),\"該当\")&\"\"","v":"該当"},"0"]
[null,{"$f":"不動産支払額!C158","v":0},{"$f":"IF(不動産支払額!C158<>\"\",VLOOKUP(不動産支払額!C158,不動産支払先情報!$A$8:$B$999,2,FALSE),\"\")&\"\"","v":""},{"$f":"不動産支払額!H158","v":0},{"$f":"IF(C157=\"法人\",VLOOKUP(不動産支払額!D158,不動産区分!$A$8:$B$30,2,FALSE),\"該当\")&\"\"","v":"該当"},"0"]
[null,{"$f":"不動産支払額!C159","v":0},{"$f":"IF(不動産支払額!C159<>\"\",VLOOKUP(不動産支払額!C159,不動産支払先情報!$A$8:$B$999,2,FALSE),\"\")&\"\"","v":""},{"$f":"不動産支払額!H159","v":0},{"$f":"IF(C158=\"法人\",VLOOKUP(不動産支払額!D159,不動産区分!$A$8:$B$30,2,FALSE),\"該当\")&\"\"","v":"該当"},"0"]
[null,{"$f":"不動産支払額!C160","v":0},{"$f":"IF(不動産支払額!C160<>\"\",VLOOKUP(不動産支払額!C160,不動産支払先情報!$A$8:$B$999,2,FALSE),\"\")&\"\"","v":""},{"$f":"不動産支払額!H160","v":0},{"$f":"IF(C159=\"法人\",VLOOKUP(不動産支払額!D160,不動産区分!$A$8:$B$30,2,FALSE),\"該当\")&\"\"","v":"該当"},"0"]
[null,{"$f":"不動産支払額!C161","v":0},{"$f":"IF(不動産支払額!C161<>\"\",VLOOKUP(不動産支払額!C161,不動産支払先情報!$A$8:$B$999,2,FALSE),\"\")&\"\"","v":""},{"$f":"不動産支払額!H161","v":0},{"$f":"IF(C160=\"法人\",VLOOKUP(不動産支払額!D161,不動産区分!$A$8:$B$30,2,FALSE),\"該当\")&\"\"","v":"該当"},"0"]
[null,{"$f":"不動産支払額!C162","v":0},{"$f":"IF(不動産支払額!C162<>\"\",VLOOKUP(不動産支払額!C162,不動産支払先情報!$A$8:$B$999,2,FALSE),\"\")&\"\"","v":""},{"$f":"不動産支払額!H162","v":0},{"$f":"IF(C161=\"法人\",VLOOKUP(不動産支払額!D162,不動産区分!$A$8:$B$30,2,FALSE),\"該当\")&\"\"","v":"該当"},"0"]
[null,{"$f":"不動産支払額!C163","v":0},{"$f":"IF(不動産支払額!C163<>\"\",VLOOKUP(不動産支払額!C163,不動産支払先情報!$A$8:$B$999,2,FALSE),\"\")&\"\"","v":""},{"$f":"不動産支払額!H163","v":0},{"$f":"IF(C162=\"法人\",VLOOKUP(不動産支払額!D163,不動産区分!$A$8:$B$30,2,FALSE),\"該当\")&\"\"","v":"該当"},"0"]
[null,{"$f":"不動産支払額!C164","v":0},{"$f":"IF(不動産支払額!C164<>\"\",VLOOKUP(不動産支払額!C164,不動産支払先情報!$A$8:$B$999,2,FALSE),\"\")&\"\"","v":""},{"$f":"不動産支払額!H164","v":0},{"$f":"IF(C163=\"法人\",VLOOKUP(不動産支払額!D164,不動産区分!$A$8:$B$30,2,FALSE),\"該当\")&\"\"","v":"該当"},"0"]
[null,{"$f":"不動産支払額!C165","v":0},{"$f":"IF(不動産支払額!C165<>\"\",VLOOKUP(不動産支払額!C165,不動産支払先情報!$A$8:$B$999,2,FALSE),\"\")&\"\"","v":""},{"$f":"不動産支払額!H165","v":0},{"$f":"IF(C164=\"法人\",VLOOKUP(不動産支払額!D165,不動産区分!$A$8:$B$30,2,FALSE),\"該当\")&\"\"","v":"該当"},"0"]
[null,{"$f":"不動産支払額!C166","v":0},{"$f":"IF(不動産支払額!C166<>\"\",VLOOKUP(不動産支払額!C166,不動産支払先情報!$A$8:$B$999,2,FALSE),\"\")&\"\"","v":""},{"$f":"不動産支払額!H166","v":0},{"$f":"IF(C165=\"法人\",VLOOKUP(不動産支払額!D166,不動産区分!$A$8:$B$30,2,FALSE),\"該当\")&\"\"","v":"該当"},"0"]
[null,{"$f":"不動産支払額!C167","v":0},{"$f":"IF(不動産支払額!C167<>\"\",VLOOKUP(不動産支払額!C167,不動産支払先情報!$A$8:$B$999,2,FALSE),\"\")&\"\"","v":""},{"$f":"不動産支払額!H167","v":0},{"$f":"IF(C166=\"法人\",VLOOKUP(不動産支払額!D167,不動産区分!$A$8:$B$30,2,FALSE),\"該当\")&\"\"","v":"該当"},"0"]
[null,{"$f":"不動産支払額!C168","v":0},{"$f":"IF(不動産支払額!C168<>\"\",VLOOKUP(不動産支払額!C168,不動産支払先情報!$A$8:$B$999,2,FALSE),\"\")&\"\"","v":""},{"$f":"不動産支払額!H168","v":0},{"$f":"IF(C167=\"法人\",VLOOKUP(不動産支払額!D168,不動産区分!$A$8:$B$30,2,FALSE),\"該当\")&\"\"","v":"該当"},"0"]
[null,{"$f":"不動産支払額!C169","v":0},{"$f":"IF(不動産支払額!C169<>\"\",VLOOKUP(不動産支払額!C169,不動産支払先情報!$A$8:$B$999,2,FALSE),\"\")&\"\"","v":""},{"$f":"不動産支払額!H169","v":0},{"$f":"IF(C168=\"法人\",VLOOKUP(不動産支払額!D169,不動産区分!$A$8:$B$30,2,FALSE),\"該当\")&\"\"","v":"該当"},"0"]
[null,{"$f":"不動産支払額!C170","v":0},{"$f":"IF(不動産支払額!C170<>\"\",VLOOKUP(不動産支払額!C170,不動産支払先情報!$A$8:$B$999,2,FALSE),\"\")&\"\"","v":""},{"$f":"不動産支払額!H170","v":0},{"$f":"IF(C169=\"法人\",VLOOKUP(不動産支払額!D170,不動産区分!$A$8:$B$30,2,FALSE),\"該当\")&\"\"","v":"該当"},"0"]
[null,{"$f":"不動産支払額!C171","v":0},{"$f":"IF(不動産支払額!C171<>\"\",VLOOKUP(不動産支払額!C171,不動産支払先情報!$A$8:$B$999,2,FALSE),\"\")&\"\"","v":""},{"$f":"不動産支払額!H171","v":0},{"$f":"IF(C170=\"法人\",VLOOKUP(不動産支払額!D171,不動産区分!$A$8:$B$30,2,FALSE),\"該当\")&\"\"","v":"該当"},"0"]
[null,{"$f":"不動産支払額!C172","v":0},{"$f":"IF(不動産支払額!C172<>\"\",VLOOKUP(不動産支払額!C172,不動産支払先情報!$A$8:$B$999,2,FALSE),\"\")&\"\"","v":""},{"$f":"不動産支払額!H172","v":0},{"$f":"IF(C171=\"法人\",VLOOKUP(不動産支払額!D172,不動産区分!$A$8:$B$30,2,FALSE),\"該当\")&\"\"","v":"該当"},"0"]
[null,{"$f":"不動産支払額!C173","v":0},{"$f":"IF(不動産支払額!C173<>\"\",VLOOKUP(不動産支払額!C173,不動産支払先情報!$A$8:$B$999,2,FALSE),\"\")&\"\"","v":""},{"$f":"不動産支払額!H173","v":0},{"$f":"IF(C172=\"法人\",VLOOKUP(不動産支払額!D173,不動産区分!$A$8:$B$30,2,FALSE),\"該当\")&\"\"","v":"該当"},"0"]
[null,{"$f":"不動産支払額!C174","v":0},{"$f":"IF(不動産支払額!C174<>\"\",VLOOKUP(不動産支払額!C174,不動産支払先情報!$A$8:$B$999,2,FALSE),\"\")&\"\"","v":""},{"$f":"不動産支払額!H174","v":0},{"$f":"IF(C173=\"法人\",VLOOKUP(不動産支払額!D174,不動産区分!$A$8:$B$30,2,FALSE),\"該当\")&\"\"","v":"該当"},{"$f":"B173&IF(E173<>\"\",\"\",\"集計しない\")","v":"0"}]
[null,{"$f":"不動産支払額!C175","v":0},{"$f":"IF(不動産支払額!C175<>\"\",VLOOKUP(不動産支払額!C175,不動産支払先情報!$A$8:$B$999,2,FALSE),\"\")&\"\"","v":""},{"$f":"不動産支払額!H175","v":0},{"$f":"IF(C174=\"法人\",VLOOKUP(不動産支払額!D175,不動産区分!$A$8:$B$30,2,FALSE),\"該当\")&\"\"","v":"該当"},"0"]
[null,{"$f":"不動産支払額!C176","v":0},{"$f":"IF(不動産支払額!C176<>\"\",VLOOKUP(不動産支払額!C176,不動産支払先情報!$A$8:$B$999,2,FALSE),\"\")&\"\"","v":""},{"$f":"不動産支払額!H176","v":0},{"$f":"IF(C175=\"法人\",VLOOKUP(不動産支払額!D176,不動産区分!$A$8:$B$30,2,FALSE),\"該当\")&\"\"","v":"該当"},"0"]
[null,{"$f":"不動産支払額!C177","v":0},{"$f":"IF(不動産支払額!C177<>\"\",VLOOKUP(不動産支払額!C177,不動産支払先情報!$A$8:$B$999,2,FALSE),\"\")&\"\"","v":""},{"$f":"不動産支払額!H177","v":0},{"$f":"IF(C176=\"法人\",VLOOKUP(不動産支払額!D177,不動産区分!$A$8:$B$30,2,FALSE),\"該当\")&\"\"","v":"該当"},"0"]
[null,{"$f":"不動産支払額!C178","v":0},{"$f":"IF(不動産支払額!C178<>\"\",VLOOKUP(不動産支払額!C178,不動産支払先情報!$A$8:$B$999,2,FALSE),\"\")&\"\"","v":""},{"$f":"不動産支払額!H178","v":0},{"$f":"IF(C177=\"法人\",VLOOKUP(不動産支払額!D178,不動産区分!$A$8:$B$30,2,FALSE),\"該当\")&\"\"","v":"該当"},"0"]
[null,{"$f":"不動産支払額!C179","v":0},{"$f":"IF(不動産支払額!C179<>\"\",VLOOKUP(不動産支払額!C179,不動産支払先情報!$A$8:$B$999,2,FALSE),\"\")&\"\"","v":""},{"$f":"不動産支払額!H179","v":0},{"$f":"IF(C178=\"法人\",VLOOKUP(不動産支払額!D179,不動産区分!$A$8:$B$30,2,FALSE),\"該当\")&\"\"","v":"該当"},"0"]
[null,{"$f":"不動産支払額!C180","v":0},{"$f":"IF(不動産支払額!C180<>\"\",VLOOKUP(不動産支払額!C180,不動産支払先情報!$A$8:$B$999,2,FALSE),\"\")&\"\"","v":""},{"$f":"不動産支払額!H180","v":0},{"$f":"IF(C179=\"法人\",VLOOKUP(不動産支払額!D180,不動産区分!$A$8:$B$30,2,FALSE),\"該当\")&\"\"","v":"該当"},"0"]
[null,{"$f":"不動産支払額!C181","v":0},{"$f":"IF(不動産支払額!C181<>\"\",VLOOKUP(不動産支払額!C181,不動産支払先情報!$A$8:$B$999,2,FALSE),\"\")&\"\"","v":""},{"$f":"不動産支払額!H181","v":0},{"$f":"IF(C180=\"法人\",VLOOKUP(不動産支払額!D181,不動産区分!$A$8:$B$30,2,FALSE),\"該当\")&\"\"","v":"該当"},"0"]
[null,{"$f":"不動産支払額!C182","v":0},{"$f":"IF(不動産支払額!C182<>\"\",VLOOKUP(不動産支払額!C182,不動産支払先情報!$A$8:$B$999,2,FALSE),\"\")&\"\"","v":""},{"$f":"不動産支払額!H182","v":0},{"$f":"IF(C181=\"法人\",VLOOKUP(不動産支払額!D182,不動産区分!$A$8:$B$30,2,FALSE),\"該当\")&\"\"","v":"該当"},"0"]
[null,{"$f":"不動産支払額!C183","v":0},{"$f":"IF(不動産支払額!C183<>\"\",VLOOKUP(不動産支払額!C183,不動産支払先情報!$A$8:$B$999,2,FALSE),\"\")&\"\"","v":""},{"$f":"不動産支払額!H183","v":0},{"$f":"IF(C182=\"法人\",VLOOKUP(不動産支払額!D183,不動産区分!$A$8:$B$30,2,FALSE),\"該当\")&\"\"","v":"該当"},"0"]
[null,{"$f":"不動産支払額!C184","v":0},{"$f":"IF(不動産支払額!C184<>\"\",VLOOKUP(不動産支払額!C184,不動産支払先情報!$A$8:$B$999,2,FALSE),\"\")&\"\"","v":""},{"$f":"不動産支払額!H184","v":0},{"$f":"IF(C183=\"法人\",VLOOKUP(不動産支払額!D184,不動産区分!$A$8:$B$30,2,FALSE),\"該当\")&\"\"","v":"該当"},"0"]
[null,{"$f":"不動産支払額!C185","v":0},{"$f":"IF(不動産支払額!C185<>\"\",VLOOKUP(不動産支払額!C185,不動産支払先情報!$A$8:$B$999,2,FALSE),\"\")&\"\"","v":""},{"$f":"不動産支払額!H185","v":0},{"$f":"IF(C184=\"法人\",VLOOKUP(不動産支払額!D185,不動産区分!$A$8:$B$30,2,FALSE),\"該当\")&\"\"","v":"該当"},"0"]
[null,{"$f":"不動産支払額!C186","v":0},{"$f":"IF(不動産支払額!C186<>\"\",VLOOKUP(不動産支払額!C186,不動産支払先情報!$A$8:$B$999,2,FALSE),\"\")&\"\"","v":""},{"$f":"不動産支払額!H186","v":0},{"$f":"IF(C185=\"法人\",VLOOKUP(不動産支払額!D186,不動産区分!$A$8:$B$30,2,FALSE),\"該当\")&\"\"","v":"該当"},"0"]
[null,{"$f":"不動産支払額!C187","v":0},{"$f":"IF(不動産支払額!C187<>\"\",VLOOKUP(不動産支払額!C187,不動産支払先情報!$A$8:$B$999,2,FALSE),\"\")&\"\"","v":""},{"$f":"不動産支払額!H187","v":0},{"$f":"IF(C186=\"法人\",VLOOKUP(不動産支払額!D187,不動産区分!$A$8:$B$30,2,FALSE),\"該当\")&\"\"","v":"該当"},"0"]
[null,{"$f":"不動産支払額!C188","v":0},{"$f":"IF(不動産支払額!C188<>\"\",VLOOKUP(不動産支払額!C188,不動産支払先情報!$A$8:$B$999,2,FALSE),\"\")&\"\"","v":""},{"$f":"不動産支払額!H188","v":0},{"$f":"IF(C187=\"法人\",VLOOKUP(不動産支払額!D188,不動産区分!$A$8:$B$30,2,FALSE),\"該当\")&\"\"","v":"該当"},"0"]
[null,{"$f":"不動産支払額!C189","v":0},{"$f":"IF(不動産支払額!C189<>\"\",VLOOKUP(不動産支払額!C189,不動産支払先情報!$A$8:$B$999,2,FALSE),\"\")&\"\"","v":""},{"$f":"不動産支払額!H189","v":0},{"$f":"IF(C188=\"法人\",VLOOKUP(不動産支払額!D189,不動産区分!$A$8:$B$30,2,FALSE),\"該当\")&\"\"","v":"該当"},"0"]
[null,{"$f":"不動産支払額!C190","v":0},{"$f":"IF(不動産支払額!C190<>\"\",VLOOKUP(不動産支払額!C190,不動産支払先情報!$A$8:$B$999,2,FALSE),\"\")&\"\"","v":""},{"$f":"不動産支払額!H190","v":0},{"$f":"IF(C189=\"法人\",VLOOKUP(不動産支払額!D190,不動産区分!$A$8:$B$30,2,FALSE),\"該当\")&\"\"","v":"該当"},"0"]
[null,{"$f":"不動産支払額!C191","v":0},{"$f":"IF(不動産支払額!C191<>\"\",VLOOKUP(不動産支払額!C191,不動産支払先情報!$A$8:$B$999,2,FALSE),\"\")&\"\"","v":""},{"$f":"不動産支払額!H191","v":0},{"$f":"IF(C190=\"法人\",VLOOKUP(不動産支払額!D191,不動産区分!$A$8:$B$30,2,FALSE),\"該当\")&\"\"","v":"該当"},"0"]
[null,{"$f":"不動産支払額!C192","v":0},{"$f":"IF(不動産支払額!C192<>\"\",VLOOKUP(不動産支払額!C192,不動産支払先情報!$A$8:$B$999,2,FALSE),\"\")&\"\"","v":""},{"$f":"不動産支払額!H192","v":0},{"$f":"IF(C191=\"法人\",VLOOKUP(不動産支払額!D192,不動産区分!$A$8:$B$30,2,FALSE),\"該当\")&\"\"","v":"該当"},"0"]
[null,{"$f":"不動産支払額!C193","v":0},{"$f":"IF(不動産支払額!C193<>\"\",VLOOKUP(不動産支払額!C193,不動産支払先情報!$A$8:$B$999,2,FALSE),\"\")&\"\"","v":""},{"$f":"不動産支払額!H193","v":0},{"$f":"IF(C192=\"法人\",VLOOKUP(不動産支払額!D193,不動産区分!$A$8:$B$30,2,FALSE),\"該当\")&\"\"","v":"該当"},"0"]
[null,{"$f":"不動産支払額!C194","v":0},{"$f":"IF(不動産支払額!C194<>\"\",VLOOKUP(不動産支払額!C194,不動産支払先情報!$A$8:$B$999,2,FALSE),\"\")&\"\"","v":""},{"$f":"不動産支払額!H194","v":0},{"$f":"IF(C193=\"法人\",VLOOKUP(不動産支払額!D194,不動産区分!$A$8:$B$30,2,FALSE),\"該当\")&\"\"","v":"該当"},"0"]
[null,{"$f":"不動産支払額!C195","v":0},{"$f":"IF(不動産支払額!C195<>\"\",VLOOKUP(不動産支払額!C195,不動産支払先情報!$A$8:$B$999,2,FALSE),\"\")&\"\"","v":""},{"$f":"不動産支払額!H195","v":0},{"$f":"IF(C194=\"法人\",VLOOKUP(不動産支払額!D195,不動産区分!$A$8:$B$30,2,FALSE),\"該当\")&\"\"","v":"該当"},"0"]
[null,{"$f":"不動産支払額!C196","v":0},{"$f":"IF(不動産支払額!C196<>\"\",VLOOKUP(不動産支払額!C196,不動産支払先情報!$A$8:$B$999,2,FALSE),\"\")&\"\"","v":""},{"$f":"不動産支払額!H196","v":0},{"$f":"IF(C195=\"法人\",VLOOKUP(不動産支払額!D196,不動産区分!$A$8:$B$30,2,FALSE),\"該当\")&\"\"","v":"該当"},"0"]
[null,{"$f":"不動産支払額!C197","v":0},{"$f":"IF(不動産支払額!C197<>\"\",VLOOKUP(不動産支払額!C197,不動産支払先情報!$A$8:$B$999,2,FALSE),\"\")&\"\"","v":""},{"$f":"不動産支払額!H197","v":0},{"$f":"IF(C196=\"法人\",VLOOKUP(不動産支払額!D197,不動産区分!$A$8:$B$30,2,FALSE),\"該当\")&\"\"","v":"該当"},"0"]
[null,{"$f":"不動産支払額!C198","v":0},{"$f":"IF(不動産支払額!C198<>\"\",VLOOKUP(不動産支払額!C198,不動産支払先情報!$A$8:$B$999,2,FALSE),\"\")&\"\"","v":""},{"$f":"不動産支払額!H198","v":0},{"$f":"IF(C197=\"法人\",VLOOKUP(不動産支払額!D198,不動産区分!$A$8:$B$30,2,FALSE),\"該当\")&\"\"","v":"該当"},"0"]
[null,{"$f":"不動産支払額!C199","v":0},{"$f":"IF(不動産支払額!C199<>\"\",VLOOKUP(不動産支払額!C199,不動産支払先情報!$A$8:$B$999,2,FALSE),\"\")&\"\"","v":""},{"$f":"不動産支払額!H199","v":0},{"$f":"IF(C198=\"法人\",VLOOKUP(不動産支払額!D199,不動産区分!$A$8:$B$30,2,FALSE),\"該当\")&\"\"","v":"該当"},"0"]
[null,{"$f":"不動産支払額!C200","v":0},{"$f":"IF(不動産支払額!C200<>\"\",VLOOKUP(不動産支払額!C200,不動産支払先情報!$A$8:$B$999,2,FALSE),\"\")&\"\"","v":""},{"$f":"不動産支払額!H200","v":0},{"$f":"IF(C199=\"法人\",VLOOKUP(不動産支払額!D200,不動産区分!$A$8:$B$30,2,FALSE),\"該当\")&\"\"","v":"該当"},"0"]
[null,{"$f":"不動産支払額!C201","v":0},{"$f":"IF(不動産支払額!C201<>\"\",VLOOKUP(不動産支払額!C201,不動産支払先情報!$A$8:$B$999,2,FALSE),\"\")&\"\"","v":""},{"$f":"不動産支払額!H201","v":0},{"$f":"IF(C200=\"法人\",VLOOKUP(不動産支払額!D201,不動産区分!$A$8:$B$30,2,FALSE),\"該当\")&\"\"","v":"該当"},"0"]
[null,{"$f":"不動産支払額!C202","v":0},{"$f":"IF(不動産支払額!C202<>\"\",VLOOKUP(不動産支払額!C202,不動産支払先情報!$A$8:$B$999,2,FALSE),\"\")&\"\"","v":""},{"$f":"不動産支払額!H202","v":0},{"$f":"IF(C201=\"法人\",VLOOKUP(不動産支払額!D202,不動産区分!$A$8:$B$30,2,FALSE),\"該当\")&\"\"","v":"該当"},"0"]
[null,{"$f":"不動産支払額!C203","v":0},{"$f":"IF(不動産支払額!C203<>\"\",VLOOKUP(不動産支払額!C203,不動産支払先情報!$A$8:$B$999,2,FALSE),\"\")&\"\"","v":""},{"$f":"不動産支払額!H203","v":0},{"$f":"IF(C202=\"法人\",VLOOKUP(不動産支払額!D203,不動産区分!$A$8:$B$30,2,FALSE),\"該当\")&\"\"","v":"該当"},"0"]
[null,{"$f":"不動産支払額!C204","v":0},{"$f":"IF(不動産支払額!C204<>\"\",VLOOKUP(不動産支払額!C204,不動産支払先情報!$A$8:$B$999,2,FALSE),\"\")&\"\"","v":""},{"$f":"不動産支払額!H204","v":0},{"$f":"IF(C203=\"法人\",VLOOKUP(不動産支払額!D204,不動産区分!$A$8:$B$30,2,FALSE),\"該当\")&\"\"","v":"該当"},"0"]
[null,{"$f":"不動産支払額!C205","v":0},{"$f":"IF(不動産支払額!C205<>\"\",VLOOKUP(不動産支払額!C205,不動産支払先情報!$A$8:$B$999,2,FALSE),\"\")&\"\"","v":""},{"$f":"不動産支払額!H205","v":0},{"$f":"IF(C204=\"法人\",VLOOKUP(不動産支払額!D205,不動産区分!$A$8:$B$30,2,FALSE),\"該当\")&\"\"","v":"該当"},"0"]
[null,{"$f":"不動産支払額!C206","v":0},{"$f":"IF(不動産支払額!C206<>\"\",VLOOKUP(不動産支払額!C206,不動産支払先情報!$A$8:$B$999,2,FALSE),\"\")&\"\"","v":""},{"$f":"不動産支払額!H206","v":0},{"$f":"IF(C205=\"法人\",VLOOKUP(不動産支払額!D206,不動産区分!$A$8:$B$30,2,FALSE),\"該当\")&\"\"","v":"該当"},"0"]
[null,{"$f":"不動産支払額!C207","v":0},{"$f":"IF(不動産支払額!C207<>\"\",VLOOKUP(不動産支払額!C207,不動産支払先情報!$A$8:$B$999,2,FALSE),\"\")&\"\"","v":""},{"$f":"不動産支払額!H207","v":0},{"$f":"IF(C206=\"法人\",VLOOKUP(不動産支払額!D207,不動産区分!$A$8:$B$30,2,FALSE),\"該当\")&\"\"","v":"該当"},"0"]
[null,{"$f":"不動産支払額!C208","v":0},{"$f":"IF(不動産支払額!C208<>\"\",VLOOKUP(不動産支払額!C208,不動産支払先情報!$A$8:$B$999,2,FALSE),\"\")&\"\"","v":""},{"$f":"不動産支払額!H208","v":0},{"$f":"IF(C207=\"法人\",VLOOKUP(不動産支払額!D208,不動産区分!$A$8:$B$30,2,FALSE),\"該当\")&\"\"","v":"該当"},"0"]
[null,{"$f":"不動産支払額!C209","v":0},{"$f":"IF(不動産支払額!C209<>\"\",VLOOKUP(不動産支払額!C209,不動産支払先情報!$A$8:$B$999,2,FALSE),\"\")&\"\"","v":""},{"$f":"不動産支払額!H209","v":0},{"$f":"IF(C208=\"法人\",VLOOKUP(不動産支払額!D209,不動産区分!$A$8:$B$30,2,FALSE),\"該当\")&\"\"","v":"該当"},{"$f":"B208&IF(E208<>\"\",\"\",\"集計しない\")","v":"0"}]
[null,{"$f":"不動産支払額!C210","v":0},{"$f":"IF(不動産支払額!C210<>\"\",VLOOKUP(不動産支払額!C210,不動産支払先情報!$A$8:$B$999,2,FALSE),\"\")&\"\"","v":""},{"$f":"不動産支払額!H210","v":0},{"$f":"IF(C209=\"法人\",VLOOKUP(不動産支払額!D210,不動産区分!$A$8:$B$30,2,FALSE),\"該当\")&\"\"","v":"該当"},{"$f":"B209&IF(E209<>\"\",\"\",\"集計しない\")","v":"0"}]
[null,{"$f":"不動産支払額!C211","v":0},{"$f":"IF(不動産支払額!C211<>\"\",VLOOKUP(不動産支払額!C211,不動産支払先情報!$A$8:$B$999,2,FALSE),\"\")&\"\"","v":""},{"$f":"不動産支払額!H211","v":0},{"$f":"IF(C210=\"法人\",VLOOKUP(不動産支払額!D211,不動産区分!$A$8:$B$30,2,FALSE),\"該当\")&\"\"","v":"該当"},"0"]
[null,{"$f":"不動産支払額!C212","v":0},{"$f":"IF(不動産支払額!C212<>\"\",VLOOKUP(不動産支払額!C212,不動産支払先情報!$A$8:$B$999,2,FALSE),\"\")&\"\"","v":""},{"$f":"不動産支払額!H212","v":0},{"$f":"IF(C211=\"法人\",VLOOKUP(不動産支払額!D212,不動産区分!$A$8:$B$30,2,FALSE),\"該当\")&\"\"","v":"該当"},"0"]
[null,{"$f":"不動産支払額!C213","v":0},{"$f":"IF(不動産支払額!C213<>\"\",VLOOKUP(不動産支払額!C213,不動産支払先情報!$A$8:$B$999,2,FALSE),\"\")&\"\"","v":""},{"$f":"不動産支払額!H213","v":0},{"$f":"IF(C212=\"法人\",VLOOKUP(不動産支払額!D213,不動産区分!$A$8:$B$30,2,FALSE),\"該当\")&\"\"","v":"該当"},"0"]
[null,{"$f":"不動産支払額!C214","v":0},{"$f":"IF(不動産支払額!C214<>\"\",VLOOKUP(不動産支払額!C214,不動産支払先情報!$A$8:$B$999,2,FALSE),\"\")&\"\"","v":""},{"$f":"不動産支払額!H214","v":0},{"$f":"IF(C213=\"法人\",VLOOKUP(不動産支払額!D214,不動産区分!$A$8:$B$30,2,FALSE),\"該当\")&\"\"","v":"該当"},"0"]
[null,{"$f":"不動産支払額!C215","v":0},{"$f":"IF(不動産支払額!C215<>\"\",VLOOKUP(不動産支払額!C215,不動産支払先情報!$A$8:$B$999,2,FALSE),\"\")&\"\"","v":""},{"$f":"不動産支払額!H215","v":0},{"$f":"IF(C214=\"法人\",VLOOKUP(不動産支払額!D215,不動産区分!$A$8:$B$30,2,FALSE),\"該当\")&\"\"","v":"該当"},"0"]
[null,{"$f":"不動産支払額!C216","v":0},{"$f":"IF(不動産支払額!C216<>\"\",VLOOKUP(不動産支払額!C216,不動産支払先情報!$A$8:$B$999,2,FALSE),\"\")&\"\"","v":""},{"$f":"不動産支払額!H216","v":0},{"$f":"IF(C215=\"法人\",VLOOKUP(不動産支払額!D216,不動産区分!$A$8:$B$30,2,FALSE),\"該当\")&\"\"","v":"該当"},"0"]
[null,{"$f":"不動産支払額!C217","v":0},{"$f":"IF(不動産支払額!C217<>\"\",VLOOKUP(不動産支払額!C217,不動産支払先情報!$A$8:$B$999,2,FALSE),\"\")&\"\"","v":""},{"$f":"不動産支払額!H217","v":0},{"$f":"IF(C216=\"法人\",VLOOKUP(不動産支払額!D217,不動産区分!$A$8:$B$30,2,FALSE),\"該当\")&\"\"","v":"該当"},"0"]
[null,{"$f":"不動産支払額!C218","v":0},{"$f":"IF(不動産支払額!C218<>\"\",VLOOKUP(不動産支払額!C218,不動産支払先情報!$A$8:$B$999,2,FALSE),\"\")&\"\"","v":""},{"$f":"不動産支払額!H218","v":0},{"$f":"IF(C217=\"法人\",VLOOKUP(不動産支払額!D218,不動産区分!$A$8:$B$30,2,FALSE),\"該当\")&\"\"","v":"該当"},"0"]
[null,{"$f":"不動産支払額!C219","v":0},{"$f":"IF(不動産支払額!C219<>\"\",VLOOKUP(不動産支払額!C219,不動産支払先情報!$A$8:$B$999,2,FALSE),\"\")&\"\"","v":""},{"$f":"不動産支払額!H219","v":0},{"$f":"IF(C218=\"法人\",VLOOKUP(不動産支払額!D219,不動産区分!$A$8:$B$30,2,FALSE),\"該当\")&\"\"","v":"該当"},"0"]
[null,{"$f":"不動産支払額!C220","v":0},{"$f":"IF(不動産支払額!C220<>\"\",VLOOKUP(不動産支払額!C220,不動産支払先情報!$A$8:$B$999,2,FALSE),\"\")&\"\"","v":""},{"$f":"不動産支払額!H220","v":0},{"$f":"IF(C219=\"法人\",VLOOKUP(不動産支払額!D220,不動産区分!$A$8:$B$30,2,FALSE),\"該当\")&\"\"","v":"該当"},"0"]
[null,{"$f":"不動産支払額!C221","v":0},{"$f":"IF(不動産支払額!C221<>\"\",VLOOKUP(不動産支払額!C221,不動産支払先情報!$A$8:$B$999,2,FALSE),\"\")&\"\"","v":""},{"$f":"不動産支払額!H221","v":0},{"$f":"IF(C220=\"法人\",VLOOKUP(不動産支払額!D221,不動産区分!$A$8:$B$30,2,FALSE),\"該当\")&\"\"","v":"該当"},"0"]
[null,{"$f":"不動産支払額!C222","v":0},{"$f":"IF(不動産支払額!C222<>\"\",VLOOKUP(不動産支払額!C222,不動産支払先情報!$A$8:$B$999,2,FALSE),\"\")&\"\"","v":""},{"$f":"不動産支払額!H222","v":0},{"$f":"IF(C221=\"法人\",VLOOKUP(不動産支払額!D222,不動産区分!$A$8:$B$30,2,FALSE),\"該当\")&\"\"","v":"該当"},"0"]
[null,{"$f":"不動産支払額!C223","v":0},{"$f":"IF(不動産支払額!C223<>\"\",VLOOKUP(不動産支払額!C223,不動産支払先情報!$A$8:$B$999,2,FALSE),\"\")&\"\"","v":""},{"$f":"不動産支払額!H223","v":0},{"$f":"IF(C222=\"法人\",VLOOKUP(不動産支払額!D223,不動産区分!$A$8:$B$30,2,FALSE),\"該当\")&\"\"","v":"該当"},"0"]
[null,{"$f":"不動産支払額!C224","v":0},{"$f":"IF(不動産支払額!C224<>\"\",VLOOKUP(不動産支払額!C224,不動産支払先情報!$A$8:$B$999,2,FALSE),\"\")&\"\"","v":""},{"$f":"不動産支払額!H224","v":0},{"$f":"IF(C223=\"法人\",VLOOKUP(不動産支払額!D224,不動産区分!$A$8:$B$30,2,FALSE),\"該当\")&\"\"","v":"該当"},"0"]
[null,{"$f":"不動産支払額!C225","v":0},{"$f":"IF(不動産支払額!C225<>\"\",VLOOKUP(不動産支払額!C225,不動産支払先情報!$A$8:$B$999,2,FALSE),\"\")&\"\"","v":""},{"$f":"不動産支払額!H225","v":0},{"$f":"IF(C224=\"法人\",VLOOKUP(不動産支払額!D225,不動産区分!$A$8:$B$30,2,FALSE),\"該当\")&\"\"","v":"該当"},"0"]
[null,{"$f":"不動産支払額!C226","v":0},{"$f":"IF(不動産支払額!C226<>\"\",VLOOKUP(不動産支払額!C226,不動産支払先情報!$A$8:$B$999,2,FALSE),\"\")&\"\"","v":""},{"$f":"不動産支払額!H226","v":0},{"$f":"IF(C225=\"法人\",VLOOKUP(不動産支払額!D226,不動産区分!$A$8:$B$30,2,FALSE),\"該当\")&\"\"","v":"該当"},"0"]
[null,{"$f":"不動産支払額!C227","v":0},{"$f":"IF(不動産支払額!C227<>\"\",VLOOKUP(不動産支払額!C227,不動産支払先情報!$A$8:$B$999,2,FALSE),\"\")&\"\"","v":""},{"$f":"不動産支払額!H227","v":0},{"$f":"IF(C226=\"法人\",VLOOKUP(不動産支払額!D227,不動産区分!$A$8:$B$30,2,FALSE),\"該当\")&\"\"","v":"該当"},"0"]
[null,{"$f":"不動産支払額!C228","v":0},{"$f":"IF(不動産支払額!C228<>\"\",VLOOKUP(不動産支払額!C228,不動産支払先情報!$A$8:$B$999,2,FALSE),\"\")&\"\"","v":""},{"$f":"不動産支払額!H228","v":0},{"$f":"IF(C227=\"法人\",VLOOKUP(不動産支払額!D228,不動産区分!$A$8:$B$30,2,FALSE),\"該当\")&\"\"","v":"該当"},"0"]
[null,{"$f":"不動産支払額!C229","v":0},{"$f":"IF(不動産支払額!C229<>\"\",VLOOKUP(不動産支払額!C229,不動産支払先情報!$A$8:$B$999,2,FALSE),\"\")&\"\"","v":""},{"$f":"不動産支払額!H229","v":0},{"$f":"IF(C228=\"法人\",VLOOKUP(不動産支払額!D229,不動産区分!$A$8:$B$30,2,FALSE),\"該当\")&\"\"","v":"該当"},"0"]
[null,{"$f":"不動産支払額!C230","v":0},{"$f":"IF(不動産支払額!C230<>\"\",VLOOKUP(不動産支払額!C230,不動産支払先情報!$A$8:$B$999,2,FALSE),\"\")&\"\"","v":""},{"$f":"不動産支払額!H230","v":0},{"$f":"IF(C229=\"法人\",VLOOKUP(不動産支払額!D230,不動産区分!$A$8:$B$30,2,FALSE),\"該当\")&\"\"","v":"該当"},"0"]
[null,{"$f":"不動産支払額!C231","v":0},{"$f":"IF(不動産支払額!C231<>\"\",VLOOKUP(不動産支払額!C231,不動産支払先情報!$A$8:$B$999,2,FALSE),\"\")&\"\"","v":""},{"$f":"不動産支払額!H231","v":0},{"$f":"IF(C230=\"法人\",VLOOKUP(不動産支払額!D231,不動産区分!$A$8:$B$30,2,FALSE),\"該当\")&\"\"","v":"該当"},"0"]
[null,{"$f":"不動産支払額!C232","v":0},{"$f":"IF(不動産支払額!C232<>\"\",VLOOKUP(不動産支払額!C232,不動産支払先情報!$A$8:$B$999,2,FALSE),\"\")&\"\"","v":""},{"$f":"不動産支払額!H232","v":0},{"$f":"IF(C231=\"法人\",VLOOKUP(不動産支払額!D232,不動産区分!$A$8:$B$30,2,FALSE),\"該当\")&\"\"","v":"該当"},"0"]
[null,{"$f":"不動産支払額!C233","v":0},{"$f":"IF(不動産支払額!C233<>\"\",VLOOKUP(不動産支払額!C233,不動産支払先情報!$A$8:$B$999,2,FALSE),\"\")&\"\"","v":""},{"$f":"不動産支払額!H233","v":0},{"$f":"IF(C232=\"法人\",VLOOKUP(不動産支払額!D233,不動産区分!$A$8:$B$30,2,FALSE),\"該当\")&\"\"","v":"該当"},"0"]
[null,{"$f":"不動産支払額!C234","v":0},{"$f":"IF(不動産支払額!C234<>\"\",VLOOKUP(不動産支払額!C234,不動産支払先情報!$A$8:$B$999,2,FALSE),\"\")&\"\"","v":""},{"$f":"不動産支払額!H234","v":0},{"$f":"IF(C233=\"法人\",VLOOKUP(不動産支払額!D234,不動産区分!$A$8:$B$30,2,FALSE),\"該当\")&\"\"","v":"該当"},"0"]
[null,{"$f":"不動産支払額!C235","v":0},{"$f":"IF(不動産支払額!C235<>\"\",VLOOKUP(不動産支払額!C235,不動産支払先情報!$A$8:$B$999,2,FALSE),\"\")&\"\"","v":""},{"$f":"不動産支払額!H235","v":0},{"$f":"IF(C234=\"法人\",VLOOKUP(不動産支払額!D235,不動産区分!$A$8:$B$30,2,FALSE),\"該当\")&\"\"","v":"該当"},"0"]
[null,{"$f":"不動産支払額!C236","v":0},{"$f":"IF(不動産支払額!C236<>\"\",VLOOKUP(不動産支払額!C236,不動産支払先情報!$A$8:$B$999,2,FALSE),\"\")&\"\"","v":""},{"$f":"不動産支払額!H236","v":0},{"$f":"IF(C235=\"法人\",VLOOKUP(不動産支払額!D236,不動産区分!$A$8:$B$30,2,FALSE),\"該当\")&\"\"","v":"該当"},"0"]
[null,{"$f":"不動産支払額!C237","v":0},{"$f":"IF(不動産支払額!C237<>\"\",VLOOKUP(不動産支払額!C237,不動産支払先情報!$A$8:$B$999,2,FALSE),\"\")&\"\"","v":""},{"$f":"不動産支払額!H237","v":0},{"$f":"IF(C236=\"法人\",VLOOKUP(不動産支払額!D237,不動産区分!$A$8:$B$30,2,FALSE),\"該当\")&\"\"","v":"該当"},"0"]
[null,{"$f":"不動産支払額!C238","v":0},{"$f":"IF(不動産支払額!C238<>\"\",VLOOKUP(不動産支払額!C238,不動産支払先情報!$A$8:$B$999,2,FALSE),\"\")&\"\"","v":""},{"$f":"不動産支払額!H238","v":0},{"$f":"IF(C237=\"法人\",VLOOKUP(不動産支払額!D238,不動産区分!$A$8:$B$30,2,FALSE),\"該当\")&\"\"","v":"該当"},"0"]
[null,{"$f":"不動産支払額!C239","v":0},{"$f":"IF(不動産支払額!C239<>\"\",VLOOKUP(不動産支払額!C239,不動産支払先情報!$A$8:$B$999,2,FALSE),\"\")&\"\"","v":""},{"$f":"不動産支払額!H239","v":0},{"$f":"IF(C238=\"法人\",VLOOKUP(不動産支払額!D239,不動産区分!$A$8:$B$30,2,FALSE),\"該当\")&\"\"","v":"該当"},"0"]
[null,{"$f":"不動産支払額!C240","v":0},{"$f":"IF(不動産支払額!C240<>\"\",VLOOKUP(不動産支払額!C240,不動産支払先情報!$A$8:$B$999,2,FALSE),\"\")&\"\"","v":""},{"$f":"不動産支払額!H240","v":0},{"$f":"IF(C239=\"法人\",VLOOKUP(不動産支払額!D240,不動産区分!$A$8:$B$30,2,FALSE),\"該当\")&\"\"","v":"該当"},"0"]
[null,{"$f":"不動産支払額!C241","v":0},{"$f":"IF(不動産支払額!C241<>\"\",VLOOKUP(不動産支払額!C241,不動産支払先情報!$A$8:$B$999,2,FALSE),\"\")&\"\"","v":""},{"$f":"不動産支払額!H241","v":0},{"$f":"IF(C240=\"法人\",VLOOKUP(不動産支払額!D241,不動産区分!$A$8:$B$30,2,FALSE),\"該当\")&\"\"","v":"該当"},"0"]
[null,{"$f":"不動産支払額!C242","v":0},{"$f":"IF(不動産支払額!C242<>\"\",VLOOKUP(不動産支払額!C242,不動産支払先情報!$A$8:$B$999,2,FALSE),\"\")&\"\"","v":""},{"$f":"不動産支払額!H242","v":0},{"$f":"IF(C241=\"法人\",VLOOKUP(不動産支払額!D242,不動産区分!$A$8:$B$30,2,FALSE),\"該当\")&\"\"","v":"該当"},"0"]
[null,{"$f":"不動産支払額!C243","v":0},{"$f":"IF(不動産支払額!C243<>\"\",VLOOKUP(不動産支払額!C243,不動産支払先情報!$A$8:$B$999,2,FALSE),\"\")&\"\"","v":""},{"$f":"不動産支払額!H243","v":0},{"$f":"IF(C242=\"法人\",VLOOKUP(不動産支払額!D243,不動産区分!$A$8:$B$30,2,FALSE),\"該当\")&\"\"","v":"該当"},"0"]
[null,{"$f":"不動産支払額!C244","v":0},{"$f":"IF(不動産支払額!C244<>\"\",VLOOKUP(不動産支払額!C244,不動産支払先情報!$A$8:$B$999,2,FALSE),\"\")&\"\"","v":""},{"$f":"不動産支払額!H244","v":0},{"$f":"IF(C243=\"法人\",VLOOKUP(不動産支払額!D244,不動産区分!$A$8:$B$30,2,FALSE),\"該当\")&\"\"","v":"該当"},"0"]
[null,{"$f":"不動産支払額!C245","v":0},{"$f":"IF(不動産支払額!C245<>\"\",VLOOKUP(不動産支払額!C245,不動産支払先情報!$A$8:$B$999,2,FALSE),\"\")&\"\"","v":""},{"$f":"不動産支払額!H245","v":0},{"$f":"IF(C244=\"法人\",VLOOKUP(不動産支払額!D245,不動産区分!$A$8:$B$30,2,FALSE),\"該当\")&\"\"","v":"該当"},"0"]
[null,{"$f":"不動産支払額!C246","v":0},{"$f":"IF(不動産支払額!C246<>\"\",VLOOKUP(不動産支払額!C246,不動産支払先情報!$A$8:$B$999,2,FALSE),\"\")&\"\"","v":""},{"$f":"不動産支払額!H246","v":0},{"$f":"IF(C245=\"法人\",VLOOKUP(不動産支払額!D246,不動産区分!$A$8:$B$30,2,FALSE),\"該当\")&\"\"","v":"該当"},"0"]
[null,{"$f":"不動産支払額!C247","v":0},{"$f":"IF(不動産支払額!C247<>\"\",VLOOKUP(不動産支払額!C247,不動産支払先情報!$A$8:$B$999,2,FALSE),\"\")&\"\"","v":""},{"$f":"不動産支払額!H247","v":0},{"$f":"IF(C246=\"法人\",VLOOKUP(不動産支払額!D247,不動産区分!$A$8:$B$30,2,FALSE),\"該当\")&\"\"","v":"該当"},"0"]
[null,{"$f":"不動産支払額!C248","v":0},{"$f":"IF(不動産支払額!C248<>\"\",VLOOKUP(不動産支払額!C248,不動産支払先情報!$A$8:$B$999,2,FALSE),\"\")&\"\"","v":""},{"$f":"不動産支払額!H248","v":0},{"$f":"IF(C247=\"法人\",VLOOKUP(不動産支払額!D248,不動産区分!$A$8:$B$30,2,FALSE),\"該当\")&\"\"","v":"該当"},"0"]
[null,{"$f":"不動産支払額!C249","v":0},{"$f":"IF(不動産支払額!C249<>\"\",VLOOKUP(不動産支払額!C249,不動産支払先情報!$A$8:$B$999,2,FALSE),\"\")&\"\"","v":""},{"$f":"不動産支払額!H249","v":0},{"$f":"IF(C248=\"法人\",VLOOKUP(不動産支払額!D249,不動産区分!$A$8:$B$30,2,FALSE),\"該当\")&\"\"","v":"該当"},"0"]
[null,{"$f":"不動産支払額!C250","v":0},{"$f":"IF(不動産支払額!C250<>\"\",VLOOKUP(不動産支払額!C250,不動産支払先情報!$A$8:$B$999,2,FALSE),\"\")&\"\"","v":""},{"$f":"不動産支払額!H250","v":0},{"$f":"IF(C249=\"法人\",VLOOKUP(不動産支払額!D250,不動産区分!$A$8:$B$30,2,FALSE),\"該当\")&\"\"","v":"該当"},"0"]
[null,{"$f":"不動産支払額!C251","v":0},{"$f":"IF(不動産支払額!C251<>\"\",VLOOKUP(不動産支払額!C251,不動産支払先情報!$A$8:$B$999,2,FALSE),\"\")&\"\"","v":""},{"$f":"不動産支払額!H251","v":0},{"$f":"IF(C250=\"法人\",VLOOKUP(不動産支払額!D251,不動産区分!$A$8:$B$30,2,FALSE),\"該当\")&\"\"","v":"該当"},"0"]
[null,{"$f":"不動産支払額!C252","v":0},{"$f":"IF(不動産支払額!C252<>\"\",VLOOKUP(不動産支払額!C252,不動産支払先情報!$A$8:$B$999,2,FALSE),\"\")&\"\"","v":""},{"$f":"不動産支払額!H252","v":0},{"$f":"IF(C251=\"法人\",VLOOKUP(不動産支払額!D252,不動産区分!$A$8:$B$30,2,FALSE),\"該当\")&\"\"","v":"該当"},"0"]
[null,{"$f":"不動産支払額!C253","v":0},{"$f":"IF(不動産支払額!C253<>\"\",VLOOKUP(不動産支払額!C253,不動産支払先情報!$A$8:$B$999,2,FALSE),\"\")&\"\"","v":""},{"$f":"不動産支払額!H253","v":0},{"$f":"IF(C252=\"法人\",VLOOKUP(不動産支払額!D253,不動産区分!$A$8:$B$30,2,FALSE),\"該当\")&\"\"","v":"該当"},"0"]
[null,{"$f":"不動産支払額!C254","v":0},{"$f":"IF(不動産支払額!C254<>\"\",VLOOKUP(不動産支払額!C254,不動産支払先情報!$A$8:$B$999,2,FALSE),\"\")&\"\"","v":""},{"$f":"不動産支払額!H254","v":0},{"$f":"IF(C253=\"法人\",VLOOKUP(不動産支払額!D254,不動産区分!$A$8:$B$30,2,FALSE),\"該当\")&\"\"","v":"該当"},"0"]
[null,{"$f":"不動産支払額!C255","v":0},{"$f":"IF(不動産支払額!C255<>\"\",VLOOKUP(不動産支払額!C255,不動産支払先情報!$A$8:$B$999,2,FALSE),\"\")&\"\"","v":""},{"$f":"不動産支払額!H255","v":0},{"$f":"IF(C254=\"法人\",VLOOKUP(不動産支払額!D255,不動産区分!$A$8:$B$30,2,FALSE),\"該当\")&\"\"","v":"該当"},"0"]
[null,{"$f":"不動産支払額!C256","v":0},{"$f":"IF(不動産支払額!C256<>\"\",VLOOKUP(不動産支払額!C256,不動産支払先情報!$A$8:$B$999,2,FALSE),\"\")&\"\"","v":""},{"$f":"不動産支払額!H256","v":0},{"$f":"IF(C255=\"法人\",VLOOKUP(不動産支払額!D256,不動産区分!$A$8:$B$30,2,FALSE),\"該当\")&\"\"","v":"該当"},"0"]
[null,{"$f":"不動産支払額!C257","v":0},{"$f":"IF(不動産支払額!C257<>\"\",VLOOKUP(不動産支払額!C257,不動産支払先情報!$A$8:$B$999,2,FALSE),\"\")&\"\"","v":""},{"$f":"不動産支払額!H257","v":0},{"$f":"IF(C256=\"法人\",VLOOKUP(不動産支払額!D257,不動産区分!$A$8:$B$30,2,FALSE),\"該当\")&\"\"","v":"該当"},"0"]
[null,{"$f":"不動産支払額!C258","v":0},{"$f":"IF(不動産支払額!C258<>\"\",VLOOKUP(不動産支払額!C258,不動産支払先情報!$A$8:$B$999,2,FALSE),\"\")&\"\"","v":""},{"$f":"不動産支払額!H258","v":0},{"$f":"IF(C257=\"法人\",VLOOKUP(不動産支払額!D258,不動産区分!$A$8:$B$30,2,FALSE),\"該当\")&\"\"","v":"該当"},"0"]
[null,{"$f":"不動産支払額!C259","v":0},{"$f":"IF(不動産支払額!C259<>\"\",VLOOKUP(不動産支払額!C259,不動産支払先情報!$A$8:$B$999,2,FALSE),\"\")&\"\"","v":""},{"$f":"不動産支払額!H259","v":0},{"$f":"IF(C258=\"法人\",VLOOKUP(不動産支払額!D259,不動産区分!$A$8:$B$30,2,FALSE),\"該当\")&\"\"","v":"該当"},"0"]
[null,{"$f":"不動産支払額!C260","v":0},{"$f":"IF(不動産支払額!C260<>\"\",VLOOKUP(不動産支払額!C260,不動産支払先情報!$A$8:$B$999,2,FALSE),\"\")&\"\"","v":""},{"$f":"不動産支払額!H260","v":0},{"$f":"IF(C259=\"法人\",VLOOKUP(不動産支払額!D260,不動産区分!$A$8:$B$30,2,FALSE),\"該当\")&\"\"","v":"該当"},"0"]
[null,{"$f":"不動産支払額!C261","v":0},{"$f":"IF(不動産支払額!C261<>\"\",VLOOKUP(不動産支払額!C261,不動産支払先情報!$A$8:$B$999,2,FALSE),\"\")&\"\"","v":""},{"$f":"不動産支払額!H261","v":0},{"$f":"IF(C260=\"法人\",VLOOKUP(不動産支払額!D261,不動産区分!$A$8:$B$30,2,FALSE),\"該当\")&\"\"","v":"該当"},"0"]
[null,{"$f":"不動産支払額!C262","v":0},{"$f":"IF(不動産支払額!C262<>\"\",VLOOKUP(不動産支払額!C262,不動産支払先情報!$A$8:$B$999,2,FALSE),\"\")&\"\"","v":""},{"$f":"不動産支払額!H262","v":0},{"$f":"IF(C261=\"法人\",VLOOKUP(不動産支払額!D262,不動産区分!$A$8:$B$30,2,FALSE),\"該当\")&\"\"","v":"該当"},"0"]
[null,{"$f":"不動産支払額!C263","v":0},{"$f":"IF(不動産支払額!C263<>\"\",VLOOKUP(不動産支払額!C263,不動産支払先情報!$A$8:$B$999,2,FALSE),\"\")&\"\"","v":""},{"$f":"不動産支払額!H263","v":0},{"$f":"IF(C262=\"法人\",VLOOKUP(不動産支払額!D263,不動産区分!$A$8:$B$30,2,FALSE),\"該当\")&\"\"","v":"該当"},"0"]
[null,{"$f":"不動産支払額!C264","v":0},{"$f":"IF(不動産支払額!C264<>\"\",VLOOKUP(不動産支払額!C264,不動産支払先情報!$A$8:$B$999,2,FALSE),\"\")&\"\"","v":""},{"$f":"不動産支払額!H264","v":0},{"$f":"IF(C263=\"法人\",VLOOKUP(不動産支払額!D264,不動産区分!$A$8:$B$30,2,FALSE),\"該当\")&\"\"","v":"該当"},"0"]
[null,{"$f":"不動産支払額!C265","v":0},{"$f":"IF(不動産支払額!C265<>\"\",VLOOKUP(不動産支払額!C265,不動産支払先情報!$A$8:$B$999,2,FALSE),\"\")&\"\"","v":""},{"$f":"不動産支払額!H265","v":0},{"$f":"IF(C264=\"法人\",VLOOKUP(不動産支払額!D265,不動産区分!$A$8:$B$30,2,FALSE),\"該当\")&\"\"","v":"該当"},"0"]
[null,{"$f":"不動産支払額!C266","v":0},{"$f":"IF(不動産支払額!C266<>\"\",VLOOKUP(不動産支払額!C266,不動産支払先情報!$A$8:$B$999,2,FALSE),\"\")&\"\"","v":""},{"$f":"不動産支払額!H266","v":0},{"$f":"IF(C265=\"法人\",VLOOKUP(不動産支払額!D266,不動産区分!$A$8:$B$30,2,FALSE),\"該当\")&\"\"","v":"該当"},"0"]
[null,{"$f":"不動産支払額!C267","v":0},{"$f":"IF(不動産支払額!C267<>\"\",VLOOKUP(不動産支払額!C267,不動産支払先情報!$A$8:$B$999,2,FALSE),\"\")&\"\"","v":""},{"$f":"不動産支払額!H267","v":0},{"$f":"IF(C266=\"法人\",VLOOKUP(不動産支払額!D267,不動産区分!$A$8:$B$30,2,FALSE),\"該当\")&\"\"","v":"該当"},"0"]
[null,{"$f":"不動産支払額!C268","v":0},{"$f":"IF(不動産支払額!C268<>\"\",VLOOKUP(不動産支払額!C268,不動産支払先情報!$A$8:$B$999,2,FALSE),\"\")&\"\"","v":""},{"$f":"不動産支払額!H268","v":0},{"$f":"IF(C267=\"法人\",VLOOKUP(不動産支払額!D268,不動産区分!$A$8:$B$30,2,FALSE),\"該当\")&\"\"","v":"該当"},"0"]
[null,{"$f":"不動産支払額!C269","v":0},{"$f":"IF(不動産支払額!C269<>\"\",VLOOKUP(不動産支払額!C269,不動産支払先情報!$A$8:$B$999,2,FALSE),\"\")&\"\"","v":""},{"$f":"不動産支払額!H269","v":0},{"$f":"IF(C268=\"法人\",VLOOKUP(不動産支払額!D269,不動産区分!$A$8:$B$30,2,FALSE),\"該当\")&\"\"","v":"該当"},"0"]
[null,{"$f":"不動産支払額!C270","v":0},{"$f":"IF(不動産支払額!C270<>\"\",VLOOKUP(不動産支払額!C270,不動産支払先情報!$A$8:$B$999,2,FALSE),\"\")&\"\"","v":""},{"$f":"不動産支払額!H270","v":0},{"$f":"IF(C269=\"法人\",VLOOKUP(不動産支払額!D270,不動産区分!$A$8:$B$30,2,FALSE),\"該当\")&\"\"","v":"該当"},"0"]
[null,{"$f":"不動産支払額!C271","v":0},{"$f":"IF(不動産支払額!C271<>\"\",VLOOKUP(不動産支払額!C271,不動産支払先情報!$A$8:$B$999,2,FALSE),\"\")&\"\"","v":""},{"$f":"不動産支払額!H271","v":0},{"$f":"IF(C270=\"法人\",VLOOKUP(不動産支払額!D271,不動産区分!$A$8:$B$30,2,FALSE),\"該当\")&\"\"","v":"該当"},"0"]
[null,{"$f":"不動産支払額!C272","v":0},{"$f":"IF(不動産支払額!C272<>\"\",VLOOKUP(不動産支払額!C272,不動産支払先情報!$A$8:$B$999,2,FALSE),\"\")&\"\"","v":""},{"$f":"不動産支払額!H272","v":0},{"$f":"IF(C271=\"法人\",VLOOKUP(不動産支払額!D272,不動産区分!$A$8:$B$30,2,FALSE),\"該当\")&\"\"","v":"該当"},"0"]
[null,{"$f":"不動産支払額!C273","v":0},{"$f":"IF(不動産支払額!C273<>\"\",VLOOKUP(不動産支払額!C273,不動産支払先情報!$A$8:$B$999,2,FALSE),\"\")&\"\"","v":""},{"$f":"不動産支払額!H273","v":0},{"$f":"IF(C272=\"法人\",VLOOKUP(不動産支払額!D273,不動産区分!$A$8:$B$30,2,FALSE),\"該当\")&\"\"","v":"該当"},"0"]
[null,{"$f":"不動産支払額!C274","v":0},{"$f":"IF(不動産支払額!C274<>\"\",VLOOKUP(不動産支払額!C274,不動産支払先情報!$A$8:$B$999,2,FALSE),\"\")&\"\"","v":""},{"$f":"不動産支払額!H274","v":0},{"$f":"IF(C273=\"法人\",VLOOKUP(不動産支払額!D274,不動産区分!$A$8:$B$30,2,FALSE),\"該当\")&\"\"","v":"該当"},{"$f":"B273&IF(E273<>\"\",\"\",\"集計しない\")","v":"0"}]
[null,{"$f":"不動産支払額!C275","v":0},{"$f":"IF(不動産支払額!C275<>\"\",VLOOKUP(不動産支払額!C275,不動産支払先情報!$A$8:$B$999,2,FALSE),\"\")&\"\"","v":""},{"$f":"不動産支払額!H275","v":0},{"$f":"IF(C274=\"法人\",VLOOKUP(不動産支払額!D275,不動産区分!$A$8:$B$30,2,FALSE),\"該当\")&\"\"","v":"該当"},"0"]
[null,{"$f":"不動産支払額!C276","v":0},{"$f":"IF(不動産支払額!C276<>\"\",VLOOKUP(不動産支払額!C276,不動産支払先情報!$A$8:$B$999,2,FALSE),\"\")&\"\"","v":""},{"$f":"不動産支払額!H276","v":0},{"$f":"IF(C275=\"法人\",VLOOKUP(不動産支払額!D276,不動産区分!$A$8:$B$30,2,FALSE),\"該当\")&\"\"","v":"該当"},"0"]
[null,{"$f":"不動産支払額!C277","v":0},{"$f":"IF(不動産支払額!C277<>\"\",VLOOKUP(不動産支払額!C277,不動産支払先情報!$A$8:$B$999,2,FALSE),\"\")&\"\"","v":""},{"$f":"不動産支払額!H277","v":0},{"$f":"IF(C276=\"法人\",VLOOKUP(不動産支払額!D277,不動産区分!$A$8:$B$30,2,FALSE),\"該当\")&\"\"","v":"該当"},"0"]
[null,{"$f":"不動産支払額!C278","v":0},{"$f":"IF(不動産支払額!C278<>\"\",VLOOKUP(不動産支払額!C278,不動産支払先情報!$A$8:$B$999,2,FALSE),\"\")&\"\"","v":""},{"$f":"不動産支払額!H278","v":0},{"$f":"IF(C277=\"法人\",VLOOKUP(不動産支払額!D278,不動産区分!$A$8:$B$30,2,FALSE),\"該当\")&\"\"","v":"該当"},"0"]
[null,{"$f":"不動産支払額!C279","v":0},{"$f":"IF(不動産支払額!C279<>\"\",VLOOKUP(不動産支払額!C279,不動産支払先情報!$A$8:$B$999,2,FALSE),\"\")&\"\"","v":""},{"$f":"不動産支払額!H279","v":0},{"$f":"IF(C278=\"法人\",VLOOKUP(不動産支払額!D279,不動産区分!$A$8:$B$30,2,FALSE),\"該当\")&\"\"","v":"該当"},"0"]
[null,{"$f":"不動産支払額!C280","v":0},{"$f":"IF(不動産支払額!C280<>\"\",VLOOKUP(不動産支払額!C280,不動産支払先情報!$A$8:$B$999,2,FALSE),\"\")&\"\"","v":""},{"$f":"不動産支払額!H280","v":0},{"$f":"IF(C279=\"法人\",VLOOKUP(不動産支払額!D280,不動産区分!$A$8:$B$30,2,FALSE),\"該当\")&\"\"","v":"該当"},"0"]
[null,{"$f":"不動産支払額!C281","v":0},{"$f":"IF(不動産支払額!C281<>\"\",VLOOKUP(不動産支払額!C281,不動産支払先情報!$A$8:$B$999,2,FALSE),\"\")&\"\"","v":""},{"$f":"不動産支払額!H281","v":0},{"$f":"IF(C280=\"法人\",VLOOKUP(不動産支払額!D281,不動産区分!$A$8:$B$30,2,FALSE),\"該当\")&\"\"","v":"該当"},"0"]
[null,{"$f":"不動産支払額!C282","v":0},{"$f":"IF(不動産支払額!C282<>\"\",VLOOKUP(不動産支払額!C282,不動産支払先情報!$A$8:$B$999,2,FALSE),\"\")&\"\"","v":""},{"$f":"不動産支払額!H282","v":0},{"$f":"IF(C281=\"法人\",VLOOKUP(不動産支払額!D282,不動産区分!$A$8:$B$30,2,FALSE),\"該当\")&\"\"","v":"該当"},"0"]
[null,{"$f":"不動産支払額!C283","v":0},{"$f":"IF(不動産支払額!C283<>\"\",VLOOKUP(不動産支払額!C283,不動産支払先情報!$A$8:$B$999,2,FALSE),\"\")&\"\"","v":""},{"$f":"不動産支払額!H283","v":0},{"$f":"IF(C282=\"法人\",VLOOKUP(不動産支払額!D283,不動産区分!$A$8:$B$30,2,FALSE),\"該当\")&\"\"","v":"該当"},"0"]
[null,{"$f":"不動産支払額!C284","v":0},{"$f":"IF(不動産支払額!C284<>\"\",VLOOKUP(不動産支払額!C284,不動産支払先情報!$A$8:$B$999,2,FALSE),\"\")&\"\"","v":""},{"$f":"不動産支払額!H284","v":0},{"$f":"IF(C283=\"法人\",VLOOKUP(不動産支払額!D284,不動産区分!$A$8:$B$30,2,FALSE),\"該当\")&\"\"","v":"該当"},"0"]
[null,{"$f":"不動産支払額!C285","v":0},{"$f":"IF(不動産支払額!C285<>\"\",VLOOKUP(不動産支払額!C285,不動産支払先情報!$A$8:$B$999,2,FALSE),\"\")&\"\"","v":""},{"$f":"不動産支払額!H285","v":0},{"$f":"IF(C284=\"法人\",VLOOKUP(不動産支払額!D285,不動産区分!$A$8:$B$30,2,FALSE),\"該当\")&\"\"","v":"該当"},"0"]
[null,{"$f":"不動産支払額!C286","v":0},{"$f":"IF(不動産支払額!C286<>\"\",VLOOKUP(不動産支払額!C286,不動産支払先情報!$A$8:$B$999,2,FALSE),\"\")&\"\"","v":""},{"$f":"不動産支払額!H286","v":0},{"$f":"IF(C285=\"法人\",VLOOKUP(不動産支払額!D286,不動産区分!$A$8:$B$30,2,FALSE),\"該当\")&\"\"","v":"該当"},"0"]
[null,{"$f":"不動産支払額!C287","v":0},{"$f":"IF(不動産支払額!C287<>\"\",VLOOKUP(不動産支払額!C287,不動産支払先情報!$A$8:$B$999,2,FALSE),\"\")&\"\"","v":""},{"$f":"不動産支払額!H287","v":0},{"$f":"IF(C286=\"法人\",VLOOKUP(不動産支払額!D287,不動産区分!$A$8:$B$30,2,FALSE),\"該当\")&\"\"","v":"該当"},"0"]
[null,{"$f":"不動産支払額!C288","v":0},{"$f":"IF(不動産支払額!C288<>\"\",VLOOKUP(不動産支払額!C288,不動産支払先情報!$A$8:$B$999,2,FALSE),\"\")&\"\"","v":""},{"$f":"不動産支払額!H288","v":0},{"$f":"IF(C287=\"法人\",VLOOKUP(不動産支払額!D288,不動産区分!$A$8:$B$30,2,FALSE),\"該当\")&\"\"","v":"該当"},"0"]
[null,{"$f":"不動産支払額!C289","v":0},{"$f":"IF(不動産支払額!C289<>\"\",VLOOKUP(不動産支払額!C289,不動産支払先情報!$A$8:$B$999,2,FALSE),\"\")&\"\"","v":""},{"$f":"不動産支払額!H289","v":0},{"$f":"IF(C288=\"法人\",VLOOKUP(不動産支払額!D289,不動産区分!$A$8:$B$30,2,FALSE),\"該当\")&\"\"","v":"該当"},"0"]
[null,{"$f":"不動産支払額!C290","v":0},{"$f":"IF(不動産支払額!C290<>\"\",VLOOKUP(不動産支払額!C290,不動産支払先情報!$A$8:$B$999,2,FALSE),\"\")&\"\"","v":""},{"$f":"不動産支払額!H290","v":0},{"$f":"IF(C289=\"法人\",VLOOKUP(不動産支払額!D290,不動産区分!$A$8:$B$30,2,FALSE),\"該当\")&\"\"","v":"該当"},"0"]
[null,{"$f":"不動産支払額!C291","v":0},{"$f":"IF(不動産支払額!C291<>\"\",VLOOKUP(不動産支払額!C291,不動産支払先情報!$A$8:$B$999,2,FALSE),\"\")&\"\"","v":""},{"$f":"不動産支払額!H291","v":0},{"$f":"IF(C290=\"法人\",VLOOKUP(不動産支払額!D291,不動産区分!$A$8:$B$30,2,FALSE),\"該当\")&\"\"","v":"該当"},"0"]
[null,{"$f":"不動産支払額!C292","v":0},{"$f":"IF(不動産支払額!C292<>\"\",VLOOKUP(不動産支払額!C292,不動産支払先情報!$A$8:$B$999,2,FALSE),\"\")&\"\"","v":""},{"$f":"不動産支払額!H292","v":0},{"$f":"IF(C291=\"法人\",VLOOKUP(不動産支払額!D292,不動産区分!$A$8:$B$30,2,FALSE),\"該当\")&\"\"","v":"該当"},"0"]
[null,{"$f":"不動産支払額!C293","v":0},{"$f":"IF(不動産支払額!C293<>\"\",VLOOKUP(不動産支払額!C293,不動産支払先情報!$A$8:$B$999,2,FALSE),\"\")&\"\"","v":""},{"$f":"不動産支払額!H293","v":0},{"$f":"IF(C292=\"法人\",VLOOKUP(不動産支払額!D293,不動産区分!$A$8:$B$30,2,FALSE),\"該当\")&\"\"","v":"該当"},"0"]
[null,{"$f":"不動産支払額!C294","v":0},{"$f":"IF(不動産支払額!C294<>\"\",VLOOKUP(不動産支払額!C294,不動産支払先情報!$A$8:$B$999,2,FALSE),\"\")&\"\"","v":""},{"$f":"不動産支払額!H294","v":0},{"$f":"IF(C293=\"法人\",VLOOKUP(不動産支払額!D294,不動産区分!$A$8:$B$30,2,FALSE),\"該当\")&\"\"","v":"該当"},"0"]
[null,{"$f":"不動産支払額!C295","v":0},{"$f":"IF(不動産支払額!C295<>\"\",VLOOKUP(不動産支払額!C295,不動産支払先情報!$A$8:$B$999,2,FALSE),\"\")&\"\"","v":""},{"$f":"不動産支払額!H295","v":0},{"$f":"IF(C294=\"法人\",VLOOKUP(不動産支払額!D295,不動産区分!$A$8:$B$30,2,FALSE),\"該当\")&\"\"","v":"該当"},"0"]
[null,{"$f":"不動産支払額!C296","v":0},{"$f":"IF(不動産支払額!C296<>\"\",VLOOKUP(不動産支払額!C296,不動産支払先情報!$A$8:$B$999,2,FALSE),\"\")&\"\"","v":""},{"$f":"不動産支払額!H296","v":0},{"$f":"IF(C295=\"法人\",VLOOKUP(不動産支払額!D296,不動産区分!$A$8:$B$30,2,FALSE),\"該当\")&\"\"","v":"該当"},"0"]
[null,{"$f":"不動産支払額!C297","v":0},{"$f":"IF(不動産支払額!C297<>\"\",VLOOKUP(不動産支払額!C297,不動産支払先情報!$A$8:$B$999,2,FALSE),\"\")&\"\"","v":""},{"$f":"不動産支払額!H297","v":0},{"$f":"IF(C296=\"法人\",VLOOKUP(不動産支払額!D297,不動産区分!$A$8:$B$30,2,FALSE),\"該当\")&\"\"","v":"該当"},"0"]
[null,{"$f":"不動産支払額!C298","v":0},{"$f":"IF(不動産支払額!C298<>\"\",VLOOKUP(不動産支払額!C298,不動産支払先情報!$A$8:$B$999,2,FALSE),\"\")&\"\"","v":""},{"$f":"不動産支払額!H298","v":0},{"$f":"IF(C297=\"法人\",VLOOKUP(不動産支払額!D298,不動産区分!$A$8:$B$30,2,FALSE),\"該当\")&\"\"","v":"該当"},"0"]
[null,{"$f":"不動産支払額!C299","v":0},{"$f":"IF(不動産支払額!C299<>\"\",VLOOKUP(不動産支払額!C299,不動産支払先情報!$A$8:$B$999,2,FALSE),\"\")&\"\"","v":""},{"$f":"不動産支払額!H299","v":0},{"$f":"IF(C298=\"法人\",VLOOKUP(不動産支払額!D299,不動産区分!$A$8:$B$30,2,FALSE),\"該当\")&\"\"","v":"該当"},"0"]
[null,{"$f":"不動産支払額!C300","v":0},{"$f":"IF(不動産支払額!C300<>\"\",VLOOKUP(不動産支払額!C300,不動産支払先情報!$A$8:$B$999,2,FALSE),\"\")&\"\"","v":""},{"$f":"不動産支払額!H300","v":0},{"$f":"IF(C299=\"法人\",VLOOKUP(不動産支払額!D300,不動産区分!$A$8:$B$30,2,FALSE),\"該当\")&\"\"","v":"該当"},"0"]
[null,{"$f":"不動産支払額!C301","v":0},{"$f":"IF(不動産支払額!C301<>\"\",VLOOKUP(不動産支払額!C301,不動産支払先情報!$A$8:$B$999,2,FALSE),\"\")&\"\"","v":""},{"$f":"不動産支払額!H301","v":0},{"$f":"IF(C300=\"法人\",VLOOKUP(不動産支払額!D301,不動産区分!$A$8:$B$30,2,FALSE),\"該当\")&\"\"","v":"該当"},"0"]
[null,{"$f":"不動産支払額!C302","v":0},{"$f":"IF(不動産支払額!C302<>\"\",VLOOKUP(不動産支払額!C302,不動産支払先情報!$A$8:$B$999,2,FALSE),\"\")&\"\"","v":""},{"$f":"不動産支払額!H302","v":0},{"$f":"IF(C301=\"法人\",VLOOKUP(不動産支払額!D302,不動産区分!$A$8:$B$30,2,FALSE),\"該当\")&\"\"","v":"該当"},"0"]
[null,{"$f":"不動産支払額!C303","v":0},{"$f":"IF(不動産支払額!C303<>\"\",VLOOKUP(不動産支払額!C303,不動産支払先情報!$A$8:$B$999,2,FALSE),\"\")&\"\"","v":""},{"$f":"不動産支払額!H303","v":0},{"$f":"IF(C302=\"法人\",VLOOKUP(不動産支払額!D303,不動産区分!$A$8:$B$30,2,FALSE),\"該当\")&\"\"","v":"該当"},"0"]
[null,{"$f":"不動産支払額!C304","v":0},{"$f":"IF(不動産支払額!C304<>\"\",VLOOKUP(不動産支払額!C304,不動産支払先情報!$A$8:$B$999,2,FALSE),\"\")&\"\"","v":""},{"$f":"不動産支払額!H304","v":0},{"$f":"IF(C303=\"法人\",VLOOKUP(不動産支払額!D304,不動産区分!$A$8:$B$30,2,FALSE),\"該当\")&\"\"","v":"該当"},"0"]
[null,{"$f":"不動産支払額!C305","v":0},{"$f":"IF(不動産支払額!C305<>\"\",VLOOKUP(不動産支払額!C305,不動産支払先情報!$A$8:$B$999,2,FALSE),\"\")&\"\"","v":""},{"$f":"不動産支払額!H305","v":0},{"$f":"IF(C304=\"法人\",VLOOKUP(不動産支払額!D305,不動産区分!$A$8:$B$30,2,FALSE),\"該当\")&\"\"","v":"該当"},"0"]
[null,{"$f":"不動産支払額!C306","v":0},{"$f":"IF(不動産支払額!C306<>\"\",VLOOKUP(不動産支払額!C306,不動産支払先情報!$A$8:$B$999,2,FALSE),\"\")&\"\"","v":""},{"$f":"不動産支払額!H306","v":0},{"$f":"IF(C305=\"法人\",VLOOKUP(不動産支払額!D306,不動産区分!$A$8:$B$30,2,FALSE),\"該当\")&\"\"","v":"該当"},"0"]
[null,{"$f":"不動産支払額!C307","v":0},{"$f":"IF(不動産支払額!C307<>\"\",VLOOKUP(不動産支払額!C307,不動産支払先情報!$A$8:$B$999,2,FALSE),\"\")&\"\"","v":""},{"$f":"不動産支払額!H307","v":0},{"$f":"IF(C306=\"法人\",VLOOKUP(不動産支払額!D307,不動産区分!$A$8:$B$30,2,FALSE),\"該当\")&\"\"","v":"該当"},"0"]
[null,{"$f":"不動産支払額!C308","v":0},{"$f":"IF(不動産支払額!C308<>\"\",VLOOKUP(不動産支払額!C308,不動産支払先情報!$A$8:$B$999,2,FALSE),\"\")&\"\"","v":""},{"$f":"不動産支払額!H308","v":0},{"$f":"IF(C307=\"法人\",VLOOKUP(不動産支払額!D308,不動産区分!$A$8:$B$30,2,FALSE),\"該当\")&\"\"","v":"該当"},"0"]
[null,{"$f":"不動産支払額!C309","v":0},{"$f":"IF(不動産支払額!C309<>\"\",VLOOKUP(不動産支払額!C309,不動産支払先情報!$A$8:$B$999,2,FALSE),\"\")&\"\"","v":""},{"$f":"不動産支払額!H309","v":0},{"$f":"IF(C308=\"法人\",VLOOKUP(不動産支払額!D309,不動産区分!$A$8:$B$30,2,FALSE),\"該当\")&\"\"","v":"該当"},"0"]
[null,{"$f":"不動産支払額!C310","v":0},{"$f":"IF(不動産支払額!C310<>\"\",VLOOKUP(不動産支払額!C310,不動産支払先情報!$A$8:$B$999,2,FALSE),\"\")&\"\"","v":""},{"$f":"不動産支払額!H310","v":0},{"$f":"IF(C309=\"法人\",VLOOKUP(不動産支払額!D310,不動産区分!$A$8:$B$30,2,FALSE),\"該当\")&\"\"","v":"該当"},"0"]
[null,{"$f":"不動産支払額!C311","v":0},{"$f":"IF(不動産支払額!C311<>\"\",VLOOKUP(不動産支払額!C311,不動産支払先情報!$A$8:$B$999,2,FALSE),\"\")&\"\"","v":""},{"$f":"不動産支払額!H311","v":0},{"$f":"IF(C310=\"法人\",VLOOKUP(不動産支払額!D311,不動産区分!$A$8:$B$30,2,FALSE),\"該当\")&\"\"","v":"該当"},"0"]
[null,{"$f":"不動産支払額!C312","v":0},{"$f":"IF(不動産支払額!C312<>\"\",VLOOKUP(不動産支払額!C312,不動産支払先情報!$A$8:$B$999,2,FALSE),\"\")&\"\"","v":""},{"$f":"不動産支払額!H312","v":0},{"$f":"IF(C311=\"法人\",VLOOKUP(不動産支払額!D312,不動産区分!$A$8:$B$30,2,FALSE),\"該当\")&\"\"","v":"該当"},"0"]
[null,{"$f":"不動産支払額!C313","v":0},{"$f":"IF(不動産支払額!C313<>\"\",VLOOKUP(不動産支払額!C313,不動産支払先情報!$A$8:$B$999,2,FALSE),\"\")&\"\"","v":""},{"$f":"不動産支払額!H313","v":0},{"$f":"IF(C312=\"法人\",VLOOKUP(不動産支払額!D313,不動産区分!$A$8:$B$30,2,FALSE),\"該当\")&\"\"","v":"該当"},"0"]
[null,{"$f":"不動産支払額!C314","v":0},{"$f":"IF(不動産支払額!C314<>\"\",VLOOKUP(不動産支払額!C314,不動産支払先情報!$A$8:$B$999,2,FALSE),\"\")&\"\"","v":""},{"$f":"不動産支払額!H314","v":0},{"$f":"IF(C313=\"法人\",VLOOKUP(不動産支払額!D314,不動産区分!$A$8:$B$30,2,FALSE),\"該当\")&\"\"","v":"該当"},"0"]
[null,{"$f":"不動産支払額!C315","v":0},{"$f":"IF(不動産支払額!C315<>\"\",VLOOKUP(不動産支払額!C315,不動産支払先情報!$A$8:$B$999,2,FALSE),\"\")&\"\"","v":""},{"$f":"不動産支払額!H315","v":0},{"$f":"IF(C314=\"法人\",VLOOKUP(不動産支払額!D315,不動産区分!$A$8:$B$30,2,FALSE),\"該当\")&\"\"","v":"該当"},"0"]
[null,{"$f":"不動産支払額!C316","v":0},{"$f":"IF(不動産支払額!C316<>\"\",VLOOKUP(不動産支払額!C316,不動産支払先情報!$A$8:$B$999,2,FALSE),\"\")&\"\"","v":""},{"$f":"不動産支払額!H316","v":0},{"$f":"IF(C315=\"法人\",VLOOKUP(不動産支払額!D316,不動産区分!$A$8:$B$30,2,FALSE),\"該当\")&\"\"","v":"該当"},"0"]
[null,{"$f":"不動産支払額!C317","v":0},{"$f":"IF(不動産支払額!C317<>\"\",VLOOKUP(不動産支払額!C317,不動産支払先情報!$A$8:$B$999,2,FALSE),\"\")&\"\"","v":""},{"$f":"不動産支払額!H317","v":0},{"$f":"IF(C316=\"法人\",VLOOKUP(不動産支払額!D317,不動産区分!$A$8:$B$30,2,FALSE),\"該当\")&\"\"","v":"該当"},"0"]
[null,{"$f":"不動産支払額!C318","v":0},{"$f":"IF(不動産支払額!C318<>\"\",VLOOKUP(不動産支払額!C318,不動産支払先情報!$A$8:$B$999,2,FALSE),\"\")&\"\"","v":""},{"$f":"不動産支払額!H318","v":0},{"$f":"IF(C317=\"法人\",VLOOKUP(不動産支払額!D318,不動産区分!$A$8:$B$30,2,FALSE),\"該当\")&\"\"","v":"該当"},"0"]
[null,{"$f":"不動産支払額!C319","v":0},{"$f":"IF(不動産支払額!C319<>\"\",VLOOKUP(不動産支払額!C319,不動産支払先情報!$A$8:$B$999,2,FALSE),\"\")&\"\"","v":""},{"$f":"不動産支払額!H319","v":0},{"$f":"IF(C318=\"法人\",VLOOKUP(不動産支払額!D319,不動産区分!$A$8:$B$30,2,FALSE),\"該当\")&\"\"","v":"該当"},"0"]
[null,{"$f":"不動産支払額!C320","v":0},{"$f":"IF(不動産支払額!C320<>\"\",VLOOKUP(不動産支払額!C320,不動産支払先情報!$A$8:$B$999,2,FALSE),\"\")&\"\"","v":""},{"$f":"不動産支払額!H320","v":0},{"$f":"IF(C319=\"法人\",VLOOKUP(不動産支払額!D320,不動産区分!$A$8:$B$30,2,FALSE),\"該当\")&\"\"","v":"該当"},"0"]
[null,{"$f":"不動産支払額!C321","v":0},{"$f":"IF(不動産支払額!C321<>\"\",VLOOKUP(不動産支払額!C321,不動産支払先情報!$A$8:$B$999,2,FALSE),\"\")&\"\"","v":""},{"$f":"不動産支払額!H321","v":0},{"$f":"IF(C320=\"法人\",VLOOKUP(不動産支払額!D321,不動産区分!$A$8:$B$30,2,FALSE),\"該当\")&\"\"","v":"該当"},"0"]
[null,{"$f":"不動産支払額!C322","v":0},{"$f":"IF(不動産支払額!C322<>\"\",VLOOKUP(不動産支払額!C322,不動産支払先情報!$A$8:$B$999,2,FALSE),\"\")&\"\"","v":""},{"$f":"不動産支払額!H322","v":0},{"$f":"IF(C321=\"法人\",VLOOKUP(不動産支払額!D322,不動産区分!$A$8:$B$30,2,FALSE),\"該当\")&\"\"","v":"該当"},"0"]
[null,{"$f":"不動産支払額!C323","v":0},{"$f":"IF(不動産支払額!C323<>\"\",VLOOKUP(不動産支払額!C323,不動産支払先情報!$A$8:$B$999,2,FALSE),\"\")&\"\"","v":""},{"$f":"不動産支払額!H323","v":0},{"$f":"IF(C322=\"法人\",VLOOKUP(不動産支払額!D323,不動産区分!$A$8:$B$30,2,FALSE),\"該当\")&\"\"","v":"該当"},"0"]
[null,{"$f":"不動産支払額!C324","v":0},{"$f":"IF(不動産支払額!C324<>\"\",VLOOKUP(不動産支払額!C324,不動産支払先情報!$A$8:$B$999,2,FALSE),\"\")&\"\"","v":""},{"$f":"不動産支払額!H324","v":0},{"$f":"IF(C323=\"法人\",VLOOKUP(不動産支払額!D324,不動産区分!$A$8:$B$30,2,FALSE),\"該当\")&\"\"","v":"該当"},"0"]
[null,{"$f":"不動産支払額!C325","v":0},{"$f":"IF(不動産支払額!C325<>\"\",VLOOKUP(不動産支払額!C325,不動産支払先情報!$A$8:$B$999,2,FALSE),\"\")&\"\"","v":""},{"$f":"不動産支払額!H325","v":0},{"$f":"IF(C324=\"法人\",VLOOKUP(不動産支払額!D325,不動産区分!$A$8:$B$30,2,FALSE),\"該当\")&\"\"","v":"該当"},"0"]
[null,{"$f":"不動産支払額!C326","v":0},{"$f":"IF(不動産支払額!C326<>\"\",VLOOKUP(不動産支払額!C326,不動産支払先情報!$A$8:$B$999,2,FALSE),\"\")&\"\"","v":""},{"$f":"不動産支払額!H326","v":0},{"$f":"IF(C325=\"法人\",VLOOKUP(不動産支払額!D326,不動産区分!$A$8:$B$30,2,FALSE),\"該当\")&\"\"","v":"該当"},"0"]
[null,{"$f":"不動産支払額!C327","v":0},{"$f":"IF(不動産支払額!C327<>\"\",VLOOKUP(不動産支払額!C327,不動産支払先情報!$A$8:$B$999,2,FALSE),\"\")&\"\"","v":""},{"$f":"不動産支払額!H327","v":0},{"$f":"IF(C326=\"法人\",VLOOKUP(不動産支払額!D327,不動産区分!$A$8:$B$30,2,FALSE),\"該当\")&\"\"","v":"該当"},"0"]
[null,{"$f":"不動産支払額!C328","v":0},{"$f":"IF(不動産支払額!C328<>\"\",VLOOKUP(不動産支払額!C328,不動産支払先情報!$A$8:$B$999,2,FALSE),\"\")&\"\"","v":""},{"$f":"不動産支払額!H328","v":0},{"$f":"IF(C327=\"法人\",VLOOKUP(不動産支払額!D328,不動産区分!$A$8:$B$30,2,FALSE),\"該当\")&\"\"","v":"該当"},"0"]
[null,{"$f":"不動産支払額!C329","v":0},{"$f":"IF(不動産支払額!C329<>\"\",VLOOKUP(不動産支払額!C329,不動産支払先情報!$A$8:$B$999,2,FALSE),\"\")&\"\"","v":""},{"$f":"不動産支払額!H329","v":0},{"$f":"IF(C328=\"法人\",VLOOKUP(不動産支払額!D329,不動産区分!$A$8:$B$30,2,FALSE),\"該当\")&\"\"","v":"該当"},"0"]
[null,{"$f":"不動産支払額!C330","v":0},{"$f":"IF(不動産支払額!C330<>\"\",VLOOKUP(不動産支払額!C330,不動産支払先情報!$A$8:$B$999,2,FALSE),\"\")&\"\"","v":""},{"$f":"不動産支払額!H330","v":0},{"$f":"IF(C329=\"法人\",VLOOKUP(不動産支払額!D330,不動産区分!$A$8:$B$30,2,FALSE),\"該当\")&\"\"","v":"該当"},"0"]
[null,{"$f":"不動産支払額!C331","v":0},{"$f":"IF(不動産支払額!C331<>\"\",VLOOKUP(不動産支払額!C331,不動産支払先情報!$A$8:$B$999,2,FALSE),\"\")&\"\"","v":""},{"$f":"不動産支払額!H331","v":0},{"$f":"IF(C330=\"法人\",VLOOKUP(不動産支払額!D331,不動産区分!$A$8:$B$30,2,FALSE),\"該当\")&\"\"","v":"該当"},"0"]
[null,{"$f":"不動産支払額!C332","v":0},{"$f":"IF(不動産支払額!C332<>\"\",VLOOKUP(不動産支払額!C332,不動産支払先情報!$A$8:$B$999,2,FALSE),\"\")&\"\"","v":""},{"$f":"不動産支払額!H332","v":0},{"$f":"IF(C331=\"法人\",VLOOKUP(不動産支払額!D332,不動産区分!$A$8:$B$30,2,FALSE),\"該当\")&\"\"","v":"該当"},"0"]
[null,{"$f":"不動産支払額!C333","v":0},{"$f":"IF(不動産支払額!C333<>\"\",VLOOKUP(不動産支払額!C333,不動産支払先情報!$A$8:$B$999,2,FALSE),\"\")&\"\"","v":""},{"$f":"不動産支払額!H333","v":0},{"$f":"IF(C332=\"法人\",VLOOKUP(不動産支払額!D333,不動産区分!$A$8:$B$30,2,FALSE),\"該当\")&\"\"","v":"該当"},"0"]
[null,{"$f":"不動産支払額!C334","v":0},{"$f":"IF(不動産支払額!C334<>\"\",VLOOKUP(不動産支払額!C334,不動産支払先情報!$A$8:$B$999,2,FALSE),\"\")&\"\"","v":""},{"$f":"不動産支払額!H334","v":0},{"$f":"IF(C333=\"法人\",VLOOKUP(不動産支払額!D334,不動産区分!$A$8:$B$30,2,FALSE),\"該当\")&\"\"","v":"該当"},"0"]
[null,{"$f":"不動産支払額!C335","v":0},{"$f":"IF(不動産支払額!C335<>\"\",VLOOKUP(不動産支払額!C335,不動産支払先情報!$A$8:$B$999,2,FALSE),\"\")&\"\"","v":""},{"$f":"不動産支払額!H335","v":0},{"$f":"IF(C334=\"法人\",VLOOKUP(不動産支払額!D335,不動産区分!$A$8:$B$30,2,FALSE),\"該当\")&\"\"","v":"該当"},"0"]
[null,{"$f":"不動産支払額!C336","v":0},{"$f":"IF(不動産支払額!C336<>\"\",VLOOKUP(不動産支払額!C336,不動産支払先情報!$A$8:$B$999,2,FALSE),\"\")&\"\"","v":""},{"$f":"不動産支払額!H336","v":0},{"$f":"IF(C335=\"法人\",VLOOKUP(不動産支払額!D336,不動産区分!$A$8:$B$30,2,FALSE),\"該当\")&\"\"","v":"該当"},"0"]
[null,{"$f":"不動産支払額!C337","v":0},{"$f":"IF(不動産支払額!C337<>\"\",VLOOKUP(不動産支払額!C337,不動産支払先情報!$A$8:$B$999,2,FALSE),\"\")&\"\"","v":""},{"$f":"不動産支払額!H337","v":0},{"$f":"IF(C336=\"法人\",VLOOKUP(不動産支払額!D337,不動産区分!$A$8:$B$30,2,FALSE),\"該当\")&\"\"","v":"該当"},"0"]
[null,{"$f":"不動産支払額!C338","v":0},{"$f":"IF(不動産支払額!C338<>\"\",VLOOKUP(不動産支払額!C338,不動産支払先情報!$A$8:$B$999,2,FALSE),\"\")&\"\"","v":""},{"$f":"不動産支払額!H338","v":0},{"$f":"IF(C337=\"法人\",VLOOKUP(不動産支払額!D338,不動産区分!$A$8:$B$30,2,FALSE),\"該当\")&\"\"","v":"該当"},{"$f":"B337&IF(E337<>\"\",\"\",\"集計しない\")","v":"0"}]
[null,{"$f":"不動産支払額!C339","v":0},{"$f":"IF(不動産支払額!C339<>\"\",VLOOKUP(不動産支払額!C339,不動産支払先情報!$A$8:$B$999,2,FALSE),\"\")&\"\"","v":""},{"$f":"不動産支払額!H339","v":0},{"$f":"IF(C338=\"法人\",VLOOKUP(不動産支払額!D339,不動産区分!$A$8:$B$30,2,FALSE),\"該当\")&\"\"","v":"該当"},"0"]
[null,{"$f":"不動産支払額!C340","v":0},{"$f":"IF(不動産支払額!C340<>\"\",VLOOKUP(不動産支払額!C340,不動産支払先情報!$A$8:$B$999,2,FALSE),\"\")&\"\"","v":""},{"$f":"不動産支払額!H340","v":0},{"$f":"IF(C339=\"法人\",VLOOKUP(不動産支払額!D340,不動産区分!$A$8:$B$30,2,FALSE),\"該当\")&\"\"","v":"該当"},"0"]
[null,{"$f":"不動産支払額!C341","v":0},{"$f":"IF(不動産支払額!C341<>\"\",VLOOKUP(不動産支払額!C341,不動産支払先情報!$A$8:$B$999,2,FALSE),\"\")&\"\"","v":""},{"$f":"不動産支払額!H341","v":0},{"$f":"IF(C340=\"法人\",VLOOKUP(不動産支払額!D341,不動産区分!$A$8:$B$30,2,FALSE),\"該当\")&\"\"","v":"該当"},"0"]
[null,{"$f":"不動産支払額!C342","v":0},{"$f":"IF(不動産支払額!C342<>\"\",VLOOKUP(不動産支払額!C342,不動産支払先情報!$A$8:$B$999,2,FALSE),\"\")&\"\"","v":""},{"$f":"不動産支払額!H342","v":0},{"$f":"IF(C341=\"法人\",VLOOKUP(不動産支払額!D342,不動産区分!$A$8:$B$30,2,FALSE),\"該当\")&\"\"","v":"該当"},"0"]
[null,{"$f":"不動産支払額!C343","v":0},{"$f":"IF(不動産支払額!C343<>\"\",VLOOKUP(不動産支払額!C343,不動産支払先情報!$A$8:$B$999,2,FALSE),\"\")&\"\"","v":""},{"$f":"不動産支払額!H343","v":0},{"$f":"IF(C342=\"法人\",VLOOKUP(不動産支払額!D343,不動産区分!$A$8:$B$30,2,FALSE),\"該当\")&\"\"","v":"該当"},"0"]
[null,{"$f":"不動産支払額!C344","v":0},{"$f":"IF(不動産支払額!C344<>\"\",VLOOKUP(不動産支払額!C344,不動産支払先情報!$A$8:$B$999,2,FALSE),\"\")&\"\"","v":""},{"$f":"不動産支払額!H344","v":0},{"$f":"IF(C343=\"法人\",VLOOKUP(不動産支払額!D344,不動産区分!$A$8:$B$30,2,FALSE),\"該当\")&\"\"","v":"該当"},"0"]
[null,{"$f":"不動産支払額!C345","v":0},{"$f":"IF(不動産支払額!C345<>\"\",VLOOKUP(不動産支払額!C345,不動産支払先情報!$A$8:$B$999,2,FALSE),\"\")&\"\"","v":""},{"$f":"不動産支払額!H345","v":0},{"$f":"IF(C344=\"法人\",VLOOKUP(不動産支払額!D345,不動産区分!$A$8:$B$30,2,FALSE),\"該当\")&\"\"","v":"該当"},"0"]
[null,{"$f":"不動産支払額!C346","v":0},{"$f":"IF(不動産支払額!C346<>\"\",VLOOKUP(不動産支払額!C346,不動産支払先情報!$A$8:$B$999,2,FALSE),\"\")&\"\"","v":""},{"$f":"不動産支払額!H346","v":0},{"$f":"IF(C345=\"法人\",VLOOKUP(不動産支払額!D346,不動産区分!$A$8:$B$30,2,FALSE),\"該当\")&\"\"","v":"該当"},"0"]
[null,{"$f":"不動産支払額!C347","v":0},{"$f":"IF(不動産支払額!C347<>\"\",VLOOKUP(不動産支払額!C347,不動産支払先情報!$A$8:$B$999,2,FALSE),\"\")&\"\"","v":""},{"$f":"不動産支払額!H347","v":0},{"$f":"IF(C346=\"法人\",VLOOKUP(不動産支払額!D347,不動産区分!$A$8:$B$30,2,FALSE),\"該当\")&\"\"","v":"該当"},"0"]
[null,{"$f":"不動産支払額!C348","v":0},{"$f":"IF(不動産支払額!C348<>\"\",VLOOKUP(不動産支払額!C348,不動産支払先情報!$A$8:$B$999,2,FALSE),\"\")&\"\"","v":""},{"$f":"不動産支払額!H348","v":0},{"$f":"IF(C347=\"法人\",VLOOKUP(不動産支払額!D348,不動産区分!$A$8:$B$30,2,FALSE),\"該当\")&\"\"","v":"該当"},"0"]
[null,{"$f":"不動産支払額!C349","v":0},{"$f":"IF(不動産支払額!C349<>\"\",VLOOKUP(不動産支払額!C349,不動産支払先情報!$A$8:$B$999,2,FALSE),\"\")&\"\"","v":""},{"$f":"不動産支払額!H349","v":0},{"$f":"IF(C348=\"法人\",VLOOKUP(不動産支払額!D349,不動産区分!$A$8:$B$30,2,FALSE),\"該当\")&\"\"","v":"該当"},"0"]
[null,{"$f":"不動産支払額!C350","v":0},{"$f":"IF(不動産支払額!C350<>\"\",VLOOKUP(不動産支払額!C350,不動産支払先情報!$A$8:$B$999,2,FALSE),\"\")&\"\"","v":""},{"$f":"不動産支払額!H350","v":0},{"$f":"IF(C349=\"法人\",VLOOKUP(不動産支払額!D350,不動産区分!$A$8:$B$30,2,FALSE),\"該当\")&\"\"","v":"該当"},"0"]
[null,{"$f":"不動産支払額!C351","v":0},{"$f":"IF(不動産支払額!C351<>\"\",VLOOKUP(不動産支払額!C351,不動産支払先情報!$A$8:$B$999,2,FALSE),\"\")&\"\"","v":""},{"$f":"不動産支払額!H351","v":0},{"$f":"IF(C350=\"法人\",VLOOKUP(不動産支払額!D351,不動産区分!$A$8:$B$30,2,FALSE),\"該当\")&\"\"","v":"該当"},"0"]
[null,{"$f":"不動産支払額!C352","v":0},{"$f":"IF(不動産支払額!C352<>\"\",VLOOKUP(不動産支払額!C352,不動産支払先情報!$A$8:$B$999,2,FALSE),\"\")&\"\"","v":""},{"$f":"不動産支払額!H352","v":0},{"$f":"IF(C351=\"法人\",VLOOKUP(不動産支払額!D352,不動産区分!$A$8:$B$30,2,FALSE),\"該当\")&\"\"","v":"該当"},"0"]
[null,{"$f":"不動産支払額!C353","v":0},{"$f":"IF(不動産支払額!C353<>\"\",VLOOKUP(不動産支払額!C353,不動産支払先情報!$A$8:$B$999,2,FALSE),\"\")&\"\"","v":""},{"$f":"不動産支払額!H353","v":0},{"$f":"IF(C352=\"法人\",VLOOKUP(不動産支払額!D353,不動産区分!$A$8:$B$30,2,FALSE),\"該当\")&\"\"","v":"該当"},"0"]
[null,{"$f":"不動産支払額!C354","v":0},{"$f":"IF(不動産支払額!C354<>\"\",VLOOKUP(不動産支払額!C354,不動産支払先情報!$A$8:$B$999,2,FALSE),\"\")&\"\"","v":""},{"$f":"不動産支払額!H354","v":0},{"$f":"IF(C353=\"法人\",VLOOKUP(不動産支払額!D354,不動産区分!$A$8:$B$30,2,FALSE),\"該当\")&\"\"","v":"該当"},"0"]
[null,{"$f":"不動産支払額!C355","v":0},{"$f":"IF(不動産支払額!C355<>\"\",VLOOKUP(不動産支払額!C355,不動産支払先情報!$A$8:$B$999,2,FALSE),\"\")&\"\"","v":""},{"$f":"不動産支払額!H355","v":0},{"$f":"IF(C354=\"法人\",VLOOKUP(不動産支払額!D355,不動産区分!$A$8:$B$30,2,FALSE),\"該当\")&\"\"","v":"該当"},"0"]
[null,{"$f":"不動産支払額!C356","v":0},{"$f":"IF(不動産支払額!C356<>\"\",VLOOKUP(不動産支払額!C356,不動産支払先情報!$A$8:$B$999,2,FALSE),\"\")&\"\"","v":""},{"$f":"不動産支払額!H356","v":0},{"$f":"IF(C355=\"法人\",VLOOKUP(不動産支払額!D356,不動産区分!$A$8:$B$30,2,FALSE),\"該当\")&\"\"","v":"該当"},"0"]
[null,{"$f":"不動産支払額!C357","v":0},{"$f":"IF(不動産支払額!C357<>\"\",VLOOKUP(不動産支払額!C357,不動産支払先情報!$A$8:$B$999,2,FALSE),\"\")&\"\"","v":""},{"$f":"不動産支払額!H357","v":0},{"$f":"IF(C356=\"法人\",VLOOKUP(不動産支払額!D357,不動産区分!$A$8:$B$30,2,FALSE),\"該当\")&\"\"","v":"該当"},"0"]
[null,{"$f":"不動産支払額!C358","v":0},{"$f":"IF(不動産支払額!C358<>\"\",VLOOKUP(不動産支払額!C358,不動産支払先情報!$A$8:$B$999,2,FALSE),\"\")&\"\"","v":""},{"$f":"不動産支払額!H358","v":0},{"$f":"IF(C357=\"法人\",VLOOKUP(不動産支払額!D358,不動産区分!$A$8:$B$30,2,FALSE),\"該当\")&\"\"","v":"該当"},"0"]
[null,{"$f":"不動産支払額!C359","v":0},{"$f":"IF(不動産支払額!C359<>\"\",VLOOKUP(不動産支払額!C359,不動産支払先情報!$A$8:$B$999,2,FALSE),\"\")&\"\"","v":""},{"$f":"不動産支払額!H359","v":0},{"$f":"IF(C358=\"法人\",VLOOKUP(不動産支払額!D359,不動産区分!$A$8:$B$30,2,FALSE),\"該当\")&\"\"","v":"該当"},"0"]
[null,{"$f":"不動産支払額!C360","v":0},{"$f":"IF(不動産支払額!C360<>\"\",VLOOKUP(不動産支払額!C360,不動産支払先情報!$A$8:$B$999,2,FALSE),\"\")&\"\"","v":""},{"$f":"不動産支払額!H360","v":0},{"$f":"IF(C359=\"法人\",VLOOKUP(不動産支払額!D360,不動産区分!$A$8:$B$30,2,FALSE),\"該当\")&\"\"","v":"該当"},"0"]
[null,{"$f":"不動産支払額!C361","v":0},{"$f":"IF(不動産支払額!C361<>\"\",VLOOKUP(不動産支払額!C361,不動産支払先情報!$A$8:$B$999,2,FALSE),\"\")&\"\"","v":""},{"$f":"不動産支払額!H361","v":0},{"$f":"IF(C360=\"法人\",VLOOKUP(不動産支払額!D361,不動産区分!$A$8:$B$30,2,FALSE),\"該当\")&\"\"","v":"該当"},"0"]
[null,{"$f":"不動産支払額!C362","v":0},{"$f":"IF(不動産支払額!C362<>\"\",VLOOKUP(不動産支払額!C362,不動産支払先情報!$A$8:$B$999,2,FALSE),\"\")&\"\"","v":""},{"$f":"不動産支払額!H362","v":0},{"$f":"IF(C361=\"法人\",VLOOKUP(不動産支払額!D362,不動産区分!$A$8:$B$30,2,FALSE),\"該当\")&\"\"","v":"該当"},"0"]
[null,{"$f":"不動産支払額!C363","v":0},{"$f":"IF(不動産支払額!C363<>\"\",VLOOKUP(不動産支払額!C363,不動産支払先情報!$A$8:$B$999,2,FALSE),\"\")&\"\"","v":""},{"$f":"不動産支払額!H363","v":0},{"$f":"IF(C362=\"法人\",VLOOKUP(不動産支払額!D363,不動産区分!$A$8:$B$30,2,FALSE),\"該当\")&\"\"","v":"該当"},"0"]
[null,{"$f":"不動産支払額!C364","v":0},{"$f":"IF(不動産支払額!C364<>\"\",VLOOKUP(不動産支払額!C364,不動産支払先情報!$A$8:$B$999,2,FALSE),\"\")&\"\"","v":""},{"$f":"不動産支払額!H364","v":0},{"$f":"IF(C363=\"法人\",VLOOKUP(不動産支払額!D364,不動産区分!$A$8:$B$30,2,FALSE),\"該当\")&\"\"","v":"該当"},"0"]
[null,{"$f":"不動産支払額!C365","v":0},{"$f":"IF(不動産支払額!C365<>\"\",VLOOKUP(不動産支払額!C365,不動産支払先情報!$A$8:$B$999,2,FALSE),\"\")&\"\"","v":""},{"$f":"不動産支払額!H365","v":0},{"$f":"IF(C364=\"法人\",VLOOKUP(不動産支払額!D365,不動産区分!$A$8:$B$30,2,FALSE),\"該当\")&\"\"","v":"該当"},"0"]
[null,{"$f":"不動産支払額!C366","v":0},{"$f":"IF(不動産支払額!C366<>\"\",VLOOKUP(不動産支払額!C366,不動産支払先情報!$A$8:$B$999,2,FALSE),\"\")&\"\"","v":""},{"$f":"不動産支払額!H366","v":0},{"$f":"IF(C365=\"法人\",VLOOKUP(不動産支払額!D366,不動産区分!$A$8:$B$30,2,FALSE),\"該当\")&\"\"","v":"該当"},"0"]
[null,{"$f":"不動産支払額!C367","v":0},{"$f":"IF(不動産支払額!C367<>\"\",VLOOKUP(不動産支払額!C367,不動産支払先情報!$A$8:$B$999,2,FALSE),\"\")&\"\"","v":""},{"$f":"不動産支払額!H367","v":0},{"$f":"IF(C366=\"法人\",VLOOKUP(不動産支払額!D367,不動産区分!$A$8:$B$30,2,FALSE),\"該当\")&\"\"","v":"該当"},"0"]
[null,{"$f":"不動産支払額!C368","v":0},{"$f":"IF(不動産支払額!C368<>\"\",VLOOKUP(不動産支払額!C368,不動産支払先情報!$A$8:$B$999,2,FALSE),\"\")&\"\"","v":""},{"$f":"不動産支払額!H368","v":0},{"$f":"IF(C367=\"法人\",VLOOKUP(不動産支払額!D368,不動産区分!$A$8:$B$30,2,FALSE),\"該当\")&\"\"","v":"該当"},"0"]
[null,{"$f":"不動産支払額!C369","v":0},{"$f":"IF(不動産支払額!C369<>\"\",VLOOKUP(不動産支払額!C369,不動産支払先情報!$A$8:$B$999,2,FALSE),\"\")&\"\"","v":""},{"$f":"不動産支払額!H369","v":0},{"$f":"IF(C368=\"法人\",VLOOKUP(不動産支払額!D369,不動産区分!$A$8:$B$30,2,FALSE),\"該当\")&\"\"","v":"該当"},"0"]
[null,{"$f":"不動産支払額!C370","v":0},{"$f":"IF(不動産支払額!C370<>\"\",VLOOKUP(不動産支払額!C370,不動産支払先情報!$A$8:$B$999,2,FALSE),\"\")&\"\"","v":""},{"$f":"不動産支払額!H370","v":0},{"$f":"IF(C369=\"法人\",VLOOKUP(不動産支払額!D370,不動産区分!$A$8:$B$30,2,FALSE),\"該当\")&\"\"","v":"該当"},"0"]
[null,{"$f":"不動産支払額!C371","v":0},{"$f":"IF(不動産支払額!C371<>\"\",VLOOKUP(不動産支払額!C371,不動産支払先情報!$A$8:$B$999,2,FALSE),\"\")&\"\"","v":""},{"$f":"不動産支払額!H371","v":0},{"$f":"IF(C370=\"法人\",VLOOKUP(不動産支払額!D371,不動産区分!$A$8:$B$30,2,FALSE),\"該当\")&\"\"","v":"該当"},"0"]
[null,{"$f":"不動産支払額!C372","v":0},{"$f":"IF(不動産支払額!C372<>\"\",VLOOKUP(不動産支払額!C372,不動産支払先情報!$A$8:$B$999,2,FALSE),\"\")&\"\"","v":""},{"$f":"不動産支払額!H372","v":0},{"$f":"IF(C371=\"法人\",VLOOKUP(不動産支払額!D372,不動産区分!$A$8:$B$30,2,FALSE),\"該当\")&\"\"","v":"該当"},"0"]
[null,{"$f":"不動産支払額!C373","v":0},{"$f":"IF(不動産支払額!C373<>\"\",VLOOKUP(不動産支払額!C373,不動産支払先情報!$A$8:$B$999,2,FALSE),\"\")&\"\"","v":""},{"$f":"不動産支払額!H373","v":0},{"$f":"IF(C372=\"法人\",VLOOKUP(不動産支払額!D373,不動産区分!$A$8:$B$30,2,FALSE),\"該当\")&\"\"","v":"該当"},"0"]
[null,{"$f":"不動産支払額!C374","v":0},{"$f":"IF(不動産支払額!C374<>\"\",VLOOKUP(不動産支払額!C374,不動産支払先情報!$A$8:$B$999,2,FALSE),\"\")&\"\"","v":""},{"$f":"不動産支払額!H374","v":0},{"$f":"IF(C373=\"法人\",VLOOKUP(不動産支払額!D374,不動産区分!$A$8:$B$30,2,FALSE),\"該当\")&\"\"","v":"該当"},"0"]
[null,{"$f":"不動産支払額!C375","v":0},{"$f":"IF(不動産支払額!C375<>\"\",VLOOKUP(不動産支払額!C375,不動産支払先情報!$A$8:$B$999,2,FALSE),\"\")&\"\"","v":""},{"$f":"不動産支払額!H375","v":0},{"$f":"IF(C374=\"法人\",VLOOKUP(不動産支払額!D375,不動産区分!$A$8:$B$30,2,FALSE),\"該当\")&\"\"","v":"該当"},"0"]
[null,{"$f":"不動産支払額!C376","v":0},{"$f":"IF(不動産支払額!C376<>\"\",VLOOKUP(不動産支払額!C376,不動産支払先情報!$A$8:$B$999,2,FALSE),\"\")&\"\"","v":""},{"$f":"不動産支払額!H376","v":0},{"$f":"IF(C375=\"法人\",VLOOKUP(不動産支払額!D376,不動産区分!$A$8:$B$30,2,FALSE),\"該当\")&\"\"","v":"該当"},"0"]
[null,{"$f":"不動産支払額!C377","v":0},{"$f":"IF(不動産支払額!C377<>\"\",VLOOKUP(不動産支払額!C377,不動産支払先情報!$A$8:$B$999,2,FALSE),\"\")&\"\"","v":""},{"$f":"不動産支払額!H377","v":0},{"$f":"IF(C376=\"法人\",VLOOKUP(不動産支払額!D377,不動産区分!$A$8:$B$30,2,FALSE),\"該当\")&\"\"","v":"該当"},"0"]
[null,{"$f":"不動産支払額!C378","v":0},{"$f":"IF(不動産支払額!C378<>\"\",VLOOKUP(不動産支払額!C378,不動産支払先情報!$A$8:$B$999,2,FALSE),\"\")&\"\"","v":""},{"$f":"不動産支払額!H378","v":0},{"$f":"IF(C377=\"法人\",VLOOKUP(不動産支払額!D378,不動産区分!$A$8:$B$30,2,FALSE),\"該当\")&\"\"","v":"該当"},"0"]
[null,{"$f":"不動産支払額!C379","v":0},{"$f":"IF(不動産支払額!C379<>\"\",VLOOKUP(不動産支払額!C379,不動産支払先情報!$A$8:$B$999,2,FALSE),\"\")&\"\"","v":""},{"$f":"不動産支払額!H379","v":0},{"$f":"IF(C378=\"法人\",VLOOKUP(不動産支払額!D379,不動産区分!$A$8:$B$30,2,FALSE),\"該当\")&\"\"","v":"該当"},"0"]
[null,{"$f":"不動産支払額!C380","v":0},{"$f":"IF(不動産支払額!C380<>\"\",VLOOKUP(不動産支払額!C380,不動産支払先情報!$A$8:$B$999,2,FALSE),\"\")&\"\"","v":""},{"$f":"不動産支払額!H380","v":0},{"$f":"IF(C379=\"法人\",VLOOKUP(不動産支払額!D380,不動産区分!$A$8:$B$30,2,FALSE),\"該当\")&\"\"","v":"該当"},"0"]
[null,{"$f":"不動産支払額!C381","v":0},{"$f":"IF(不動産支払額!C381<>\"\",VLOOKUP(不動産支払額!C381,不動産支払先情報!$A$8:$B$999,2,FALSE),\"\")&\"\"","v":""},{"$f":"不動産支払額!H381","v":0},{"$f":"IF(C380=\"法人\",VLOOKUP(不動産支払額!D381,不動産区分!$A$8:$B$30,2,FALSE),\"該当\")&\"\"","v":"該当"},"0"]
[null,{"$f":"不動産支払額!C382","v":0},{"$f":"IF(不動産支払額!C382<>\"\",VLOOKUP(不動産支払額!C382,不動産支払先情報!$A$8:$B$999,2,FALSE),\"\")&\"\"","v":""},{"$f":"不動産支払額!H382","v":0},{"$f":"IF(C381=\"法人\",VLOOKUP(不動産支払額!D382,不動産区分!$A$8:$B$30,2,FALSE),\"該当\")&\"\"","v":"該当"},"0"]
[null,{"$f":"不動産支払額!C383","v":0},{"$f":"IF(不動産支払額!C383<>\"\",VLOOKUP(不動産支払額!C383,不動産支払先情報!$A$8:$B$999,2,FALSE),\"\")&\"\"","v":""},{"$f":"不動産支払額!H383","v":0},{"$f":"IF(C382=\"法人\",VLOOKUP(不動産支払額!D383,不動産区分!$A$8:$B$30,2,FALSE),\"該当\")&\"\"","v":"該当"},"0"]
[null,{"$f":"不動産支払額!C384","v":0},{"$f":"IF(不動産支払額!C384<>\"\",VLOOKUP(不動産支払額!C384,不動産支払先情報!$A$8:$B$999,2,FALSE),\"\")&\"\"","v":""},{"$f":"不動産支払額!H384","v":0},{"$f":"IF(C383=\"法人\",VLOOKUP(不動産支払額!D384,不動産区分!$A$8:$B$30,2,FALSE),\"該当\")&\"\"","v":"該当"},"0"]
[null,{"$f":"不動産支払額!C385","v":0},{"$f":"IF(不動産支払額!C385<>\"\",VLOOKUP(不動産支払額!C385,不動産支払先情報!$A$8:$B$999,2,FALSE),\"\")&\"\"","v":""},{"$f":"不動産支払額!H385","v":0},{"$f":"IF(C384=\"法人\",VLOOKUP(不動産支払額!D385,不動産区分!$A$8:$B$30,2,FALSE),\"該当\")&\"\"","v":"該当"},"0"]
[null,{"$f":"不動産支払額!C386","v":0},{"$f":"IF(不動産支払額!C386<>\"\",VLOOKUP(不動産支払額!C386,不動産支払先情報!$A$8:$B$999,2,FALSE),\"\")&\"\"","v":""},{"$f":"不動産支払額!H386","v":0},{"$f":"IF(C385=\"法人\",VLOOKUP(不動産支払額!D386,不動産区分!$A$8:$B$30,2,FALSE),\"該当\")&\"\"","v":"該当"},"0"]
[null,{"$f":"不動産支払額!C387","v":0},{"$f":"IF(不動産支払額!C387<>\"\",VLOOKUP(不動産支払額!C387,不動産支払先情報!$A$8:$B$999,2,FALSE),\"\")&\"\"","v":""},{"$f":"不動産支払額!H387","v":0},{"$f":"IF(C386=\"法人\",VLOOKUP(不動産支払額!D387,不動産区分!$A$8:$B$30,2,FALSE),\"該当\")&\"\"","v":"該当"},"0"]
[null,{"$f":"不動産支払額!C388","v":0},{"$f":"IF(不動産支払額!C388<>\"\",VLOOKUP(不動産支払額!C388,不動産支払先情報!$A$8:$B$999,2,FALSE),\"\")&\"\"","v":""},{"$f":"不動産支払額!H388","v":0},{"$f":"IF(C387=\"法人\",VLOOKUP(不動産支払額!D388,不動産区分!$A$8:$B$30,2,FALSE),\"該当\")&\"\"","v":"該当"},"0"]
[null,{"$f":"不動産支払額!C389","v":0},{"$f":"IF(不動産支払額!C389<>\"\",VLOOKUP(不動産支払額!C389,不動産支払先情報!$A$8:$B$999,2,FALSE),\"\")&\"\"","v":""},{"$f":"不動産支払額!H389","v":0},{"$f":"IF(C388=\"法人\",VLOOKUP(不動産支払額!D389,不動産区分!$A$8:$B$30,2,FALSE),\"該当\")&\"\"","v":"該当"},"0"]
[null,{"$f":"不動産支払額!C390","v":0},{"$f":"IF(不動産支払額!C390<>\"\",VLOOKUP(不動産支払額!C390,不動産支払先情報!$A$8:$B$999,2,FALSE),\"\")&\"\"","v":""},{"$f":"不動産支払額!H390","v":0},{"$f":"IF(C389=\"法人\",VLOOKUP(不動産支払額!D390,不動産区分!$A$8:$B$30,2,FALSE),\"該当\")&\"\"","v":"該当"},"0"]
[null,{"$f":"不動産支払額!C391","v":0},{"$f":"IF(不動産支払額!C391<>\"\",VLOOKUP(不動産支払額!C391,不動産支払先情報!$A$8:$B$999,2,FALSE),\"\")&\"\"","v":""},{"$f":"不動産支払額!H391","v":0},{"$f":"IF(C390=\"法人\",VLOOKUP(不動産支払額!D391,不動産区分!$A$8:$B$30,2,FALSE),\"該当\")&\"\"","v":"該当"},"0"]
[null,{"$f":"不動産支払額!C392","v":0},{"$f":"IF(不動産支払額!C392<>\"\",VLOOKUP(不動産支払額!C392,不動産支払先情報!$A$8:$B$999,2,FALSE),\"\")&\"\"","v":""},{"$f":"不動産支払額!H392","v":0},{"$f":"IF(C391=\"法人\",VLOOKUP(不動産支払額!D392,不動産区分!$A$8:$B$30,2,FALSE),\"該当\")&\"\"","v":"該当"},"0"]
[null,{"$f":"不動産支払額!C393","v":0},{"$f":"IF(不動産支払額!C393<>\"\",VLOOKUP(不動産支払額!C393,不動産支払先情報!$A$8:$B$999,2,FALSE),\"\")&\"\"","v":""},{"$f":"不動産支払額!H393","v":0},{"$f":"IF(C392=\"法人\",VLOOKUP(不動産支払額!D393,不動産区分!$A$8:$B$30,2,FALSE),\"該当\")&\"\"","v":"該当"},"0"]
[null,{"$f":"不動産支払額!C394","v":0},{"$f":"IF(不動産支払額!C394<>\"\",VLOOKUP(不動産支払額!C394,不動産支払先情報!$A$8:$B$999,2,FALSE),\"\")&\"\"","v":""},{"$f":"不動産支払額!H394","v":0},{"$f":"IF(C393=\"法人\",VLOOKUP(不動産支払額!D394,不動産区分!$A$8:$B$30,2,FALSE),\"該当\")&\"\"","v":"該当"},"0"]
[null,{"$f":"不動産支払額!C395","v":0},{"$f":"IF(不動産支払額!C395<>\"\",VLOOKUP(不動産支払額!C395,不動産支払先情報!$A$8:$B$999,2,FALSE),\"\")&\"\"","v":""},{"$f":"不動産支払額!H395","v":0},{"$f":"IF(C394=\"法人\",VLOOKUP(不動産支払額!D395,不動産区分!$A$8:$B$30,2,FALSE),\"該当\")&\"\"","v":"該当"},"0"]
[null,{"$f":"不動産支払額!C396","v":0},{"$f":"IF(不動産支払額!C396<>\"\",VLOOKUP(不動産支払額!C396,不動産支払先情報!$A$8:$B$999,2,FALSE),\"\")&\"\"","v":""},{"$f":"不動産支払額!H396","v":0},{"$f":"IF(C395=\"法人\",VLOOKUP(不動産支払額!D396,不動産区分!$A$8:$B$30,2,FALSE),\"該当\")&\"\"","v":"該当"},"0"]
[null,{"$f":"不動産支払額!C397","v":0},{"$f":"IF(不動産支払額!C397<>\"\",VLOOKUP(不動産支払額!C397,不動産支払先情報!$A$8:$B$999,2,FALSE),\"\")&\"\"","v":""},{"$f":"不動産支払額!H397","v":0},{"$f":"IF(C396=\"法人\",VLOOKUP(不動産支払額!D397,不動産区分!$A$8:$B$30,2,FALSE),\"該当\")&\"\"","v":"該当"},"0"]
[null,{"$f":"不動産支払額!C398","v":0},{"$f":"IF(不動産支払額!C398<>\"\",VLOOKUP(不動産支払額!C398,不動産支払先情報!$A$8:$B$999,2,FALSE),\"\")&\"\"","v":""},{"$f":"不動産支払額!H398","v":0},{"$f":"IF(C397=\"法人\",VLOOKUP(不動産支払額!D398,不動産区分!$A$8:$B$30,2,FALSE),\"該当\")&\"\"","v":"該当"},"0"]
[null,{"$f":"不動産支払額!C399","v":0},{"$f":"IF(不動産支払額!C399<>\"\",VLOOKUP(不動産支払額!C399,不動産支払先情報!$A$8:$B$999,2,FALSE),\"\")&\"\"","v":""},{"$f":"不動産支払額!H399","v":0},{"$f":"IF(C398=\"法人\",VLOOKUP(不動産支払額!D399,不動産区分!$A$8:$B$30,2,FALSE),\"該当\")&\"\"","v":"該当"},"0"]
[null,{"$f":"不動産支払額!C400","v":0},{"$f":"IF(不動産支払額!C400<>\"\",VLOOKUP(不動産支払額!C400,不動産支払先情報!$A$8:$B$999,2,FALSE),\"\")&\"\"","v":""},{"$f":"不動産支払額!H400","v":0},{"$f":"IF(C399=\"法人\",VLOOKUP(不動産支払額!D400,不動産区分!$A$8:$B$30,2,FALSE),\"該当\")&\"\"","v":"該当"},"0"]
[null,{"$f":"不動産支払額!C401","v":0},{"$f":"IF(不動産支払額!C401<>\"\",VLOOKUP(不動産支払額!C401,不動産支払先情報!$A$8:$B$999,2,FALSE),\"\")&\"\"","v":""},{"$f":"不動産支払額!H401","v":0},{"$f":"IF(C400=\"法人\",VLOOKUP(不動産支払額!D401,不動産区分!$A$8:$B$30,2,FALSE),\"該当\")&\"\"","v":"該当"},"0"]
[null,{"$f":"不動産支払額!C402","v":0},{"$f":"IF(不動産支払額!C402<>\"\",VLOOKUP(不動産支払額!C402,不動産支払先情報!$A$8:$B$999,2,FALSE),\"\")&\"\"","v":""},{"$f":"不動産支払額!H402","v":0},{"$f":"IF(C401=\"法人\",VLOOKUP(不動産支払額!D402,不動産区分!$A$8:$B$30,2,FALSE),\"該当\")&\"\"","v":"該当"},{"$f":"B401&IF(E401<>\"\",\"\",\"集計しない\")","v":"0"}]
[null,{"$f":"不動産支払額!C403","v":0},{"$f":"IF(不動産支払額!C403<>\"\",VLOOKUP(不動産支払額!C403,不動産支払先情報!$A$8:$B$999,2,FALSE),\"\")&\"\"","v":""},{"$f":"不動産支払額!H403","v":0},{"$f":"IF(C402=\"法人\",VLOOKUP(不動産支払額!D403,不動産区分!$A$8:$B$30,2,FALSE),\"該当\")&\"\"","v":"該当"},"0"]
[null,{"$f":"不動産支払額!C404","v":0},{"$f":"IF(不動産支払額!C404<>\"\",VLOOKUP(不動産支払額!C404,不動産支払先情報!$A$8:$B$999,2,FALSE),\"\")&\"\"","v":""},{"$f":"不動産支払額!H404","v":0},{"$f":"IF(C403=\"法人\",VLOOKUP(不動産支払額!D404,不動産区分!$A$8:$B$30,2,FALSE),\"該当\")&\"\"","v":"該当"},"0"]
[null,{"$f":"不動産支払額!C405","v":0},{"$f":"IF(不動産支払額!C405<>\"\",VLOOKUP(不動産支払額!C405,不動産支払先情報!$A$8:$B$999,2,FALSE),\"\")&\"\"","v":""},{"$f":"不動産支払額!H405","v":0},{"$f":"IF(C404=\"法人\",VLOOKUP(不動産支払額!D405,不動産区分!$A$8:$B$30,2,FALSE),\"該当\")&\"\"","v":"該当"},"0"]
[null,{"$f":"不動産支払額!C406","v":0},{"$f":"IF(不動産支払額!C406<>\"\",VLOOKUP(不動産支払額!C406,不動産支払先情報!$A$8:$B$999,2,FALSE),\"\")&\"\"","v":""},{"$f":"不動産支払額!H406","v":0},{"$f":"IF(C405=\"法人\",VLOOKUP(不動産支払額!D406,不動産区分!$A$8:$B$30,2,FALSE),\"該当\")&\"\"","v":"該当"},"0"]
[null,{"$f":"不動産支払額!C407","v":0},{"$f":"IF(不動産支払額!C407<>\"\",VLOOKUP(不動産支払額!C407,不動産支払先情報!$A$8:$B$999,2,FALSE),\"\")&\"\"","v":""},{"$f":"不動産支払額!H407","v":0},{"$f":"IF(C406=\"法人\",VLOOKUP(不動産支払額!D407,不動産区分!$A$8:$B$30,2,FALSE),\"該当\")&\"\"","v":"該当"},"0"]
[null,{"$f":"不動産支払額!C408","v":0},{"$f":"IF(不動産支払額!C408<>\"\",VLOOKUP(不動産支払額!C408,不動産支払先情報!$A$8:$B$999,2,FALSE),\"\")&\"\"","v":""},{"$f":"不動産支払額!H408","v":0},{"$f":"IF(C407=\"法人\",VLOOKUP(不動産支払額!D408,不動産区分!$A$8:$B$30,2,FALSE),\"該当\")&\"\"","v":"該当"},"0"]
[null,{"$f":"不動産支払額!C409","v":0},{"$f":"IF(不動産支払額!C409<>\"\",VLOOKUP(不動産支払額!C409,不動産支払先情報!$A$8:$B$999,2,FALSE),\"\")&\"\"","v":""},{"$f":"不動産支払額!H409","v":0},{"$f":"IF(C408=\"法人\",VLOOKUP(不動産支払額!D409,不動産区分!$A$8:$B$30,2,FALSE),\"該当\")&\"\"","v":"該当"},"0"]
[null,{"$f":"不動産支払額!C410","v":0},{"$f":"IF(不動産支払額!C410<>\"\",VLOOKUP(不動産支払額!C410,不動産支払先情報!$A$8:$B$999,2,FALSE),\"\")&\"\"","v":""},{"$f":"不動産支払額!H410","v":0},{"$f":"IF(C409=\"法人\",VLOOKUP(不動産支払額!D410,不動産区分!$A$8:$B$30,2,FALSE),\"該当\")&\"\"","v":"該当"},"0"]
[null,{"$f":"不動産支払額!C411","v":0},{"$f":"IF(不動産支払額!C411<>\"\",VLOOKUP(不動産支払額!C411,不動産支払先情報!$A$8:$B$999,2,FALSE),\"\")&\"\"","v":""},{"$f":"不動産支払額!H411","v":0},{"$f":"IF(C410=\"法人\",VLOOKUP(不動産支払額!D411,不動産区分!$A$8:$B$30,2,FALSE),\"該当\")&\"\"","v":"該当"},"0"]
[null,{"$f":"不動産支払額!C412","v":0},{"$f":"IF(不動産支払額!C412<>\"\",VLOOKUP(不動産支払額!C412,不動産支払先情報!$A$8:$B$999,2,FALSE),\"\")&\"\"","v":""},{"$f":"不動産支払額!H412","v":0},{"$f":"IF(C411=\"法人\",VLOOKUP(不動産支払額!D412,不動産区分!$A$8:$B$30,2,FALSE),\"該当\")&\"\"","v":"該当"},"0"]
[null,{"$f":"不動産支払額!C413","v":0},{"$f":"IF(不動産支払額!C413<>\"\",VLOOKUP(不動産支払額!C413,不動産支払先情報!$A$8:$B$999,2,FALSE),\"\")&\"\"","v":""},{"$f":"不動産支払額!H413","v":0},{"$f":"IF(C412=\"法人\",VLOOKUP(不動産支払額!D413,不動産区分!$A$8:$B$30,2,FALSE),\"該当\")&\"\"","v":"該当"},"0"]
[null,{"$f":"不動産支払額!C414","v":0},{"$f":"IF(不動産支払額!C414<>\"\",VLOOKUP(不動産支払額!C414,不動産支払先情報!$A$8:$B$999,2,FALSE),\"\")&\"\"","v":""},{"$f":"不動産支払額!H414","v":0},{"$f":"IF(C413=\"法人\",VLOOKUP(不動産支払額!D414,不動産区分!$A$8:$B$30,2,FALSE),\"該当\")&\"\"","v":"該当"},"0"]
[null,{"$f":"不動産支払額!C415","v":0},{"$f":"IF(不動産支払額!C415<>\"\",VLOOKUP(不動産支払額!C415,不動産支払先情報!$A$8:$B$999,2,FALSE),\"\")&\"\"","v":""},{"$f":"不動産支払額!H415","v":0},{"$f":"IF(C414=\"法人\",VLOOKUP(不動産支払額!D415,不動産区分!$A$8:$B$30,2,FALSE),\"該当\")&\"\"","v":"該当"},"0"]
[null,{"$f":"不動産支払額!C416","v":0},{"$f":"IF(不動産支払額!C416<>\"\",VLOOKUP(不動産支払額!C416,不動産支払先情報!$A$8:$B$999,2,FALSE),\"\")&\"\"","v":""},{"$f":"不動産支払額!H416","v":0},{"$f":"IF(C415=\"法人\",VLOOKUP(不動産支払額!D416,不動産区分!$A$8:$B$30,2,FALSE),\"該当\")&\"\"","v":"該当"},"0"]
[null,{"$f":"不動産支払額!C417","v":0},{"$f":"IF(不動産支払額!C417<>\"\",VLOOKUP(不動産支払額!C417,不動産支払先情報!$A$8:$B$999,2,FALSE),\"\")&\"\"","v":""},{"$f":"不動産支払額!H417","v":0},{"$f":"IF(C416=\"法人\",VLOOKUP(不動産支払額!D417,不動産区分!$A$8:$B$30,2,FALSE),\"該当\")&\"\"","v":"該当"},"0"]
[null,{"$f":"不動産支払額!C418","v":0},{"$f":"IF(不動産支払額!C418<>\"\",VLOOKUP(不動産支払額!C418,不動産支払先情報!$A$8:$B$999,2,FALSE),\"\")&\"\"","v":""},{"$f":"不動産支払額!H418","v":0},{"$f":"IF(C417=\"法人\",VLOOKUP(不動産支払額!D418,不動産区分!$A$8:$B$30,2,FALSE),\"該当\")&\"\"","v":"該当"},"0"]
[null,{"$f":"不動産支払額!C419","v":0},{"$f":"IF(不動産支払額!C419<>\"\",VLOOKUP(不動産支払額!C419,不動産支払先情報!$A$8:$B$999,2,FALSE),\"\")&\"\"","v":""},{"$f":"不動産支払額!H419","v":0},{"$f":"IF(C418=\"法人\",VLOOKUP(不動産支払額!D419,不動産区分!$A$8:$B$30,2,FALSE),\"該当\")&\"\"","v":"該当"},"0"]
[null,{"$f":"不動産支払額!C420","v":0},{"$f":"IF(不動産支払額!C420<>\"\",VLOOKUP(不動産支払額!C420,不動産支払先情報!$A$8:$B$999,2,FALSE),\"\")&\"\"","v":""},{"$f":"不動産支払額!H420","v":0},{"$f":"IF(C419=\"法人\",VLOOKUP(不動産支払額!D420,不動産区分!$A$8:$B$30,2,FALSE),\"該当\")&\"\"","v":"該当"},"0"]
[null,{"$f":"不動産支払額!C421","v":0},{"$f":"IF(不動産支払額!C421<>\"\",VLOOKUP(不動産支払額!C421,不動産支払先情報!$A$8:$B$999,2,FALSE),\"\")&\"\"","v":""},{"$f":"不動産支払額!H421","v":0},{"$f":"IF(C420=\"法人\",VLOOKUP(不動産支払額!D421,不動産区分!$A$8:$B$30,2,FALSE),\"該当\")&\"\"","v":"該当"},"0"]
[null,{"$f":"不動産支払額!C422","v":0},{"$f":"IF(不動産支払額!C422<>\"\",VLOOKUP(不動産支払額!C422,不動産支払先情報!$A$8:$B$999,2,FALSE),\"\")&\"\"","v":""},{"$f":"不動産支払額!H422","v":0},{"$f":"IF(C421=\"法人\",VLOOKUP(不動産支払額!D422,不動産区分!$A$8:$B$30,2,FALSE),\"該当\")&\"\"","v":"該当"},"0"]
[null,{"$f":"不動産支払額!C423","v":0},{"$f":"IF(不動産支払額!C423<>\"\",VLOOKUP(不動産支払額!C423,不動産支払先情報!$A$8:$B$999,2,FALSE),\"\")&\"\"","v":""},{"$f":"不動産支払額!H423","v":0},{"$f":"IF(C422=\"法人\",VLOOKUP(不動産支払額!D423,不動産区分!$A$8:$B$30,2,FALSE),\"該当\")&\"\"","v":"該当"},"0"]
[null,{"$f":"不動産支払額!C424","v":0},{"$f":"IF(不動産支払額!C424<>\"\",VLOOKUP(不動産支払額!C424,不動産支払先情報!$A$8:$B$999,2,FALSE),\"\")&\"\"","v":""},{"$f":"不動産支払額!H424","v":0},{"$f":"IF(C423=\"法人\",VLOOKUP(不動産支払額!D424,不動産区分!$A$8:$B$30,2,FALSE),\"該当\")&\"\"","v":"該当"},"0"]
[null,{"$f":"不動産支払額!C425","v":0},{"$f":"IF(不動産支払額!C425<>\"\",VLOOKUP(不動産支払額!C425,不動産支払先情報!$A$8:$B$999,2,FALSE),\"\")&\"\"","v":""},{"$f":"不動産支払額!H425","v":0},{"$f":"IF(C424=\"法人\",VLOOKUP(不動産支払額!D425,不動産区分!$A$8:$B$30,2,FALSE),\"該当\")&\"\"","v":"該当"},"0"]
[null,{"$f":"不動産支払額!C426","v":0},{"$f":"IF(不動産支払額!C426<>\"\",VLOOKUP(不動産支払額!C426,不動産支払先情報!$A$8:$B$999,2,FALSE),\"\")&\"\"","v":""},{"$f":"不動産支払額!H426","v":0},{"$f":"IF(C425=\"法人\",VLOOKUP(不動産支払額!D426,不動産区分!$A$8:$B$30,2,FALSE),\"該当\")&\"\"","v":"該当"},"0"]
[null,{"$f":"不動産支払額!C427","v":0},{"$f":"IF(不動産支払額!C427<>\"\",VLOOKUP(不動産支払額!C427,不動産支払先情報!$A$8:$B$999,2,FALSE),\"\")&\"\"","v":""},{"$f":"不動産支払額!H427","v":0},{"$f":"IF(C426=\"法人\",VLOOKUP(不動産支払額!D427,不動産区分!$A$8:$B$30,2,FALSE),\"該当\")&\"\"","v":"該当"},"0"]
[null,{"$f":"不動産支払額!C428","v":0},{"$f":"IF(不動産支払額!C428<>\"\",VLOOKUP(不動産支払額!C428,不動産支払先情報!$A$8:$B$999,2,FALSE),\"\")&\"\"","v":""},{"$f":"不動産支払額!H428","v":0},{"$f":"IF(C427=\"法人\",VLOOKUP(不動産支払額!D428,不動産区分!$A$8:$B$30,2,FALSE),\"該当\")&\"\"","v":"該当"},"0"]
[null,{"$f":"不動産支払額!C429","v":0},{"$f":"IF(不動産支払額!C429<>\"\",VLOOKUP(不動産支払額!C429,不動産支払先情報!$A$8:$B$999,2,FALSE),\"\")&\"\"","v":""},{"$f":"不動産支払額!H429","v":0},{"$f":"IF(C428=\"法人\",VLOOKUP(不動産支払額!D429,不動産区分!$A$8:$B$30,2,FALSE),\"該当\")&\"\"","v":"該当"},"0"]
[null,{"$f":"不動産支払額!C430","v":0},{"$f":"IF(不動産支払額!C430<>\"\",VLOOKUP(不動産支払額!C430,不動産支払先情報!$A$8:$B$999,2,FALSE),\"\")&\"\"","v":""},{"$f":"不動産支払額!H430","v":0},{"$f":"IF(C429=\"法人\",VLOOKUP(不動産支払額!D430,不動産区分!$A$8:$B$30,2,FALSE),\"該当\")&\"\"","v":"該当"},"0"]
[null,{"$f":"不動産支払額!C431","v":0},{"$f":"IF(不動産支払額!C431<>\"\",VLOOKUP(不動産支払額!C431,不動産支払先情報!$A$8:$B$999,2,FALSE),\"\")&\"\"","v":""},{"$f":"不動産支払額!H431","v":0},{"$f":"IF(C430=\"法人\",VLOOKUP(不動産支払額!D431,不動産区分!$A$8:$B$30,2,FALSE),\"該当\")&\"\"","v":"該当"},"0"]
[null,{"$f":"不動産支払額!C432","v":0},{"$f":"IF(不動産支払額!C432<>\"\",VLOOKUP(不動産支払額!C432,不動産支払先情報!$A$8:$B$999,2,FALSE),\"\")&\"\"","v":""},{"$f":"不動産支払額!H432","v":0},{"$f":"IF(C431=\"法人\",VLOOKUP(不動産支払額!D432,不動産区分!$A$8:$B$30,2,FALSE),\"該当\")&\"\"","v":"該当"},"0"]
[null,{"$f":"不動産支払額!C433","v":0},{"$f":"IF(不動産支払額!C433<>\"\",VLOOKUP(不動産支払額!C433,不動産支払先情報!$A$8:$B$999,2,FALSE),\"\")&\"\"","v":""},{"$f":"不動産支払額!H433","v":0},{"$f":"IF(C432=\"法人\",VLOOKUP(不動産支払額!D433,不動産区分!$A$8:$B$30,2,FALSE),\"該当\")&\"\"","v":"該当"},"0"]
[null,{"$f":"不動産支払額!C434","v":0},{"$f":"IF(不動産支払額!C434<>\"\",VLOOKUP(不動産支払額!C434,不動産支払先情報!$A$8:$B$999,2,FALSE),\"\")&\"\"","v":""},{"$f":"不動産支払額!H434","v":0},{"$f":"IF(C433=\"法人\",VLOOKUP(不動産支払額!D434,不動産区分!$A$8:$B$30,2,FALSE),\"該当\")&\"\"","v":"該当"},"0"]
[null,{"$f":"不動産支払額!C435","v":0},{"$f":"IF(不動産支払額!C435<>\"\",VLOOKUP(不動産支払額!C435,不動産支払先情報!$A$8:$B$999,2,FALSE),\"\")&\"\"","v":""},{"$f":"不動産支払額!H435","v":0},{"$f":"IF(C434=\"法人\",VLOOKUP(不動産支払額!D435,不動産区分!$A$8:$B$30,2,FALSE),\"該当\")&\"\"","v":"該当"},"0"]
[null,{"$f":"不動産支払額!C436","v":0},{"$f":"IF(不動産支払額!C436<>\"\",VLOOKUP(不動産支払額!C436,不動産支払先情報!$A$8:$B$999,2,FALSE),\"\")&\"\"","v":""},{"$f":"不動産支払額!H436","v":0},{"$f":"IF(C435=\"法人\",VLOOKUP(不動産支払額!D436,不動産区分!$A$8:$B$30,2,FALSE),\"該当\")&\"\"","v":"該当"},"0"]
[null,{"$f":"不動産支払額!C437","v":0},{"$f":"IF(不動産支払額!C437<>\"\",VLOOKUP(不動産支払額!C437,不動産支払先情報!$A$8:$B$999,2,FALSE),\"\")&\"\"","v":""},{"$f":"不動産支払額!H437","v":0},{"$f":"IF(C436=\"法人\",VLOOKUP(不動産支払額!D437,不動産区分!$A$8:$B$30,2,FALSE),\"該当\")&\"\"","v":"該当"},"0"]
[null,{"$f":"不動産支払額!C438","v":0},{"$f":"IF(不動産支払額!C438<>\"\",VLOOKUP(不動産支払額!C438,不動産支払先情報!$A$8:$B$999,2,FALSE),\"\")&\"\"","v":""},{"$f":"不動産支払額!H438","v":0},{"$f":"IF(C437=\"法人\",VLOOKUP(不動産支払額!D438,不動産区分!$A$8:$B$30,2,FALSE),\"該当\")&\"\"","v":"該当"},"0"]
[null,{"$f":"不動産支払額!C439","v":0},{"$f":"IF(不動産支払額!C439<>\"\",VLOOKUP(不動産支払額!C439,不動産支払先情報!$A$8:$B$999,2,FALSE),\"\")&\"\"","v":""},{"$f":"不動産支払額!H439","v":0},{"$f":"IF(C438=\"法人\",VLOOKUP(不動産支払額!D439,不動産区分!$A$8:$B$30,2,FALSE),\"該当\")&\"\"","v":"該当"},"0"]
[null,{"$f":"不動産支払額!C440","v":0},{"$f":"IF(不動産支払額!C440<>\"\",VLOOKUP(不動産支払額!C440,不動産支払先情報!$A$8:$B$999,2,FALSE),\"\")&\"\"","v":""},{"$f":"不動産支払額!H440","v":0},{"$f":"IF(C439=\"法人\",VLOOKUP(不動産支払額!D440,不動産区分!$A$8:$B$30,2,FALSE),\"該当\")&\"\"","v":"該当"},"0"]
[null,{"$f":"不動産支払額!C441","v":0},{"$f":"IF(不動産支払額!C441<>\"\",VLOOKUP(不動産支払額!C441,不動産支払先情報!$A$8:$B$999,2,FALSE),\"\")&\"\"","v":""},{"$f":"不動産支払額!H441","v":0},{"$f":"IF(C440=\"法人\",VLOOKUP(不動産支払額!D441,不動産区分!$A$8:$B$30,2,FALSE),\"該当\")&\"\"","v":"該当"},"0"]
[null,{"$f":"不動産支払額!C442","v":0},{"$f":"IF(不動産支払額!C442<>\"\",VLOOKUP(不動産支払額!C442,不動産支払先情報!$A$8:$B$999,2,FALSE),\"\")&\"\"","v":""},{"$f":"不動産支払額!H442","v":0},{"$f":"IF(C441=\"法人\",VLOOKUP(不動産支払額!D442,不動産区分!$A$8:$B$30,2,FALSE),\"該当\")&\"\"","v":"該当"},"0"]
[null,{"$f":"不動産支払額!C443","v":0},{"$f":"IF(不動産支払額!C443<>\"\",VLOOKUP(不動産支払額!C443,不動産支払先情報!$A$8:$B$999,2,FALSE),\"\")&\"\"","v":""},{"$f":"不動産支払額!H443","v":0},{"$f":"IF(C442=\"法人\",VLOOKUP(不動産支払額!D443,不動産区分!$A$8:$B$30,2,FALSE),\"該当\")&\"\"","v":"該当"},"0"]
[null,{"$f":"不動産支払額!C444","v":0},{"$f":"IF(不動産支払額!C444<>\"\",VLOOKUP(不動産支払額!C444,不動産支払先情報!$A$8:$B$999,2,FALSE),\"\")&\"\"","v":""},{"$f":"不動産支払額!H444","v":0},{"$f":"IF(C443=\"法人\",VLOOKUP(不動産支払額!D444,不動産区分!$A$8:$B$30,2,FALSE),\"該当\")&\"\"","v":"該当"},"0"]
[null,{"$f":"不動産支払額!C445","v":0},{"$f":"IF(不動産支払額!C445<>\"\",VLOOKUP(不動産支払額!C445,不動産支払先情報!$A$8:$B$999,2,FALSE),\"\")&\"\"","v":""},{"$f":"不動産支払額!H445","v":0},{"$f":"IF(C444=\"法人\",VLOOKUP(不動産支払額!D445,不動産区分!$A$8:$B$30,2,FALSE),\"該当\")&\"\"","v":"該当"},"0"]
[null,{"$f":"不動産支払額!C446","v":0},{"$f":"IF(不動産支払額!C446<>\"\",VLOOKUP(不動産支払額!C446,不動産支払先情報!$A$8:$B$999,2,FALSE),\"\")&\"\"","v":""},{"$f":"不動産支払額!H446","v":0},{"$f":"IF(C445=\"法人\",VLOOKUP(不動産支払額!D446,不動産区分!$A$8:$B$30,2,FALSE),\"該当\")&\"\"","v":"該当"},"0"]
[null,{"$f":"不動産支払額!C447","v":0},{"$f":"IF(不動産支払額!C447<>\"\",VLOOKUP(不動産支払額!C447,不動産支払先情報!$A$8:$B$999,2,FALSE),\"\")&\"\"","v":""},{"$f":"不動産支払額!H447","v":0},{"$f":"IF(C446=\"法人\",VLOOKUP(不動産支払額!D447,不動産区分!$A$8:$B$30,2,FALSE),\"該当\")&\"\"","v":"該当"},"0"]
[null,{"$f":"不動産支払額!C448","v":0},{"$f":"IF(不動産支払額!C448<>\"\",VLOOKUP(不動産支払額!C448,不動産支払先情報!$A$8:$B$999,2,FALSE),\"\")&\"\"","v":""},{"$f":"不動産支払額!H448","v":0},{"$f":"IF(C447=\"法人\",VLOOKUP(不動産支払額!D448,不動産区分!$A$8:$B$30,2,FALSE),\"該当\")&\"\"","v":"該当"},"0"]
[null,{"$f":"不動産支払額!C449","v":0},{"$f":"IF(不動産支払額!C449<>\"\",VLOOKUP(不動産支払額!C449,不動産支払先情報!$A$8:$B$999,2,FALSE),\"\")&\"\"","v":""},{"$f":"不動産支払額!H449","v":0},{"$f":"IF(C448=\"法人\",VLOOKUP(不動産支払額!D449,不動産区分!$A$8:$B$30,2,FALSE),\"該当\")&\"\"","v":"該当"},"0"]
[null,{"$f":"不動産支払額!C450","v":0},{"$f":"IF(不動産支払額!C450<>\"\",VLOOKUP(不動産支払額!C450,不動産支払先情報!$A$8:$B$999,2,FALSE),\"\")&\"\"","v":""},{"$f":"不動産支払額!H450","v":0},{"$f":"IF(C449=\"法人\",VLOOKUP(不動産支払額!D450,不動産区分!$A$8:$B$30,2,FALSE),\"該当\")&\"\"","v":"該当"},"0"]
[null,{"$f":"不動産支払額!C451","v":0},{"$f":"IF(不動産支払額!C451<>\"\",VLOOKUP(不動産支払額!C451,不動産支払先情報!$A$8:$B$999,2,FALSE),\"\")&\"\"","v":""},{"$f":"不動産支払額!H451","v":0},{"$f":"IF(C450=\"法人\",VLOOKUP(不動産支払額!D451,不動産区分!$A$8:$B$30,2,FALSE),\"該当\")&\"\"","v":"該当"},"0"]
[null,{"$f":"不動産支払額!C452","v":0},{"$f":"IF(不動産支払額!C452<>\"\",VLOOKUP(不動産支払額!C452,不動産支払先情報!$A$8:$B$999,2,FALSE),\"\")&\"\"","v":""},{"$f":"不動産支払額!H452","v":0},{"$f":"IF(C451=\"法人\",VLOOKUP(不動産支払額!D452,不動産区分!$A$8:$B$30,2,FALSE),\"該当\")&\"\"","v":"該当"},"0"]
[null,{"$f":"不動産支払額!C453","v":0},{"$f":"IF(不動産支払額!C453<>\"\",VLOOKUP(不動産支払額!C453,不動産支払先情報!$A$8:$B$999,2,FALSE),\"\")&\"\"","v":""},{"$f":"不動産支払額!H453","v":0},{"$f":"IF(C452=\"法人\",VLOOKUP(不動産支払額!D453,不動産区分!$A$8:$B$30,2,FALSE),\"該当\")&\"\"","v":"該当"},"0"]
[null,{"$f":"不動産支払額!C454","v":0},{"$f":"IF(不動産支払額!C454<>\"\",VLOOKUP(不動産支払額!C454,不動産支払先情報!$A$8:$B$999,2,FALSE),\"\")&\"\"","v":""},{"$f":"不動産支払額!H454","v":0},{"$f":"IF(C453=\"法人\",VLOOKUP(不動産支払額!D454,不動産区分!$A$8:$B$30,2,FALSE),\"該当\")&\"\"","v":"該当"},"0"]
[null,{"$f":"不動産支払額!C455","v":0},{"$f":"IF(不動産支払額!C455<>\"\",VLOOKUP(不動産支払額!C455,不動産支払先情報!$A$8:$B$999,2,FALSE),\"\")&\"\"","v":""},{"$f":"不動産支払額!H455","v":0},{"$f":"IF(C454=\"法人\",VLOOKUP(不動産支払額!D455,不動産区分!$A$8:$B$30,2,FALSE),\"該当\")&\"\"","v":"該当"},"0"]
[null,{"$f":"不動産支払額!C456","v":0},{"$f":"IF(不動産支払額!C456<>\"\",VLOOKUP(不動産支払額!C456,不動産支払先情報!$A$8:$B$999,2,FALSE),\"\")&\"\"","v":""},{"$f":"不動産支払額!H456","v":0},{"$f":"IF(C455=\"法人\",VLOOKUP(不動産支払額!D456,不動産区分!$A$8:$B$30,2,FALSE),\"該当\")&\"\"","v":"該当"},"0"]
[null,{"$f":"不動産支払額!C457","v":0},{"$f":"IF(不動産支払額!C457<>\"\",VLOOKUP(不動産支払額!C457,不動産支払先情報!$A$8:$B$999,2,FALSE),\"\")&\"\"","v":""},{"$f":"不動産支払額!H457","v":0},{"$f":"IF(C456=\"法人\",VLOOKUP(不動産支払額!D457,不動産区分!$A$8:$B$30,2,FALSE),\"該当\")&\"\"","v":"該当"},"0"]
[null,{"$f":"不動産支払額!C458","v":0},{"$f":"IF(不動産支払額!C458<>\"\",VLOOKUP(不動産支払額!C458,不動産支払先情報!$A$8:$B$999,2,FALSE),\"\")&\"\"","v":""},{"$f":"不動産支払額!H458","v":0},{"$f":"IF(C457=\"法人\",VLOOKUP(不動産支払額!D458,不動産区分!$A$8:$B$30,2,FALSE),\"該当\")&\"\"","v":"該当"},"0"]
[null,{"$f":"不動産支払額!C459","v":0},{"$f":"IF(不動産支払額!C459<>\"\",VLOOKUP(不動産支払額!C459,不動産支払先情報!$A$8:$B$999,2,FALSE),\"\")&\"\"","v":""},{"$f":"不動産支払額!H459","v":0},{"$f":"IF(C458=\"法人\",VLOOKUP(不動産支払額!D459,不動産区分!$A$8:$B$30,2,FALSE),\"該当\")&\"\"","v":"該当"},"0"]
[null,{"$f":"不動産支払額!C460","v":0},{"$f":"IF(不動産支払額!C460<>\"\",VLOOKUP(不動産支払額!C460,不動産支払先情報!$A$8:$B$999,2,FALSE),\"\")&\"\"","v":""},{"$f":"不動産支払額!H460","v":0},{"$f":"IF(C459=\"法人\",VLOOKUP(不動産支払額!D460,不動産区分!$A$8:$B$30,2,FALSE),\"該当\")&\"\"","v":"該当"},"0"]
[null,{"$f":"不動産支払額!C461","v":0},{"$f":"IF(不動産支払額!C461<>\"\",VLOOKUP(不動産支払額!C461,不動産支払先情報!$A$8:$B$999,2,FALSE),\"\")&\"\"","v":""},{"$f":"不動産支払額!H461","v":0},{"$f":"IF(C460=\"法人\",VLOOKUP(不動産支払額!D461,不動産区分!$A$8:$B$30,2,FALSE),\"該当\")&\"\"","v":"該当"},"0"]
[null,{"$f":"不動産支払額!C462","v":0},{"$f":"IF(不動産支払額!C462<>\"\",VLOOKUP(不動産支払額!C462,不動産支払先情報!$A$8:$B$999,2,FALSE),\"\")&\"\"","v":""},{"$f":"不動産支払額!H462","v":0},{"$f":"IF(C461=\"法人\",VLOOKUP(不動産支払額!D462,不動産区分!$A$8:$B$30,2,FALSE),\"該当\")&\"\"","v":"該当"},"0"]
[null,{"$f":"不動産支払額!C463","v":0},{"$f":"IF(不動産支払額!C463<>\"\",VLOOKUP(不動産支払額!C463,不動産支払先情報!$A$8:$B$999,2,FALSE),\"\")&\"\"","v":""},{"$f":"不動産支払額!H463","v":0},{"$f":"IF(C462=\"法人\",VLOOKUP(不動産支払額!D463,不動産区分!$A$8:$B$30,2,FALSE),\"該当\")&\"\"","v":"該当"},"0"]
[null,{"$f":"不動産支払額!C464","v":0},{"$f":"IF(不動産支払額!C464<>\"\",VLOOKUP(不動産支払額!C464,不動産支払先情報!$A$8:$B$999,2,FALSE),\"\")&\"\"","v":""},{"$f":"不動産支払額!H464","v":0},{"$f":"IF(C463=\"法人\",VLOOKUP(不動産支払額!D464,不動産区分!$A$8:$B$30,2,FALSE),\"該当\")&\"\"","v":"該当"},"0"]
[null,{"$f":"不動産支払額!C465","v":0},{"$f":"IF(不動産支払額!C465<>\"\",VLOOKUP(不動産支払額!C465,不動産支払先情報!$A$8:$B$999,2,FALSE),\"\")&\"\"","v":""},{"$f":"不動産支払額!H465","v":0},{"$f":"IF(C464=\"法人\",VLOOKUP(不動産支払額!D465,不動産区分!$A$8:$B$30,2,FALSE),\"該当\")&\"\"","v":"該当"},"0"]
[null,{"$f":"不動産支払額!C466","v":0},{"$f":"IF(不動産支払額!C466<>\"\",VLOOKUP(不動産支払額!C466,不動産支払先情報!$A$8:$B$999,2,FALSE),\"\")&\"\"","v":""},{"$f":"不動産支払額!H466","v":0},{"$f":"IF(C465=\"法人\",VLOOKUP(不動産支払額!D466,不動産区分!$A$8:$B$30,2,FALSE),\"該当\")&\"\"","v":"該当"},{"$f":"B465&IF(E465<>\"\",\"\",\"集計しない\")","v":"0"}]
[null,{"$f":"不動産支払額!C467","v":0},{"$f":"IF(不動産支払額!C467<>\"\",VLOOKUP(不動産支払額!C467,不動産支払先情報!$A$8:$B$999,2,FALSE),\"\")&\"\"","v":""},{"$f":"不動産支払額!H467","v":0},{"$f":"IF(C466=\"法人\",VLOOKUP(不動産支払額!D467,不動産区分!$A$8:$B$30,2,FALSE),\"該当\")&\"\"","v":"該当"},"0"]
[null,{"$f":"不動産支払額!C468","v":0},{"$f":"IF(不動産支払額!C468<>\"\",VLOOKUP(不動産支払額!C468,不動産支払先情報!$A$8:$B$999,2,FALSE),\"\")&\"\"","v":""},{"$f":"不動産支払額!H468","v":0},{"$f":"IF(C467=\"法人\",VLOOKUP(不動産支払額!D468,不動産区分!$A$8:$B$30,2,FALSE),\"該当\")&\"\"","v":"該当"},"0"]
[null,{"$f":"不動産支払額!C469","v":0},{"$f":"IF(不動産支払額!C469<>\"\",VLOOKUP(不動産支払額!C469,不動産支払先情報!$A$8:$B$999,2,FALSE),\"\")&\"\"","v":""},{"$f":"不動産支払額!H469","v":0},{"$f":"IF(C468=\"法人\",VLOOKUP(不動産支払額!D469,不動産区分!$A$8:$B$30,2,FALSE),\"該当\")&\"\"","v":"該当"},"0"]
[null,{"$f":"不動産支払額!C470","v":0},{"$f":"IF(不動産支払額!C470<>\"\",VLOOKUP(不動産支払額!C470,不動産支払先情報!$A$8:$B$999,2,FALSE),\"\")&\"\"","v":""},{"$f":"不動産支払額!H470","v":0},{"$f":"IF(C469=\"法人\",VLOOKUP(不動産支払額!D470,不動産区分!$A$8:$B$30,2,FALSE),\"該当\")&\"\"","v":"該当"},"0"]
[null,{"$f":"不動産支払額!C471","v":0},{"$f":"IF(不動産支払額!C471<>\"\",VLOOKUP(不動産支払額!C471,不動産支払先情報!$A$8:$B$999,2,FALSE),\"\")&\"\"","v":""},{"$f":"不動産支払額!H471","v":0},{"$f":"IF(C470=\"法人\",VLOOKUP(不動産支払額!D471,不動産区分!$A$8:$B$30,2,FALSE),\"該当\")&\"\"","v":"該当"},"0"]
[null,{"$f":"不動産支払額!C472","v":0},{"$f":"IF(不動産支払額!C472<>\"\",VLOOKUP(不動産支払額!C472,不動産支払先情報!$A$8:$B$999,2,FALSE),\"\")&\"\"","v":""},{"$f":"不動産支払額!H472","v":0},{"$f":"IF(C471=\"法人\",VLOOKUP(不動産支払額!D472,不動産区分!$A$8:$B$30,2,FALSE),\"該当\")&\"\"","v":"該当"},"0"]
[null,{"$f":"不動産支払額!C473","v":0},{"$f":"IF(不動産支払額!C473<>\"\",VLOOKUP(不動産支払額!C473,不動産支払先情報!$A$8:$B$999,2,FALSE),\"\")&\"\"","v":""},{"$f":"不動産支払額!H473","v":0},{"$f":"IF(C472=\"法人\",VLOOKUP(不動産支払額!D473,不動産区分!$A$8:$B$30,2,FALSE),\"該当\")&\"\"","v":"該当"},"0"]
[null,{"$f":"不動産支払額!C474","v":0},{"$f":"IF(不動産支払額!C474<>\"\",VLOOKUP(不動産支払額!C474,不動産支払先情報!$A$8:$B$999,2,FALSE),\"\")&\"\"","v":""},{"$f":"不動産支払額!H474","v":0},{"$f":"IF(C473=\"法人\",VLOOKUP(不動産支払額!D474,不動産区分!$A$8:$B$30,2,FALSE),\"該当\")&\"\"","v":"該当"},"0"]
[null,{"$f":"不動産支払額!C475","v":0},{"$f":"IF(不動産支払額!C475<>\"\",VLOOKUP(不動産支払額!C475,不動産支払先情報!$A$8:$B$999,2,FALSE),\"\")&\"\"","v":""},{"$f":"不動産支払額!H475","v":0},{"$f":"IF(C474=\"法人\",VLOOKUP(不動産支払額!D475,不動産区分!$A$8:$B$30,2,FALSE),\"該当\")&\"\"","v":"該当"},"0"]
[null,{"$f":"不動産支払額!C476","v":0},{"$f":"IF(不動産支払額!C476<>\"\",VLOOKUP(不動産支払額!C476,不動産支払先情報!$A$8:$B$999,2,FALSE),\"\")&\"\"","v":""},{"$f":"不動産支払額!H476","v":0},{"$f":"IF(C475=\"法人\",VLOOKUP(不動産支払額!D476,不動産区分!$A$8:$B$30,2,FALSE),\"該当\")&\"\"","v":"該当"},"0"]
[null,{"$f":"不動産支払額!C477","v":0},{"$f":"IF(不動産支払額!C477<>\"\",VLOOKUP(不動産支払額!C477,不動産支払先情報!$A$8:$B$999,2,FALSE),\"\")&\"\"","v":""},{"$f":"不動産支払額!H477","v":0},{"$f":"IF(C476=\"法人\",VLOOKUP(不動産支払額!D477,不動産区分!$A$8:$B$30,2,FALSE),\"該当\")&\"\"","v":"該当"},"0"]
[null,{"$f":"不動産支払額!C478","v":0},{"$f":"IF(不動産支払額!C478<>\"\",VLOOKUP(不動産支払額!C478,不動産支払先情報!$A$8:$B$999,2,FALSE),\"\")&\"\"","v":""},{"$f":"不動産支払額!H478","v":0},{"$f":"IF(C477=\"法人\",VLOOKUP(不動産支払額!D478,不動産区分!$A$8:$B$30,2,FALSE),\"該当\")&\"\"","v":"該当"},"0"]
[null,{"$f":"不動産支払額!C479","v":0},{"$f":"IF(不動産支払額!C479<>\"\",VLOOKUP(不動産支払額!C479,不動産支払先情報!$A$8:$B$999,2,FALSE),\"\")&\"\"","v":""},{"$f":"不動産支払額!H479","v":0},{"$f":"IF(C478=\"法人\",VLOOKUP(不動産支払額!D479,不動産区分!$A$8:$B$30,2,FALSE),\"該当\")&\"\"","v":"該当"},"0"]
[null,{"$f":"不動産支払額!C480","v":0},{"$f":"IF(不動産支払額!C480<>\"\",VLOOKUP(不動産支払額!C480,不動産支払先情報!$A$8:$B$999,2,FALSE),\"\")&\"\"","v":""},{"$f":"不動産支払額!H480","v":0},{"$f":"IF(C479=\"法人\",VLOOKUP(不動産支払額!D480,不動産区分!$A$8:$B$30,2,FALSE),\"該当\")&\"\"","v":"該当"},"0"]
[null,{"$f":"不動産支払額!C481","v":0},{"$f":"IF(不動産支払額!C481<>\"\",VLOOKUP(不動産支払額!C481,不動産支払先情報!$A$8:$B$999,2,FALSE),\"\")&\"\"","v":""},{"$f":"不動産支払額!H481","v":0},{"$f":"IF(C480=\"法人\",VLOOKUP(不動産支払額!D481,不動産区分!$A$8:$B$30,2,FALSE),\"該当\")&\"\"","v":"該当"},"0"]
[null,{"$f":"不動産支払額!C482","v":0},{"$f":"IF(不動産支払額!C482<>\"\",VLOOKUP(不動産支払額!C482,不動産支払先情報!$A$8:$B$999,2,FALSE),\"\")&\"\"","v":""},{"$f":"不動産支払額!H482","v":0},{"$f":"IF(C481=\"法人\",VLOOKUP(不動産支払額!D482,不動産区分!$A$8:$B$30,2,FALSE),\"該当\")&\"\"","v":"該当"},"0"]
[null,{"$f":"不動産支払額!C483","v":0},{"$f":"IF(不動産支払額!C483<>\"\",VLOOKUP(不動産支払額!C483,不動産支払先情報!$A$8:$B$999,2,FALSE),\"\")&\"\"","v":""},{"$f":"不動産支払額!H483","v":0},{"$f":"IF(C482=\"法人\",VLOOKUP(不動産支払額!D483,不動産区分!$A$8:$B$30,2,FALSE),\"該当\")&\"\"","v":"該当"},"0"]
[null,{"$f":"不動産支払額!C484","v":0},{"$f":"IF(不動産支払額!C484<>\"\",VLOOKUP(不動産支払額!C484,不動産支払先情報!$A$8:$B$999,2,FALSE),\"\")&\"\"","v":""},{"$f":"不動産支払額!H484","v":0},{"$f":"IF(C483=\"法人\",VLOOKUP(不動産支払額!D484,不動産区分!$A$8:$B$30,2,FALSE),\"該当\")&\"\"","v":"該当"},"0"]
[null,{"$f":"不動産支払額!C485","v":0},{"$f":"IF(不動産支払額!C485<>\"\",VLOOKUP(不動産支払額!C485,不動産支払先情報!$A$8:$B$999,2,FALSE),\"\")&\"\"","v":""},{"$f":"不動産支払額!H485","v":0},{"$f":"IF(C484=\"法人\",VLOOKUP(不動産支払額!D485,不動産区分!$A$8:$B$30,2,FALSE),\"該当\")&\"\"","v":"該当"},"0"]
[null,{"$f":"不動産支払額!C486","v":0},{"$f":"IF(不動産支払額!C486<>\"\",VLOOKUP(不動産支払額!C486,不動産支払先情報!$A$8:$B$999,2,FALSE),\"\")&\"\"","v":""},{"$f":"不動産支払額!H486","v":0},{"$f":"IF(C485=\"法人\",VLOOKUP(不動産支払額!D486,不動産区分!$A$8:$B$30,2,FALSE),\"該当\")&\"\"","v":"該当"},"0"]
[null,{"$f":"不動産支払額!C487","v":0},{"$f":"IF(不動産支払額!C487<>\"\",VLOOKUP(不動産支払額!C487,不動産支払先情報!$A$8:$B$999,2,FALSE),\"\")&\"\"","v":""},{"$f":"不動産支払額!H487","v":0},{"$f":"IF(C486=\"法人\",VLOOKUP(不動産支払額!D487,不動産区分!$A$8:$B$30,2,FALSE),\"該当\")&\"\"","v":"該当"},"0"]
[null,{"$f":"不動産支払額!C488","v":0},{"$f":"IF(不動産支払額!C488<>\"\",VLOOKUP(不動産支払額!C488,不動産支払先情報!$A$8:$B$999,2,FALSE),\"\")&\"\"","v":""},{"$f":"不動産支払額!H488","v":0},{"$f":"IF(C487=\"法人\",VLOOKUP(不動産支払額!D488,不動産区分!$A$8:$B$30,2,FALSE),\"該当\")&\"\"","v":"該当"},"0"]
[null,{"$f":"不動産支払額!C489","v":0},{"$f":"IF(不動産支払額!C489<>\"\",VLOOKUP(不動産支払額!C489,不動産支払先情報!$A$8:$B$999,2,FALSE),\"\")&\"\"","v":""},{"$f":"不動産支払額!H489","v":0},{"$f":"IF(C488=\"法人\",VLOOKUP(不動産支払額!D489,不動産区分!$A$8:$B$30,2,FALSE),\"該当\")&\"\"","v":"該当"},"0"]
[null,{"$f":"不動産支払額!C490","v":0},{"$f":"IF(不動産支払額!C490<>\"\",VLOOKUP(不動産支払額!C490,不動産支払先情報!$A$8:$B$999,2,FALSE),\"\")&\"\"","v":""},{"$f":"不動産支払額!H490","v":0},{"$f":"IF(C489=\"法人\",VLOOKUP(不動産支払額!D490,不動産区分!$A$8:$B$30,2,FALSE),\"該当\")&\"\"","v":"該当"},"0"]
[null,{"$f":"不動産支払額!C491","v":0},{"$f":"IF(不動産支払額!C491<>\"\",VLOOKUP(不動産支払額!C491,不動産支払先情報!$A$8:$B$999,2,FALSE),\"\")&\"\"","v":""},{"$f":"不動産支払額!H491","v":0},{"$f":"IF(C490=\"法人\",VLOOKUP(不動産支払額!D491,不動産区分!$A$8:$B$30,2,FALSE),\"該当\")&\"\"","v":"該当"},"0"]
[null,{"$f":"不動産支払額!C492","v":0},{"$f":"IF(不動産支払額!C492<>\"\",VLOOKUP(不動産支払額!C492,不動産支払先情報!$A$8:$B$999,2,FALSE),\"\")&\"\"","v":""},{"$f":"不動産支払額!H492","v":0},{"$f":"IF(C491=\"法人\",VLOOKUP(不動産支払額!D492,不動産区分!$A$8:$B$30,2,FALSE),\"該当\")&\"\"","v":"該当"},"0"]
[null,{"$f":"不動産支払額!C493","v":0},{"$f":"IF(不動産支払額!C493<>\"\",VLOOKUP(不動産支払額!C493,不動産支払先情報!$A$8:$B$999,2,FALSE),\"\")&\"\"","v":""},{"$f":"不動産支払額!H493","v":0},{"$f":"IF(C492=\"法人\",VLOOKUP(不動産支払額!D493,不動産区分!$A$8:$B$30,2,FALSE),\"該当\")&\"\"","v":"該当"},"0"]
[null,{"$f":"不動産支払額!C494","v":0},{"$f":"IF(不動産支払額!C494<>\"\",VLOOKUP(不動産支払額!C494,不動産支払先情報!$A$8:$B$999,2,FALSE),\"\")&\"\"","v":""},{"$f":"不動産支払額!H494","v":0},{"$f":"IF(C493=\"法人\",VLOOKUP(不動産支払額!D494,不動産区分!$A$8:$B$30,2,FALSE),\"該当\")&\"\"","v":"該当"},"0"]
[null,{"$f":"不動産支払額!C495","v":0},{"$f":"IF(不動産支払額!C495<>\"\",VLOOKUP(不動産支払額!C495,不動産支払先情報!$A$8:$B$999,2,FALSE),\"\")&\"\"","v":""},{"$f":"不動産支払額!H495","v":0},{"$f":"IF(C494=\"法人\",VLOOKUP(不動産支払額!D495,不動産区分!$A$8:$B$30,2,FALSE),\"該当\")&\"\"","v":"該当"},"0"]
[null,{"$f":"不動産支払額!C496","v":0},{"$f":"IF(不動産支払額!C496<>\"\",VLOOKUP(不動産支払額!C496,不動産支払先情報!$A$8:$B$999,2,FALSE),\"\")&\"\"","v":""},{"$f":"不動産支払額!H496","v":0},{"$f":"IF(C495=\"法人\",VLOOKUP(不動産支払額!D496,不動産区分!$A$8:$B$30,2,FALSE),\"該当\")&\"\"","v":"該当"},"0"]
[null,{"$f":"不動産支払額!C497","v":0},{"$f":"IF(不動産支払額!C497<>\"\",VLOOKUP(不動産支払額!C497,不動産支払先情報!$A$8:$B$999,2,FALSE),\"\")&\"\"","v":""},{"$f":"不動産支払額!H497","v":0},{"$f":"IF(C496=\"法人\",VLOOKUP(不動産支払額!D497,不動産区分!$A$8:$B$30,2,FALSE),\"該当\")&\"\"","v":"該当"},"0"]
[null,{"$f":"不動産支払額!C498","v":0},{"$f":"IF(不動産支払額!C498<>\"\",VLOOKUP(不動産支払額!C498,不動産支払先情報!$A$8:$B$999,2,FALSE),\"\")&\"\"","v":""},{"$f":"不動産支払額!H498","v":0},{"$f":"IF(C497=\"法人\",VLOOKUP(不動産支払額!D498,不動産区分!$A$8:$B$30,2,FALSE),\"該当\")&\"\"","v":"該当"},"0"]
[null,{"$f":"不動産支払額!C499","v":0},{"$f":"IF(不動産支払額!C499<>\"\",VLOOKUP(不動産支払額!C499,不動産支払先情報!$A$8:$B$999,2,FALSE),\"\")&\"\"","v":""},{"$f":"不動産支払額!H499","v":0},{"$f":"IF(C498=\"法人\",VLOOKUP(不動産支払額!D499,不動産区分!$A$8:$B$30,2,FALSE),\"該当\")&\"\"","v":"該当"},"0"]
[null,{"$f":"不動産支払額!C500","v":0},{"$f":"IF(不動産支払額!C500<>\"\",VLOOKUP(不動産支払額!C500,不動産支払先情報!$A$8:$B$999,2,FALSE),\"\")&\"\"","v":""},{"$f":"不動産支払額!H500","v":0},{"$f":"IF(C499=\"法人\",VLOOKUP(不動産支払額!D500,不動産区分!$A$8:$B$30,2,FALSE),\"該当\")&\"\"","v":"該当"},"0"]
[null,{"$f":"不動産支払額!C501","v":0},{"$f":"IF(不動産支払額!C501<>\"\",VLOOKUP(不動産支払額!C501,不動産支払先情報!$A$8:$B$999,2,FALSE),\"\")&\"\"","v":""},{"$f":"不動産支払額!H501","v":0},{"$f":"IF(C500=\"法人\",VLOOKUP(不動産支払額!D501,不動産区分!$A$8:$B$30,2,FALSE),\"該当\")&\"\"","v":"該当"},"0"]
[null,{"$f":"不動産支払額!C502","v":0},{"$f":"IF(不動産支払額!C502<>\"\",VLOOKUP(不動産支払額!C502,不動産支払先情報!$A$8:$B$999,2,FALSE),\"\")&\"\"","v":""},{"$f":"不動産支払額!H502","v":0},{"$f":"IF(C501=\"法人\",VLOOKUP(不動産支払額!D502,不動産区分!$A$8:$B$30,2,FALSE),\"該当\")&\"\"","v":"該当"},"0"]
[null,{"$f":"不動産支払額!C503","v":0},{"$f":"IF(不動産支払額!C503<>\"\",VLOOKUP(不動産支払額!C503,不動産支払先情報!$A$8:$B$999,2,FALSE),\"\")&\"\"","v":""},{"$f":"不動産支払額!H503","v":0},{"$f":"IF(C502=\"法人\",VLOOKUP(不動産支払額!D503,不動産区分!$A$8:$B$30,2,FALSE),\"該当\")&\"\"","v":"該当"},"0"]
[null,{"$f":"不動産支払額!C504","v":0},{"$f":"IF(不動産支払額!C504<>\"\",VLOOKUP(不動産支払額!C504,不動産支払先情報!$A$8:$B$999,2,FALSE),\"\")&\"\"","v":""},{"$f":"不動産支払額!H504","v":0},{"$f":"IF(C503=\"法人\",VLOOKUP(不動産支払額!D504,不動産区分!$A$8:$B$30,2,FALSE),\"該当\")&\"\"","v":"該当"},"0"]
[null,{"$f":"不動産支払額!C505","v":0},{"$f":"IF(不動産支払額!C505<>\"\",VLOOKUP(不動産支払額!C505,不動産支払先情報!$A$8:$B$999,2,FALSE),\"\")&\"\"","v":""},{"$f":"不動産支払額!H505","v":0},{"$f":"IF(C504=\"法人\",VLOOKUP(不動産支払額!D505,不動産区分!$A$8:$B$30,2,FALSE),\"該当\")&\"\"","v":"該当"},"0"]
[null,{"$f":"不動産支払額!C506","v":0},{"$f":"IF(不動産支払額!C506<>\"\",VLOOKUP(不動産支払額!C506,不動産支払先情報!$A$8:$B$999,2,FALSE),\"\")&\"\"","v":""},{"$f":"不動産支払額!H506","v":0},{"$f":"IF(C505=\"法人\",VLOOKUP(不動産支払額!D506,不動産区分!$A$8:$B$30,2,FALSE),\"該当\")&\"\"","v":"該当"},"0"]
[null,{"$f":"不動産支払額!C507","v":0},{"$f":"IF(不動産支払額!C507<>\"\",VLOOKUP(不動産支払額!C507,不動産支払先情報!$A$8:$B$999,2,FALSE),\"\")&\"\"","v":""},{"$f":"不動産支払額!H507","v":0},{"$f":"IF(C506=\"法人\",VLOOKUP(不動産支払額!D507,不動産区分!$A$8:$B$30,2,FALSE),\"該当\")&\"\"","v":"該当"},"0"]
[null,{"$f":"不動産支払額!C508","v":0},{"$f":"IF(不動産支払額!C508<>\"\",VLOOKUP(不動産支払額!C508,不動産支払先情報!$A$8:$B$999,2,FALSE),\"\")&\"\"","v":""},{"$f":"不動産支払額!H508","v":0},{"$f":"IF(C507=\"法人\",VLOOKUP(不動産支払額!D508,不動産区分!$A$8:$B$30,2,FALSE),\"該当\")&\"\"","v":"該当"},"0"]
[null,{"$f":"不動産支払額!C509","v":0},{"$f":"IF(不動産支払額!C509<>\"\",VLOOKUP(不動産支払額!C509,不動産支払先情報!$A$8:$B$999,2,FALSE),\"\")&\"\"","v":""},{"$f":"不動産支払額!H509","v":0},{"$f":"IF(C508=\"法人\",VLOOKUP(不動産支払額!D509,不動産区分!$A$8:$B$30,2,FALSE),\"該当\")&\"\"","v":"該当"},"0"]